{"text_format":"1","workbook":"xlsx","n_sheets":8,"sheets":["3.3","List1","List2","poměry financování","Pomůcka pro vyplnění ŽoP","List3","pomocný - původní poměry fin.","Jak správně vyplnit soupisku"],"not_rendered":{"charts":0,"images":0,"macros":1,"external_links":0,"defined_names":4,"comments":1,"pivot_tables":0},"unopened":[],"bounds":{"document_bytes":16777216,"sheet_cells":100000,"rows_first":2000,"rows_last":500,"rows_between":2000,"halvings":0,"cell_chars":16384,"cell_head_chars":4096},"cells_cut":0,"cells_raw":0,"read":"whole","date_system":"1900"}

{"sheet":"3.3","index":0,"n_rows":62,"n_cols":27,"rows_kept":62,"cut":false,"hidden":false,"merged":[[57,9,58,11],[34,3,34,8],[40,3,40,8],[42,0,42,8],[49,5,50,6],[44,0,44,8],[48,9,48,11],[0,0,0,14],[1,6,1,7],[2,6,2,7],[1,8,1,14],[2,8,2,14],[1,0,1,3],[2,0,2,3],[1,4,1,5],[2,4,2,5],[0,16,3,19],[5,18,5,20],[4,0,5,0],[62,0,63,4],[62,5,63,6],[62,7,63,8],[62,9,63,11],[28,3,28,8],[53,7,53,8],[53,9,53,11],[57,7,58,8],[56,9,56,11],[49,7,50,8],[37,0,37,8],[54,7,55,8],[56,7,56,8],[4,12,4,14],[21,3,21,8],[4,2,5,2],[4,1,5,1],[4,7,5,7],[4,11,5,11],[4,8,5,8],[15,3,15,8],[18,3,18,8],[4,3,4,4],[4,5,5,5],[6,3,6,7],[9,3,9,8],[12,3,12,8],[4,6,5,6],[4,10,5,10],[3,0,3,3],[3,4,3,5],[60,0,60,11],[61,0,61,4],[61,7,61,8],[61,9,61,11],[54,9,55,11],[52,0,52,11],[48,0,48,4],[49,0,50,4],[49,9,50,11],[47,0,47,11],[48,7,48,8],[31,3,31,8],[24,3,24,8],[4,9,5,9]]}
["Výkaz výdajů vynaložených příjemcem (oblasti podpory 3.3 - nepřímé výdaje)",null,null,null,null,null,null,null,null,null,null,null,null,null,null,null,"Je třeba vyplnit červeně vyplněná pole"]
["Evidenčníí číslo projektu:",null,null,null,1475,null,"Název projektu:",null,{"$f":"VLOOKUP(AA2,'poměry financování'!$D:$G,2,FALSE)","v":"Výstavba mateřské školy v obci Svatobořice-Mistřín"},null,null,null,null,null,null,null,null,null,null,null,null,"Výdaj: Investiční (I) / neinvestiční (N)",null,null,{"$f":"DSUM(I5:L498,L5,V2:V3)","v":0},null,{"$f":"VLOOKUP(E2,List1!$F:$G,2,FALSE)","v":"CZ.1.11/3.3.00/36.01475"}]
["Číslo etapy dle žádosti:",null,null,null,1,null,"Název příjemce:",null,{"$f":"VLOOKUP(AA2,'poměry financování'!$D:$G,4,FALSE)","v":"Obec Svatobořice-Mistřín"},null,null,null,null,null,null,null,null,null,null,null,null,"Investiční",null,null,null,null,{"$f":"VLOOKUP(AA2,'poměry financování'!$D:$DN,115,FALSE)","v":0.18}]
["Paušál pro nepřímé náklady (%):",null,null,null,{"$f":"VLOOKUP(AA2,'poměry financování'!D2:DN3997,115,FALSE)","v":0.18}]
[" Poř. č.","Kód nákladu dle Benefit7","Název nákladu dle Benefit 7","Dodavatel",null,"Číslo účetního dokladu","Datum zdanitel. plnění","Datum provedení úhrady","Výdaj: Investiční (I) / neinvestiční (N)","Výdaj v Kč bez DPH","Výše způsobilé DPH v Kč (nezpůsobilá DPH je uvedena zvlášť v nezp. výdajích)","Částka celkem v Kč","Korekce dokladů v Kč",null,null,null,null,null,null,null,null,"Výdaj: Investiční (I) / neinvestiční (N)",null,null,{"$f":"DSUM(I5:L498,L5,V5:V6)","v":0}]
[null,null,null,"Název","IČ",null,null,null,null,null,null,null,"Korekce výdaje bez DPH o částku ","Korekce DPH o částku","Korekce celkem",null,null,null,"Pro vložení řádku používejte toto tlačítko    (je třeba povolit makra)",null,null,"Neinvestiční"]
[null,"1",null,"Nepřímé výdaje",null,null,null,null,null,null,null,{"$f":"ROUNDDOWN((L10+L13+L16+L19+L22+L25+L29+L32+L35)/100*$AA$3,2)","v":0},null,null,{"$f":"ROUNDDOWN((O16+O19+O22+O25+O29+O32+O35)/100*$AA$3,2)","v":0},"Pole L9 a O9 se plní automaticky"]
[null,null,null,null,null,null,null,null,null,null,null,{"$f":"J8+K8","v":0}]
[null,null,null,null,null,null,null,null,null,null,null,{"$f":"J9+K9","v":0}]
["X","1.2",null,"Nákupy materiálu (spotřební)",null,null,null,null,null,{"$f":"SUM(J8:J9)","v":0},0,0,0,0,0]
[null,null,null,null,null,null,null,null,null,null,null,{"$f":"J11+K11","v":0}]
[null,null,null,null,null,null,null,null,null,null,null,{"$f":"J12+K12","v":0}]
["X","1.3",null,"Další doplňkové výdaje ",null,null,null,null,null,{"$f":"SUM(J11:J12)","v":0},0,0,0,0,0]
[null,null,null,null,null,null,null,null,null,null,null,{"$f":"J14+K14","v":0}]
[null,null,null,null,null,null,null,null,null,null,null,{"$f":"J15+K15","v":0}]
["X","2.1",null,"Výdaje na povinnou publicitu ",null,null,null,null,null,{"$f":"SUBTOTAL(9,J14:J15)","v":0},0,0,0,0,0]
[null,null,null,null,null,null,null,null,null,null,null,{"$f":"J17+K17","v":0}]
[null,null,null,null,null,null,null,null,null,null,null,{"$f":"J18+K18","v":0}]
["X","2.2",null,"Nákup nemovitostí",null,null,null,null,null,{"$f":"SUBTOTAL(9,J17:J18)","v":0},0,0,0,0,0]
[null,null,null,null,null,null,null,null,null,null,null,{"$f":"J20+K20","v":0}]
[null,null,null,null,null,null,null,null,null,null,null,{"$f":"J21+K21","v":0}]
["X","2.3",null,"Projektová dokumentace",null,null,null,null,null,{"$f":"SUBTOTAL(9,J20:J21)","v":0},0,0,0,0,0]
[null,null,null,null,null,null,null,null,null,null,null,{"$f":"J23+K23","v":0}]
[null,null,null,null,null,null,null,null,null,null,null,{"$f":"J24+K24","v":0}]
["X","2.4",null,"Stavební dozor",null,null,null,null,null,{"$f":"SUBTOTAL(9,J23:J24)","v":0},0,0,0,0,0]
[null,null,null,null,null,null,null,null,null,null,null,{"$f":"J26+K26","v":0}]
[null,null,null,null,null,null,null,null,null,null,null,{"$f":"J27+K27","v":0}]
[null,null,null,null,null,null,null,null,null,null,null,{"$f":"J28+K28","v":0}]
["X","2.5",null,"Stavba a technologické činnosti",null,null,null,null,null,{"$f":"SUBTOTAL(9,J26:J28)","v":0},0,0,0,0,0]
[null,null,null,null,null,null,null,null,null,null,null,{"$f":"J30+K30","v":0}]
[null,null,null,null,null,null,null,null,null,null,null,{"$f":"J31+K31","v":0}]
["X","2.6",null,"Stroje a zařízení, hmotný a nehmotný dlouhodobý majetek",null,null,null,null,null,{"$f":"SUBTOTAL(9,J30:J31)","v":0},0,0,0,0,0]
[null,null,null,null,null,null,null,null,null,null,null,{"$f":"J33+K33","v":0}]
[null,null,null,null,null,null,null,null,null,null,null,{"$f":"J34+K34","v":0}]
["X","2.7",null,"Finanční leasing",null,null,null,null,null,{"$f":"SUBTOTAL(9,J33:J34)","v":0},0,0,0,0,0]
[]
[null,null,null,null,null,null,null,null,null,null,null,null,"Korekce celkem:"]
["Celkem způsobilé výdaje dle příjemce",null,null,null,null,null,null,null,null,{"$f":"SUM(J35,J32,J29,J25,J22,J19,J16,J13,J10,J7)","v":0},0,0,0,0,0]
[null,null,null,null,null,null,null,null,null,null,null,{"$f":"J39+K39","v":0}]
[null,null,null,null,null,null,null,null,null,null,null,{"$f":"J40+K40","v":0}]
["X","3",null,"Nezpůsobilé výdaje",null,null,null,null,null,{"$f":"SUM(J39:J40)","v":0},{"$f":"SUM(K39:K40)","v":0},{"$f":"SUM(L39:L40)","v":0}]
[]
["Celkem dle příjemce",null,null,null,null,null,null,null,null,{"$f":"SUM(J41,J35,J32,J29,J25,J22,J19,J16,J13,J10,J7)","v":0},{"$f":"SUM(K41,K35,K32,K29,K25,K22,K19,K16,K13,K10,K7)","v":0},{"$f":"SUM(L41,L35,L32,L29,L25,L22,L19,L16,L13,L10,L7)","v":0}]
[]
["Celkem způsobilé výdaje dle pracovníků ORP",null,null,null,null,null,null,null,null,{"$f":"J38-M38","v":0},{"$f":"K38-N38","v":0},{"$f":"L38-O38","v":0}]
["Pozn: šedou část tabulky vyplňuje pracovník ORP (oddělení realizace projektů)."]
[]
["Za příjemce podpory:"]
["Příjemce podpory (název) :",null,null,null,null,"Titul, jméno, příjmení:",null,"Datum:",null,"Podpis (razítko):"]
[]
[]
[]
["Za příslušné pracoviště ORP:"]
["Zkontroloval a případnou korekci provedl (titul, jméno, příjmení, funkce):",null,null,null,null,null,null,"Datum:",null,"Podpis:"]
[]
[]
["Korekci kontroloval a schválil (titul, jméno, příjmení, funkce):",null,null,null,null,null,null,"Datum:",null,"Podpis:"]
[]
[]
[]
["Při případné korekci za příjemce podpory korekci dokladů bere na vědomí:"]
["Příjemce podpory (název) :",null,null,null,null,"Titul, jméno, příjmení:",null,"Datum:",null,"Podpis (razítko):"]

{"sheet":"List1","index":1,"n_rows":4000,"n_cols":7,"rows_kept":4000,"cut":false,"hidden":true,"merged":[]}
[null,null,null,{"$f":"SUM(D2:D4000)","v":{"$error":"#REF!"}},{"$f":"SUM(E2:E4000)","v":{"$error":"#REF!"}},null,{"$f":"'poměry financování'!D1","v":0}]
[null,{"$f":"'3.3'!#REF!","v":{"$error":"#REF!"}},{"$f":"'3.3'!#REF!","v":{"$error":"#REF!"}},{"$f":"IF(B2=\"Investiční\",C2,0)","v":{"$error":"#REF!"}},{"$f":"IF(B2=\"Neinvestiční\",C2,0)","v":{"$error":"#REF!"}},null,{"$f":"'poměry financování'!#REF!","v":{"$error":"#REF!"}}]
[null,{"$f":"'3.3'!#REF!","v":{"$error":"#REF!"}},{"$f":"'3.3'!#REF!","v":{"$error":"#REF!"}},{"$f":"IF(B3=\"Investiční\",C3,0)","v":{"$error":"#REF!"}},{"$f":"IF(B3=\"Neinvestiční\",C3,0)","v":{"$error":"#REF!"}},null,{"$f":"'poměry financování'!#REF!","v":{"$error":"#REF!"}}]
[null,{"$f":"'3.3'!I7","v":0},{"$f":"'3.3'!L7","v":0},0,0,null,{"$f":"'poměry financování'!#REF!","v":{"$error":"#REF!"}}]
[null,{"$f":"'3.3'!I8","v":0},{"$f":"'3.3'!L8","v":0},0,0,{"$f":"VALUE((MID(G5,20,4)))","v":{"$error":"#VALUE!"}},{"$f":"'poměry financování'!D2","v":"Reg. číslo projektu"}]
[null,{"$f":"'3.3'!I9","v":0},{"$f":"'3.3'!L9","v":0},0,0,{"$f":"VALUE((MID(G6,20,4)))","v":{"$error":"#VALUE!"}},{"$f":"'poměry financování'!D3","v":0}]
[null,{"$f":"'3.3'!I10","v":0},{"$f":"'3.3'!L10","v":0},0,0,{"$error":"#VALUE!"},{"$f":"'poměry financování'!D4","v":0}]
[null,{"$f":"'3.3'!I11","v":0},{"$f":"'3.3'!L11","v":0},0,0,1,{"$f":"'poměry financování'!D5","v":"CZ.1.11/1.1.00/01.00001"}]
[null,{"$f":"'3.3'!I12","v":0},{"$f":"'3.3'!L12","v":0},0,0,2,{"$f":"'poměry financování'!D6","v":"CZ.1.11/1.1.00/01.00002"}]
[null,{"$f":"'3.3'!I13","v":0},{"$f":"'3.3'!L13","v":0},0,0,2,{"$f":"'poměry financování'!D7","v":"CZ.1.11/1.1.00/01.00002"}]
[null,{"$f":"'3.3'!I14","v":0},{"$f":"'3.3'!L14","v":0},0,0,3,{"$f":"'poměry financování'!D8","v":"CZ.1.11/1.1.00/01.00003"}]
[null,{"$f":"'3.3'!I15","v":0},{"$f":"'3.3'!L15","v":0},0,0,4,{"$f":"'poměry financování'!D9","v":"CZ.1.11/1.1.00/01.00004"}]
[null,{"$f":"'3.3'!I16","v":0},{"$f":"'3.3'!L16","v":0},0,0,5,{"$f":"'poměry financování'!D10","v":"CZ.1.11/4.1.00/01.00005"}]
[null,{"$f":"'3.3'!I17","v":0},{"$f":"'3.3'!L17","v":0},0,0,5,{"$f":"'poměry financování'!D11","v":"CZ.1.11/4.1.00/01.00005"}]
[null,{"$f":"'3.3'!I18","v":0},{"$f":"'3.3'!L18","v":0},0,0,5,{"$f":"'poměry financování'!D12","v":"CZ.1.11/4.1.00/01.00005"}]
[null,{"$f":"'3.3'!I19","v":0},{"$f":"'3.3'!L19","v":0},0,0,6,{"$f":"'poměry financování'!D13","v":"CZ.1.11/4.2.00/01.00006"}]
[null,{"$f":"'3.3'!I20","v":0},{"$f":"'3.3'!L20","v":0},0,0,6,{"$f":"'poměry financování'!D14","v":"CZ.1.11/4.2.00/01.00006"}]
[null,{"$f":"'3.3'!I21","v":0},{"$f":"'3.3'!L21","v":0},0,0,6,{"$f":"'poměry financování'!D15","v":"CZ.1.11/4.2.00/01.00006"}]
[null,{"$f":"'3.3'!I22","v":0},{"$f":"'3.3'!L22","v":0},0,0,7,{"$f":"'poměry financování'!D16","v":"CZ.1.11/4.1.00/01.00007"}]
[null,{"$f":"'3.3'!I23","v":0},{"$f":"'3.3'!L23","v":0},0,0,7,{"$f":"'poměry financování'!D17","v":"CZ.1.11/4.1.00/01.00007"}]
[null,{"$f":"'3.3'!I24","v":0},{"$f":"'3.3'!L24","v":0},0,0,7,{"$f":"'poměry financování'!D18","v":"CZ.1.11/4.1.00/01.00007"}]
[null,{"$f":"'3.3'!I25","v":0},{"$f":"'3.3'!L25","v":0},0,0,7,{"$f":"'poměry financování'!D19","v":"CZ.1.11/4.1.00/01.00007"}]
[null,{"$f":"'3.3'!I27","v":0},{"$f":"'3.3'!L27","v":0},0,0,8,{"$f":"'poměry financování'!D20","v":"CZ.1.11/4.1.00/01.00008"}]
[null,{"$f":"'3.3'!I28","v":0},{"$f":"'3.3'!L28","v":0},0,0,8,{"$f":"'poměry financování'!D21","v":"CZ.1.11/4.1.00/01.00008"}]
[null,{"$f":"'3.3'!I29","v":0},{"$f":"'3.3'!L29","v":0},0,0,8,{"$f":"'poměry financování'!D22","v":"CZ.1.11/4.1.00/01.00008"}]
[null,{"$f":"'3.3'!I30","v":0},{"$f":"'3.3'!L30","v":0},0,0,9,{"$f":"'poměry financování'!D23","v":"CZ.1.11/4.2.00/01.00009"}]
[null,{"$f":"'3.3'!I31","v":0},{"$f":"'3.3'!L31","v":0},0,0,9,{"$f":"'poměry financování'!D24","v":"CZ.1.11/4.2.00/01.00009"}]
[null,{"$f":"'3.3'!I32","v":0},{"$f":"'3.3'!L32","v":0},0,0,9,{"$f":"'poměry financování'!D25","v":"CZ.1.11/4.2.00/01.00009"}]
[null,{"$f":"'3.3'!I33","v":0},{"$f":"'3.3'!L33","v":0},0,0,9,{"$f":"'poměry financování'!D26","v":"CZ.1.11/4.2.00/01.00009"}]
[null,{"$f":"'3.3'!I34","v":0},{"$f":"'3.3'!L34","v":0},0,0,10,{"$f":"'poměry financování'!D27","v":"CZ.1.11/1.1.00/01.00010"}]
[null,{"$f":"'3.3'!I35","v":0},{"$f":"'3.3'!L35","v":0},0,0,10,{"$f":"'poměry financování'!D28","v":"CZ.1.11/1.1.00/01.00010"}]
[null,{"$f":"'3.3'!I36","v":0},{"$f":"'3.3'!L36","v":0},0,0,11,{"$f":"'poměry financování'!D29","v":"CZ.1.11/1.1.00/01.00011"}]
[null,{"$f":"'3.3'!I37","v":0},{"$f":"'3.3'!L37","v":0},0,0,11,{"$f":"'poměry financování'!D30","v":"CZ.1.11/1.1.00/01.00011"}]
[null,{"$f":"'3.3'!I38","v":0},{"$f":"'3.3'!L38","v":0},0,0,12,{"$f":"'poměry financování'!D31","v":"CZ.1.11/1.1.00/01.00012"}]
[null,{"$f":"'3.3'!I39","v":0},{"$f":"'3.3'!L39","v":0},0,0,12,{"$f":"'poměry financování'!D32","v":"CZ.1.11/1.1.00/01.00012"}]
[null,{"$f":"'3.3'!I40","v":0},{"$f":"'3.3'!L40","v":0},0,0,13,{"$f":"'poměry financování'!D33","v":"CZ.1.11/1.1.00/01.00013"}]
[null,{"$f":"'3.3'!I41","v":0},{"$f":"'3.3'!L41","v":0},0,0,13,{"$f":"'poměry financování'!D34","v":"CZ.1.11/1.1.00/01.00013"}]
[null,{"$f":"'3.3'!I42","v":0},{"$f":"'3.3'!L42","v":0},0,0,13,{"$f":"'poměry financování'!D35","v":"CZ.1.11/1.1.00/01.00013"}]
[null,{"$f":"'3.3'!I43","v":0},{"$f":"'3.3'!L43","v":0},0,0,13,{"$f":"'poměry financování'!D36","v":"CZ.1.11/1.1.00/01.00013"}]
[null,{"$f":"'3.3'!I44","v":0},{"$f":"'3.3'!L44","v":0},0,0,14,{"$f":"'poměry financování'!D37","v":"CZ.1.11/1.1.00/01.00014"}]
[null,{"$f":"'3.3'!I45","v":0},{"$f":"'3.3'!L45","v":0},0,0,14,{"$f":"'poměry financování'!D38","v":"CZ.1.11/1.1.00/01.00014"}]
[null,{"$f":"'3.3'!I46","v":0},{"$f":"'3.3'!L46","v":0},0,0,14,{"$f":"'poměry financování'!D39","v":"CZ.1.11/1.1.00/01.00014"}]
[null,{"$f":"'3.3'!I47","v":0},{"$f":"'3.3'!L47","v":0},0,0,15,{"$f":"'poměry financování'!D40","v":"CZ.1.11/2.1.00/01.00015"}]
[null,{"$f":"'3.3'!I48","v":0},{"$f":"'3.3'!L48","v":0},0,0,16,{"$f":"'poměry financování'!D41","v":"CZ.1.11/1.1.00/01.00016"}]
[null,{"$f":"'3.3'!I49","v":0},{"$f":"'3.3'!L49","v":0},0,0,16,{"$f":"'poměry financování'!D42","v":"CZ.1.11/1.1.00/01.00016"}]
[null,{"$f":"'3.3'!I50","v":0},{"$f":"'3.3'!L50","v":0},0,0,16,{"$f":"'poměry financování'!D43","v":"CZ.1.11/1.1.00/01.00016"}]
[null,{"$f":"'3.3'!I51","v":0},{"$f":"'3.3'!L51","v":0},0,0,17,{"$f":"'poměry financování'!D44","v":"CZ.1.11/1.1.00/01.00017"}]
[null,{"$f":"'3.3'!I52","v":0},{"$f":"'3.3'!L52","v":0},0,0,18,{"$f":"'poměry financování'!D45","v":"CZ.1.11/1.1.00/01.00018"}]
[null,{"$f":"'3.3'!I53","v":0},{"$f":"'3.3'!L53","v":0},0,0,19,{"$f":"'poměry financování'!D46","v":"CZ.1.11/1.1.00/01.00019"}]
[null,{"$f":"'3.3'!I54","v":0},{"$f":"'3.3'!L54","v":0},0,0,19,{"$f":"'poměry financování'!D47","v":"CZ.1.11/1.1.00/01.00019"}]
[null,{"$f":"'3.3'!I55","v":0},{"$f":"'3.3'!L55","v":0},0,0,19,{"$f":"'poměry financování'!D48","v":"CZ.1.11/1.1.00/01.00019"}]
[null,{"$f":"'3.3'!I56","v":0},{"$f":"'3.3'!L56","v":0},0,0,19,{"$f":"'poměry financování'!D49","v":"CZ.1.11/1.1.00/01.00019"}]
[null,{"$f":"'3.3'!I57","v":0},{"$f":"'3.3'!L57","v":0},0,0,20,{"$f":"'poměry financování'!D50","v":"CZ.1.11/2.1.00/01.00020"}]
[null,{"$f":"'3.3'!I58","v":0},{"$f":"'3.3'!L58","v":0},0,0,20,{"$f":"'poměry financování'!D51","v":"CZ.1.11/2.1.00/01.00020"}]
[null,{"$f":"'3.3'!I59","v":0},{"$f":"'3.3'!L59","v":0},0,0,20,{"$f":"'poměry financování'!D52","v":"CZ.1.11/2.1.00/01.00020"}]
[null,{"$f":"'3.3'!I60","v":0},{"$f":"'3.3'!L60","v":0},0,0,20,{"$f":"'poměry financování'!D53","v":"CZ.1.11/2.1.00/01.00020"}]
[null,{"$f":"'3.3'!I61","v":0},{"$f":"'3.3'!L61","v":0},0,0,20,{"$f":"'poměry financování'!D54","v":"CZ.1.11/2.1.00/01.00020"}]
[null,{"$f":"'3.3'!I62","v":0},{"$f":"'3.3'!L62","v":0},0,0,21,{"$f":"'poměry financování'!D55","v":"CZ.1.11/2.1.00/01.00021"}]
[null,{"$f":"'3.3'!I63","v":0},{"$f":"'3.3'!L63","v":0},0,0,21,{"$f":"'poměry financování'!D56","v":"CZ.1.11/2.1.00/01.00021"}]
[null,{"$f":"'3.3'!I64","v":0},{"$f":"'3.3'!L64","v":0},0,0,22,{"$f":"'poměry financování'!D57","v":"CZ.1.11/2.1.00/01.00022"}]
[null,{"$f":"'3.3'!I65","v":0},{"$f":"'3.3'!L65","v":0},0,0,23,{"$f":"'poměry financování'!D58","v":"CZ.1.11/3.2.00/01.00023"}]
[null,{"$f":"'3.3'!I66","v":0},{"$f":"'3.3'!L66","v":0},0,0,24,{"$f":"'poměry financování'!D59","v":"CZ.1.11/2.2.00/01.00024"}]
[null,{"$f":"'3.3'!I67","v":0},{"$f":"'3.3'!L67","v":0},0,0,25,{"$f":"'poměry financování'!D60","v":"CZ.1.11/2.1.00/01.00025"}]
[null,{"$f":"'3.3'!I68","v":0},{"$f":"'3.3'!L68","v":0},0,0,25,{"$f":"'poměry financování'!D61","v":"CZ.1.11/2.1.00/01.00025"}]
[null,{"$f":"'3.3'!I69","v":0},{"$f":"'3.3'!L69","v":0},0,0,25,{"$f":"'poměry financování'!D62","v":"CZ.1.11/2.1.00/01.00025"}]
[null,{"$f":"'3.3'!I70","v":0},{"$f":"'3.3'!L70","v":0},0,0,26,{"$f":"'poměry financování'!D63","v":"CZ.1.11/2.1.00/01.00026"}]
[null,{"$f":"'3.3'!I71","v":0},{"$f":"'3.3'!L71","v":0},{"$f":"IF(B67=\"Investiční\",C67,0)","v":0},{"$f":"IF(B67=\"Neinvestiční\",C67,0)","v":0},26,{"$f":"'poměry financování'!D64","v":"CZ.1.11/2.1.00/01.00026"}]
[null,{"$f":"'3.3'!I72","v":0},{"$f":"'3.3'!L72","v":0},0,0,26,{"$f":"'poměry financování'!D65","v":"CZ.1.11/2.1.00/01.00026"}]
[null,{"$f":"'3.3'!I73","v":0},{"$f":"'3.3'!L73","v":0},0,0,27,{"$f":"'poměry financování'!D66","v":"CZ.1.11/1.4.00/01.00027"}]
[null,{"$f":"'3.3'!I74","v":0},{"$f":"'3.3'!L74","v":0},0,0,{"$f":"VALUE((MID(G70,20,4)))","v":28},{"$f":"'poměry financování'!D67","v":"CZ.1.11/3.3.00/01.00028"}]
[null,{"$f":"'3.3'!I75","v":0},{"$f":"'3.3'!L75","v":0},0,0,29,{"$f":"'poměry financování'!D68","v":"CZ.1.11/2.1.00/01.00029"}]
[null,{"$f":"'3.3'!I76","v":0},{"$f":"'3.3'!L76","v":0},0,0,30,{"$f":"'poměry financování'!D69","v":"CZ.1.11/3.4.00/01.00030"}]
[null,{"$f":"'3.3'!I77","v":0},{"$f":"'3.3'!L77","v":0},0,0,31,{"$f":"'poměry financování'!D70","v":"CZ.1.11/2.1.00/01.00031"}]
[null,{"$f":"'3.3'!I78","v":0},{"$f":"'3.3'!L78","v":0},0,0,32,{"$f":"'poměry financování'!D71","v":"CZ.1.11/2.1.00/01.00032"}]
[null,{"$f":"'3.3'!I79","v":0},{"$f":"'3.3'!L79","v":0},0,0,32,{"$f":"'poměry financování'!D72","v":"CZ.1.11/2.1.00/01.00032"}]
[null,{"$f":"'3.3'!I80","v":0},{"$f":"'3.3'!L80","v":0},0,0,33,{"$f":"'poměry financování'!D73","v":"CZ.1.11/2.1.00/01.00033"}]
[null,{"$f":"'3.3'!I81","v":0},{"$f":"'3.3'!L81","v":0},0,0,33,{"$f":"'poměry financování'!D74","v":"CZ.1.11/2.1.00/01.00033"}]
[null,{"$f":"'3.3'!I82","v":0},{"$f":"'3.3'!L82","v":0},0,0,33,{"$f":"'poměry financování'!D75","v":"CZ.1.11/2.1.00/01.00033"}]
[null,{"$f":"'3.3'!I83","v":0},{"$f":"'3.3'!L83","v":0},0,0,33,{"$f":"'poměry financování'!D76","v":"CZ.1.11/2.1.00/01.00033"}]
[null,{"$f":"'3.3'!I84","v":0},{"$f":"'3.3'!L84","v":0},0,0,34,{"$f":"'poměry financování'!D77","v":"CZ.1.11/2.1.00/01.00034"}]
[null,{"$f":"'3.3'!I85","v":0},{"$f":"'3.3'!L85","v":0},0,0,34,{"$f":"'poměry financování'!D78","v":"CZ.1.11/2.1.00/01.00034"}]
[null,{"$f":"'3.3'!I86","v":0},{"$f":"'3.3'!L86","v":0},0,0,35,{"$f":"'poměry financování'!D79","v":"CZ.1.11/2.1.00/01.00035"}]
[null,{"$f":"'3.3'!I87","v":0},{"$f":"'3.3'!L87","v":0},0,0,36,{"$f":"'poměry financování'!D80","v":"CZ.1.11/2.1.00/01.00036"}]
[null,{"$f":"'3.3'!I88","v":0},{"$f":"'3.3'!L88","v":0},0,0,36,{"$f":"'poměry financování'!D81","v":"CZ.1.11/2.1.00/01.00036"}]
[null,{"$f":"'3.3'!I89","v":0},{"$f":"'3.3'!L89","v":0},0,0,36,{"$f":"'poměry financování'!D82","v":"CZ.1.11/2.1.00/01.00036"}]
[null,{"$f":"'3.3'!I90","v":0},{"$f":"'3.3'!L90","v":0},0,0,36,{"$f":"'poměry financování'!D83","v":"CZ.1.11/2.1.00/01.00036"}]
[null,{"$f":"'3.3'!I91","v":0},{"$f":"'3.3'!L91","v":0},0,0,36,{"$f":"'poměry financování'!D84","v":"CZ.1.11/2.1.00/01.00036"}]
[null,{"$f":"'3.3'!I92","v":0},{"$f":"'3.3'!L92","v":0},0,0,37,{"$f":"'poměry financování'!D85","v":"CZ.1.11/2.2.00/01.00037"}]
[null,{"$f":"'3.3'!I93","v":0},{"$f":"'3.3'!L93","v":0},0,0,38,{"$f":"'poměry financování'!D86","v":"CZ.1.11/2.1.00/01.00038"}]
[null,{"$f":"'3.3'!I94","v":0},{"$f":"'3.3'!L94","v":0},0,0,38,{"$f":"'poměry financování'!D87","v":"CZ.1.11/2.1.00/01.00038"}]
[null,{"$f":"'3.3'!I95","v":0},{"$f":"'3.3'!L95","v":0},0,0,38,{"$f":"'poměry financování'!D88","v":"CZ.1.11/2.1.00/01.00038"}]
[null,{"$f":"'3.3'!I96","v":0},{"$f":"'3.3'!L96","v":0},0,0,39,{"$f":"'poměry financování'!D89","v":"CZ.1.11/1.2.00/01.00039"}]
[null,{"$f":"'3.3'!I97","v":0},{"$f":"'3.3'!L97","v":0},0,0,40,{"$f":"'poměry financování'!D90","v":"CZ.1.11/1.2.00/01.00040"}]
[null,{"$f":"'3.3'!I98","v":0},{"$f":"'3.3'!L98","v":0},0,0,41,{"$f":"'poměry financování'!D91","v":"CZ.1.11/2.2.00/01.00041"}]
[null,{"$f":"'3.3'!I99","v":0},{"$f":"'3.3'!L99","v":0},0,0,41,{"$f":"'poměry financování'!D92","v":"CZ.1.11/2.2.00/01.00041"}]
[null,{"$f":"'3.3'!I100","v":0},{"$f":"'3.3'!L100","v":0},0,0,41,{"$f":"'poměry financování'!D93","v":"CZ.1.11/2.2.00/01.00041"}]
[null,{"$f":"'3.3'!I101","v":0},{"$f":"'3.3'!L101","v":0},0,0,42,{"$f":"'poměry financování'!D94","v":"CZ.1.11/2.1.00/01.00042"}]
[null,{"$f":"'3.3'!I102","v":0},{"$f":"'3.3'!L102","v":0},0,0,43,{"$f":"'poměry financování'!D95","v":"CZ.1.11/2.1.00/01.00043"}]
[null,{"$f":"'3.3'!I103","v":0},{"$f":"'3.3'!L103","v":0},0,0,43,{"$f":"'poměry financování'!D96","v":"CZ.1.11/2.1.00/01.00043"}]
[null,{"$f":"'3.3'!I104","v":0},{"$f":"'3.3'!L104","v":0},0,0,43,{"$f":"'poměry financování'!D97","v":"CZ.1.11/2.1.00/01.00043"}]
[null,{"$f":"'3.3'!I105","v":0},{"$f":"'3.3'!L105","v":0},0,0,43,{"$f":"'poměry financování'!D98","v":"CZ.1.11/2.1.00/01.00043"}]
[null,{"$f":"'3.3'!I106","v":0},{"$f":"'3.3'!L106","v":0},0,0,44,{"$f":"'poměry financování'!D99","v":"CZ.1.11/3.4.00/01.00044"}]
[null,{"$f":"'3.3'!I107","v":0},{"$f":"'3.3'!L107","v":0},0,0,44,{"$f":"'poměry financování'!D100","v":"CZ.1.11/3.4.00/01.00044"}]
[null,{"$f":"'3.3'!I108","v":0},{"$f":"'3.3'!L108","v":0},0,0,44,{"$f":"'poměry financování'!D101","v":"CZ.1.11/3.4.00/01.00044"}]
[null,{"$f":"'3.3'!I109","v":0},{"$f":"'3.3'!L109","v":0},0,0,45,{"$f":"'poměry financování'!D102","v":"CZ.1.11/2.1.00/01.00045"}]
[null,{"$f":"'3.3'!I110","v":0},{"$f":"'3.3'!L110","v":0},0,0,45,{"$f":"'poměry financování'!D103","v":"CZ.1.11/2.1.00/01.00045"}]
[null,{"$f":"'3.3'!I111","v":0},{"$f":"'3.3'!L111","v":0},0,0,45,{"$f":"'poměry financování'!D104","v":"CZ.1.11/2.1.00/01.00045"}]
[null,{"$f":"'3.3'!I112","v":0},{"$f":"'3.3'!L112","v":0},0,0,45,{"$f":"'poměry financování'!D105","v":"CZ.1.11/2.1.00/01.00045"}]
[null,{"$f":"'3.3'!I113","v":0},{"$f":"'3.3'!L113","v":0},0,0,45,{"$f":"'poměry financování'!D106","v":"CZ.1.11/2.1.00/01.00045"}]
[null,{"$f":"'3.3'!I114","v":0},{"$f":"'3.3'!L114","v":0},0,0,46,{"$f":"'poměry financování'!D107","v":"CZ.1.11/3.4.00/01.00046"}]
[null,{"$f":"'3.3'!I115","v":0},{"$f":"'3.3'!L115","v":0},0,0,47,{"$f":"'poměry financování'!D108","v":"CZ.1.11/2.1.00/01.00047"}]
[null,{"$f":"'3.3'!I116","v":0},{"$f":"'3.3'!L116","v":0},0,0,48,{"$f":"'poměry financování'!D109","v":"CZ.1.11/1.2.00/01.00048"}]
[null,{"$f":"'3.3'!I117","v":0},{"$f":"'3.3'!L117","v":0},0,0,49,{"$f":"'poměry financování'!D110","v":"CZ.1.11/3.4.00/01.00049"}]
[null,{"$f":"'3.3'!I118","v":0},{"$f":"'3.3'!L118","v":0},0,0,49,{"$f":"'poměry financování'!D111","v":"CZ.1.11/3.4.00/01.00049"}]
[null,{"$f":"'3.3'!I119","v":0},{"$f":"'3.3'!L119","v":0},0,0,50,{"$f":"'poměry financování'!D112","v":"CZ.1.11/2.1.00/01.00050"}]
[null,{"$f":"'3.3'!I120","v":0},{"$f":"'3.3'!L120","v":0},0,0,51,{"$f":"'poměry financování'!D113","v":"CZ.1.11/2.1.00/01.00051"}]
[null,{"$f":"'3.3'!I121","v":0},{"$f":"'3.3'!L121","v":0},0,0,51,{"$f":"'poměry financování'!D114","v":"CZ.1.11/2.1.00/01.00051"}]
[null,{"$f":"'3.3'!I122","v":0},{"$f":"'3.3'!L122","v":0},0,0,51,{"$f":"'poměry financování'!D115","v":"CZ.1.11/2.1.00/01.00051"}]
[null,{"$f":"'3.3'!I123","v":0},{"$f":"'3.3'!L123","v":0},0,0,51,{"$f":"'poměry financování'!D116","v":"CZ.1.11/2.1.00/01.00051"}]
[null,{"$f":"'3.3'!I124","v":0},{"$f":"'3.3'!L124","v":0},0,0,52,{"$f":"'poměry financování'!D117","v":"CZ.1.11/2.1.00/01.00052"}]
[null,{"$f":"'3.3'!I125","v":0},{"$f":"'3.3'!L125","v":0},0,0,52,{"$f":"'poměry financování'!D118","v":"CZ.1.11/2.1.00/01.00052"}]
[null,{"$f":"'3.3'!I126","v":0},{"$f":"'3.3'!L126","v":0},0,0,52,{"$f":"'poměry financování'!D119","v":"CZ.1.11/2.1.00/01.00052"}]
[null,{"$f":"'3.3'!I127","v":0},{"$f":"'3.3'!L127","v":0},0,0,52,{"$f":"'poměry financování'!D120","v":"CZ.1.11/2.1.00/01.00052"}]
[null,{"$f":"'3.3'!I128","v":0},{"$f":"'3.3'!L128","v":0},0,0,53,{"$f":"'poměry financování'!D121","v":"CZ.1.11/2.1.00/01.00053"}]
[null,{"$f":"'3.3'!I129","v":0},{"$f":"'3.3'!L129","v":0},0,0,53,{"$f":"'poměry financování'!D122","v":"CZ.1.11/2.1.00/01.00053"}]
[null,{"$f":"'3.3'!I130","v":0},{"$f":"'3.3'!L130","v":0},0,0,53,{"$f":"'poměry financování'!D123","v":"CZ.1.11/2.1.00/01.00053"}]
[null,{"$f":"'3.3'!I131","v":0},{"$f":"'3.3'!L131","v":0},0,0,54,{"$f":"'poměry financování'!D124","v":"CZ.1.11/2.1.00/01.00054"}]
[null,{"$f":"'3.3'!I132","v":0},{"$f":"'3.3'!L132","v":0},0,0,54,{"$f":"'poměry financování'!D125","v":"CZ.1.11/2.1.00/01.00054"}]
[null,{"$f":"'3.3'!I133","v":0},{"$f":"'3.3'!L133","v":0},0,0,54,{"$f":"'poměry financování'!D126","v":"CZ.1.11/2.1.00/01.00054"}]
[null,{"$f":"'3.3'!I134","v":0},{"$f":"'3.3'!L134","v":0},0,0,55,{"$f":"'poměry financování'!D127","v":"CZ.1.11/2.2.00/01.00055"}]
[null,{"$f":"'3.3'!I135","v":0},{"$f":"'3.3'!L135","v":0},{"$f":"IF(B131=\"Investiční\",C131,0)","v":0},{"$f":"IF(B131=\"Neinvestiční\",C131,0)","v":0},55,{"$f":"'poměry financování'!D128","v":"CZ.1.11/2.2.00/01.00055"}]
[null,{"$f":"'3.3'!I136","v":0},{"$f":"'3.3'!L136","v":0},0,0,56,{"$f":"'poměry financování'!D129","v":"CZ.1.11/3.4.00/01.00056"}]
[null,{"$f":"'3.3'!I137","v":0},{"$f":"'3.3'!L137","v":0},0,0,57,{"$f":"'poměry financování'!D130","v":"CZ.1.11/1.4.00/01.00057"}]
[null,{"$f":"'3.3'!I138","v":0},{"$f":"'3.3'!L138","v":0},0,0,{"$f":"VALUE((MID(G134,20,4)))","v":58},{"$f":"'poměry financování'!D131","v":"CZ.1.11/2.1.00/01.00058"}]
[null,{"$f":"'3.3'!I139","v":0},{"$f":"'3.3'!L139","v":0},0,0,58,{"$f":"'poměry financování'!D132","v":"CZ.1.11/2.1.00/01.00058"}]
[null,{"$f":"'3.3'!I140","v":0},{"$f":"'3.3'!L140","v":0},0,0,59,{"$f":"'poměry financování'!D133","v":"CZ.1.11/1.2.00/01.00059"}]
[null,{"$f":"'3.3'!I141","v":0},{"$f":"'3.3'!L141","v":0},0,0,59,{"$f":"'poměry financování'!D134","v":"CZ.1.11/1.2.00/01.00059"}]
[null,{"$f":"'3.3'!I142","v":0},{"$f":"'3.3'!L142","v":0},0,0,59,{"$f":"'poměry financování'!D135","v":"CZ.1.11/1.2.00/01.00059"}]
[null,{"$f":"'3.3'!I143","v":0},{"$f":"'3.3'!L143","v":0},0,0,60,{"$f":"'poměry financování'!D136","v":"CZ.1.11/2.1.00/01.00060"}]
[null,{"$f":"'3.3'!I144","v":0},{"$f":"'3.3'!L144","v":0},0,0,61,{"$f":"'poměry financování'!D137","v":"CZ.1.11/2.1.00/01.00061"}]
[null,{"$f":"'3.3'!I145","v":0},{"$f":"'3.3'!L145","v":0},0,0,61,{"$f":"'poměry financování'!D138","v":"CZ.1.11/2.1.00/01.00061"}]
[null,{"$f":"'3.3'!I146","v":0},{"$f":"'3.3'!L146","v":0},0,0,61,{"$f":"'poměry financování'!D139","v":"CZ.1.11/2.1.00/01.00061"}]
[null,{"$f":"'3.3'!I147","v":0},{"$f":"'3.3'!L147","v":0},0,0,61,{"$f":"'poměry financování'!D140","v":"CZ.1.11/2.1.00/01.00061"}]
[null,{"$f":"'3.3'!I148","v":0},{"$f":"'3.3'!L148","v":0},0,0,62,{"$f":"'poměry financování'!D141","v":"CZ.1.11/2.2.00/01.00062"}]
[null,{"$f":"'3.3'!I149","v":0},{"$f":"'3.3'!L149","v":0},0,0,62,{"$f":"'poměry financování'!D142","v":"CZ.1.11/2.2.00/01.00062"}]
[null,{"$f":"'3.3'!I150","v":0},{"$f":"'3.3'!L150","v":0},0,0,62,{"$f":"'poměry financování'!D143","v":"CZ.1.11/2.2.00/01.00062"}]
[null,{"$f":"'3.3'!I151","v":0},{"$f":"'3.3'!L151","v":0},0,0,63,{"$f":"'poměry financování'!D144","v":"CZ.1.11/2.1.00/01.00063"}]
[null,{"$f":"'3.3'!I152","v":0},{"$f":"'3.3'!L152","v":0},0,0,64,{"$f":"'poměry financování'!D145","v":"CZ.1.11/2.2.00/01.00064"}]
[null,{"$f":"'3.3'!I153","v":0},{"$f":"'3.3'!L153","v":0},0,0,65,{"$f":"'poměry financování'!D146","v":"CZ.1.11/2.1.00/01.00065"}]
[null,{"$f":"'3.3'!I154","v":0},{"$f":"'3.3'!L154","v":0},0,0,65,{"$f":"'poměry financování'!D147","v":"CZ.1.11/2.1.00/01.00065"}]
[null,{"$f":"'3.3'!I155","v":0},{"$f":"'3.3'!L155","v":0},0,0,65,{"$f":"'poměry financování'!D148","v":"CZ.1.11/2.1.00/01.00065"}]
[null,{"$f":"'3.3'!I156","v":0},{"$f":"'3.3'!L156","v":0},0,0,65,{"$f":"'poměry financování'!D149","v":"CZ.1.11/2.1.00/01.00065"}]
[null,{"$f":"'3.3'!I157","v":0},{"$f":"'3.3'!L157","v":0},0,0,65,{"$f":"'poměry financování'!D150","v":"CZ.1.11/2.1.00/01.00065"}]
[null,{"$f":"'3.3'!I158","v":0},{"$f":"'3.3'!L158","v":0},0,0,65,{"$f":"'poměry financování'!D151","v":"CZ.1.11/2.1.00/01.00065"}]
[null,{"$f":"'3.3'!I159","v":0},{"$f":"'3.3'!L159","v":0},0,0,66,{"$f":"'poměry financování'!D152","v":"CZ.1.11/2.1.00/01.00066"}]
[null,{"$f":"'3.3'!I160","v":0},{"$f":"'3.3'!L160","v":0},0,0,66,{"$f":"'poměry financování'!D153","v":"CZ.1.11/2.1.00/01.00066"}]
[null,{"$f":"'3.3'!I161","v":0},{"$f":"'3.3'!L161","v":0},0,0,66,{"$f":"'poměry financování'!D154","v":"CZ.1.11/2.1.00/01.00066"}]
[null,{"$f":"'3.3'!I162","v":0},{"$f":"'3.3'!L162","v":0},0,0,66,{"$f":"'poměry financování'!D155","v":"CZ.1.11/2.1.00/01.00066"}]
[null,{"$f":"'3.3'!I163","v":0},{"$f":"'3.3'!L163","v":0},0,0,67,{"$f":"'poměry financování'!D156","v":"CZ.1.11/2.2.00/01.00067"}]
[null,{"$f":"'3.3'!I164","v":0},{"$f":"'3.3'!L164","v":0},0,0,67,{"$f":"'poměry financování'!D157","v":"CZ.1.11/2.2.00/01.00067"}]
[null,{"$f":"'3.3'!I165","v":0},{"$f":"'3.3'!L165","v":0},0,0,67,{"$f":"'poměry financování'!D158","v":"CZ.1.11/2.2.00/01.00067"}]
[null,{"$f":"'3.3'!I166","v":0},{"$f":"'3.3'!L166","v":0},0,0,67,{"$f":"'poměry financování'!D159","v":"CZ.1.11/2.2.00/01.00067"}]
[null,{"$f":"'3.3'!I167","v":0},{"$f":"'3.3'!L167","v":0},0,0,68,{"$f":"'poměry financování'!D160","v":"CZ.1.11/2.1.00/01.00068"}]
[null,{"$f":"'3.3'!I168","v":0},{"$f":"'3.3'!L168","v":0},0,0,68,{"$f":"'poměry financování'!D161","v":"CZ.1.11/2.1.00/01.00068"}]
[null,{"$f":"'3.3'!I169","v":0},{"$f":"'3.3'!L169","v":0},0,0,68,{"$f":"'poměry financování'!D162","v":"CZ.1.11/2.1.00/01.00068"}]
[null,{"$f":"'3.3'!I170","v":0},{"$f":"'3.3'!L170","v":0},0,0,68,{"$f":"'poměry financování'!D163","v":"CZ.1.11/2.1.00/01.00068"}]
[null,{"$f":"'3.3'!I171","v":0},{"$f":"'3.3'!L171","v":0},0,0,68,{"$f":"'poměry financování'!D164","v":"CZ.1.11/2.1.00/01.00068"}]
[null,{"$f":"'3.3'!I172","v":0},{"$f":"'3.3'!L172","v":0},0,0,68,{"$f":"'poměry financování'!D165","v":"CZ.1.11/2.1.00/01.00068"}]
[null,{"$f":"'3.3'!I173","v":0},{"$f":"'3.3'!L173","v":0},0,0,68,{"$f":"'poměry financování'!D166","v":"CZ.1.11/2.1.00/01.00068"}]
[null,{"$f":"'3.3'!I174","v":0},{"$f":"'3.3'!L174","v":0},0,0,68,{"$f":"'poměry financování'!D167","v":"CZ.1.11/2.1.00/01.00068"}]
[null,{"$f":"'3.3'!I175","v":0},{"$f":"'3.3'!L175","v":0},0,0,68,{"$f":"'poměry financování'!D168","v":"CZ.1.11/2.1.00/01.00068"}]
[null,{"$f":"'3.3'!I176","v":0},{"$f":"'3.3'!L176","v":0},0,0,68,{"$f":"'poměry financování'!D169","v":"CZ.1.11/2.1.00/01.00068"}]
[null,{"$f":"'3.3'!I177","v":0},{"$f":"'3.3'!L177","v":0},0,0,69,{"$f":"'poměry financování'!D170","v":"CZ.1.11/2.1.00/01.00069"}]
[null,{"$f":"'3.3'!I178","v":0},{"$f":"'3.3'!L178","v":0},0,0,69,{"$f":"'poměry financování'!D171","v":"CZ.1.11/2.1.00/01.00069"}]
[null,{"$f":"'3.3'!I179","v":0},{"$f":"'3.3'!L179","v":0},0,0,69,{"$f":"'poměry financování'!D172","v":"CZ.1.11/2.1.00/01.00069"}]
[null,{"$f":"'3.3'!I180","v":0},{"$f":"'3.3'!L180","v":0},0,0,69,{"$f":"'poměry financování'!D173","v":"CZ.1.11/2.1.00/01.00069"}]
[null,{"$f":"'3.3'!I181","v":0},{"$f":"'3.3'!L181","v":0},0,0,70,{"$f":"'poměry financování'!D174","v":"CZ.1.11/3.4.00/01.00070"}]
[null,{"$f":"'3.3'!I182","v":0},{"$f":"'3.3'!L182","v":0},0,0,70,{"$f":"'poměry financování'!D175","v":"CZ.1.11/3.4.00/01.00070"}]
[null,{"$f":"'3.3'!I183","v":0},{"$f":"'3.3'!L183","v":0},0,0,70,{"$f":"'poměry financování'!D176","v":"CZ.1.11/3.4.00/01.00070"}]
[null,{"$f":"'3.3'!I184","v":0},{"$f":"'3.3'!L184","v":0},0,0,71,{"$f":"'poměry financování'!D177","v":"CZ.1.11/3.4.00/01.00071"}]
[null,{"$f":"'3.3'!I185","v":0},{"$f":"'3.3'!L185","v":0},0,0,71,{"$f":"'poměry financování'!D178","v":"CZ.1.11/3.4.00/01.00071"}]
[null,{"$f":"'3.3'!I186","v":0},{"$f":"'3.3'!L186","v":0},0,0,71,{"$f":"'poměry financování'!D179","v":"CZ.1.11/3.4.00/01.00071"}]
[null,{"$f":"'3.3'!I187","v":0},{"$f":"'3.3'!L187","v":0},0,0,72,{"$f":"'poměry financování'!D180","v":"CZ.1.11/3.4.00/01.00072"}]
[null,{"$f":"'3.3'!I188","v":0},{"$f":"'3.3'!L188","v":0},0,0,72,{"$f":"'poměry financování'!D181","v":"CZ.1.11/3.4.00/01.00072"}]
[null,{"$f":"'3.3'!I189","v":0},{"$f":"'3.3'!L189","v":0},0,0,72,{"$f":"'poměry financování'!D182","v":"CZ.1.11/3.4.00/01.00072"}]
[null,{"$f":"'3.3'!I190","v":0},{"$f":"'3.3'!L190","v":0},0,0,73,{"$f":"'poměry financování'!D183","v":"CZ.1.11/2.2.00/01.00073"}]
[null,{"$f":"'3.3'!I191","v":0},{"$f":"'3.3'!L191","v":0},0,0,74,{"$f":"'poměry financování'!D184","v":"CZ.1.11/2.1.00/01.00074"}]
[null,{"$f":"'3.3'!I192","v":0},{"$f":"'3.3'!L192","v":0},0,0,74,{"$f":"'poměry financování'!D185","v":"CZ.1.11/2.1.00/01.00074"}]
[null,{"$f":"'3.3'!I193","v":0},{"$f":"'3.3'!L193","v":0},0,0,75,{"$f":"'poměry financování'!D186","v":"CZ.1.11/2.2.00/01.00075"}]
[null,{"$f":"'3.3'!I194","v":0},{"$f":"'3.3'!L194","v":0},0,0,76,{"$f":"'poměry financování'!D187","v":"CZ.1.11/2.1.00/01.00076"}]
[null,{"$f":"'3.3'!I195","v":0},{"$f":"'3.3'!L195","v":0},0,0,76,{"$f":"'poměry financování'!D188","v":"CZ.1.11/2.1.00/01.00076"}]
[null,{"$f":"'3.3'!I196","v":0},{"$f":"'3.3'!L196","v":0},0,0,76,{"$f":"'poměry financování'!D189","v":"CZ.1.11/2.1.00/01.00076"}]
[null,{"$f":"'3.3'!I197","v":0},{"$f":"'3.3'!L197","v":0},0,0,77,{"$f":"'poměry financování'!D190","v":"CZ.1.11/2.1.00/01.00077"}]
[null,{"$f":"'3.3'!I198","v":0},{"$f":"'3.3'!L198","v":0},0,0,77,{"$f":"'poměry financování'!D191","v":"CZ.1.11/2.1.00/01.00077"}]
[null,{"$f":"'3.3'!I199","v":0},{"$f":"'3.3'!L199","v":0},{"$f":"IF(B195=\"Investiční\",C195,0)","v":0},{"$f":"IF(B195=\"Neinvestiční\",C195,0)","v":0},78,{"$f":"'poměry financování'!D192","v":"CZ.1.11/2.2.00/01.00078"}]
[null,{"$f":"'3.3'!I200","v":0},{"$f":"'3.3'!L200","v":0},0,0,78,{"$f":"'poměry financování'!D193","v":"CZ.1.11/2.2.00/01.00078"}]
[null,{"$f":"'3.3'!I201","v":0},{"$f":"'3.3'!L201","v":0},0,0,79,{"$f":"'poměry financování'!D194","v":"CZ.1.11/1.4.00/01.00079"}]
[null,{"$f":"'3.3'!I202","v":0},{"$f":"'3.3'!L202","v":0},0,0,{"$f":"VALUE((MID(G198,20,4)))","v":79},{"$f":"'poměry financování'!D195","v":"CZ.1.11/1.4.00/01.00079"}]
[null,{"$f":"'3.3'!I203","v":0},{"$f":"'3.3'!L203","v":0},0,0,79,{"$f":"'poměry financování'!D196","v":"CZ.1.11/1.4.00/01.00079"}]
[null,{"$f":"'3.3'!I204","v":0},{"$f":"'3.3'!L204","v":0},0,0,80,{"$f":"'poměry financování'!D197","v":"CZ.1.11/2.2.00/01.00080"}]
[null,{"$f":"'3.3'!I205","v":0},{"$f":"'3.3'!L205","v":0},0,0,81,{"$f":"'poměry financování'!D198","v":"CZ.1.11/2.2.00/01.00081"}]
[null,{"$f":"'3.3'!I206","v":0},{"$f":"'3.3'!L206","v":0},0,0,82,{"$f":"'poměry financování'!D199","v":"CZ.1.11/1.4.00/01.00082"}]
[null,{"$f":"'3.3'!I207","v":0},{"$f":"'3.3'!L207","v":0},0,0,83,{"$f":"'poměry financování'!D200","v":"CZ.1.11/2.1.00/01.00083"}]
[null,{"$f":"'3.3'!I208","v":0},{"$f":"'3.3'!L208","v":0},0,0,83,{"$f":"'poměry financování'!D201","v":"CZ.1.11/2.1.00/01.00083"}]
[null,{"$f":"'3.3'!I209","v":0},{"$f":"'3.3'!L209","v":0},0,0,83,{"$f":"'poměry financování'!D202","v":"CZ.1.11/2.1.00/01.00083"}]
[null,{"$f":"'3.3'!I210","v":0},{"$f":"'3.3'!L210","v":0},0,0,83,{"$f":"'poměry financování'!D203","v":"CZ.1.11/2.1.00/01.00083"}]
[null,{"$f":"'3.3'!I211","v":0},{"$f":"'3.3'!L211","v":0},0,0,84,{"$f":"'poměry financování'!D204","v":"CZ.1.11/2.1.00/01.00084"}]
[null,{"$f":"'3.3'!I212","v":0},{"$f":"'3.3'!L212","v":0},0,0,85,{"$f":"'poměry financování'!D205","v":"CZ.1.11/2.1.00/01.00085"}]
[null,{"$f":"'3.3'!I213","v":0},{"$f":"'3.3'!L213","v":0},0,0,85,{"$f":"'poměry financování'!D206","v":"CZ.1.11/2.1.00/01.00085"}]
[null,{"$f":"'3.3'!I214","v":0},{"$f":"'3.3'!L214","v":0},0,0,85,{"$f":"'poměry financování'!D207","v":"CZ.1.11/2.1.00/01.00085"}]
[null,{"$f":"'3.3'!I215","v":0},{"$f":"'3.3'!L215","v":0},0,0,86,{"$f":"'poměry financování'!D208","v":"CZ.1.11/2.1.00/01.00086"}]
[null,{"$f":"'3.3'!I216","v":0},{"$f":"'3.3'!L216","v":0},0,0,86,{"$f":"'poměry financování'!D209","v":"CZ.1.11/2.1.00/01.00086"}]
[null,{"$f":"'3.3'!I217","v":0},{"$f":"'3.3'!L217","v":0},0,0,86,{"$f":"'poměry financování'!D210","v":"CZ.1.11/2.1.00/01.00086"}]
[null,{"$f":"'3.3'!I218","v":0},{"$f":"'3.3'!L218","v":0},0,0,87,{"$f":"'poměry financování'!D211","v":"CZ.1.11/2.2.00/01.00087"}]
[null,{"$f":"'3.3'!I219","v":0},{"$f":"'3.3'!L219","v":0},0,0,88,{"$f":"'poměry financování'!D212","v":"CZ.1.11/2.1.00/01.00088"}]
[null,{"$f":"'3.3'!I220","v":0},{"$f":"'3.3'!L220","v":0},0,0,88,{"$f":"'poměry financování'!D213","v":"CZ.1.11/2.1.00/01.00088"}]
[null,{"$f":"'3.3'!I221","v":0},{"$f":"'3.3'!L221","v":0},0,0,88,{"$f":"'poměry financování'!D214","v":"CZ.1.11/2.1.00/01.00088"}]
[null,{"$f":"'3.3'!I222","v":0},{"$f":"'3.3'!L222","v":0},0,0,89,{"$f":"'poměry financování'!D215","v":"CZ.1.11/2.1.00/01.00089"}]
[null,{"$f":"'3.3'!I223","v":0},{"$f":"'3.3'!L223","v":0},0,0,90,{"$f":"'poměry financování'!D216","v":"CZ.1.11/2.1.00/01.00090"}]
[null,{"$f":"'3.3'!I224","v":0},{"$f":"'3.3'!L224","v":0},0,0,91,{"$f":"'poměry financování'!D217","v":"CZ.1.11/3.4.00/01.00091"}]
[null,{"$f":"'3.3'!I225","v":0},{"$f":"'3.3'!L225","v":0},0,0,92,{"$f":"'poměry financování'!D218","v":"CZ.1.11/2.1.00/01.00092"}]
[null,{"$f":"'3.3'!I226","v":0},{"$f":"'3.3'!L226","v":0},0,0,92,{"$f":"'poměry financování'!D219","v":"CZ.1.11/2.1.00/01.00092"}]
[null,{"$f":"'3.3'!I227","v":0},{"$f":"'3.3'!L227","v":0},0,0,92,{"$f":"'poměry financování'!D220","v":"CZ.1.11/2.1.00/01.00092"}]
[null,{"$f":"'3.3'!I228","v":0},{"$f":"'3.3'!L228","v":0},0,0,92,{"$f":"'poměry financování'!D221","v":"CZ.1.11/2.1.00/01.00092"}]
[null,{"$f":"'3.3'!I229","v":0},{"$f":"'3.3'!L229","v":0},0,0,93,{"$f":"'poměry financování'!D222","v":"CZ.1.11/2.1.00/01.00093"}]
[null,{"$f":"'3.3'!I230","v":0},{"$f":"'3.3'!L230","v":0},0,0,93,{"$f":"'poměry financování'!D223","v":"CZ.1.11/2.1.00/01.00093"}]
[null,{"$f":"'3.3'!I231","v":0},{"$f":"'3.3'!L231","v":0},0,0,93,{"$f":"'poměry financování'!D224","v":"CZ.1.11/2.1.00/01.00093"}]
[null,{"$f":"'3.3'!I232","v":0},{"$f":"'3.3'!L232","v":0},0,0,94,{"$f":"'poměry financování'!D225","v":"CZ.1.11/3.4.00/01.00094"}]
[null,{"$f":"'3.3'!I233","v":0},{"$f":"'3.3'!L233","v":0},0,0,95,{"$f":"'poměry financování'!D226","v":"CZ.1.11/3.3.00/01.00095"}]
[null,{"$f":"'3.3'!I234","v":0},{"$f":"'3.3'!L234","v":0},0,0,95,{"$f":"'poměry financování'!D227","v":"CZ.1.11/3.3.00/01.00095"}]
[null,{"$f":"'3.3'!I235","v":0},{"$f":"'3.3'!L235","v":0},0,0,95,{"$f":"'poměry financování'!D228","v":"CZ.1.11/3.3.00/01.00095"}]
[null,{"$f":"'3.3'!I236","v":0},{"$f":"'3.3'!L236","v":0},0,0,96,{"$f":"'poměry financování'!D229","v":"CZ.1.11/2.1.00/01.00096"}]
[null,{"$f":"'3.3'!I237","v":0},{"$f":"'3.3'!L237","v":0},0,0,96,{"$f":"'poměry financování'!D230","v":"CZ.1.11/2.1.00/01.00096"}]
[null,{"$f":"'3.3'!I238","v":0},{"$f":"'3.3'!L238","v":0},0,0,96,{"$f":"'poměry financování'!D231","v":"CZ.1.11/2.1.00/01.00096"}]
[null,{"$f":"'3.3'!I239","v":0},{"$f":"'3.3'!L239","v":0},0,0,97,{"$f":"'poměry financování'!D232","v":"CZ.1.11/2.1.00/01.00097"}]
[null,{"$f":"'3.3'!I240","v":0},{"$f":"'3.3'!L240","v":0},0,0,97,{"$f":"'poměry financování'!D233","v":"CZ.1.11/2.1.00/01.00097"}]
[null,{"$f":"'3.3'!I241","v":0},{"$f":"'3.3'!L241","v":0},0,0,98,{"$f":"'poměry financování'!D234","v":"CZ.1.11/1.4.00/01.00098"}]
[null,{"$f":"'3.3'!I242","v":0},{"$f":"'3.3'!L242","v":0},0,0,99,{"$f":"'poměry financování'!D235","v":"CZ.1.11/2.1.00/01.00099"}]
[null,{"$f":"'3.3'!I243","v":0},{"$f":"'3.3'!L243","v":0},0,0,99,{"$f":"'poměry financování'!D236","v":"CZ.1.11/2.1.00/01.00099"}]
[null,{"$f":"'3.3'!I244","v":0},{"$f":"'3.3'!L244","v":0},0,0,99,{"$f":"'poměry financování'!D237","v":"CZ.1.11/2.1.00/01.00099"}]
[null,{"$f":"'3.3'!I245","v":0},{"$f":"'3.3'!L245","v":0},0,0,99,{"$f":"'poměry financování'!D238","v":"CZ.1.11/2.1.00/01.00099"}]
[null,{"$f":"'3.3'!I246","v":0},{"$f":"'3.3'!L246","v":0},0,0,100,{"$f":"'poměry financování'!D239","v":"CZ.1.11/1.2.00/01.00100"}]
[null,{"$f":"'3.3'!I247","v":0},{"$f":"'3.3'!L247","v":0},0,0,100,{"$f":"'poměry financování'!D240","v":"CZ.1.11/1.2.00/01.00100"}]
[null,{"$f":"'3.3'!I248","v":0},{"$f":"'3.3'!L248","v":0},0,0,100,{"$f":"'poměry financování'!D241","v":"CZ.1.11/1.2.00/01.00100"}]
[null,{"$f":"'3.3'!I249","v":0},{"$f":"'3.3'!L249","v":0},0,0,100,{"$f":"'poměry financování'!D242","v":"CZ.1.11/1.2.00/01.00100"}]
[null,{"$f":"'3.3'!I250","v":0},{"$f":"'3.3'!L250","v":0},0,0,100,{"$f":"'poměry financování'!D243","v":"CZ.1.11/1.2.00/01.00100"}]
[null,{"$f":"'3.3'!I251","v":0},{"$f":"'3.3'!L251","v":0},0,0,100,{"$f":"'poměry financování'!D244","v":"CZ.1.11/1.2.00/01.00100"}]
[null,{"$f":"'3.3'!I252","v":0},{"$f":"'3.3'!L252","v":0},0,0,101,{"$f":"'poměry financování'!D245","v":"CZ.1.11/2.1.00/01.00101"}]
[null,{"$f":"'3.3'!I253","v":0},{"$f":"'3.3'!L253","v":0},0,0,101,{"$f":"'poměry financování'!D246","v":"CZ.1.11/2.1.00/01.00101"}]
[null,{"$f":"'3.3'!I254","v":0},{"$f":"'3.3'!L254","v":0},0,0,101,{"$f":"'poměry financování'!D247","v":"CZ.1.11/2.1.00/01.00101"}]
[null,{"$f":"'3.3'!I255","v":0},{"$f":"'3.3'!L255","v":0},0,0,101,{"$f":"'poměry financování'!D248","v":"CZ.1.11/2.1.00/01.00101"}]
[null,{"$f":"'3.3'!I256","v":0},{"$f":"'3.3'!L256","v":0},0,0,101,{"$f":"'poměry financování'!D249","v":"CZ.1.11/2.1.00/01.00101"}]
[null,{"$f":"'3.3'!I257","v":0},{"$f":"'3.3'!L257","v":0},0,0,102,{"$f":"'poměry financování'!D250","v":"CZ.1.11/2.2.00/01.00102"}]
[null,{"$f":"'3.3'!I258","v":0},{"$f":"'3.3'!L258","v":0},0,0,103,{"$f":"'poměry financování'!D251","v":"CZ.1.11/2.2.00/01.00103"}]
[null,{"$f":"'3.3'!I259","v":0},{"$f":"'3.3'!L259","v":0},0,0,103,{"$f":"'poměry financování'!D252","v":"CZ.1.11/2.2.00/01.00103"}]
[null,{"$f":"'3.3'!I260","v":0},{"$f":"'3.3'!L260","v":0},0,0,103,{"$f":"'poměry financování'!D253","v":"CZ.1.11/2.2.00/01.00103"}]
[null,{"$f":"'3.3'!I261","v":0},{"$f":"'3.3'!L261","v":0},0,0,104,{"$f":"'poměry financování'!D254","v":"CZ.1.11/2.2.00/01.00104"}]
[null,{"$f":"'3.3'!I262","v":0},{"$f":"'3.3'!L262","v":0},0,0,105,{"$f":"'poměry financování'!D255","v":"CZ.1.11/1.4.00/01.00105"}]
[null,{"$f":"'3.3'!I263","v":0},{"$f":"'3.3'!L263","v":0},{"$f":"IF(B259=\"Investiční\",C259,0)","v":0},{"$f":"IF(B259=\"Neinvestiční\",C259,0)","v":0},105,{"$f":"'poměry financování'!D256","v":"CZ.1.11/1.4.00/01.00105"}]
[null,{"$f":"'3.3'!I264","v":0},{"$f":"'3.3'!L264","v":0},0,0,105,{"$f":"'poměry financování'!D257","v":"CZ.1.11/1.4.00/01.00105"}]
[null,{"$f":"'3.3'!I265","v":0},{"$f":"'3.3'!L265","v":0},0,0,105,{"$f":"'poměry financování'!D258","v":"CZ.1.11/1.4.00/01.00105"}]
[null,{"$f":"'3.3'!I266","v":0},{"$f":"'3.3'!L266","v":0},0,0,{"$f":"VALUE((MID(G262,20,4)))","v":106},{"$f":"'poměry financování'!D259","v":"CZ.1.11/2.1.00/01.00106"}]
[null,{"$f":"'3.3'!I267","v":0},{"$f":"'3.3'!L267","v":0},0,0,106,{"$f":"'poměry financování'!D260","v":"CZ.1.11/2.1.00/01.00106"}]
[null,{"$f":"'3.3'!I268","v":0},{"$f":"'3.3'!L268","v":0},0,0,106,{"$f":"'poměry financování'!D261","v":"CZ.1.11/2.1.00/01.00106"}]
[null,{"$f":"'3.3'!I269","v":0},{"$f":"'3.3'!L269","v":0},0,0,106,{"$f":"'poměry financování'!D262","v":"CZ.1.11/2.1.00/01.00106"}]
[null,{"$f":"'3.3'!I270","v":0},{"$f":"'3.3'!L270","v":0},0,0,106,{"$f":"'poměry financování'!D263","v":"CZ.1.11/2.1.00/01.00106"}]
[null,{"$f":"'3.3'!I271","v":0},{"$f":"'3.3'!L271","v":0},0,0,106,{"$f":"'poměry financování'!D264","v":"CZ.1.11/2.1.00/01.00106"}]
[null,{"$f":"'3.3'!I272","v":0},{"$f":"'3.3'!L272","v":0},0,0,106,{"$f":"'poměry financování'!D265","v":"CZ.1.11/2.1.00/01.00106"}]
[null,{"$f":"'3.3'!I273","v":0},{"$f":"'3.3'!L273","v":0},0,0,106,{"$f":"'poměry financování'!D266","v":"CZ.1.11/2.1.00/01.00106"}]
[null,{"$f":"'3.3'!I274","v":0},{"$f":"'3.3'!L274","v":0},0,0,107,{"$f":"'poměry financování'!D267","v":"CZ.1.11/2.1.00/01.00107"}]
[null,{"$f":"'3.3'!I275","v":0},{"$f":"'3.3'!L275","v":0},0,0,108,{"$f":"'poměry financování'!D268","v":"CZ.1.11/2.1.00/01.00108"}]
[null,{"$f":"'3.3'!I276","v":0},{"$f":"'3.3'!L276","v":0},0,0,108,{"$f":"'poměry financování'!D269","v":"CZ.1.11/2.1.00/01.00108"}]
[null,{"$f":"'3.3'!I277","v":0},{"$f":"'3.3'!L277","v":0},0,0,108,{"$f":"'poměry financování'!D270","v":"CZ.1.11/2.1.00/01.00108"}]
[null,{"$f":"'3.3'!I278","v":0},{"$f":"'3.3'!L278","v":0},0,0,108,{"$f":"'poměry financování'!D271","v":"CZ.1.11/2.1.00/01.00108"}]
[null,{"$f":"'3.3'!I279","v":0},{"$f":"'3.3'!L279","v":0},0,0,109,{"$f":"'poměry financování'!D272","v":"CZ.1.11/2.2.00/01.00109"}]
[null,{"$f":"'3.3'!I280","v":0},{"$f":"'3.3'!L280","v":0},0,0,110,{"$f":"'poměry financování'!D273","v":"CZ.1.11/2.1.00/01.00110"}]
[null,{"$f":"'3.3'!I281","v":0},{"$f":"'3.3'!L281","v":0},0,0,111,{"$f":"'poměry financování'!D274","v":"CZ.1.11/2.1.00/01.00111"}]
[null,{"$f":"'3.3'!I282","v":0},{"$f":"'3.3'!L282","v":0},0,0,111,{"$f":"'poměry financování'!D275","v":"CZ.1.11/2.1.00/01.00111"}]
[null,{"$f":"'3.3'!I283","v":0},{"$f":"'3.3'!L283","v":0},0,0,111,{"$f":"'poměry financování'!D276","v":"CZ.1.11/2.1.00/01.00111"}]
[null,{"$f":"'3.3'!I284","v":0},{"$f":"'3.3'!L284","v":0},0,0,111,{"$f":"'poměry financování'!D277","v":"CZ.1.11/2.1.00/01.00111"}]
[null,{"$f":"'3.3'!I285","v":0},{"$f":"'3.3'!L285","v":0},0,0,112,{"$f":"'poměry financování'!D278","v":"CZ.1.11/2.1.00/01.00112"}]
[null,{"$f":"'3.3'!I286","v":0},{"$f":"'3.3'!L286","v":0},0,0,112,{"$f":"'poměry financování'!D279","v":"CZ.1.11/2.1.00/01.00112"}]
[null,{"$f":"'3.3'!I287","v":0},{"$f":"'3.3'!L287","v":0},0,0,113,{"$f":"'poměry financování'!D280","v":"CZ.1.11/2.2.00/01.00113"}]
[null,{"$f":"'3.3'!I288","v":0},{"$f":"'3.3'!L288","v":0},0,0,114,{"$f":"'poměry financování'!D281","v":"CZ.1.11/1.2.00/01.00114"}]
[null,{"$f":"'3.3'!I289","v":0},{"$f":"'3.3'!L289","v":0},0,0,115,{"$f":"'poměry financování'!D282","v":"CZ.1.11/2.1.00/01.00115"}]
[null,{"$f":"'3.3'!I290","v":0},{"$f":"'3.3'!L290","v":0},0,0,115,{"$f":"'poměry financování'!D283","v":"CZ.1.11/2.1.00/01.00115"}]
[null,{"$f":"'3.3'!I291","v":0},{"$f":"'3.3'!L291","v":0},0,0,115,{"$f":"'poměry financování'!D284","v":"CZ.1.11/2.1.00/01.00115"}]
[null,{"$f":"'3.3'!I292","v":0},{"$f":"'3.3'!L292","v":0},0,0,115,{"$f":"'poměry financování'!D285","v":"CZ.1.11/2.1.00/01.00115"}]
[null,{"$f":"'3.3'!I293","v":0},{"$f":"'3.3'!L293","v":0},0,0,115,{"$f":"'poměry financování'!D286","v":"CZ.1.11/2.1.00/01.00115"}]
[null,{"$f":"'3.3'!I294","v":0},{"$f":"'3.3'!L294","v":0},0,0,115,{"$f":"'poměry financování'!D287","v":"CZ.1.11/2.1.00/01.00115"}]
[null,{"$f":"'3.3'!I295","v":0},{"$f":"'3.3'!L295","v":0},0,0,116,{"$f":"'poměry financování'!D288","v":"CZ.1.11/2.1.00/01.00116"}]
[null,{"$f":"'3.3'!I296","v":0},{"$f":"'3.3'!L296","v":0},0,0,116,{"$f":"'poměry financování'!D289","v":"CZ.1.11/2.1.00/01.00116"}]
[null,{"$f":"'3.3'!I297","v":0},{"$f":"'3.3'!L297","v":0},0,0,116,{"$f":"'poměry financování'!D290","v":"CZ.1.11/2.1.00/01.00116"}]
[null,{"$f":"'3.3'!I298","v":0},{"$f":"'3.3'!L298","v":0},0,0,116,{"$f":"'poměry financování'!D291","v":"CZ.1.11/2.1.00/01.00116"}]
[null,{"$f":"'3.3'!I299","v":0},{"$f":"'3.3'!L299","v":0},0,0,116,{"$f":"'poměry financování'!D292","v":"CZ.1.11/2.1.00/01.00116"}]
[null,{"$f":"'3.3'!I300","v":0},{"$f":"'3.3'!L300","v":0},0,0,116,{"$f":"'poměry financování'!D293","v":"CZ.1.11/2.1.00/01.00116"}]
[null,{"$f":"'3.3'!I301","v":0},{"$f":"'3.3'!L301","v":0},0,0,117,{"$f":"'poměry financování'!D294","v":"CZ.1.11/2.1.00/01.00117"}]
[null,{"$f":"'3.3'!I302","v":0},{"$f":"'3.3'!L302","v":0},0,0,118,{"$f":"'poměry financování'!D295","v":"CZ.1.11/2.1.00/01.00118"}]
[null,{"$f":"'3.3'!I303","v":0},{"$f":"'3.3'!L303","v":0},0,0,119,{"$f":"'poměry financování'!D296","v":"CZ.1.11/3.4.00/01.00119"}]
[null,{"$f":"'3.3'!I304","v":0},{"$f":"'3.3'!L304","v":0},0,0,119,{"$f":"'poměry financování'!D297","v":"CZ.1.11/3.4.00/01.00119"}]
[null,{"$f":"'3.3'!I305","v":0},{"$f":"'3.3'!L305","v":0},0,0,119,{"$f":"'poměry financování'!D298","v":"CZ.1.11/3.4.00/01.00119"}]
[null,{"$f":"'3.3'!I306","v":0},{"$f":"'3.3'!L306","v":0},0,0,120,{"$f":"'poměry financování'!D299","v":"CZ.1.11/2.2.00/01.00120"}]
[null,{"$f":"'3.3'!I307","v":0},{"$f":"'3.3'!L307","v":0},0,0,120,{"$f":"'poměry financování'!D300","v":"CZ.1.11/2.2.00/01.00120"}]
[null,{"$f":"'3.3'!I308","v":0},{"$f":"'3.3'!L308","v":0},0,0,120,{"$f":"'poměry financování'!D301","v":"CZ.1.11/2.2.00/01.00120"}]
[null,{"$f":"'3.3'!I309","v":0},{"$f":"'3.3'!L309","v":0},0,0,120,{"$f":"'poměry financování'!D302","v":"CZ.1.11/2.2.00/01.00120"}]
[null,{"$f":"'3.3'!I310","v":0},{"$f":"'3.3'!L310","v":0},0,0,120,{"$f":"'poměry financování'!D303","v":"CZ.1.11/2.2.00/01.00120"}]
[null,{"$f":"'3.3'!I311","v":0},{"$f":"'3.3'!L311","v":0},0,0,120,{"$f":"'poměry financování'!D304","v":"CZ.1.11/2.2.00/01.00120"}]
[null,{"$f":"'3.3'!I312","v":0},{"$f":"'3.3'!L312","v":0},0,0,121,{"$f":"'poměry financování'!D305","v":"CZ.1.11/1.4.00/01.00121"}]
[null,{"$f":"'3.3'!I313","v":0},{"$f":"'3.3'!L313","v":0},0,0,121,{"$f":"'poměry financování'!D306","v":"CZ.1.11/1.4.00/01.00121"}]
[null,{"$f":"'3.3'!I314","v":0},{"$f":"'3.3'!L314","v":0},0,0,122,{"$f":"'poměry financování'!D307","v":"CZ.1.11/1.4.00/01.00122"}]
[null,{"$f":"'3.3'!I315","v":0},{"$f":"'3.3'!L315","v":0},0,0,122,{"$f":"'poměry financování'!D308","v":"CZ.1.11/1.4.00/01.00122"}]
[null,{"$f":"'3.3'!I316","v":0},{"$f":"'3.3'!L316","v":0},0,0,122,{"$f":"'poměry financování'!D309","v":"CZ.1.11/1.4.00/01.00122"}]
[null,{"$f":"'3.3'!I317","v":0},{"$f":"'3.3'!L317","v":0},0,0,123,{"$f":"'poměry financování'!D310","v":"CZ.1.11/3.4.00/01.00123"}]
[null,{"$f":"'3.3'!I318","v":0},{"$f":"'3.3'!L318","v":0},0,0,124,{"$f":"'poměry financování'!D311","v":"CZ.1.11/3.4.00/01.00124"}]
[null,{"$f":"'3.3'!I319","v":0},{"$f":"'3.3'!L319","v":0},0,0,124,{"$f":"'poměry financování'!D312","v":"CZ.1.11/3.4.00/01.00124"}]
[null,{"$f":"'3.3'!I320","v":0},{"$f":"'3.3'!L320","v":0},0,0,124,{"$f":"'poměry financování'!D313","v":"CZ.1.11/3.4.00/01.00124"}]
[null,{"$f":"'3.3'!I321","v":0},{"$f":"'3.3'!L321","v":0},0,0,125,{"$f":"'poměry financování'!D314","v":"CZ.1.11/1.4.00/01.00125"}]
[null,{"$f":"'3.3'!I322","v":0},{"$f":"'3.3'!L322","v":0},0,0,125,{"$f":"'poměry financování'!D315","v":"CZ.1.11/1.4.00/01.00125"}]
[null,{"$f":"'3.3'!I323","v":0},{"$f":"'3.3'!L323","v":0},0,0,125,{"$f":"'poměry financování'!D316","v":"CZ.1.11/1.4.00/01.00125"}]
[null,{"$f":"'3.3'!I324","v":0},{"$f":"'3.3'!L324","v":0},0,0,126,{"$f":"'poměry financování'!D317","v":"CZ.1.11/2.1.00/01.00126"}]
[null,{"$f":"'3.3'!I325","v":0},{"$f":"'3.3'!L325","v":0},0,0,127,{"$f":"'poměry financování'!D318","v":"CZ.1.11/2.2.00/01.00127"}]
[null,{"$f":"'3.3'!I326","v":0},{"$f":"'3.3'!L326","v":0},0,0,128,{"$f":"'poměry financování'!D319","v":"CZ.1.11/2.1.00/01.00128"}]
[null,{"$f":"'3.3'!I327","v":0},{"$f":"'3.3'!L327","v":0},{"$f":"IF(B323=\"Investiční\",C323,0)","v":0},{"$f":"IF(B323=\"Neinvestiční\",C323,0)","v":0},128,{"$f":"'poměry financování'!D320","v":"CZ.1.11/2.1.00/01.00128"}]
[null,{"$f":"'3.3'!I328","v":0},{"$f":"'3.3'!L328","v":0},0,0,129,{"$f":"'poměry financování'!D321","v":"CZ.1.11/2.2.00/01.00129"}]
[null,{"$f":"'3.3'!I329","v":0},{"$f":"'3.3'!L329","v":0},0,0,129,{"$f":"'poměry financování'!D322","v":"CZ.1.11/2.2.00/01.00129"}]
[null,{"$f":"'3.3'!I330","v":0},{"$f":"'3.3'!L330","v":0},0,0,{"$f":"VALUE((MID(G326,20,4)))","v":129},{"$f":"'poměry financování'!D323","v":"CZ.1.11/2.2.00/01.00129"}]
[null,{"$f":"'3.3'!I331","v":0},{"$f":"'3.3'!L331","v":0},0,0,130,{"$f":"'poměry financování'!D324","v":"CZ.1.11/2.1.00/01.00130"}]
[null,{"$f":"'3.3'!I332","v":0},{"$f":"'3.3'!L332","v":0},0,0,130,{"$f":"'poměry financování'!D325","v":"CZ.1.11/2.1.00/01.00130"}]
[null,{"$f":"'3.3'!I333","v":0},{"$f":"'3.3'!L333","v":0},0,0,131,{"$f":"'poměry financování'!D326","v":"CZ.1.11/2.1.00/01.00131"}]
[null,{"$f":"'3.3'!I334","v":0},{"$f":"'3.3'!L334","v":0},0,0,132,{"$f":"'poměry financování'!D327","v":"CZ.1.11/2.1.00/01.00132"}]
[null,{"$f":"'3.3'!I335","v":0},{"$f":"'3.3'!L335","v":0},0,0,132,{"$f":"'poměry financování'!D328","v":"CZ.1.11/2.1.00/01.00132"}]
[null,{"$f":"'3.3'!I336","v":0},{"$f":"'3.3'!L336","v":0},0,0,132,{"$f":"'poměry financování'!D329","v":"CZ.1.11/2.1.00/01.00132"}]
[null,{"$f":"'3.3'!I337","v":0},{"$f":"'3.3'!L337","v":0},0,0,132,{"$f":"'poměry financování'!D330","v":"CZ.1.11/2.1.00/01.00132"}]
[null,{"$f":"'3.3'!I338","v":0},{"$f":"'3.3'!L338","v":0},0,0,132,{"$f":"'poměry financování'!D331","v":"CZ.1.11/2.1.00/01.00132"}]
[null,{"$f":"'3.3'!I339","v":0},{"$f":"'3.3'!L339","v":0},0,0,132,{"$f":"'poměry financování'!D332","v":"CZ.1.11/2.1.00/01.00132"}]
[null,{"$f":"'3.3'!I340","v":0},{"$f":"'3.3'!L340","v":0},0,0,133,{"$f":"'poměry financování'!D333","v":"CZ.1.11/2.1.00/01.00133"}]
[null,{"$f":"'3.3'!I341","v":0},{"$f":"'3.3'!L341","v":0},0,0,133,{"$f":"'poměry financování'!D334","v":"CZ.1.11/2.1.00/01.00133"}]
[null,{"$f":"'3.3'!I342","v":0},{"$f":"'3.3'!L342","v":0},0,0,134,{"$f":"'poměry financování'!D335","v":"CZ.1.11/2.2.00/01.00134"}]
[null,{"$f":"'3.3'!I343","v":0},{"$f":"'3.3'!L343","v":0},0,0,135,{"$f":"'poměry financování'!D336","v":"CZ.1.11/2.1.00/01.00135"}]
[null,{"$f":"'3.3'!I344","v":0},{"$f":"'3.3'!L344","v":0},0,0,135,{"$f":"'poměry financování'!D337","v":"CZ.1.11/2.1.00/01.00135"}]
[null,{"$f":"'3.3'!I345","v":0},{"$f":"'3.3'!L345","v":0},0,0,135,{"$f":"'poměry financování'!D338","v":"CZ.1.11/2.1.00/01.00135"}]
[null,{"$f":"'3.3'!I346","v":0},{"$f":"'3.3'!L346","v":0},0,0,136,{"$f":"'poměry financování'!D339","v":"CZ.1.11/1.4.00/01.00136"}]
[null,{"$f":"'3.3'!I347","v":0},{"$f":"'3.3'!L347","v":0},0,0,136,{"$f":"'poměry financování'!D340","v":"CZ.1.11/1.4.00/01.00136"}]
[null,{"$f":"'3.3'!I348","v":0},{"$f":"'3.3'!L348","v":0},0,0,137,{"$f":"'poměry financování'!D341","v":"CZ.1.11/2.1.00/01.00137"}]
[null,{"$f":"'3.3'!I349","v":0},{"$f":"'3.3'!L349","v":0},0,0,137,{"$f":"'poměry financování'!D342","v":"CZ.1.11/2.1.00/01.00137"}]
[null,{"$f":"'3.3'!I350","v":0},{"$f":"'3.3'!L350","v":0},0,0,137,{"$f":"'poměry financování'!D343","v":"CZ.1.11/2.1.00/01.00137"}]
[null,{"$f":"'3.3'!I351","v":0},{"$f":"'3.3'!L351","v":0},0,0,137,{"$f":"'poměry financování'!D344","v":"CZ.1.11/2.1.00/01.00137"}]
[null,{"$f":"'3.3'!I352","v":0},{"$f":"'3.3'!L352","v":0},0,0,137,{"$f":"'poměry financování'!D345","v":"CZ.1.11/2.1.00/01.00137"}]
[null,{"$f":"'3.3'!I353","v":0},{"$f":"'3.3'!L353","v":0},0,0,137,{"$f":"'poměry financování'!D346","v":"CZ.1.11/2.1.00/01.00137"}]
[null,{"$f":"'3.3'!I354","v":0},{"$f":"'3.3'!L354","v":0},0,0,138,{"$f":"'poměry financování'!D347","v":"CZ.1.11/2.1.00/01.00138"}]
[null,{"$f":"'3.3'!I355","v":0},{"$f":"'3.3'!L355","v":0},0,0,138,{"$f":"'poměry financování'!D348","v":"CZ.1.11/2.1.00/01.00138"}]
[null,{"$f":"'3.3'!I356","v":0},{"$f":"'3.3'!L356","v":0},0,0,138,{"$f":"'poměry financování'!D349","v":"CZ.1.11/2.1.00/01.00138"}]
[null,{"$f":"'3.3'!I357","v":0},{"$f":"'3.3'!L357","v":0},0,0,138,{"$f":"'poměry financování'!D350","v":"CZ.1.11/2.1.00/01.00138"}]
[null,{"$f":"'3.3'!I358","v":0},{"$f":"'3.3'!L358","v":0},0,0,139,{"$f":"'poměry financování'!D351","v":"CZ.1.11/2.1.00/01.00139"}]
[null,{"$f":"'3.3'!I359","v":0},{"$f":"'3.3'!L359","v":0},0,0,139,{"$f":"'poměry financování'!D352","v":"CZ.1.11/2.1.00/01.00139"}]
[null,{"$f":"'3.3'!I360","v":0},{"$f":"'3.3'!L360","v":0},0,0,139,{"$f":"'poměry financování'!D353","v":"CZ.1.11/2.1.00/01.00139"}]
[null,{"$f":"'3.3'!I361","v":0},{"$f":"'3.3'!L361","v":0},0,0,139,{"$f":"'poměry financování'!D354","v":"CZ.1.11/2.1.00/01.00139"}]
[null,{"$f":"'3.3'!I362","v":0},{"$f":"'3.3'!L362","v":0},0,0,140,{"$f":"'poměry financování'!D355","v":"CZ.1.11/2.2.00/01.00140"}]
[null,{"$f":"'3.3'!I363","v":0},{"$f":"'3.3'!L363","v":0},0,0,140,{"$f":"'poměry financování'!D356","v":"CZ.1.11/2.2.00/01.00140"}]
[null,{"$f":"'3.3'!I364","v":0},{"$f":"'3.3'!L364","v":0},0,0,140,{"$f":"'poměry financování'!D357","v":"CZ.1.11/2.2.00/01.00140"}]
[null,{"$f":"'3.3'!I365","v":0},{"$f":"'3.3'!L365","v":0},0,0,140,{"$f":"'poměry financování'!D358","v":"CZ.1.11/2.2.00/01.00140"}]
[null,{"$f":"'3.3'!I366","v":0},{"$f":"'3.3'!L366","v":0},0,0,141,{"$f":"'poměry financování'!D359","v":"CZ.1.11/2.2.00/01.00141"}]
[null,{"$f":"'3.3'!I367","v":0},{"$f":"'3.3'!L367","v":0},0,0,141,{"$f":"'poměry financování'!D360","v":"CZ.1.11/2.2.00/01.00141"}]
[null,{"$f":"'3.3'!I368","v":0},{"$f":"'3.3'!L368","v":0},0,0,141,{"$f":"'poměry financování'!D361","v":"CZ.1.11/2.2.00/01.00141"}]
[null,{"$f":"'3.3'!I369","v":0},{"$f":"'3.3'!L369","v":0},0,0,141,{"$f":"'poměry financování'!D362","v":"CZ.1.11/2.2.00/01.00141"}]
[null,{"$f":"'3.3'!I370","v":0},{"$f":"'3.3'!L370","v":0},0,0,141,{"$f":"'poměry financování'!D363","v":"CZ.1.11/2.2.00/01.00141"}]
[null,{"$f":"'3.3'!I371","v":0},{"$f":"'3.3'!L371","v":0},0,0,141,{"$f":"'poměry financování'!D364","v":"CZ.1.11/2.2.00/01.00141"}]
[null,{"$f":"'3.3'!I372","v":0},{"$f":"'3.3'!L372","v":0},0,0,142,{"$f":"'poměry financování'!D365","v":"CZ.1.11/2.1.00/01.00142"}]
[null,{"$f":"'3.3'!I373","v":0},{"$f":"'3.3'!L373","v":0},0,0,142,{"$f":"'poměry financování'!D366","v":"CZ.1.11/2.1.00/01.00142"}]
[null,{"$f":"'3.3'!I374","v":0},{"$f":"'3.3'!L374","v":0},0,0,142,{"$f":"'poměry financování'!D367","v":"CZ.1.11/2.1.00/01.00142"}]
[null,{"$f":"'3.3'!I375","v":0},{"$f":"'3.3'!L375","v":0},0,0,143,{"$f":"'poměry financování'!D368","v":"CZ.1.11/3.4.00/01.00143"}]
[null,{"$f":"'3.3'!I376","v":0},{"$f":"'3.3'!L376","v":0},0,0,143,{"$f":"'poměry financování'!D369","v":"CZ.1.11/3.4.00/01.00143"}]
[null,{"$f":"'3.3'!I377","v":0},{"$f":"'3.3'!L377","v":0},0,0,144,{"$f":"'poměry financování'!D370","v":"CZ.1.11/2.2.00/01.00144"}]
[null,{"$f":"'3.3'!I378","v":0},{"$f":"'3.3'!L378","v":0},0,0,144,{"$f":"'poměry financování'!D371","v":"CZ.1.11/2.2.00/01.00144"}]
[null,{"$f":"'3.3'!I379","v":0},{"$f":"'3.3'!L379","v":0},0,0,144,{"$f":"'poměry financování'!D372","v":"CZ.1.11/2.2.00/01.00144"}]
[null,{"$f":"'3.3'!I380","v":0},{"$f":"'3.3'!L380","v":0},0,0,145,{"$f":"'poměry financování'!D373","v":"CZ.1.11/2.1.00/01.00145"}]
[null,{"$f":"'3.3'!I381","v":0},{"$f":"'3.3'!L381","v":0},0,0,145,{"$f":"'poměry financování'!D374","v":"CZ.1.11/2.1.00/01.00145"}]
[null,{"$f":"'3.3'!I382","v":0},{"$f":"'3.3'!L382","v":0},0,0,145,{"$f":"'poměry financování'!D375","v":"CZ.1.11/2.1.00/01.00145"}]
[null,{"$f":"'3.3'!I383","v":0},{"$f":"'3.3'!L383","v":0},0,0,145,{"$f":"'poměry financování'!D376","v":"CZ.1.11/2.1.00/01.00145"}]
[null,{"$f":"'3.3'!I384","v":0},{"$f":"'3.3'!L384","v":0},0,0,145,{"$f":"'poměry financování'!D377","v":"CZ.1.11/2.1.00/01.00145"}]
[null,{"$f":"'3.3'!I385","v":0},{"$f":"'3.3'!L385","v":0},0,0,145,{"$f":"'poměry financování'!D378","v":"CZ.1.11/2.1.00/01.00145"}]
[null,{"$f":"'3.3'!I386","v":0},{"$f":"'3.3'!L386","v":0},0,0,145,{"$f":"'poměry financování'!D379","v":"CZ.1.11/2.1.00/01.00145"}]
[null,{"$f":"'3.3'!I387","v":0},{"$f":"'3.3'!L387","v":0},0,0,145,{"$f":"'poměry financování'!D380","v":"CZ.1.11/2.1.00/01.00145"}]
[null,{"$f":"'3.3'!I388","v":0},{"$f":"'3.3'!L388","v":0},0,0,146,{"$f":"'poměry financování'!D381","v":"CZ.1.11/2.2.00/01.00146"}]
[null,{"$f":"'3.3'!I389","v":0},{"$f":"'3.3'!L389","v":0},0,0,147,{"$f":"'poměry financování'!D382","v":"CZ.1.11/2.2.00/01.00147"}]
[null,{"$f":"'3.3'!I390","v":0},{"$f":"'3.3'!L390","v":0},0,0,148,{"$f":"'poměry financování'!D383","v":"CZ.1.11/2.1.00/01.00148"}]
[null,{"$f":"'3.3'!I391","v":0},{"$f":"'3.3'!L391","v":0},{"$f":"IF(B387=\"Investiční\",C387,0)","v":0},{"$f":"IF(B387=\"Neinvestiční\",C387,0)","v":0},148,{"$f":"'poměry financování'!D384","v":"CZ.1.11/2.1.00/01.00148"}]
[null,{"$f":"'3.3'!I392","v":0},{"$f":"'3.3'!L392","v":0},0,0,148,{"$f":"'poměry financování'!D385","v":"CZ.1.11/2.1.00/01.00148"}]
[null,{"$f":"'3.3'!I393","v":0},{"$f":"'3.3'!L393","v":0},0,0,148,{"$f":"'poměry financování'!D386","v":"CZ.1.11/2.1.00/01.00148"}]
[null,{"$f":"'3.3'!I394","v":0},{"$f":"'3.3'!L394","v":0},0,0,{"$f":"VALUE((MID(G390,20,4)))","v":149},{"$f":"'poměry financování'!D387","v":"CZ.1.11/2.1.00/01.00149"}]
[null,{"$f":"'3.3'!I395","v":0},{"$f":"'3.3'!L395","v":0},0,0,150,{"$f":"'poměry financování'!D388","v":"CZ.1.11/1.2.00/01.00150"}]
[null,{"$f":"'3.3'!I396","v":0},{"$f":"'3.3'!L396","v":0},0,0,150,{"$f":"'poměry financování'!D389","v":"CZ.1.11/1.2.00/01.00150"}]
[null,{"$f":"'3.3'!I397","v":0},{"$f":"'3.3'!L397","v":0},0,0,151,{"$f":"'poměry financování'!D390","v":"CZ.1.11/2.1.00/01.00151"}]
[null,{"$f":"'3.3'!I398","v":0},{"$f":"'3.3'!L398","v":0},0,0,151,{"$f":"'poměry financování'!D391","v":"CZ.1.11/2.1.00/01.00151"}]
[null,{"$f":"'3.3'!I399","v":0},{"$f":"'3.3'!L399","v":0},0,0,151,{"$f":"'poměry financování'!D392","v":"CZ.1.11/2.1.00/01.00151"}]
[null,{"$f":"'3.3'!I400","v":0},{"$f":"'3.3'!L400","v":0},0,0,151,{"$f":"'poměry financování'!D393","v":"CZ.1.11/2.1.00/01.00151"}]
[null,{"$f":"'3.3'!I401","v":0},{"$f":"'3.3'!L401","v":0},0,0,151,{"$f":"'poměry financování'!D394","v":"CZ.1.11/2.1.00/01.00151"}]
[null,{"$f":"'3.3'!I402","v":0},{"$f":"'3.3'!L402","v":0},0,0,152,{"$f":"'poměry financování'!D395","v":"CZ.1.11/2.2.00/01.00152"}]
[null,{"$f":"'3.3'!I403","v":0},{"$f":"'3.3'!L403","v":0},0,0,152,{"$f":"'poměry financování'!D396","v":"CZ.1.11/2.2.00/01.00152"}]
[null,{"$f":"'3.3'!I404","v":0},{"$f":"'3.3'!L404","v":0},0,0,152,{"$f":"'poměry financování'!D397","v":"CZ.1.11/2.2.00/01.00152"}]
[null,{"$f":"'3.3'!I405","v":0},{"$f":"'3.3'!L405","v":0},0,0,152,{"$f":"'poměry financování'!D398","v":"CZ.1.11/2.2.00/01.00152"}]
[null,{"$f":"'3.3'!I406","v":0},{"$f":"'3.3'!L406","v":0},0,0,153,{"$f":"'poměry financování'!D399","v":"CZ.1.11/2.2.00/01.00153"}]
[null,{"$f":"'3.3'!I407","v":0},{"$f":"'3.3'!L407","v":0},0,0,153,{"$f":"'poměry financování'!D400","v":"CZ.1.11/2.2.00/01.00153"}]
[null,{"$f":"'3.3'!I408","v":0},{"$f":"'3.3'!L408","v":0},0,0,154,{"$f":"'poměry financování'!D401","v":"CZ.1.11/2.1.00/01.00154"}]
[null,{"$f":"'3.3'!I409","v":0},{"$f":"'3.3'!L409","v":0},0,0,154,{"$f":"'poměry financování'!D402","v":"CZ.1.11/2.1.00/01.00154"}]
[null,{"$f":"'3.3'!I410","v":0},{"$f":"'3.3'!L410","v":0},0,0,154,{"$f":"'poměry financování'!D403","v":"CZ.1.11/2.1.00/01.00154"}]
[null,{"$f":"'3.3'!I411","v":0},{"$f":"'3.3'!L411","v":0},0,0,154,{"$f":"'poměry financování'!D404","v":"CZ.1.11/2.1.00/01.00154"}]
[null,{"$f":"'3.3'!I412","v":0},{"$f":"'3.3'!L412","v":0},0,0,154,{"$f":"'poměry financování'!D405","v":"CZ.1.11/2.1.00/01.00154"}]
[null,{"$f":"'3.3'!I413","v":0},{"$f":"'3.3'!L413","v":0},0,0,155,{"$f":"'poměry financování'!D406","v":"CZ.1.11/2.1.00/01.00155"}]
[null,{"$f":"'3.3'!I414","v":0},{"$f":"'3.3'!L414","v":0},0,0,155,{"$f":"'poměry financování'!D407","v":"CZ.1.11/2.1.00/01.00155"}]
[null,{"$f":"'3.3'!I415","v":0},{"$f":"'3.3'!L415","v":0},0,0,155,{"$f":"'poměry financování'!D408","v":"CZ.1.11/2.1.00/01.00155"}]
[null,{"$f":"'3.3'!I416","v":0},{"$f":"'3.3'!L416","v":0},0,0,155,{"$f":"'poměry financování'!D409","v":"CZ.1.11/2.1.00/01.00155"}]
[null,{"$f":"'3.3'!I417","v":0},{"$f":"'3.3'!L417","v":0},0,0,155,{"$f":"'poměry financování'!D410","v":"CZ.1.11/2.1.00/01.00155"}]
[null,{"$f":"'3.3'!I418","v":0},{"$f":"'3.3'!L418","v":0},0,0,155,{"$f":"'poměry financování'!D411","v":"CZ.1.11/2.1.00/01.00155"}]
[null,{"$f":"'3.3'!I419","v":0},{"$f":"'3.3'!L419","v":0},0,0,155,{"$f":"'poměry financování'!D412","v":"CZ.1.11/2.1.00/01.00155"}]
[null,{"$f":"'3.3'!I420","v":0},{"$f":"'3.3'!L420","v":0},0,0,156,{"$f":"'poměry financování'!D413","v":"CZ.1.11/2.2.00/01.00156"}]
[null,{"$f":"'3.3'!I421","v":0},{"$f":"'3.3'!L421","v":0},0,0,156,{"$f":"'poměry financování'!D414","v":"CZ.1.11/2.2.00/01.00156"}]
[null,{"$f":"'3.3'!I422","v":0},{"$f":"'3.3'!L422","v":0},0,0,156,{"$f":"'poměry financování'!D415","v":"CZ.1.11/2.2.00/01.00156"}]
[null,{"$f":"'3.3'!I423","v":0},{"$f":"'3.3'!L423","v":0},0,0,157,{"$f":"'poměry financování'!D416","v":"CZ.1.11/2.1.00/01.00157"}]
[null,{"$f":"'3.3'!I424","v":0},{"$f":"'3.3'!L424","v":0},0,0,157,{"$f":"'poměry financování'!D417","v":"CZ.1.11/2.1.00/01.00157"}]
[null,{"$f":"'3.3'!I425","v":0},{"$f":"'3.3'!L425","v":0},0,0,157,{"$f":"'poměry financování'!D418","v":"CZ.1.11/2.1.00/01.00157"}]
[null,{"$f":"'3.3'!I426","v":0},{"$f":"'3.3'!L426","v":0},0,0,157,{"$f":"'poměry financování'!D419","v":"CZ.1.11/2.1.00/01.00157"}]
[null,{"$f":"'3.3'!I427","v":0},{"$f":"'3.3'!L427","v":0},0,0,158,{"$f":"'poměry financování'!D420","v":"CZ.1.11/2.1.00/01.00158"}]
[null,{"$f":"'3.3'!I428","v":0},{"$f":"'3.3'!L428","v":0},0,0,158,{"$f":"'poměry financování'!D421","v":"CZ.1.11/2.1.00/01.00158"}]
[null,{"$f":"'3.3'!I429","v":0},{"$f":"'3.3'!L429","v":0},0,0,158,{"$f":"'poměry financování'!D422","v":"CZ.1.11/2.1.00/01.00158"}]
[null,{"$f":"'3.3'!I430","v":0},{"$f":"'3.3'!L430","v":0},0,0,158,{"$f":"'poměry financování'!D423","v":"CZ.1.11/2.1.00/01.00158"}]
[null,{"$f":"'3.3'!I431","v":0},{"$f":"'3.3'!L431","v":0},0,0,158,{"$f":"'poměry financování'!D424","v":"CZ.1.11/2.1.00/01.00158"}]
[null,{"$f":"'3.3'!I432","v":0},{"$f":"'3.3'!L432","v":0},0,0,158,{"$f":"'poměry financování'!D425","v":"CZ.1.11/2.1.00/01.00158"}]
[null,{"$f":"'3.3'!I433","v":0},{"$f":"'3.3'!L433","v":0},0,0,158,{"$f":"'poměry financování'!D426","v":"CZ.1.11/2.1.00/01.00158"}]
[null,{"$f":"'3.3'!I434","v":0},{"$f":"'3.3'!L434","v":0},0,0,159,{"$f":"'poměry financování'!D427","v":"CZ.1.11/2.2.00/01.00159"}]
[null,{"$f":"'3.3'!I435","v":0},{"$f":"'3.3'!L435","v":0},0,0,159,{"$f":"'poměry financování'!D428","v":"CZ.1.11/2.2.00/01.00159"}]
[null,{"$f":"'3.3'!I436","v":0},{"$f":"'3.3'!L436","v":0},0,0,160,{"$f":"'poměry financování'!D429","v":"CZ.1.11/2.1.00/01.00160"}]
[null,{"$f":"'3.3'!I437","v":0},{"$f":"'3.3'!L437","v":0},0,0,160,{"$f":"'poměry financování'!D430","v":"CZ.1.11/2.1.00/01.00160"}]
[null,{"$f":"'3.3'!I438","v":0},{"$f":"'3.3'!L438","v":0},0,0,161,{"$f":"'poměry financování'!D431","v":"CZ.1.11/2.2.00/01.00161"}]
[null,{"$f":"'3.3'!I439","v":0},{"$f":"'3.3'!L439","v":0},0,0,161,{"$f":"'poměry financování'!D432","v":"CZ.1.11/2.2.00/01.00161"}]
[null,{"$f":"'3.3'!I440","v":0},{"$f":"'3.3'!L440","v":0},0,0,161,{"$f":"'poměry financování'!D433","v":"CZ.1.11/2.2.00/01.00161"}]
[null,{"$f":"'3.3'!I441","v":0},{"$f":"'3.3'!L441","v":0},0,0,161,{"$f":"'poměry financování'!D434","v":"CZ.1.11/2.2.00/01.00161"}]
[null,{"$f":"'3.3'!I442","v":0},{"$f":"'3.3'!L442","v":0},0,0,162,{"$f":"'poměry financování'!D435","v":"CZ.1.11/2.2.00/01.00162"}]
[null,{"$f":"'3.3'!I443","v":0},{"$f":"'3.3'!L443","v":0},0,0,163,{"$f":"'poměry financování'!D436","v":"CZ.1.11/2.1.00/01.00163"}]
[null,{"$f":"'3.3'!I444","v":0},{"$f":"'3.3'!L444","v":0},0,0,163,{"$f":"'poměry financování'!D437","v":"CZ.1.11/2.1.00/01.00163"}]
[null,{"$f":"'3.3'!I445","v":0},{"$f":"'3.3'!L445","v":0},0,0,163,{"$f":"'poměry financování'!D438","v":"CZ.1.11/2.1.00/01.00163"}]
[null,{"$f":"'3.3'!I446","v":0},{"$f":"'3.3'!L446","v":0},0,0,163,{"$f":"'poměry financování'!D439","v":"CZ.1.11/2.1.00/01.00163"}]
[null,{"$f":"'3.3'!I447","v":0},{"$f":"'3.3'!L447","v":0},0,0,164,{"$f":"'poměry financování'!D440","v":"CZ.1.11/2.2.00/01.00164"}]
[null,{"$f":"'3.3'!I448","v":0},{"$f":"'3.3'!L448","v":0},0,0,165,{"$f":"'poměry financování'!D441","v":"CZ.1.11/2.1.00/01.00165"}]
[null,{"$f":"'3.3'!I449","v":0},{"$f":"'3.3'!L449","v":0},0,0,166,{"$f":"'poměry financování'!D442","v":"CZ.1.11/2.1.00/01.00166"}]
[null,{"$f":"'3.3'!I450","v":0},{"$f":"'3.3'!L450","v":0},0,0,166,{"$f":"'poměry financování'!D443","v":"CZ.1.11/2.1.00/01.00166"}]
[null,{"$f":"'3.3'!I451","v":0},{"$f":"'3.3'!L451","v":0},0,0,166,{"$f":"'poměry financování'!D444","v":"CZ.1.11/2.1.00/01.00166"}]
[null,{"$f":"'3.3'!I452","v":0},{"$f":"'3.3'!L452","v":0},0,0,166,{"$f":"'poměry financování'!D445","v":"CZ.1.11/2.1.00/01.00166"}]
[null,{"$f":"'3.3'!I453","v":0},{"$f":"'3.3'!L453","v":0},0,0,167,{"$f":"'poměry financování'!D446","v":"CZ.1.11/2.2.00/01.00167"}]
[null,{"$f":"'3.3'!I454","v":0},{"$f":"'3.3'!L454","v":0},0,0,168,{"$f":"'poměry financování'!D447","v":"CZ.1.11/2.2.00/01.00168"}]
[null,{"$f":"'3.3'!I455","v":0},{"$f":"'3.3'!L455","v":0},{"$f":"IF(B451=\"Investiční\",C451,0)","v":0},{"$f":"IF(B451=\"Neinvestiční\",C451,0)","v":0},168,{"$f":"'poměry financování'!D448","v":"CZ.1.11/2.2.00/01.00168"}]
[null,{"$f":"'3.3'!I456","v":0},{"$f":"'3.3'!L456","v":0},0,0,168,{"$f":"'poměry financování'!D449","v":"CZ.1.11/2.2.00/01.00168"}]
[null,{"$f":"'3.3'!I457","v":0},{"$f":"'3.3'!L457","v":0},0,0,168,{"$f":"'poměry financování'!D450","v":"CZ.1.11/2.2.00/01.00168"}]
[null,{"$f":"'3.3'!I458","v":0},{"$f":"'3.3'!L458","v":0},0,0,{"$f":"VALUE((MID(G454,20,4)))","v":168},{"$f":"'poměry financování'!D451","v":"CZ.1.11/2.2.00/01.00168"}]
[null,{"$f":"'3.3'!I459","v":0},{"$f":"'3.3'!L459","v":0},0,0,168,{"$f":"'poměry financování'!D452","v":"CZ.1.11/2.2.00/01.00168"}]
[null,{"$f":"'3.3'!I460","v":0},{"$f":"'3.3'!L460","v":0},0,0,168,{"$f":"'poměry financování'!D453","v":"CZ.1.11/2.2.00/01.00168"}]
[null,{"$f":"'3.3'!I461","v":0},{"$f":"'3.3'!L461","v":0},0,0,169,{"$f":"'poměry financování'!D454","v":"CZ.1.11/2.1.00/01.00169"}]
[null,{"$f":"'3.3'!I462","v":0},{"$f":"'3.3'!L462","v":0},0,0,170,{"$f":"'poměry financování'!D455","v":"CZ.1.11/2.1.00/01.00170"}]
[null,{"$f":"'3.3'!I463","v":0},{"$f":"'3.3'!L463","v":0},0,0,170,{"$f":"'poměry financování'!D456","v":"CZ.1.11/2.1.00/01.00170"}]
[null,{"$f":"'3.3'!I464","v":0},{"$f":"'3.3'!L464","v":0},0,0,170,{"$f":"'poměry financování'!D457","v":"CZ.1.11/2.1.00/01.00170"}]
[null,{"$f":"'3.3'!I465","v":0},{"$f":"'3.3'!L465","v":0},0,0,170,{"$f":"'poměry financování'!D458","v":"CZ.1.11/2.1.00/01.00170"}]
[null,{"$f":"'3.3'!I466","v":0},{"$f":"'3.3'!L466","v":0},0,0,170,{"$f":"'poměry financování'!D459","v":"CZ.1.11/2.1.00/01.00170"}]
[null,{"$f":"'3.3'!I467","v":0},{"$f":"'3.3'!L467","v":0},0,0,170,{"$f":"'poměry financování'!D460","v":"CZ.1.11/2.1.00/01.00170"}]
[null,{"$f":"'3.3'!I468","v":0},{"$f":"'3.3'!L468","v":0},0,0,170,{"$f":"'poměry financování'!D461","v":"CZ.1.11/2.1.00/01.00170"}]
[null,{"$f":"'3.3'!I469","v":0},{"$f":"'3.3'!L469","v":0},0,0,171,{"$f":"'poměry financování'!D462","v":"CZ.1.11/2.2.00/01.00171"}]
[null,{"$f":"'3.3'!I470","v":0},{"$f":"'3.3'!L470","v":0},0,0,171,{"$f":"'poměry financování'!D463","v":"CZ.1.11/2.2.00/01.00171"}]
[null,{"$f":"'3.3'!I471","v":0},{"$f":"'3.3'!L471","v":0},0,0,171,{"$f":"'poměry financování'!D464","v":"CZ.1.11/2.2.00/01.00171"}]
[null,{"$f":"'3.3'!I472","v":0},{"$f":"'3.3'!L472","v":0},0,0,171,{"$f":"'poměry financování'!D465","v":"CZ.1.11/2.2.00/01.00171"}]
[null,{"$f":"'3.3'!I473","v":0},{"$f":"'3.3'!L473","v":0},0,0,172,{"$f":"'poměry financování'!D466","v":"CZ.1.11/2.1.00/01.00172"}]
[null,{"$f":"'3.3'!I474","v":0},{"$f":"'3.3'!L474","v":0},0,0,173,{"$f":"'poměry financování'!D467","v":"CZ.1.11/2.1.00/01.00173"}]
[null,{"$f":"'3.3'!I475","v":0},{"$f":"'3.3'!L475","v":0},0,0,174,{"$f":"'poměry financování'!D468","v":"CZ.1.11/2.1.00/01.00174"}]
[null,{"$f":"'3.3'!I476","v":0},{"$f":"'3.3'!L476","v":0},0,0,175,{"$f":"'poměry financování'!D469","v":"CZ.1.11/2.2.00/01.00175"}]
[null,{"$f":"'3.3'!I477","v":0},{"$f":"'3.3'!L477","v":0},0,0,176,{"$f":"'poměry financování'!D470","v":"CZ.1.11/2.1.00/01.00176"}]
[null,{"$f":"'3.3'!I478","v":0},{"$f":"'3.3'!L478","v":0},0,0,176,{"$f":"'poměry financování'!D471","v":"CZ.1.11/2.1.00/01.00176"}]
[null,{"$f":"'3.3'!I479","v":0},{"$f":"'3.3'!L479","v":0},0,0,176,{"$f":"'poměry financování'!D472","v":"CZ.1.11/2.1.00/01.00176"}]
[null,{"$f":"'3.3'!I480","v":0},{"$f":"'3.3'!L480","v":0},0,0,176,{"$f":"'poměry financování'!D473","v":"CZ.1.11/2.1.00/01.00176"}]
[null,{"$f":"'3.3'!I481","v":0},{"$f":"'3.3'!L481","v":0},0,0,177,{"$f":"'poměry financování'!D474","v":"CZ.1.11/2.2.00/01.00177"}]
[null,{"$f":"'3.3'!I482","v":0},{"$f":"'3.3'!L482","v":0},0,0,177,{"$f":"'poměry financování'!D475","v":"CZ.1.11/2.2.00/01.00177"}]
[null,{"$f":"'3.3'!I483","v":0},{"$f":"'3.3'!L483","v":0},0,0,177,{"$f":"'poměry financování'!D476","v":"CZ.1.11/2.2.00/01.00177"}]
[null,{"$f":"'3.3'!I484","v":0},{"$f":"'3.3'!L484","v":0},0,0,178,{"$f":"'poměry financování'!D477","v":"CZ.1.11/3.4.00/01.00178"}]
[null,{"$f":"'3.3'!I485","v":0},{"$f":"'3.3'!L485","v":0},0,0,179,{"$f":"'poměry financování'!D478","v":"CZ.1.11/2.2.00/01.00179"}]
[null,{"$f":"'3.3'!I486","v":0},{"$f":"'3.3'!L486","v":0},0,0,179,{"$f":"'poměry financování'!D479","v":"CZ.1.11/2.2.00/01.00179"}]
[null,{"$f":"'3.3'!I487","v":0},{"$f":"'3.3'!L487","v":0},0,0,179,{"$f":"'poměry financování'!D480","v":"CZ.1.11/2.2.00/01.00179"}]
[null,{"$f":"'3.3'!I488","v":0},{"$f":"'3.3'!L488","v":0},0,0,180,{"$f":"'poměry financování'!D481","v":"CZ.1.11/2.1.00/01.00180"}]
[null,{"$f":"'3.3'!I489","v":0},{"$f":"'3.3'!L489","v":0},0,0,181,{"$f":"'poměry financování'!D482","v":"CZ.1.11/2.1.00/01.00181"}]
[null,{"$f":"'3.3'!I490","v":0},{"$f":"'3.3'!L490","v":0},0,0,181,{"$f":"'poměry financování'!D483","v":"CZ.1.11/2.1.00/01.00181"}]
[null,{"$f":"'3.3'!I491","v":0},{"$f":"'3.3'!L491","v":0},0,0,181,{"$f":"'poměry financování'!D484","v":"CZ.1.11/2.1.00/01.00181"}]
[null,{"$f":"'3.3'!I492","v":0},{"$f":"'3.3'!L492","v":0},0,0,181,{"$f":"'poměry financování'!D485","v":"CZ.1.11/2.1.00/01.00181"}]
[null,{"$f":"'3.3'!I493","v":0},{"$f":"'3.3'!L493","v":0},0,0,182,{"$f":"'poměry financování'!D486","v":"CZ.1.11/2.1.00/01.00182"}]
[null,{"$f":"'3.3'!I494","v":0},{"$f":"'3.3'!L494","v":0},0,0,183,{"$f":"'poměry financování'!D487","v":"CZ.1.11/2.2.00/01.00183"}]
[null,{"$f":"'3.3'!I495","v":0},{"$f":"'3.3'!L495","v":0},0,0,184,{"$f":"'poměry financování'!D488","v":"CZ.1.11/2.1.00/01.00184"}]
[null,{"$f":"'3.3'!I496","v":0},{"$f":"'3.3'!L496","v":0},0,0,184,{"$f":"'poměry financování'!D489","v":"CZ.1.11/2.1.00/01.00184"}]
[null,{"$f":"'3.3'!I497","v":0},{"$f":"'3.3'!L497","v":0},0,0,184,{"$f":"'poměry financování'!D490","v":"CZ.1.11/2.1.00/01.00184"}]
[null,{"$f":"'3.3'!I498","v":0},{"$f":"'3.3'!L498","v":0},0,0,184,{"$f":"'poměry financování'!D491","v":"CZ.1.11/2.1.00/01.00184"}]
[null,{"$f":"'3.3'!I499","v":0},{"$f":"'3.3'!L499","v":0},0,0,184,{"$f":"'poměry financování'!D492","v":"CZ.1.11/2.1.00/01.00184"}]
[null,{"$f":"'3.3'!I500","v":0},{"$f":"'3.3'!L500","v":0},0,0,185,{"$f":"'poměry financování'!D493","v":"CZ.1.11/1.4.00/01.00185"}]
[null,{"$f":"'3.3'!I501","v":0},{"$f":"'3.3'!L501","v":0},0,0,186,{"$f":"'poměry financování'!D494","v":"CZ.1.11/3.4.00/01.00186"}]
[null,{"$f":"'3.3'!I502","v":0},{"$f":"'3.3'!L502","v":0},0,0,187,{"$f":"'poměry financování'!D495","v":"CZ.1.11/2.2.00/01.00187"}]
[null,{"$f":"'3.3'!I503","v":0},{"$f":"'3.3'!L503","v":0},0,0,187,{"$f":"'poměry financování'!D496","v":"CZ.1.11/2.2.00/01.00187"}]
[null,{"$f":"'3.3'!I504","v":0},{"$f":"'3.3'!L504","v":0},0,0,188,{"$f":"'poměry financování'!D497","v":"CZ.1.11/2.2.00/01.00188"}]
[null,{"$f":"'3.3'!I505","v":0},{"$f":"'3.3'!L505","v":0},0,0,189,{"$f":"'poměry financování'!D498","v":"CZ.1.11/2.2.00/01.00189"}]
[null,{"$f":"'3.3'!I506","v":0},{"$f":"'3.3'!L506","v":0},0,0,189,{"$f":"'poměry financování'!D499","v":"CZ.1.11/2.2.00/01.00189"}]
[null,{"$f":"'3.3'!I507","v":0},{"$f":"'3.3'!L507","v":0},0,0,189,{"$f":"'poměry financování'!D500","v":"CZ.1.11/2.2.00/01.00189"}]
[null,{"$f":"'3.3'!I508","v":0},{"$f":"'3.3'!L508","v":0},0,0,189,{"$f":"'poměry financování'!D501","v":"CZ.1.11/2.2.00/01.00189"}]
[null,{"$f":"'3.3'!I509","v":0},{"$f":"'3.3'!L509","v":0},0,0,189,{"$f":"'poměry financování'!D502","v":"CZ.1.11/2.2.00/01.00189"}]
[null,{"$f":"'3.3'!I510","v":0},{"$f":"'3.3'!L510","v":0},0,0,189,{"$f":"'poměry financování'!D503","v":"CZ.1.11/2.2.00/01.00189"}]
[null,{"$f":"'3.3'!I511","v":0},{"$f":"'3.3'!L511","v":0},0,0,189,{"$f":"'poměry financování'!D504","v":"CZ.1.11/2.2.00/01.00189"}]
[null,{"$f":"'3.3'!I512","v":0},{"$f":"'3.3'!L512","v":0},0,0,190,{"$f":"'poměry financování'!D505","v":"CZ.1.11/2.1.00/01.00190"}]
[null,{"$f":"'3.3'!I513","v":0},{"$f":"'3.3'!L513","v":0},0,0,190,{"$f":"'poměry financování'!D506","v":"CZ.1.11/2.1.00/01.00190"}]
[null,{"$f":"'3.3'!I514","v":0},{"$f":"'3.3'!L514","v":0},0,0,190,{"$f":"'poměry financování'!D507","v":"CZ.1.11/2.1.00/01.00190"}]
[null,{"$f":"'3.3'!I515","v":0},{"$f":"'3.3'!L515","v":0},0,0,190,{"$f":"'poměry financování'!D508","v":"CZ.1.11/2.1.00/01.00190"}]
[null,{"$f":"'3.3'!I516","v":0},{"$f":"'3.3'!L516","v":0},0,0,190,{"$f":"'poměry financování'!D509","v":"CZ.1.11/2.1.00/01.00190"}]
[null,{"$f":"'3.3'!I517","v":0},{"$f":"'3.3'!L517","v":0},0,0,190,{"$f":"'poměry financování'!D510","v":"CZ.1.11/2.1.00/01.00190"}]
[null,{"$f":"'3.3'!I518","v":0},{"$f":"'3.3'!L518","v":0},0,0,191,{"$f":"'poměry financování'!D511","v":"CZ.1.11/2.2.00/01.00191"}]
[null,{"$f":"'3.3'!I519","v":0},{"$f":"'3.3'!L519","v":0},{"$f":"IF(B515=\"Investiční\",C515,0)","v":0},{"$f":"IF(B515=\"Neinvestiční\",C515,0)","v":0},191,{"$f":"'poměry financování'!D512","v":"CZ.1.11/2.2.00/01.00191"}]
[null,{"$f":"'3.3'!I520","v":0},{"$f":"'3.3'!L520","v":0},0,0,191,{"$f":"'poměry financování'!D513","v":"CZ.1.11/2.2.00/01.00191"}]
[null,{"$f":"'3.3'!I521","v":0},{"$f":"'3.3'!L521","v":0},0,0,191,{"$f":"'poměry financování'!D514","v":"CZ.1.11/2.2.00/01.00191"}]
[null,{"$f":"'3.3'!I522","v":0},{"$f":"'3.3'!L522","v":0},0,0,{"$f":"VALUE((MID(G518,20,4)))","v":192},{"$f":"'poměry financování'!D515","v":"CZ.1.11/2.2.00/01.00192"}]
[null,{"$f":"'3.3'!I523","v":0},{"$f":"'3.3'!L523","v":0},0,0,192,{"$f":"'poměry financování'!D516","v":"CZ.1.11/2.2.00/01.00192"}]
[null,{"$f":"'3.3'!I524","v":0},{"$f":"'3.3'!L524","v":0},0,0,192,{"$f":"'poměry financování'!D517","v":"CZ.1.11/2.2.00/01.00192"}]
[null,{"$f":"'3.3'!I525","v":0},{"$f":"'3.3'!L525","v":0},0,0,193,{"$f":"'poměry financování'!D518","v":"CZ.1.11/2.2.00/01.00193"}]
[null,{"$f":"'3.3'!I526","v":0},{"$f":"'3.3'!L526","v":0},0,0,193,{"$f":"'poměry financování'!D519","v":"CZ.1.11/2.2.00/01.00193"}]
[null,{"$f":"'3.3'!I527","v":0},{"$f":"'3.3'!L527","v":0},0,0,193,{"$f":"'poměry financování'!D520","v":"CZ.1.11/2.2.00/01.00193"}]
[null,{"$f":"'3.3'!I528","v":0},{"$f":"'3.3'!L528","v":0},0,0,194,{"$f":"'poměry financování'!D521","v":"CZ.1.11/2.2.00/01.00194"}]
[null,{"$f":"'3.3'!I529","v":0},{"$f":"'3.3'!L529","v":0},0,0,195,{"$f":"'poměry financování'!D522","v":"CZ.1.11/2.2.00/01.00195"}]
[null,{"$f":"'3.3'!I530","v":0},{"$f":"'3.3'!L530","v":0},0,0,195,{"$f":"'poměry financování'!D523","v":"CZ.1.11/2.2.00/01.00195"}]
[null,{"$f":"'3.3'!I531","v":0},{"$f":"'3.3'!L531","v":0},0,0,195,{"$f":"'poměry financování'!D524","v":"CZ.1.11/2.2.00/01.00195"}]
[null,{"$f":"'3.3'!I532","v":0},{"$f":"'3.3'!L532","v":0},0,0,196,{"$f":"'poměry financování'!D525","v":"CZ.1.11/2.1.00/01.00196"}]
[null,{"$f":"'3.3'!I533","v":0},{"$f":"'3.3'!L533","v":0},0,0,196,{"$f":"'poměry financování'!D526","v":"CZ.1.11/2.1.00/01.00196"}]
[null,{"$f":"'3.3'!I534","v":0},{"$f":"'3.3'!L534","v":0},0,0,196,{"$f":"'poměry financování'!D527","v":"CZ.1.11/2.1.00/01.00196"}]
[null,{"$f":"'3.3'!I535","v":0},{"$f":"'3.3'!L535","v":0},0,0,197,{"$f":"'poměry financování'!D528","v":"CZ.1.11/2.1.00/01.00197"}]
[null,{"$f":"'3.3'!I536","v":0},{"$f":"'3.3'!L536","v":0},0,0,197,{"$f":"'poměry financování'!D529","v":"CZ.1.11/2.1.00/01.00197"}]
[null,{"$f":"'3.3'!I537","v":0},{"$f":"'3.3'!L537","v":0},0,0,197,{"$f":"'poměry financování'!D530","v":"CZ.1.11/2.1.00/01.00197"}]
[null,{"$f":"'3.3'!I538","v":0},{"$f":"'3.3'!L538","v":0},0,0,197,{"$f":"'poměry financování'!D531","v":"CZ.1.11/2.1.00/01.00197"}]
[null,{"$f":"'3.3'!I539","v":0},{"$f":"'3.3'!L539","v":0},0,0,197,{"$f":"'poměry financování'!D532","v":"CZ.1.11/2.1.00/01.00197"}]
[null,{"$f":"'3.3'!I540","v":0},{"$f":"'3.3'!L540","v":0},0,0,197,{"$f":"'poměry financování'!D533","v":"CZ.1.11/2.1.00/01.00197"}]
[null,{"$f":"'3.3'!I541","v":0},{"$f":"'3.3'!L541","v":0},0,0,197,{"$f":"'poměry financování'!D534","v":"CZ.1.11/2.1.00/01.00197"}]
[null,{"$f":"'3.3'!I542","v":0},{"$f":"'3.3'!L542","v":0},0,0,197,{"$f":"'poměry financování'!D535","v":"CZ.1.11/2.1.00/01.00197"}]
[null,{"$f":"'3.3'!I543","v":0},{"$f":"'3.3'!L543","v":0},0,0,197,{"$f":"'poměry financování'!D536","v":"CZ.1.11/2.1.00/01.00197"}]
[null,{"$f":"'3.3'!I544","v":0},{"$f":"'3.3'!L544","v":0},0,0,198,{"$f":"'poměry financování'!D537","v":"CZ.1.11/2.2.00/01.00198"}]
[null,{"$f":"'3.3'!I545","v":0},{"$f":"'3.3'!L545","v":0},0,0,198,{"$f":"'poměry financování'!D538","v":"CZ.1.11/2.2.00/01.00198"}]
[null,{"$f":"'3.3'!I546","v":0},{"$f":"'3.3'!L546","v":0},0,0,198,{"$f":"'poměry financování'!D539","v":"CZ.1.11/2.2.00/01.00198"}]
[null,{"$f":"'3.3'!I547","v":0},{"$f":"'3.3'!L547","v":0},0,0,199,{"$f":"'poměry financování'!D540","v":"CZ.1.11/2.2.00/01.00199"}]
[null,{"$f":"'3.3'!I548","v":0},{"$f":"'3.3'!L548","v":0},0,0,199,{"$f":"'poměry financování'!D541","v":"CZ.1.11/2.2.00/01.00199"}]
[null,{"$f":"'3.3'!I549","v":0},{"$f":"'3.3'!L549","v":0},0,0,200,{"$f":"'poměry financování'!D542","v":"CZ.1.11/2.2.00/01.00200"}]
[null,{"$f":"'3.3'!I550","v":0},{"$f":"'3.3'!L550","v":0},0,0,200,{"$f":"'poměry financování'!D543","v":"CZ.1.11/2.2.00/01.00200"}]
[null,{"$f":"'3.3'!I551","v":0},{"$f":"'3.3'!L551","v":0},0,0,200,{"$f":"'poměry financování'!D544","v":"CZ.1.11/2.2.00/01.00200"}]
[null,{"$f":"'3.3'!I552","v":0},{"$f":"'3.3'!L552","v":0},0,0,200,{"$f":"'poměry financování'!D545","v":"CZ.1.11/2.2.00/01.00200"}]
[null,{"$f":"'3.3'!I553","v":0},{"$f":"'3.3'!L553","v":0},0,0,200,{"$f":"'poměry financování'!D546","v":"CZ.1.11/2.2.00/01.00200"}]
[null,{"$f":"'3.3'!I554","v":0},{"$f":"'3.3'!L554","v":0},0,0,200,{"$f":"'poměry financování'!D547","v":"CZ.1.11/2.2.00/01.00200"}]
[null,{"$f":"'3.3'!I555","v":0},{"$f":"'3.3'!L555","v":0},0,0,201,{"$f":"'poměry financování'!D548","v":"CZ.1.11/2.1.00/01.00201"}]
[null,{"$f":"'3.3'!I556","v":0},{"$f":"'3.3'!L556","v":0},0,0,202,{"$f":"'poměry financování'!D549","v":"CZ.1.11/2.1.00/01.00202"}]
[null,{"$f":"'3.3'!I557","v":0},{"$f":"'3.3'!L557","v":0},0,0,202,{"$f":"'poměry financování'!D550","v":"CZ.1.11/2.1.00/01.00202"}]
[null,{"$f":"'3.3'!I558","v":0},{"$f":"'3.3'!L558","v":0},0,0,202,{"$f":"'poměry financování'!D551","v":"CZ.1.11/2.1.00/01.00202"}]
[null,{"$f":"'3.3'!I559","v":0},{"$f":"'3.3'!L559","v":0},0,0,202,{"$f":"'poměry financování'!D552","v":"CZ.1.11/2.1.00/01.00202"}]
[null,{"$f":"'3.3'!I560","v":0},{"$f":"'3.3'!L560","v":0},0,0,202,{"$f":"'poměry financování'!D553","v":"CZ.1.11/2.1.00/01.00202"}]
[null,{"$f":"'3.3'!I561","v":0},{"$f":"'3.3'!L561","v":0},0,0,203,{"$f":"'poměry financování'!D554","v":"CZ.1.11/2.2.00/01.00203"}]
[null,{"$f":"'3.3'!I562","v":0},{"$f":"'3.3'!L562","v":0},0,0,203,{"$f":"'poměry financování'!D555","v":"CZ.1.11/2.2.00/01.00203"}]
[null,{"$f":"'3.3'!I563","v":0},{"$f":"'3.3'!L563","v":0},0,0,203,{"$f":"'poměry financování'!D556","v":"CZ.1.11/2.2.00/01.00203"}]
[null,{"$f":"'3.3'!I564","v":0},{"$f":"'3.3'!L564","v":0},0,0,203,{"$f":"'poměry financování'!D557","v":"CZ.1.11/2.2.00/01.00203"}]
[null,{"$f":"'3.3'!I565","v":0},{"$f":"'3.3'!L565","v":0},0,0,204,{"$f":"'poměry financování'!D558","v":"CZ.1.11/2.1.00/01.00204"}]
[null,{"$f":"'3.3'!I566","v":0},{"$f":"'3.3'!L566","v":0},0,0,204,{"$f":"'poměry financování'!D559","v":"CZ.1.11/2.1.00/01.00204"}]
[null,{"$f":"'3.3'!I567","v":0},{"$f":"'3.3'!L567","v":0},0,0,204,{"$f":"'poměry financování'!D560","v":"CZ.1.11/2.1.00/01.00204"}]
[null,{"$f":"'3.3'!I568","v":0},{"$f":"'3.3'!L568","v":0},0,0,205,{"$f":"'poměry financování'!D561","v":"CZ.1.11/2.1.00/01.00205"}]
[null,{"$f":"'3.3'!I569","v":0},{"$f":"'3.3'!L569","v":0},0,0,205,{"$f":"'poměry financování'!D562","v":"CZ.1.11/2.1.00/01.00205"}]
[null,{"$f":"'3.3'!I570","v":0},{"$f":"'3.3'!L570","v":0},0,0,205,{"$f":"'poměry financování'!D563","v":"CZ.1.11/2.1.00/01.00205"}]
[null,{"$f":"'3.3'!I571","v":0},{"$f":"'3.3'!L571","v":0},0,0,205,{"$f":"'poměry financování'!D564","v":"CZ.1.11/2.1.00/01.00205"}]
[null,{"$f":"'3.3'!I572","v":0},{"$f":"'3.3'!L572","v":0},0,0,205,{"$f":"'poměry financování'!D565","v":"CZ.1.11/2.1.00/01.00205"}]
[null,{"$f":"'3.3'!I573","v":0},{"$f":"'3.3'!L573","v":0},0,0,206,{"$f":"'poměry financování'!D566","v":"CZ.1.11/2.1.00/01.00206"}]
[null,{"$f":"'3.3'!I574","v":0},{"$f":"'3.3'!L574","v":0},0,0,206,{"$f":"'poměry financování'!D567","v":"CZ.1.11/2.1.00/01.00206"}]
[null,{"$f":"'3.3'!I575","v":0},{"$f":"'3.3'!L575","v":0},0,0,206,{"$f":"'poměry financování'!D568","v":"CZ.1.11/2.1.00/01.00206"}]
[null,{"$f":"'3.3'!I576","v":0},{"$f":"'3.3'!L576","v":0},0,0,206,{"$f":"'poměry financování'!D569","v":"CZ.1.11/2.1.00/01.00206"}]
[null,{"$f":"'3.3'!I577","v":0},{"$f":"'3.3'!L577","v":0},0,0,207,{"$f":"'poměry financování'!D570","v":"CZ.1.11/2.1.00/01.00207"}]
[null,{"$f":"'3.3'!I578","v":0},{"$f":"'3.3'!L578","v":0},0,0,208,{"$f":"'poměry financování'!D571","v":"CZ.1.11/2.2.00/01.00208"}]
[null,{"$f":"'3.3'!I579","v":0},{"$f":"'3.3'!L579","v":0},0,0,208,{"$f":"'poměry financování'!D572","v":"CZ.1.11/2.2.00/01.00208"}]
[null,{"$f":"'3.3'!I580","v":0},{"$f":"'3.3'!L580","v":0},0,0,208,{"$f":"'poměry financování'!D573","v":"CZ.1.11/2.2.00/01.00208"}]
[null,{"$f":"'3.3'!I581","v":0},{"$f":"'3.3'!L581","v":0},0,0,208,{"$f":"'poměry financování'!D574","v":"CZ.1.11/2.2.00/01.00208"}]
[null,{"$f":"'3.3'!I582","v":0},{"$f":"'3.3'!L582","v":0},0,0,209,{"$f":"'poměry financování'!D575","v":"CZ.1.11/2.2.00/01.00209"}]
[null,{"$f":"'3.3'!I583","v":0},{"$f":"'3.3'!L583","v":0},{"$f":"IF(B579=\"Investiční\",C579,0)","v":0},{"$f":"IF(B579=\"Neinvestiční\",C579,0)","v":0},210,{"$f":"'poměry financování'!D576","v":"CZ.1.11/3.3.00/01.00210"}]
[null,{"$f":"'3.3'!I584","v":0},{"$f":"'3.3'!L584","v":0},0,0,210,{"$f":"'poměry financování'!D577","v":"CZ.1.11/3.3.00/01.00210"}]
[null,{"$f":"'3.3'!I585","v":0},{"$f":"'3.3'!L585","v":0},0,0,210,{"$f":"'poměry financování'!D578","v":"CZ.1.11/3.3.00/01.00210"}]
[null,{"$f":"'3.3'!I586","v":0},{"$f":"'3.3'!L586","v":0},0,0,{"$f":"VALUE((MID(G582,20,4)))","v":211},{"$f":"'poměry financování'!D579","v":"CZ.1.11/3.3.00/01.00211"}]
[null,{"$f":"'3.3'!I587","v":0},{"$f":"'3.3'!L587","v":0},0,0,212,{"$f":"'poměry financování'!D580","v":"CZ.1.11/3.3.00/01.00212"}]
[null,{"$f":"'3.3'!I588","v":0},{"$f":"'3.3'!L588","v":0},0,0,212,{"$f":"'poměry financování'!D581","v":"CZ.1.11/3.3.00/01.00212"}]
[null,{"$f":"'3.3'!I589","v":0},{"$f":"'3.3'!L589","v":0},0,0,212,{"$f":"'poměry financování'!D582","v":"CZ.1.11/3.3.00/01.00212"}]
[null,{"$f":"'3.3'!I590","v":0},{"$f":"'3.3'!L590","v":0},0,0,213,{"$f":"'poměry financování'!D583","v":"CZ.1.11/3.3.00/01.00213"}]
[null,{"$f":"'3.3'!I591","v":0},{"$f":"'3.3'!L591","v":0},0,0,213,{"$f":"'poměry financování'!D584","v":"CZ.1.11/3.3.00/01.00213"}]
[null,{"$f":"'3.3'!I592","v":0},{"$f":"'3.3'!L592","v":0},0,0,213,{"$f":"'poměry financování'!D585","v":"CZ.1.11/3.3.00/01.00213"}]
[null,{"$f":"'3.3'!I593","v":0},{"$f":"'3.3'!L593","v":0},0,0,213,{"$f":"'poměry financování'!D586","v":"CZ.1.11/3.3.00/01.00213"}]
[null,{"$f":"'3.3'!I594","v":0},{"$f":"'3.3'!L594","v":0},0,0,214,{"$f":"'poměry financování'!D587","v":"CZ.1.11/3.3.00/01.00214"}]
[null,{"$f":"'3.3'!I595","v":0},{"$f":"'3.3'!L595","v":0},0,0,214,{"$f":"'poměry financování'!D588","v":"CZ.1.11/3.3.00/01.00214"}]
[null,{"$f":"'3.3'!I596","v":0},{"$f":"'3.3'!L596","v":0},0,0,214,{"$f":"'poměry financování'!D589","v":"CZ.1.11/3.3.00/01.00214"}]
[null,{"$f":"'3.3'!I597","v":0},{"$f":"'3.3'!L597","v":0},0,0,214,{"$f":"'poměry financování'!D590","v":"CZ.1.11/3.3.00/01.00214"}]
[null,{"$f":"'3.3'!I598","v":0},{"$f":"'3.3'!L598","v":0},0,0,215,{"$f":"'poměry financování'!D591","v":"CZ.1.11/3.3.00/01.00215"}]
[null,{"$f":"'3.3'!I599","v":0},{"$f":"'3.3'!L599","v":0},0,0,216,{"$f":"'poměry financování'!D592","v":"CZ.1.11/1.1.00/01.00216"}]
[null,{"$f":"'3.3'!I600","v":0},{"$f":"'3.3'!L600","v":0},0,0,217,{"$f":"'poměry financování'!D593","v":"CZ.1.11/3.3.00/01.00217"}]
[null,{"$f":"'3.3'!I601","v":0},{"$f":"'3.3'!L601","v":0},0,0,217,{"$f":"'poměry financování'!D594","v":"CZ.1.11/3.3.00/01.00217"}]
[null,{"$f":"'3.3'!I602","v":0},{"$f":"'3.3'!L602","v":0},0,0,217,{"$f":"'poměry financování'!D595","v":"CZ.1.11/3.3.00/01.00217"}]
[null,{"$f":"'3.3'!I603","v":0},{"$f":"'3.3'!L603","v":0},0,0,217,{"$f":"'poměry financování'!D596","v":"CZ.1.11/3.3.00/01.00217"}]
[null,{"$f":"'3.3'!I604","v":0},{"$f":"'3.3'!L604","v":0},0,0,218,{"$f":"'poměry financování'!D597","v":"CZ.1.11/3.3.00/01.00218"}]
[null,{"$f":"'3.3'!I605","v":0},{"$f":"'3.3'!L605","v":0},0,0,219,{"$f":"'poměry financování'!D598","v":"CZ.1.11/3.2.00/01.00219"}]
[null,{"$f":"'3.3'!I606","v":0},{"$f":"'3.3'!L606","v":0},0,0,219,{"$f":"'poměry financování'!D599","v":"CZ.1.11/3.2.00/01.00219"}]
[null,{"$f":"'3.3'!I607","v":0},{"$f":"'3.3'!L607","v":0},0,0,220,{"$f":"'poměry financování'!D600","v":"CZ.1.11/3.2.00/01.00220"}]
[null,{"$f":"'3.3'!I608","v":0},{"$f":"'3.3'!L608","v":0},0,0,221,{"$f":"'poměry financování'!D601","v":"CZ.1.11/3.2.00/01.00221"}]
[null,{"$f":"'3.3'!I609","v":0},{"$f":"'3.3'!L609","v":0},0,0,221,{"$f":"'poměry financování'!D602","v":"CZ.1.11/3.2.00/01.00221"}]
[null,{"$f":"'3.3'!I610","v":0},{"$f":"'3.3'!L610","v":0},0,0,221,{"$f":"'poměry financování'!D603","v":"CZ.1.11/3.2.00/01.00221"}]
[null,{"$f":"'3.3'!I611","v":0},{"$f":"'3.3'!L611","v":0},0,0,221,{"$f":"'poměry financování'!D604","v":"CZ.1.11/3.2.00/01.00221"}]
[null,{"$f":"'3.3'!I612","v":0},{"$f":"'3.3'!L612","v":0},0,0,221,{"$f":"'poměry financování'!D605","v":"CZ.1.11/3.2.00/01.00221"}]
[null,{"$f":"'3.3'!I613","v":0},{"$f":"'3.3'!L613","v":0},0,0,222,{"$f":"'poměry financování'!D606","v":"CZ.1.11/3.3.00/01.00222"}]
[null,{"$f":"'3.3'!I614","v":0},{"$f":"'3.3'!L614","v":0},0,0,223,{"$f":"'poměry financování'!D607","v":"CZ.1.11/3.3.00/01.00223"}]
[null,{"$f":"'3.3'!I615","v":0},{"$f":"'3.3'!L615","v":0},0,0,223,{"$f":"'poměry financování'!D608","v":"CZ.1.11/3.3.00/01.00223"}]
[null,{"$f":"'3.3'!I616","v":0},{"$f":"'3.3'!L616","v":0},0,0,223,{"$f":"'poměry financování'!D609","v":"CZ.1.11/3.3.00/01.00223"}]
[null,{"$f":"'3.3'!I617","v":0},{"$f":"'3.3'!L617","v":0},0,0,223,{"$f":"'poměry financování'!D610","v":"CZ.1.11/3.3.00/01.00223"}]
[null,{"$f":"'3.3'!I618","v":0},{"$f":"'3.3'!L618","v":0},0,0,223,{"$f":"'poměry financování'!D611","v":"CZ.1.11/3.3.00/01.00223"}]
[null,{"$f":"'3.3'!I619","v":0},{"$f":"'3.3'!L619","v":0},0,0,224,{"$f":"'poměry financování'!D612","v":"CZ.1.11/3.2.00/01.00224"}]
[null,{"$f":"'3.3'!I620","v":0},{"$f":"'3.3'!L620","v":0},0,0,224,{"$f":"'poměry financování'!D613","v":"CZ.1.11/3.2.00/01.00224"}]
[null,{"$f":"'3.3'!I621","v":0},{"$f":"'3.3'!L621","v":0},0,0,224,{"$f":"'poměry financování'!D614","v":"CZ.1.11/3.2.00/01.00224"}]
[null,{"$f":"'3.3'!I622","v":0},{"$f":"'3.3'!L622","v":0},0,0,224,{"$f":"'poměry financování'!D615","v":"CZ.1.11/3.2.00/01.00224"}]
[null,{"$f":"'3.3'!I623","v":0},{"$f":"'3.3'!L623","v":0},0,0,224,{"$f":"'poměry financování'!D616","v":"CZ.1.11/3.2.00/01.00224"}]
[null,{"$f":"'3.3'!I624","v":0},{"$f":"'3.3'!L624","v":0},0,0,224,{"$f":"'poměry financování'!D617","v":"CZ.1.11/3.2.00/01.00224"}]
[null,{"$f":"'3.3'!I625","v":0},{"$f":"'3.3'!L625","v":0},0,0,224,{"$f":"'poměry financování'!D618","v":"CZ.1.11/3.2.00/01.00224"}]
[null,{"$f":"'3.3'!I626","v":0},{"$f":"'3.3'!L626","v":0},0,0,225,{"$f":"'poměry financování'!D619","v":"CZ.1.11/3.2.00/01.00225"}]
[null,{"$f":"'3.3'!I627","v":0},{"$f":"'3.3'!L627","v":0},0,0,225,{"$f":"'poměry financování'!D620","v":"CZ.1.11/3.2.00/01.00225"}]
[null,{"$f":"'3.3'!I628","v":0},{"$f":"'3.3'!L628","v":0},0,0,225,{"$f":"'poměry financování'!D621","v":"CZ.1.11/3.2.00/01.00225"}]
[null,{"$f":"'3.3'!I629","v":0},{"$f":"'3.3'!L629","v":0},0,0,225,{"$f":"'poměry financování'!D622","v":"CZ.1.11/3.2.00/01.00225"}]
[null,{"$f":"'3.3'!I630","v":0},{"$f":"'3.3'!L630","v":0},0,0,225,{"$f":"'poměry financování'!D623","v":"CZ.1.11/3.2.00/01.00225"}]
[null,{"$f":"'3.3'!I631","v":0},{"$f":"'3.3'!L631","v":0},0,0,225,{"$f":"'poměry financování'!D624","v":"CZ.1.11/3.2.00/01.00225"}]
[null,{"$f":"'3.3'!I632","v":0},{"$f":"'3.3'!L632","v":0},0,0,226,{"$f":"'poměry financování'!D625","v":"CZ.1.11/3.3.00/01.00226"}]
[null,{"$f":"'3.3'!I633","v":0},{"$f":"'3.3'!L633","v":0},0,0,226,{"$f":"'poměry financování'!D626","v":"CZ.1.11/3.3.00/01.00226"}]
[null,{"$f":"'3.3'!I634","v":0},{"$f":"'3.3'!L634","v":0},0,0,226,{"$f":"'poměry financování'!D627","v":"CZ.1.11/3.3.00/01.00226"}]
[null,{"$f":"'3.3'!I635","v":0},{"$f":"'3.3'!L635","v":0},0,0,226,{"$f":"'poměry financování'!D628","v":"CZ.1.11/3.3.00/01.00226"}]
[null,{"$f":"'3.3'!I636","v":0},{"$f":"'3.3'!L636","v":0},0,0,226,{"$f":"'poměry financování'!D629","v":"CZ.1.11/3.3.00/01.00226"}]
[null,{"$f":"'3.3'!I637","v":0},{"$f":"'3.3'!L637","v":0},0,0,227,{"$f":"'poměry financování'!D630","v":"CZ.1.11/3.3.00/01.00227"}]
[null,{"$f":"'3.3'!I638","v":0},{"$f":"'3.3'!L638","v":0},0,0,228,{"$f":"'poměry financování'!D631","v":"CZ.1.11/3.3.00/01.00228"}]
[null,{"$f":"'3.3'!I639","v":0},{"$f":"'3.3'!L639","v":0},0,0,228,{"$f":"'poměry financování'!D632","v":"CZ.1.11/3.3.00/01.00228"}]
[null,{"$f":"'3.3'!I640","v":0},{"$f":"'3.3'!L640","v":0},0,0,229,{"$f":"'poměry financování'!D633","v":"CZ.1.11/3.2.00/01.00229"}]
[null,{"$f":"'3.3'!I641","v":0},{"$f":"'3.3'!L641","v":0},0,0,229,{"$f":"'poměry financování'!D634","v":"CZ.1.11/3.2.00/01.00229"}]
[null,{"$f":"'3.3'!I642","v":0},{"$f":"'3.3'!L642","v":0},0,0,229,{"$f":"'poměry financování'!D635","v":"CZ.1.11/3.2.00/01.00229"}]
[null,{"$f":"'3.3'!I643","v":0},{"$f":"'3.3'!L643","v":0},0,0,230,{"$f":"'poměry financování'!D636","v":"CZ.1.11/3.2.00/01.00230"}]
[null,{"$f":"'3.3'!I644","v":0},{"$f":"'3.3'!L644","v":0},0,0,230,{"$f":"'poměry financování'!D637","v":"CZ.1.11/3.2.00/01.00230"}]
[null,{"$f":"'3.3'!I645","v":0},{"$f":"'3.3'!L645","v":0},0,0,230,{"$f":"'poměry financování'!D638","v":"CZ.1.11/3.2.00/01.00230"}]
[null,{"$f":"'3.3'!I646","v":0},{"$f":"'3.3'!L646","v":0},0,0,231,{"$f":"'poměry financování'!D639","v":"CZ.1.11/3.2.00/01.00231"}]
[null,{"$f":"'3.3'!I647","v":0},{"$f":"'3.3'!L647","v":0},{"$f":"IF(B643=\"Investiční\",C643,0)","v":0},{"$f":"IF(B643=\"Neinvestiční\",C643,0)","v":0},231,{"$f":"'poměry financování'!D640","v":"CZ.1.11/3.2.00/01.00231"}]
[null,{"$f":"'3.3'!I648","v":0},{"$f":"'3.3'!L648","v":0},0,0,231,{"$f":"'poměry financování'!D641","v":"CZ.1.11/3.2.00/01.00231"}]
[null,{"$f":"'3.3'!I649","v":0},{"$f":"'3.3'!L649","v":0},0,0,231,{"$f":"'poměry financování'!D642","v":"CZ.1.11/3.2.00/01.00231"}]
[null,{"$f":"'3.3'!I650","v":0},{"$f":"'3.3'!L650","v":0},0,0,{"$f":"VALUE((MID(G646,20,4)))","v":231},{"$f":"'poměry financování'!D643","v":"CZ.1.11/3.2.00/01.00231"}]
[null,{"$f":"'3.3'!I651","v":0},{"$f":"'3.3'!L651","v":0},0,0,232,{"$f":"'poměry financování'!D644","v":"CZ.1.11/3.2.00/01.00232"}]
[null,{"$f":"'3.3'!I652","v":0},{"$f":"'3.3'!L652","v":0},0,0,232,{"$f":"'poměry financování'!D645","v":"CZ.1.11/3.2.00/01.00232"}]
[null,{"$f":"'3.3'!I653","v":0},{"$f":"'3.3'!L653","v":0},0,0,232,{"$f":"'poměry financování'!D646","v":"CZ.1.11/3.2.00/01.00232"}]
[null,{"$f":"'3.3'!I654","v":0},{"$f":"'3.3'!L654","v":0},0,0,233,{"$f":"'poměry financování'!D647","v":"CZ.1.11/3.3.00/01.00233"}]
[null,{"$f":"'3.3'!I655","v":0},{"$f":"'3.3'!L655","v":0},0,0,234,{"$f":"'poměry financování'!D648","v":"CZ.1.11/3.2.00/01.00234"}]
[null,{"$f":"'3.3'!I656","v":0},{"$f":"'3.3'!L656","v":0},0,0,234,{"$f":"'poměry financování'!D649","v":"CZ.1.11/3.2.00/01.00234"}]
[null,{"$f":"'3.3'!I657","v":0},{"$f":"'3.3'!L657","v":0},0,0,234,{"$f":"'poměry financování'!D650","v":"CZ.1.11/3.2.00/01.00234"}]
[null,{"$f":"'3.3'!I658","v":0},{"$f":"'3.3'!L658","v":0},0,0,234,{"$f":"'poměry financování'!D651","v":"CZ.1.11/3.2.00/01.00234"}]
[null,{"$f":"'3.3'!I659","v":0},{"$f":"'3.3'!L659","v":0},0,0,235,{"$f":"'poměry financování'!D652","v":"CZ.1.11/3.3.00/01.00235"}]
[null,{"$f":"'3.3'!I660","v":0},{"$f":"'3.3'!L660","v":0},0,0,236,{"$f":"'poměry financování'!D653","v":"CZ.1.11/3.3.00/01.00236"}]
[null,{"$f":"'3.3'!I661","v":0},{"$f":"'3.3'!L661","v":0},0,0,236,{"$f":"'poměry financování'!D654","v":"CZ.1.11/3.3.00/01.00236"}]
[null,{"$f":"'3.3'!I662","v":0},{"$f":"'3.3'!L662","v":0},0,0,236,{"$f":"'poměry financování'!D655","v":"CZ.1.11/3.3.00/01.00236"}]
[null,{"$f":"'3.3'!I663","v":0},{"$f":"'3.3'!L663","v":0},0,0,236,{"$f":"'poměry financování'!D656","v":"CZ.1.11/3.3.00/01.00236"}]
[null,{"$f":"'3.3'!I664","v":0},{"$f":"'3.3'!L664","v":0},0,0,236,{"$f":"'poměry financování'!D657","v":"CZ.1.11/3.3.00/01.00236"}]
[null,{"$f":"'3.3'!I665","v":0},{"$f":"'3.3'!L665","v":0},0,0,237,{"$f":"'poměry financování'!D658","v":"CZ.1.11/3.3.00/01.00237"}]
[null,{"$f":"'3.3'!I666","v":0},{"$f":"'3.3'!L666","v":0},0,0,238,{"$f":"'poměry financování'!D659","v":"CZ.1.11/3.2.00/01.00238"}]
[null,{"$f":"'3.3'!I667","v":0},{"$f":"'3.3'!L667","v":0},0,0,238,{"$f":"'poměry financování'!D660","v":"CZ.1.11/3.2.00/01.00238"}]
[null,{"$f":"'3.3'!I668","v":0},{"$f":"'3.3'!L668","v":0},0,0,239,{"$f":"'poměry financování'!D661","v":"CZ.1.11/3.3.00/01.00239"}]
[null,{"$f":"'3.3'!I669","v":0},{"$f":"'3.3'!L669","v":0},0,0,240,{"$f":"'poměry financování'!D662","v":"CZ.1.11/3.3.00/01.00240"}]
[null,{"$f":"'3.3'!I670","v":0},{"$f":"'3.3'!L670","v":0},0,0,240,{"$f":"'poměry financování'!D663","v":"CZ.1.11/3.3.00/01.00240"}]
[null,{"$f":"'3.3'!I671","v":0},{"$f":"'3.3'!L671","v":0},0,0,240,{"$f":"'poměry financování'!D664","v":"CZ.1.11/3.3.00/01.00240"}]
[null,{"$f":"'3.3'!I672","v":0},{"$f":"'3.3'!L672","v":0},0,0,240,{"$f":"'poměry financování'!D665","v":"CZ.1.11/3.3.00/01.00240"}]
[null,{"$f":"'3.3'!I673","v":0},{"$f":"'3.3'!L673","v":0},0,0,240,{"$f":"'poměry financování'!D666","v":"CZ.1.11/3.3.00/01.00240"}]
[null,{"$f":"'3.3'!I674","v":0},{"$f":"'3.3'!L674","v":0},0,0,240,{"$f":"'poměry financování'!D667","v":"CZ.1.11/3.3.00/01.00240"}]
[null,{"$f":"'3.3'!I675","v":0},{"$f":"'3.3'!L675","v":0},0,0,241,{"$f":"'poměry financování'!D668","v":"CZ.1.11/3.3.00/01.00241"}]
[null,{"$f":"'3.3'!I676","v":0},{"$f":"'3.3'!L676","v":0},0,0,241,{"$f":"'poměry financování'!D669","v":"CZ.1.11/3.3.00/01.00241"}]
[null,{"$f":"'3.3'!I677","v":0},{"$f":"'3.3'!L677","v":0},0,0,241,{"$f":"'poměry financování'!D670","v":"CZ.1.11/3.3.00/01.00241"}]
[null,{"$f":"'3.3'!I678","v":0},{"$f":"'3.3'!L678","v":0},0,0,242,{"$f":"'poměry financování'!D671","v":"CZ.1.11/3.2.00/01.00242"}]
[null,{"$f":"'3.3'!I679","v":0},{"$f":"'3.3'!L679","v":0},0,0,242,{"$f":"'poměry financování'!D672","v":"CZ.1.11/3.2.00/01.00242"}]
[null,{"$f":"'3.3'!I680","v":0},{"$f":"'3.3'!L680","v":0},0,0,242,{"$f":"'poměry financování'!D673","v":"CZ.1.11/3.2.00/01.00242"}]
[null,{"$f":"'3.3'!I681","v":0},{"$f":"'3.3'!L681","v":0},0,0,242,{"$f":"'poměry financování'!D674","v":"CZ.1.11/3.2.00/01.00242"}]
[null,{"$f":"'3.3'!I682","v":0},{"$f":"'3.3'!L682","v":0},0,0,243,{"$f":"'poměry financování'!D675","v":"CZ.1.11/3.3.00/01.00243"}]
[null,{"$f":"'3.3'!I683","v":0},{"$f":"'3.3'!L683","v":0},0,0,243,{"$f":"'poměry financování'!D676","v":"CZ.1.11/3.3.00/01.00243"}]
[null,{"$f":"'3.3'!I684","v":0},{"$f":"'3.3'!L684","v":0},0,0,244,{"$f":"'poměry financování'!D677","v":"CZ.1.11/3.3.00/01.00244"}]
[null,{"$f":"'3.3'!I685","v":0},{"$f":"'3.3'!L685","v":0},0,0,244,{"$f":"'poměry financování'!D678","v":"CZ.1.11/3.3.00/01.00244"}]
[null,{"$f":"'3.3'!I686","v":0},{"$f":"'3.3'!L686","v":0},0,0,245,{"$f":"'poměry financování'!D679","v":"CZ.1.11/3.3.00/01.00245"}]
[null,{"$f":"'3.3'!I687","v":0},{"$f":"'3.3'!L687","v":0},0,0,246,{"$f":"'poměry financování'!D680","v":"CZ.1.11/3.3.00/01.00246"}]
[null,{"$f":"'3.3'!I688","v":0},{"$f":"'3.3'!L688","v":0},0,0,246,{"$f":"'poměry financování'!D681","v":"CZ.1.11/3.3.00/01.00246"}]
[null,{"$f":"'3.3'!I689","v":0},{"$f":"'3.3'!L689","v":0},0,0,246,{"$f":"'poměry financování'!D682","v":"CZ.1.11/3.3.00/01.00246"}]
[null,{"$f":"'3.3'!I690","v":0},{"$f":"'3.3'!L690","v":0},0,0,246,{"$f":"'poměry financování'!D683","v":"CZ.1.11/3.3.00/01.00246"}]
[null,{"$f":"'3.3'!I691","v":0},{"$f":"'3.3'!L691","v":0},0,0,247,{"$f":"'poměry financování'!D684","v":"CZ.1.11/3.3.00/01.00247"}]
[null,{"$f":"'3.3'!I692","v":0},{"$f":"'3.3'!L692","v":0},0,0,247,{"$f":"'poměry financování'!D685","v":"CZ.1.11/3.3.00/01.00247"}]
[null,{"$f":"'3.3'!I693","v":0},{"$f":"'3.3'!L693","v":0},0,0,247,{"$f":"'poměry financování'!D686","v":"CZ.1.11/3.3.00/01.00247"}]
[null,{"$f":"'3.3'!I694","v":0},{"$f":"'3.3'!L694","v":0},0,0,247,{"$f":"'poměry financování'!D687","v":"CZ.1.11/3.3.00/01.00247"}]
[null,{"$f":"'3.3'!I695","v":0},{"$f":"'3.3'!L695","v":0},0,0,248,{"$f":"'poměry financování'!D688","v":"CZ.1.11/3.3.00/01.00248"}]
[null,{"$f":"'3.3'!I696","v":0},{"$f":"'3.3'!L696","v":0},0,0,248,{"$f":"'poměry financování'!D689","v":"CZ.1.11/3.3.00/01.00248"}]
[null,{"$f":"'3.3'!I697","v":0},{"$f":"'3.3'!L697","v":0},0,0,248,{"$f":"'poměry financování'!D690","v":"CZ.1.11/3.3.00/01.00248"}]
[null,{"$f":"'3.3'!I698","v":0},{"$f":"'3.3'!L698","v":0},0,0,248,{"$f":"'poměry financování'!D691","v":"CZ.1.11/3.3.00/01.00248"}]
[null,{"$f":"'3.3'!I699","v":0},{"$f":"'3.3'!L699","v":0},0,0,249,{"$f":"'poměry financování'!D692","v":"CZ.1.11/3.3.00/01.00249"}]
[null,{"$f":"'3.3'!I700","v":0},{"$f":"'3.3'!L700","v":0},0,0,249,{"$f":"'poměry financování'!D693","v":"CZ.1.11/3.3.00/01.00249"}]
[null,{"$f":"'3.3'!I701","v":0},{"$f":"'3.3'!L701","v":0},0,0,250,{"$f":"'poměry financování'!D694","v":"CZ.1.11/3.2.00/01.00250"}]
[null,{"$f":"'3.3'!I702","v":0},{"$f":"'3.3'!L702","v":0},0,0,251,{"$f":"'poměry financování'!D695","v":"CZ.1.11/3.2.00/01.00251"}]
[null,{"$f":"'3.3'!I703","v":0},{"$f":"'3.3'!L703","v":0},0,0,251,{"$f":"'poměry financování'!D696","v":"CZ.1.11/3.2.00/01.00251"}]
[null,{"$f":"'3.3'!I704","v":0},{"$f":"'3.3'!L704","v":0},0,0,252,{"$f":"'poměry financování'!D697","v":"CZ.1.11/3.3.00/01.00252"}]
[null,{"$f":"'3.3'!I705","v":0},{"$f":"'3.3'!L705","v":0},0,0,252,{"$f":"'poměry financování'!D698","v":"CZ.1.11/3.3.00/01.00252"}]
[null,{"$f":"'3.3'!I706","v":0},{"$f":"'3.3'!L706","v":0},0,0,253,{"$f":"'poměry financování'!D699","v":"CZ.1.11/3.2.00/01.00253"}]
[null,{"$f":"'3.3'!I707","v":0},{"$f":"'3.3'!L707","v":0},0,0,253,{"$f":"'poměry financování'!D700","v":"CZ.1.11/3.2.00/01.00253"}]
[null,{"$f":"'3.3'!I708","v":0},{"$f":"'3.3'!L708","v":0},0,0,254,{"$f":"'poměry financování'!D701","v":"CZ.1.11/3.2.00/01.00254"}]
[null,{"$f":"'3.3'!I709","v":0},{"$f":"'3.3'!L709","v":0},0,0,254,{"$f":"'poměry financování'!D702","v":"CZ.1.11/3.2.00/01.00254"}]
[null,{"$f":"'3.3'!I710","v":0},{"$f":"'3.3'!L710","v":0},0,0,255,{"$f":"'poměry financování'!D703","v":"CZ.1.11/3.2.00/01.00255"}]
[null,{"$f":"'3.3'!I711","v":0},{"$f":"'3.3'!L711","v":0},{"$f":"IF(B707=\"Investiční\",C707,0)","v":0},{"$f":"IF(B707=\"Neinvestiční\",C707,0)","v":0},256,{"$f":"'poměry financování'!D704","v":"CZ.1.11/3.3.00/01.00256"}]
[null,{"$f":"'3.3'!I712","v":0},{"$f":"'3.3'!L712","v":0},0,0,256,{"$f":"'poměry financování'!D705","v":"CZ.1.11/3.3.00/01.00256"}]
[null,{"$f":"'3.3'!I713","v":0},{"$f":"'3.3'!L713","v":0},0,0,256,{"$f":"'poměry financování'!D706","v":"CZ.1.11/3.3.00/01.00256"}]
[null,{"$f":"'3.3'!I714","v":0},{"$f":"'3.3'!L714","v":0},0,0,{"$f":"VALUE((MID(G710,20,4)))","v":257},{"$f":"'poměry financování'!D707","v":"CZ.1.11/3.2.00/01.00257"}]
[null,{"$f":"'3.3'!I715","v":0},{"$f":"'3.3'!L715","v":0},0,0,257,{"$f":"'poměry financování'!D708","v":"CZ.1.11/3.2.00/01.00257"}]
[null,{"$f":"'3.3'!I716","v":0},{"$f":"'3.3'!L716","v":0},0,0,257,{"$f":"'poměry financování'!D709","v":"CZ.1.11/3.2.00/01.00257"}]
[null,{"$f":"'3.3'!I717","v":0},{"$f":"'3.3'!L717","v":0},0,0,257,{"$f":"'poměry financování'!D710","v":"CZ.1.11/3.2.00/01.00257"}]
[null,{"$f":"'3.3'!I718","v":0},{"$f":"'3.3'!L718","v":0},0,0,257,{"$f":"'poměry financování'!D711","v":"CZ.1.11/3.2.00/01.00257"}]
[null,{"$f":"'3.3'!I719","v":0},{"$f":"'3.3'!L719","v":0},0,0,258,{"$f":"'poměry financování'!D712","v":"CZ.1.11/3.2.00/01.00258"}]
[null,{"$f":"'3.3'!I720","v":0},{"$f":"'3.3'!L720","v":0},0,0,258,{"$f":"'poměry financování'!D713","v":"CZ.1.11/3.2.00/01.00258"}]
[null,{"$f":"'3.3'!I721","v":0},{"$f":"'3.3'!L721","v":0},0,0,259,{"$f":"'poměry financování'!D714","v":"CZ.1.11/3.2.00/01.00259"}]
[null,{"$f":"'3.3'!I722","v":0},{"$f":"'3.3'!L722","v":0},0,0,259,{"$f":"'poměry financování'!D715","v":"CZ.1.11/3.2.00/01.00259"}]
[null,{"$f":"'3.3'!I723","v":0},{"$f":"'3.3'!L723","v":0},0,0,259,{"$f":"'poměry financování'!D716","v":"CZ.1.11/3.2.00/01.00259"}]
[null,{"$f":"'3.3'!I724","v":0},{"$f":"'3.3'!L724","v":0},0,0,260,{"$f":"'poměry financování'!D717","v":"CZ.1.11/3.3.00/01.00260"}]
[null,{"$f":"'3.3'!I725","v":0},{"$f":"'3.3'!L725","v":0},0,0,260,{"$f":"'poměry financování'!D718","v":"CZ.1.11/3.3.00/01.00260"}]
[null,{"$f":"'3.3'!I726","v":0},{"$f":"'3.3'!L726","v":0},0,0,260,{"$f":"'poměry financování'!D719","v":"CZ.1.11/3.3.00/01.00260"}]
[null,{"$f":"'3.3'!I727","v":0},{"$f":"'3.3'!L727","v":0},0,0,260,{"$f":"'poměry financování'!D720","v":"CZ.1.11/3.3.00/01.00260"}]
[null,{"$f":"'3.3'!I728","v":0},{"$f":"'3.3'!L728","v":0},0,0,261,{"$f":"'poměry financování'!D721","v":"CZ.1.11/3.3.00/01.00261"}]
[null,{"$f":"'3.3'!I729","v":0},{"$f":"'3.3'!L729","v":0},0,0,262,{"$f":"'poměry financování'!D722","v":"CZ.1.11/3.2.00/01.00262"}]
[null,{"$f":"'3.3'!I730","v":0},{"$f":"'3.3'!L730","v":0},0,0,262,{"$f":"'poměry financování'!D723","v":"CZ.1.11/3.2.00/01.00262"}]
[null,{"$f":"'3.3'!I731","v":0},{"$f":"'3.3'!L731","v":0},0,0,262,{"$f":"'poměry financování'!D724","v":"CZ.1.11/3.2.00/01.00262"}]
[null,{"$f":"'3.3'!I732","v":0},{"$f":"'3.3'!L732","v":0},0,0,262,{"$f":"'poměry financování'!D725","v":"CZ.1.11/3.2.00/01.00262"}]
[null,{"$f":"'3.3'!I733","v":0},{"$f":"'3.3'!L733","v":0},0,0,262,{"$f":"'poměry financování'!D726","v":"CZ.1.11/3.2.00/01.00262"}]
[null,{"$f":"'3.3'!I734","v":0},{"$f":"'3.3'!L734","v":0},0,0,262,{"$f":"'poměry financování'!D727","v":"CZ.1.11/3.2.00/01.00262"}]
[null,{"$f":"'3.3'!I735","v":0},{"$f":"'3.3'!L735","v":0},0,0,263,{"$f":"'poměry financování'!D728","v":"CZ.1.11/3.3.00/01.00263"}]
[null,{"$f":"'3.3'!I736","v":0},{"$f":"'3.3'!L736","v":0},0,0,264,{"$f":"'poměry financování'!D729","v":"CZ.1.11/3.3.00/01.00264"}]
[null,{"$f":"'3.3'!I737","v":0},{"$f":"'3.3'!L737","v":0},0,0,265,{"$f":"'poměry financování'!D730","v":"CZ.1.11/3.3.00/01.00265"}]
[null,{"$f":"'3.3'!I738","v":0},{"$f":"'3.3'!L738","v":0},0,0,265,{"$f":"'poměry financování'!D731","v":"CZ.1.11/3.3.00/01.00265"}]
[null,{"$f":"'3.3'!I739","v":0},{"$f":"'3.3'!L739","v":0},0,0,265,{"$f":"'poměry financování'!D732","v":"CZ.1.11/3.3.00/01.00265"}]
[null,{"$f":"'3.3'!I740","v":0},{"$f":"'3.3'!L740","v":0},0,0,265,{"$f":"'poměry financování'!D733","v":"CZ.1.11/3.3.00/01.00265"}]
[null,{"$f":"'3.3'!I741","v":0},{"$f":"'3.3'!L741","v":0},0,0,266,{"$f":"'poměry financování'!D734","v":"CZ.1.11/3.3.00/01.00266"}]
[null,{"$f":"'3.3'!I742","v":0},{"$f":"'3.3'!L742","v":0},0,0,267,{"$f":"'poměry financování'!D735","v":"CZ.1.11/3.3.00/01.00267"}]
[null,{"$f":"'3.3'!I743","v":0},{"$f":"'3.3'!L743","v":0},0,0,268,{"$f":"'poměry financování'!D736","v":"CZ.1.11/3.3.00/01.00268"}]
[null,{"$f":"'3.3'!I744","v":0},{"$f":"'3.3'!L744","v":0},0,0,268,{"$f":"'poměry financování'!D737","v":"CZ.1.11/3.3.00/01.00268"}]
[null,{"$f":"'3.3'!I745","v":0},{"$f":"'3.3'!L745","v":0},0,0,269,{"$f":"'poměry financování'!D738","v":"CZ.1.11/3.3.00/01.00269"}]
[null,{"$f":"'3.3'!I746","v":0},{"$f":"'3.3'!L746","v":0},0,0,269,{"$f":"'poměry financování'!D739","v":"CZ.1.11/3.3.00/01.00269"}]
[null,{"$f":"'3.3'!I747","v":0},{"$f":"'3.3'!L747","v":0},0,0,269,{"$f":"'poměry financování'!D740","v":"CZ.1.11/3.3.00/01.00269"}]
[null,{"$f":"'3.3'!I748","v":0},{"$f":"'3.3'!L748","v":0},0,0,270,{"$f":"'poměry financování'!D741","v":"CZ.1.11/3.3.00/01.00270"}]
[null,{"$f":"'3.3'!I749","v":0},{"$f":"'3.3'!L749","v":0},0,0,271,{"$f":"'poměry financování'!D742","v":"CZ.1.11/3.3.00/01.00271"}]
[null,{"$f":"'3.3'!I750","v":0},{"$f":"'3.3'!L750","v":0},0,0,271,{"$f":"'poměry financování'!D743","v":"CZ.1.11/3.3.00/01.00271"}]
[null,{"$f":"'3.3'!I751","v":0},{"$f":"'3.3'!L751","v":0},0,0,271,{"$f":"'poměry financování'!D744","v":"CZ.1.11/3.3.00/01.00271"}]
[null,{"$f":"'3.3'!I752","v":0},{"$f":"'3.3'!L752","v":0},0,0,272,{"$f":"'poměry financování'!D745","v":"CZ.1.11/3.3.00/01.00272"}]
[null,{"$f":"'3.3'!I753","v":0},{"$f":"'3.3'!L753","v":0},0,0,272,{"$f":"'poměry financování'!D746","v":"CZ.1.11/3.3.00/01.00272"}]
[null,{"$f":"'3.3'!I754","v":0},{"$f":"'3.3'!L754","v":0},0,0,272,{"$f":"'poměry financování'!D747","v":"CZ.1.11/3.3.00/01.00272"}]
[null,{"$f":"'3.3'!I755","v":0},{"$f":"'3.3'!L755","v":0},0,0,272,{"$f":"'poměry financování'!D748","v":"CZ.1.11/3.3.00/01.00272"}]
[null,{"$f":"'3.3'!I756","v":0},{"$f":"'3.3'!L756","v":0},0,0,272,{"$f":"'poměry financování'!D749","v":"CZ.1.11/3.3.00/01.00272"}]
[null,{"$f":"'3.3'!I757","v":0},{"$f":"'3.3'!L757","v":0},0,0,273,{"$f":"'poměry financování'!D750","v":"CZ.1.11/3.3.00/01.00273"}]
[null,{"$f":"'3.3'!I758","v":0},{"$f":"'3.3'!L758","v":0},0,0,274,{"$f":"'poměry financování'!D751","v":"CZ.1.11/3.3.00/01.00274"}]
[null,{"$f":"'3.3'!I759","v":0},{"$f":"'3.3'!L759","v":0},0,0,274,{"$f":"'poměry financování'!D752","v":"CZ.1.11/3.3.00/01.00274"}]
[null,{"$f":"'3.3'!I760","v":0},{"$f":"'3.3'!L760","v":0},0,0,275,{"$f":"'poměry financování'!D753","v":"CZ.1.11/3.3.00/01.00275"}]
[null,{"$f":"'3.3'!I761","v":0},{"$f":"'3.3'!L761","v":0},0,0,276,{"$f":"'poměry financování'!D754","v":"CZ.1.11/3.3.00/01.00276"}]
[null,{"$f":"'3.3'!I762","v":0},{"$f":"'3.3'!L762","v":0},0,0,277,{"$f":"'poměry financování'!D755","v":"CZ.1.11/3.3.00/01.00277"}]
[null,{"$f":"'3.3'!I763","v":0},{"$f":"'3.3'!L763","v":0},0,0,277,{"$f":"'poměry financování'!D756","v":"CZ.1.11/3.3.00/01.00277"}]
[null,{"$f":"'3.3'!I764","v":0},{"$f":"'3.3'!L764","v":0},0,0,278,{"$f":"'poměry financování'!D757","v":"CZ.1.11/3.2.00/01.00278"}]
[null,{"$f":"'3.3'!I765","v":0},{"$f":"'3.3'!L765","v":0},0,0,279,{"$f":"'poměry financování'!D758","v":"CZ.1.11/3.3.00/01.00279"}]
[null,{"$f":"'3.3'!I766","v":0},{"$f":"'3.3'!L766","v":0},0,0,280,{"$f":"'poměry financování'!D759","v":"CZ.1.11/3.3.00/01.00280"}]
[null,{"$f":"'3.3'!I767","v":0},{"$f":"'3.3'!L767","v":0},0,0,281,{"$f":"'poměry financování'!D760","v":"CZ.1.11/3.2.00/01.00281"}]
[null,{"$f":"'3.3'!I768","v":0},{"$f":"'3.3'!L768","v":0},0,0,282,{"$f":"'poměry financování'!D761","v":"CZ.1.11/3.3.00/01.00282"}]
[null,{"$f":"'3.3'!I769","v":0},{"$f":"'3.3'!L769","v":0},0,0,283,{"$f":"'poměry financování'!D762","v":"CZ.1.11/3.3.00/01.00283"}]
[null,{"$f":"'3.3'!I770","v":0},{"$f":"'3.3'!L770","v":0},0,0,284,{"$f":"'poměry financování'!D763","v":"CZ.1.11/3.3.00/01.00284"}]
[null,{"$f":"'3.3'!I771","v":0},{"$f":"'3.3'!L771","v":0},0,0,285,{"$f":"'poměry financování'!D764","v":"CZ.1.11/3.3.00/01.00285"}]
[null,{"$f":"'3.3'!I772","v":0},{"$f":"'3.3'!L772","v":0},0,0,285,{"$f":"'poměry financování'!D765","v":"CZ.1.11/3.3.00/01.00285"}]
[null,{"$f":"'3.3'!I773","v":0},{"$f":"'3.3'!L773","v":0},0,0,285,{"$f":"'poměry financování'!D766","v":"CZ.1.11/3.3.00/01.00285"}]
[null,{"$f":"'3.3'!I774","v":0},{"$f":"'3.3'!L774","v":0},0,0,286,{"$f":"'poměry financování'!D767","v":"CZ.1.11/3.3.00/01.00286"}]
[null,{"$f":"'3.3'!I775","v":0},{"$f":"'3.3'!L775","v":0},{"$f":"IF(B771=\"Investiční\",C771,0)","v":0},{"$f":"IF(B771=\"Neinvestiční\",C771,0)","v":0},286,{"$f":"'poměry financování'!D768","v":"CZ.1.11/3.3.00/01.00286"}]
[null,{"$f":"'3.3'!I776","v":0},{"$f":"'3.3'!L776","v":0},0,0,286,{"$f":"'poměry financování'!D769","v":"CZ.1.11/3.3.00/01.00286"}]
[null,{"$f":"'3.3'!I777","v":0},{"$f":"'3.3'!L777","v":0},0,0,287,{"$f":"'poměry financování'!D770","v":"CZ.1.11/3.3.00/01.00287"}]
[null,{"$f":"'3.3'!I778","v":0},{"$f":"'3.3'!L778","v":0},0,0,{"$f":"VALUE((MID(G774,20,4)))","v":287},{"$f":"'poměry financování'!D771","v":"CZ.1.11/3.3.00/01.00287"}]
[null,{"$f":"'3.3'!I779","v":0},{"$f":"'3.3'!L779","v":0},0,0,287,{"$f":"'poměry financování'!D772","v":"CZ.1.11/3.3.00/01.00287"}]
[null,{"$f":"'3.3'!I780","v":0},{"$f":"'3.3'!L780","v":0},0,0,287,{"$f":"'poměry financování'!D773","v":"CZ.1.11/3.3.00/01.00287"}]
[null,{"$f":"'3.3'!I781","v":0},{"$f":"'3.3'!L781","v":0},0,0,287,{"$f":"'poměry financování'!D774","v":"CZ.1.11/3.3.00/01.00287"}]
[null,{"$f":"'3.3'!I782","v":0},{"$f":"'3.3'!L782","v":0},0,0,288,{"$f":"'poměry financování'!D775","v":"CZ.1.11/3.3.00/01.00288"}]
[null,{"$f":"'3.3'!I783","v":0},{"$f":"'3.3'!L783","v":0},0,0,289,{"$f":"'poměry financování'!D776","v":"CZ.1.11/3.3.00/01.00289"}]
[null,{"$f":"'3.3'!I784","v":0},{"$f":"'3.3'!L784","v":0},0,0,289,{"$f":"'poměry financování'!D777","v":"CZ.1.11/3.3.00/01.00289"}]
[null,{"$f":"'3.3'!I785","v":0},{"$f":"'3.3'!L785","v":0},0,0,289,{"$f":"'poměry financování'!D778","v":"CZ.1.11/3.3.00/01.00289"}]
[null,{"$f":"'3.3'!I786","v":0},{"$f":"'3.3'!L786","v":0},0,0,289,{"$f":"'poměry financování'!D779","v":"CZ.1.11/3.3.00/01.00289"}]
[null,{"$f":"'3.3'!I787","v":0},{"$f":"'3.3'!L787","v":0},0,0,289,{"$f":"'poměry financování'!D780","v":"CZ.1.11/3.3.00/01.00289"}]
[null,{"$f":"'3.3'!I788","v":0},{"$f":"'3.3'!L788","v":0},0,0,290,{"$f":"'poměry financování'!D781","v":"CZ.1.11/3.2.00/01.00290"}]
[null,{"$f":"'3.3'!I789","v":0},{"$f":"'3.3'!L789","v":0},0,0,291,{"$f":"'poměry financování'!D782","v":"CZ.1.11/3.3.00/01.00291"}]
[null,{"$f":"'3.3'!I790","v":0},{"$f":"'3.3'!L790","v":0},0,0,291,{"$f":"'poměry financování'!D783","v":"CZ.1.11/3.3.00/01.00291"}]
[null,{"$f":"'3.3'!I791","v":0},{"$f":"'3.3'!L791","v":0},0,0,292,{"$f":"'poměry financování'!D784","v":"CZ.1.11/3.3.00/01.00292"}]
[null,{"$f":"'3.3'!I792","v":0},{"$f":"'3.3'!L792","v":0},0,0,293,{"$f":"'poměry financování'!D785","v":"CZ.1.11/3.3.00/01.00293"}]
[null,{"$f":"'3.3'!I793","v":0},{"$f":"'3.3'!L793","v":0},0,0,294,{"$f":"'poměry financování'!D786","v":"CZ.1.11/3.3.00/01.00294"}]
[null,{"$f":"'3.3'!I794","v":0},{"$f":"'3.3'!L794","v":0},0,0,295,{"$f":"'poměry financování'!D787","v":"CZ.1.11/3.3.00/01.00295"}]
[null,{"$f":"'3.3'!I795","v":0},{"$f":"'3.3'!L795","v":0},0,0,296,{"$f":"'poměry financování'!D788","v":"CZ.1.11/3.2.00/01.00296"}]
[null,{"$f":"'3.3'!I796","v":0},{"$f":"'3.3'!L796","v":0},0,0,296,{"$f":"'poměry financování'!D789","v":"CZ.1.11/3.2.00/01.00296"}]
[null,{"$f":"'3.3'!I797","v":0},{"$f":"'3.3'!L797","v":0},0,0,296,{"$f":"'poměry financování'!D790","v":"CZ.1.11/3.2.00/01.00296"}]
[null,{"$f":"'3.3'!I798","v":0},{"$f":"'3.3'!L798","v":0},0,0,297,{"$f":"'poměry financování'!D791","v":"CZ.1.11/3.3.00/01.00297"}]
[null,{"$f":"'3.3'!I799","v":0},{"$f":"'3.3'!L799","v":0},0,0,297,{"$f":"'poměry financování'!D792","v":"CZ.1.11/3.3.00/01.00297"}]
[null,{"$f":"'3.3'!I800","v":0},{"$f":"'3.3'!L800","v":0},0,0,298,{"$f":"'poměry financování'!D793","v":"CZ.1.11/3.3.00/01.00298"}]
[null,{"$f":"'3.3'!I801","v":0},{"$f":"'3.3'!L801","v":0},0,0,298,{"$f":"'poměry financování'!D794","v":"CZ.1.11/3.3.00/01.00298"}]
[null,{"$f":"'3.3'!I802","v":0},{"$f":"'3.3'!L802","v":0},0,0,298,{"$f":"'poměry financování'!D795","v":"CZ.1.11/3.3.00/01.00298"}]
[null,{"$f":"'3.3'!I803","v":0},{"$f":"'3.3'!L803","v":0},0,0,298,{"$f":"'poměry financování'!D796","v":"CZ.1.11/3.3.00/01.00298"}]
[null,{"$f":"'3.3'!I804","v":0},{"$f":"'3.3'!L804","v":0},0,0,298,{"$f":"'poměry financování'!D797","v":"CZ.1.11/3.3.00/01.00298"}]
[null,{"$f":"'3.3'!I805","v":0},{"$f":"'3.3'!L805","v":0},0,0,298,{"$f":"'poměry financování'!D798","v":"CZ.1.11/3.3.00/01.00298"}]
[null,{"$f":"'3.3'!I806","v":0},{"$f":"'3.3'!L806","v":0},0,0,299,{"$f":"'poměry financování'!D799","v":"CZ.1.11/3.3.00/01.00299"}]
[null,{"$f":"'3.3'!I807","v":0},{"$f":"'3.3'!L807","v":0},0,0,299,{"$f":"'poměry financování'!D800","v":"CZ.1.11/3.3.00/01.00299"}]
[null,{"$f":"'3.3'!I808","v":0},{"$f":"'3.3'!L808","v":0},0,0,299,{"$f":"'poměry financování'!D801","v":"CZ.1.11/3.3.00/01.00299"}]
[null,{"$f":"'3.3'!I809","v":0},{"$f":"'3.3'!L809","v":0},0,0,300,{"$f":"'poměry financování'!D802","v":"CZ.1.11/3.3.00/01.00300"}]
[null,{"$f":"'3.3'!I810","v":0},{"$f":"'3.3'!L810","v":0},0,0,300,{"$f":"'poměry financování'!D803","v":"CZ.1.11/3.3.00/01.00300"}]
[null,{"$f":"'3.3'!I811","v":0},{"$f":"'3.3'!L811","v":0},0,0,301,{"$f":"'poměry financování'!D804","v":"CZ.1.11/3.3.00/01.00301"}]
[null,{"$f":"'3.3'!I812","v":0},{"$f":"'3.3'!L812","v":0},0,0,302,{"$f":"'poměry financování'!D805","v":"CZ.1.11/3.2.00/01.00302"}]
[null,{"$f":"'3.3'!I813","v":0},{"$f":"'3.3'!L813","v":0},0,0,303,{"$f":"'poměry financování'!D806","v":"CZ.1.11/3.3.00/01.00303"}]
[null,{"$f":"'3.3'!I814","v":0},{"$f":"'3.3'!L814","v":0},0,0,303,{"$f":"'poměry financování'!D807","v":"CZ.1.11/3.3.00/01.00303"}]
[null,{"$f":"'3.3'!I815","v":0},{"$f":"'3.3'!L815","v":0},0,0,303,{"$f":"'poměry financování'!D808","v":"CZ.1.11/3.3.00/01.00303"}]
[null,{"$f":"'3.3'!I816","v":0},{"$f":"'3.3'!L816","v":0},0,0,303,{"$f":"'poměry financování'!D809","v":"CZ.1.11/3.3.00/01.00303"}]
[null,{"$f":"'3.3'!I817","v":0},{"$f":"'3.3'!L817","v":0},0,0,303,{"$f":"'poměry financování'!D810","v":"CZ.1.11/3.3.00/01.00303"}]
[null,{"$f":"'3.3'!I818","v":0},{"$f":"'3.3'!L818","v":0},0,0,304,{"$f":"'poměry financování'!D811","v":"CZ.1.11/3.2.00/01.00304"}]
[null,{"$f":"'3.3'!I819","v":0},{"$f":"'3.3'!L819","v":0},0,0,304,{"$f":"'poměry financování'!D812","v":"CZ.1.11/3.2.00/01.00304"}]
[null,{"$f":"'3.3'!I820","v":0},{"$f":"'3.3'!L820","v":0},0,0,304,{"$f":"'poměry financování'!D813","v":"CZ.1.11/3.2.00/01.00304"}]
[null,{"$f":"'3.3'!I821","v":0},{"$f":"'3.3'!L821","v":0},0,0,305,{"$f":"'poměry financování'!D814","v":"CZ.1.11/3.2.00/01.00305"}]
[null,{"$f":"'3.3'!I822","v":0},{"$f":"'3.3'!L822","v":0},0,0,305,{"$f":"'poměry financování'!D815","v":"CZ.1.11/3.2.00/01.00305"}]
[null,{"$f":"'3.3'!I823","v":0},{"$f":"'3.3'!L823","v":0},0,0,305,{"$f":"'poměry financování'!D816","v":"CZ.1.11/3.2.00/01.00305"}]
[null,{"$f":"'3.3'!I824","v":0},{"$f":"'3.3'!L824","v":0},0,0,306,{"$f":"'poměry financování'!D817","v":"CZ.1.11/3.3.00/01.00306"}]
[null,{"$f":"'3.3'!I825","v":0},{"$f":"'3.3'!L825","v":0},0,0,307,{"$f":"'poměry financování'!D818","v":"CZ.1.11/3.3.00/01.00307"}]
[null,{"$f":"'3.3'!I826","v":0},{"$f":"'3.3'!L826","v":0},0,0,307,{"$f":"'poměry financování'!D819","v":"CZ.1.11/3.3.00/01.00307"}]
[null,{"$f":"'3.3'!I827","v":0},{"$f":"'3.3'!L827","v":0},0,0,307,{"$f":"'poměry financování'!D820","v":"CZ.1.11/3.3.00/01.00307"}]
[null,{"$f":"'3.3'!I828","v":0},{"$f":"'3.3'!L828","v":0},0,0,307,{"$f":"'poměry financování'!D821","v":"CZ.1.11/3.3.00/01.00307"}]
[null,{"$f":"'3.3'!I829","v":0},{"$f":"'3.3'!L829","v":0},0,0,308,{"$f":"'poměry financování'!D822","v":"CZ.1.11/3.3.00/01.00308"}]
[null,{"$f":"'3.3'!I830","v":0},{"$f":"'3.3'!L830","v":0},0,0,308,{"$f":"'poměry financování'!D823","v":"CZ.1.11/3.3.00/01.00308"}]
[null,{"$f":"'3.3'!I831","v":0},{"$f":"'3.3'!L831","v":0},0,0,308,{"$f":"'poměry financování'!D824","v":"CZ.1.11/3.3.00/01.00308"}]
[null,{"$f":"'3.3'!I832","v":0},{"$f":"'3.3'!L832","v":0},0,0,308,{"$f":"'poměry financování'!D825","v":"CZ.1.11/3.3.00/01.00308"}]
[null,{"$f":"'3.3'!I833","v":0},{"$f":"'3.3'!L833","v":0},0,0,308,{"$f":"'poměry financování'!D826","v":"CZ.1.11/3.3.00/01.00308"}]
[null,{"$f":"'3.3'!I834","v":0},{"$f":"'3.3'!L834","v":0},0,0,309,{"$f":"'poměry financování'!D827","v":"CZ.1.11/3.2.00/01.00309"}]
[null,{"$f":"'3.3'!I835","v":0},{"$f":"'3.3'!L835","v":0},0,0,309,{"$f":"'poměry financování'!D828","v":"CZ.1.11/3.2.00/01.00309"}]
[null,{"$f":"'3.3'!I836","v":0},{"$f":"'3.3'!L836","v":0},0,0,310,{"$f":"'poměry financování'!D829","v":"CZ.1.11/3.3.00/01.00310"}]
[null,{"$f":"'3.3'!I837","v":0},{"$f":"'3.3'!L837","v":0},0,0,311,{"$f":"'poměry financování'!D830","v":"CZ.1.11/3.3.00/01.00311"}]
[null,{"$f":"'3.3'!I838","v":0},{"$f":"'3.3'!L838","v":0},0,0,312,{"$f":"'poměry financování'!D831","v":"CZ.1.11/3.3.00/01.00312"}]
[null,{"$f":"'3.3'!I839","v":0},{"$f":"'3.3'!L839","v":0},{"$f":"IF(B835=\"Investiční\",C835,0)","v":0},{"$f":"IF(B835=\"Neinvestiční\",C835,0)","v":0},313,{"$f":"'poměry financování'!D832","v":"CZ.1.11/3.2.00/01.00313"}]
[null,{"$f":"'3.3'!I840","v":0},{"$f":"'3.3'!L840","v":0},0,0,313,{"$f":"'poměry financování'!D833","v":"CZ.1.11/3.2.00/01.00313"}]
[null,{"$f":"'3.3'!I841","v":0},{"$f":"'3.3'!L841","v":0},0,0,313,{"$f":"'poměry financování'!D834","v":"CZ.1.11/3.2.00/01.00313"}]
[null,{"$f":"'3.3'!I842","v":0},{"$f":"'3.3'!L842","v":0},0,0,{"$f":"VALUE((MID(G838,20,4)))","v":314},{"$f":"'poměry financování'!D835","v":"CZ.1.11/3.2.00/01.00314"}]
[null,{"$f":"'3.3'!I843","v":0},{"$f":"'3.3'!L843","v":0},0,0,314,{"$f":"'poměry financování'!D836","v":"CZ.1.11/3.2.00/01.00314"}]
[null,{"$f":"'3.3'!I844","v":0},{"$f":"'3.3'!L844","v":0},0,0,314,{"$f":"'poměry financování'!D837","v":"CZ.1.11/3.2.00/01.00314"}]
[null,{"$f":"'3.3'!I845","v":0},{"$f":"'3.3'!L845","v":0},0,0,315,{"$f":"'poměry financování'!D838","v":"CZ.1.11/3.2.00/01.00315"}]
[null,{"$f":"'3.3'!I846","v":0},{"$f":"'3.3'!L846","v":0},0,0,316,{"$f":"'poměry financování'!D839","v":"CZ.1.11/3.2.00/01.00316"}]
[null,{"$f":"'3.3'!I847","v":0},{"$f":"'3.3'!L847","v":0},0,0,316,{"$f":"'poměry financování'!D840","v":"CZ.1.11/3.2.00/01.00316"}]
[null,{"$f":"'3.3'!I848","v":0},{"$f":"'3.3'!L848","v":0},0,0,316,{"$f":"'poměry financování'!D841","v":"CZ.1.11/3.2.00/01.00316"}]
[null,{"$f":"'3.3'!I849","v":0},{"$f":"'3.3'!L849","v":0},0,0,317,{"$f":"'poměry financování'!D842","v":"CZ.1.11/3.3.00/01.00317"}]
[null,{"$f":"'3.3'!I850","v":0},{"$f":"'3.3'!L850","v":0},0,0,318,{"$f":"'poměry financování'!D843","v":"CZ.1.11/3.3.00/01.00318"}]
[null,{"$f":"'3.3'!I851","v":0},{"$f":"'3.3'!L851","v":0},0,0,319,{"$f":"'poměry financování'!D844","v":"CZ.1.11/3.3.00/01.00319"}]
[null,{"$f":"'3.3'!I852","v":0},{"$f":"'3.3'!L852","v":0},0,0,319,{"$f":"'poměry financování'!D845","v":"CZ.1.11/3.3.00/01.00319"}]
[null,{"$f":"'3.3'!I853","v":0},{"$f":"'3.3'!L853","v":0},0,0,320,{"$f":"'poměry financování'!D846","v":"CZ.1.11/3.3.00/01.00320"}]
[null,{"$f":"'3.3'!I854","v":0},{"$f":"'3.3'!L854","v":0},0,0,320,{"$f":"'poměry financování'!D847","v":"CZ.1.11/3.3.00/01.00320"}]
[null,{"$f":"'3.3'!I855","v":0},{"$f":"'3.3'!L855","v":0},0,0,320,{"$f":"'poměry financování'!D848","v":"CZ.1.11/3.3.00/01.00320"}]
[null,{"$f":"'3.3'!I856","v":0},{"$f":"'3.3'!L856","v":0},0,0,321,{"$f":"'poměry financování'!D849","v":"CZ.1.11/3.3.00/01.00321"}]
[null,{"$f":"'3.3'!I857","v":0},{"$f":"'3.3'!L857","v":0},0,0,321,{"$f":"'poměry financování'!D850","v":"CZ.1.11/3.3.00/01.00321"}]
[null,{"$f":"'3.3'!I858","v":0},{"$f":"'3.3'!L858","v":0},0,0,321,{"$f":"'poměry financování'!D851","v":"CZ.1.11/3.3.00/01.00321"}]
[null,{"$f":"'3.3'!I859","v":0},{"$f":"'3.3'!L859","v":0},0,0,321,{"$f":"'poměry financování'!D852","v":"CZ.1.11/3.3.00/01.00321"}]
[null,{"$f":"'3.3'!I860","v":0},{"$f":"'3.3'!L860","v":0},0,0,322,{"$f":"'poměry financování'!D853","v":"CZ.1.11/3.2.00/01.00322"}]
[null,{"$f":"'3.3'!I861","v":0},{"$f":"'3.3'!L861","v":0},0,0,323,{"$f":"'poměry financování'!D854","v":"CZ.1.11/3.2.00/01.00323"}]
[null,{"$f":"'3.3'!I862","v":0},{"$f":"'3.3'!L862","v":0},0,0,323,{"$f":"'poměry financování'!D855","v":"CZ.1.11/3.2.00/01.00323"}]
[null,{"$f":"'3.3'!I863","v":0},{"$f":"'3.3'!L863","v":0},0,0,323,{"$f":"'poměry financování'!D856","v":"CZ.1.11/3.2.00/01.00323"}]
[null,{"$f":"'3.3'!I864","v":0},{"$f":"'3.3'!L864","v":0},0,0,323,{"$f":"'poměry financování'!D857","v":"CZ.1.11/3.2.00/01.00323"}]
[null,{"$f":"'3.3'!I865","v":0},{"$f":"'3.3'!L865","v":0},0,0,323,{"$f":"'poměry financování'!D858","v":"CZ.1.11/3.2.00/01.00323"}]
[null,{"$f":"'3.3'!I866","v":0},{"$f":"'3.3'!L866","v":0},0,0,323,{"$f":"'poměry financování'!D859","v":"CZ.1.11/3.2.00/01.00323"}]
[null,{"$f":"'3.3'!I867","v":0},{"$f":"'3.3'!L867","v":0},0,0,324,{"$f":"'poměry financování'!D860","v":"CZ.1.11/3.3.00/01.00324"}]
[null,{"$f":"'3.3'!I868","v":0},{"$f":"'3.3'!L868","v":0},0,0,325,{"$f":"'poměry financování'!D861","v":"CZ.1.11/3.2.00/01.00325"}]
[null,{"$f":"'3.3'!I869","v":0},{"$f":"'3.3'!L869","v":0},0,0,325,{"$f":"'poměry financování'!D862","v":"CZ.1.11/3.2.00/01.00325"}]
[null,{"$f":"'3.3'!I870","v":0},{"$f":"'3.3'!L870","v":0},0,0,325,{"$f":"'poměry financování'!D863","v":"CZ.1.11/3.2.00/01.00325"}]
[null,{"$f":"'3.3'!I871","v":0},{"$f":"'3.3'!L871","v":0},0,0,325,{"$f":"'poměry financování'!D864","v":"CZ.1.11/3.2.00/01.00325"}]
[null,{"$f":"'3.3'!I872","v":0},{"$f":"'3.3'!L872","v":0},0,0,325,{"$f":"'poměry financování'!D865","v":"CZ.1.11/3.2.00/01.00325"}]
[null,{"$f":"'3.3'!I873","v":0},{"$f":"'3.3'!L873","v":0},0,0,326,{"$f":"'poměry financování'!D866","v":"CZ.1.11/3.2.00/01.00326"}]
[null,{"$f":"'3.3'!I874","v":0},{"$f":"'3.3'!L874","v":0},0,0,327,{"$f":"'poměry financování'!D867","v":"CZ.1.11/3.3.00/01.00327"}]
[null,{"$f":"'3.3'!I875","v":0},{"$f":"'3.3'!L875","v":0},0,0,327,{"$f":"'poměry financování'!D868","v":"CZ.1.11/3.3.00/01.00327"}]
[null,{"$f":"'3.3'!I876","v":0},{"$f":"'3.3'!L876","v":0},0,0,327,{"$f":"'poměry financování'!D869","v":"CZ.1.11/3.3.00/01.00327"}]
[null,{"$f":"'3.3'!I877","v":0},{"$f":"'3.3'!L877","v":0},0,0,328,{"$f":"'poměry financování'!D870","v":"CZ.1.11/3.3.00/01.00328"}]
[null,{"$f":"'3.3'!I878","v":0},{"$f":"'3.3'!L878","v":0},0,0,328,{"$f":"'poměry financování'!D871","v":"CZ.1.11/3.3.00/01.00328"}]
[null,{"$f":"'3.3'!I879","v":0},{"$f":"'3.3'!L879","v":0},0,0,329,{"$f":"'poměry financování'!D872","v":"CZ.1.11/3.3.00/01.00329"}]
[null,{"$f":"'3.3'!I880","v":0},{"$f":"'3.3'!L880","v":0},0,0,329,{"$f":"'poměry financování'!D873","v":"CZ.1.11/3.3.00/01.00329"}]
[null,{"$f":"'3.3'!I881","v":0},{"$f":"'3.3'!L881","v":0},0,0,329,{"$f":"'poměry financování'!D874","v":"CZ.1.11/3.3.00/01.00329"}]
[null,{"$f":"'3.3'!I882","v":0},{"$f":"'3.3'!L882","v":0},0,0,329,{"$f":"'poměry financování'!D875","v":"CZ.1.11/3.3.00/01.00329"}]
[null,{"$f":"'3.3'!I883","v":0},{"$f":"'3.3'!L883","v":0},0,0,329,{"$f":"'poměry financování'!D876","v":"CZ.1.11/3.3.00/01.00329"}]
[null,{"$f":"'3.3'!I884","v":0},{"$f":"'3.3'!L884","v":0},0,0,329,{"$f":"'poměry financování'!D877","v":"CZ.1.11/3.3.00/01.00329"}]
[null,{"$f":"'3.3'!I885","v":0},{"$f":"'3.3'!L885","v":0},0,0,330,{"$f":"'poměry financování'!D878","v":"CZ.1.11/3.3.00/01.00330"}]
[null,{"$f":"'3.3'!I886","v":0},{"$f":"'3.3'!L886","v":0},0,0,330,{"$f":"'poměry financování'!D879","v":"CZ.1.11/3.3.00/01.00330"}]
[null,{"$f":"'3.3'!I887","v":0},{"$f":"'3.3'!L887","v":0},0,0,330,{"$f":"'poměry financování'!D880","v":"CZ.1.11/3.3.00/01.00330"}]
[null,{"$f":"'3.3'!I888","v":0},{"$f":"'3.3'!L888","v":0},0,0,331,{"$f":"'poměry financování'!D881","v":"CZ.1.11/3.2.00/01.00331"}]
[null,{"$f":"'3.3'!I889","v":0},{"$f":"'3.3'!L889","v":0},0,0,332,{"$f":"'poměry financování'!D882","v":"CZ.1.11/3.3.00/01.00332"}]
[null,{"$f":"'3.3'!I890","v":0},{"$f":"'3.3'!L890","v":0},0,0,333,{"$f":"'poměry financování'!D883","v":"CZ.1.11/3.3.00/01.00333"}]
[null,{"$f":"'3.3'!I891","v":0},{"$f":"'3.3'!L891","v":0},0,0,333,{"$f":"'poměry financování'!D884","v":"CZ.1.11/3.3.00/01.00333"}]
[null,{"$f":"'3.3'!I892","v":0},{"$f":"'3.3'!L892","v":0},0,0,333,{"$f":"'poměry financování'!D885","v":"CZ.1.11/3.3.00/01.00333"}]
[null,{"$f":"'3.3'!I893","v":0},{"$f":"'3.3'!L893","v":0},0,0,334,{"$f":"'poměry financování'!D886","v":"CZ.1.11/3.3.00/01.00334"}]
[null,{"$f":"'3.3'!I894","v":0},{"$f":"'3.3'!L894","v":0},0,0,335,{"$f":"'poměry financování'!D887","v":"CZ.1.11/3.3.00/01.00335"}]
[null,{"$f":"'3.3'!I895","v":0},{"$f":"'3.3'!L895","v":0},0,0,335,{"$f":"'poměry financování'!D888","v":"CZ.1.11/3.3.00/01.00335"}]
[null,{"$f":"'3.3'!I896","v":0},{"$f":"'3.3'!L896","v":0},0,0,336,{"$f":"'poměry financování'!D889","v":"CZ.1.11/3.2.00/01.00336"}]
[null,{"$f":"'3.3'!I897","v":0},{"$f":"'3.3'!L897","v":0},0,0,337,{"$f":"'poměry financování'!D890","v":"CZ.1.11/3.3.00/01.00337"}]
[null,{"$f":"'3.3'!I898","v":0},{"$f":"'3.3'!L898","v":0},0,0,338,{"$f":"'poměry financování'!D891","v":"CZ.1.11/3.3.00/01.00338"}]
[null,{"$f":"'3.3'!I899","v":0},{"$f":"'3.3'!L899","v":0},0,0,338,{"$f":"'poměry financování'!D892","v":"CZ.1.11/3.3.00/01.00338"}]
[null,{"$f":"'3.3'!I900","v":0},{"$f":"'3.3'!L900","v":0},0,0,338,{"$f":"'poměry financování'!D893","v":"CZ.1.11/3.3.00/01.00338"}]
[null,{"$f":"'3.3'!I901","v":0},{"$f":"'3.3'!L901","v":0},0,0,339,{"$f":"'poměry financování'!D894","v":"CZ.1.11/3.2.00/01.00339"}]
[null,{"$f":"'3.3'!I902","v":0},{"$f":"'3.3'!L902","v":0},0,0,339,{"$f":"'poměry financování'!D895","v":"CZ.1.11/3.2.00/01.00339"}]
[null,{"$f":"'3.3'!I903","v":0},{"$f":"'3.3'!L903","v":0},{"$f":"IF(B899=\"Investiční\",C899,0)","v":0},{"$f":"IF(B899=\"Neinvestiční\",C899,0)","v":0},339,{"$f":"'poměry financování'!D896","v":"CZ.1.11/3.2.00/01.00339"}]
[null,{"$f":"'3.3'!I904","v":0},{"$f":"'3.3'!L904","v":0},0,0,339,{"$f":"'poměry financování'!D897","v":"CZ.1.11/3.2.00/01.00339"}]
[null,{"$f":"'3.3'!I905","v":0},{"$f":"'3.3'!L905","v":0},0,0,339,{"$f":"'poměry financování'!D898","v":"CZ.1.11/3.2.00/01.00339"}]
[null,{"$f":"'3.3'!I906","v":0},{"$f":"'3.3'!L906","v":0},0,0,{"$f":"VALUE((MID(G902,20,4)))","v":339},{"$f":"'poměry financování'!D899","v":"CZ.1.11/3.2.00/01.00339"}]
[null,{"$f":"'3.3'!I907","v":0},{"$f":"'3.3'!L907","v":0},0,0,339,{"$f":"'poměry financování'!D900","v":"CZ.1.11/3.2.00/01.00339"}]
[null,{"$f":"'3.3'!I908","v":0},{"$f":"'3.3'!L908","v":0},0,0,340,{"$f":"'poměry financování'!D901","v":"CZ.1.11/3.3.00/01.00340"}]
[null,{"$f":"'3.3'!I909","v":0},{"$f":"'3.3'!L909","v":0},0,0,341,{"$f":"'poměry financování'!D902","v":"CZ.1.11/3.2.00/01.00341"}]
[null,{"$f":"'3.3'!I910","v":0},{"$f":"'3.3'!L910","v":0},0,0,342,{"$f":"'poměry financování'!D903","v":"CZ.1.11/3.2.00/01.00342"}]
[null,{"$f":"'3.3'!I911","v":0},{"$f":"'3.3'!L911","v":0},0,0,342,{"$f":"'poměry financování'!D904","v":"CZ.1.11/3.2.00/01.00342"}]
[null,{"$f":"'3.3'!I912","v":0},{"$f":"'3.3'!L912","v":0},0,0,343,{"$f":"'poměry financování'!D905","v":"CZ.1.11/3.3.00/01.00343"}]
[null,{"$f":"'3.3'!I913","v":0},{"$f":"'3.3'!L913","v":0},0,0,344,{"$f":"'poměry financování'!D906","v":"CZ.1.11/3.3.00/01.00344"}]
[null,{"$f":"'3.3'!I914","v":0},{"$f":"'3.3'!L914","v":0},0,0,344,{"$f":"'poměry financování'!D907","v":"CZ.1.11/3.3.00/01.00344"}]
[null,{"$f":"'3.3'!I915","v":0},{"$f":"'3.3'!L915","v":0},0,0,344,{"$f":"'poměry financování'!D908","v":"CZ.1.11/3.3.00/01.00344"}]
[null,{"$f":"'3.3'!I916","v":0},{"$f":"'3.3'!L916","v":0},0,0,345,{"$f":"'poměry financování'!D909","v":"CZ.1.11/3.3.00/01.00345"}]
[null,{"$f":"'3.3'!I917","v":0},{"$f":"'3.3'!L917","v":0},0,0,345,{"$f":"'poměry financování'!D910","v":"CZ.1.11/3.3.00/01.00345"}]
[null,{"$f":"'3.3'!I918","v":0},{"$f":"'3.3'!L918","v":0},0,0,346,{"$f":"'poměry financování'!D911","v":"CZ.1.11/3.3.00/01.00346"}]
[null,{"$f":"'3.3'!I919","v":0},{"$f":"'3.3'!L919","v":0},0,0,347,{"$f":"'poměry financování'!D912","v":"CZ.1.11/3.3.00/01.00347"}]
[null,{"$f":"'3.3'!I920","v":0},{"$f":"'3.3'!L920","v":0},0,0,347,{"$f":"'poměry financování'!D913","v":"CZ.1.11/3.3.00/01.00347"}]
[null,{"$f":"'3.3'!I921","v":0},{"$f":"'3.3'!L921","v":0},0,0,348,{"$f":"'poměry financování'!D914","v":"CZ.1.11/3.2.00/01.00348"}]
[null,{"$f":"'3.3'!I922","v":0},{"$f":"'3.3'!L922","v":0},0,0,348,{"$f":"'poměry financování'!D915","v":"CZ.1.11/3.2.00/01.00348"}]
[null,{"$f":"'3.3'!I923","v":0},{"$f":"'3.3'!L923","v":0},0,0,349,{"$f":"'poměry financování'!D916","v":"CZ.1.11/3.3.00/01.00349"}]
[null,{"$f":"'3.3'!I924","v":0},{"$f":"'3.3'!L924","v":0},0,0,350,{"$f":"'poměry financování'!D917","v":"CZ.1.11/3.3.00/01.00350"}]
[null,{"$f":"'3.3'!I925","v":0},{"$f":"'3.3'!L925","v":0},0,0,350,{"$f":"'poměry financování'!D918","v":"CZ.1.11/3.3.00/01.00350"}]
[null,{"$f":"'3.3'!I926","v":0},{"$f":"'3.3'!L926","v":0},0,0,351,{"$f":"'poměry financování'!D919","v":"CZ.1.11/3.3.00/01.00351"}]
[null,{"$f":"'3.3'!I927","v":0},{"$f":"'3.3'!L927","v":0},0,0,351,{"$f":"'poměry financování'!D920","v":"CZ.1.11/3.3.00/01.00351"}]
[null,{"$f":"'3.3'!I928","v":0},{"$f":"'3.3'!L928","v":0},0,0,351,{"$f":"'poměry financování'!D921","v":"CZ.1.11/3.3.00/01.00351"}]
[null,{"$f":"'3.3'!I929","v":0},{"$f":"'3.3'!L929","v":0},0,0,351,{"$f":"'poměry financování'!D922","v":"CZ.1.11/3.3.00/01.00351"}]
[null,{"$f":"'3.3'!I930","v":0},{"$f":"'3.3'!L930","v":0},0,0,351,{"$f":"'poměry financování'!D923","v":"CZ.1.11/3.3.00/01.00351"}]
[null,{"$f":"'3.3'!I931","v":0},{"$f":"'3.3'!L931","v":0},0,0,352,{"$f":"'poměry financování'!D924","v":"CZ.1.11/3.3.00/01.00352"}]
[null,{"$f":"'3.3'!I932","v":0},{"$f":"'3.3'!L932","v":0},0,0,352,{"$f":"'poměry financování'!D925","v":"CZ.1.11/3.3.00/01.00352"}]
[null,{"$f":"'3.3'!I933","v":0},{"$f":"'3.3'!L933","v":0},0,0,352,{"$f":"'poměry financování'!D926","v":"CZ.1.11/3.3.00/01.00352"}]
[null,{"$f":"'3.3'!I934","v":0},{"$f":"'3.3'!L934","v":0},0,0,352,{"$f":"'poměry financování'!D927","v":"CZ.1.11/3.3.00/01.00352"}]
[null,{"$f":"'3.3'!I935","v":0},{"$f":"'3.3'!L935","v":0},0,0,352,{"$f":"'poměry financování'!D928","v":"CZ.1.11/3.3.00/01.00352"}]
[null,{"$f":"'3.3'!I936","v":0},{"$f":"'3.3'!L936","v":0},0,0,352,{"$f":"'poměry financování'!D929","v":"CZ.1.11/3.3.00/01.00352"}]
[null,{"$f":"'3.3'!I937","v":0},{"$f":"'3.3'!L937","v":0},0,0,352,{"$f":"'poměry financování'!D930","v":"CZ.1.11/3.3.00/01.00352"}]
[null,{"$f":"'3.3'!I938","v":0},{"$f":"'3.3'!L938","v":0},0,0,353,{"$f":"'poměry financování'!D931","v":"CZ.1.11/3.2.00/01.00353"}]
[null,{"$f":"'3.3'!I939","v":0},{"$f":"'3.3'!L939","v":0},0,0,353,{"$f":"'poměry financování'!D932","v":"CZ.1.11/3.2.00/01.00353"}]
[null,{"$f":"'3.3'!I940","v":0},{"$f":"'3.3'!L940","v":0},0,0,353,{"$f":"'poměry financování'!D933","v":"CZ.1.11/3.2.00/01.00353"}]
[null,{"$f":"'3.3'!I941","v":0},{"$f":"'3.3'!L941","v":0},0,0,353,{"$f":"'poměry financování'!D934","v":"CZ.1.11/3.2.00/01.00353"}]
[null,{"$f":"'3.3'!I942","v":0},{"$f":"'3.3'!L942","v":0},0,0,354,{"$f":"'poměry financování'!D935","v":"CZ.1.11/3.3.00/01.00354"}]
[null,{"$f":"'3.3'!I943","v":0},{"$f":"'3.3'!L943","v":0},0,0,354,{"$f":"'poměry financování'!D936","v":"CZ.1.11/3.3.00/01.00354"}]
[null,{"$f":"'3.3'!I944","v":0},{"$f":"'3.3'!L944","v":0},0,0,354,{"$f":"'poměry financování'!D937","v":"CZ.1.11/3.3.00/01.00354"}]
[null,{"$f":"'3.3'!I945","v":0},{"$f":"'3.3'!L945","v":0},0,0,354,{"$f":"'poměry financování'!D938","v":"CZ.1.11/3.3.00/01.00354"}]
[null,{"$f":"'3.3'!I946","v":0},{"$f":"'3.3'!L946","v":0},0,0,354,{"$f":"'poměry financování'!D939","v":"CZ.1.11/3.3.00/01.00354"}]
[null,{"$f":"'3.3'!I947","v":0},{"$f":"'3.3'!L947","v":0},0,0,355,{"$f":"'poměry financování'!D940","v":"CZ.1.11/3.3.00/01.00355"}]
[null,{"$f":"'3.3'!I948","v":0},{"$f":"'3.3'!L948","v":0},0,0,355,{"$f":"'poměry financování'!D941","v":"CZ.1.11/3.3.00/01.00355"}]
[null,{"$f":"'3.3'!I949","v":0},{"$f":"'3.3'!L949","v":0},0,0,356,{"$f":"'poměry financování'!D942","v":"CZ.1.11/3.3.00/01.00356"}]
[null,{"$f":"'3.3'!I950","v":0},{"$f":"'3.3'!L950","v":0},0,0,357,{"$f":"'poměry financování'!D943","v":"CZ.1.11/3.2.00/01.00357"}]
[null,{"$f":"'3.3'!I951","v":0},{"$f":"'3.3'!L951","v":0},0,0,358,{"$f":"'poměry financování'!D944","v":"CZ.1.11/3.2.00/01.00358"}]
[null,{"$f":"'3.3'!I952","v":0},{"$f":"'3.3'!L952","v":0},0,0,359,{"$f":"'poměry financování'!D945","v":"CZ.1.11/3.3.00/01.00359"}]
[null,{"$f":"'3.3'!I953","v":0},{"$f":"'3.3'!L953","v":0},0,0,359,{"$f":"'poměry financování'!D946","v":"CZ.1.11/3.3.00/01.00359"}]
[null,{"$f":"'3.3'!I954","v":0},{"$f":"'3.3'!L954","v":0},0,0,359,{"$f":"'poměry financování'!D947","v":"CZ.1.11/3.3.00/01.00359"}]
[null,{"$f":"'3.3'!I955","v":0},{"$f":"'3.3'!L955","v":0},0,0,360,{"$f":"'poměry financování'!D948","v":"CZ.1.11/3.2.00/01.00360"}]
[null,{"$f":"'3.3'!I956","v":0},{"$f":"'3.3'!L956","v":0},0,0,361,{"$f":"'poměry financování'!D949","v":"CZ.1.11/3.3.00/01.00361"}]
[null,{"$f":"'3.3'!I957","v":0},{"$f":"'3.3'!L957","v":0},0,0,362,{"$f":"'poměry financování'!D950","v":"CZ.1.11/3.2.00/01.00362"}]
[null,{"$f":"'3.3'!I958","v":0},{"$f":"'3.3'!L958","v":0},0,0,363,{"$f":"'poměry financování'!D951","v":"CZ.1.11/3.3.00/01.00363"}]
[null,{"$f":"'3.3'!I959","v":0},{"$f":"'3.3'!L959","v":0},0,0,364,{"$f":"'poměry financování'!D952","v":"CZ.1.11/3.3.00/01.00364"}]
[null,{"$f":"'3.3'!I960","v":0},{"$f":"'3.3'!L960","v":0},0,0,364,{"$f":"'poměry financování'!D953","v":"CZ.1.11/3.3.00/01.00364"}]
[null,{"$f":"'3.3'!I961","v":0},{"$f":"'3.3'!L961","v":0},0,0,364,{"$f":"'poměry financování'!D954","v":"CZ.1.11/3.3.00/01.00364"}]
[null,{"$f":"'3.3'!I962","v":0},{"$f":"'3.3'!L962","v":0},0,0,364,{"$f":"'poměry financování'!D955","v":"CZ.1.11/3.3.00/01.00364"}]
[null,{"$f":"'3.3'!I963","v":0},{"$f":"'3.3'!L963","v":0},0,0,365,{"$f":"'poměry financování'!D956","v":"CZ.1.11/3.2.00/01.00365"}]
[null,{"$f":"'3.3'!I964","v":0},{"$f":"'3.3'!L964","v":0},0,0,366,{"$f":"'poměry financování'!D957","v":"CZ.1.11/3.3.00/01.00366"}]
[null,{"$f":"'3.3'!I965","v":0},{"$f":"'3.3'!L965","v":0},0,0,367,{"$f":"'poměry financování'!D958","v":"CZ.1.11/3.3.00/01.00367"}]
[null,{"$f":"'3.3'!I966","v":0},{"$f":"'3.3'!L966","v":0},0,0,368,{"$f":"'poměry financování'!D959","v":"CZ.1.11/3.2.00/01.00368"}]
[null,{"$f":"'3.3'!I967","v":0},{"$f":"'3.3'!L967","v":0},{"$f":"IF(B963=\"Investiční\",C963,0)","v":0},{"$f":"IF(B963=\"Neinvestiční\",C963,0)","v":0},368,{"$f":"'poměry financování'!D960","v":"CZ.1.11/3.2.00/01.00368"}]
[null,{"$f":"'3.3'!I968","v":0},{"$f":"'3.3'!L968","v":0},0,0,368,{"$f":"'poměry financování'!D961","v":"CZ.1.11/3.2.00/01.00368"}]
[null,{"$f":"'3.3'!I969","v":0},{"$f":"'3.3'!L969","v":0},0,0,368,{"$f":"'poměry financování'!D962","v":"CZ.1.11/3.2.00/01.00368"}]
[null,{"$f":"'3.3'!I970","v":0},{"$f":"'3.3'!L970","v":0},0,0,{"$f":"VALUE((MID(G966,20,4)))","v":369},{"$f":"'poměry financování'!D963","v":"CZ.1.11/3.3.00/01.00369"}]
[null,{"$f":"'3.3'!I971","v":0},{"$f":"'3.3'!L971","v":0},0,0,370,{"$f":"'poměry financování'!D964","v":"CZ.1.11/3.3.00/01.00370"}]
[null,{"$f":"'3.3'!I972","v":0},{"$f":"'3.3'!L972","v":0},0,0,371,{"$f":"'poměry financování'!D965","v":"CZ.1.11/3.2.00/01.00371"}]
[null,{"$f":"'3.3'!I973","v":0},{"$f":"'3.3'!L973","v":0},0,0,371,{"$f":"'poměry financování'!D966","v":"CZ.1.11/3.2.00/01.00371"}]
[null,{"$f":"'3.3'!I974","v":0},{"$f":"'3.3'!L974","v":0},0,0,371,{"$f":"'poměry financování'!D967","v":"CZ.1.11/3.2.00/01.00371"}]
[null,{"$f":"'3.3'!I975","v":0},{"$f":"'3.3'!L975","v":0},0,0,371,{"$f":"'poměry financování'!D968","v":"CZ.1.11/3.2.00/01.00371"}]
[null,{"$f":"'3.3'!I976","v":0},{"$f":"'3.3'!L976","v":0},0,0,371,{"$f":"'poměry financování'!D969","v":"CZ.1.11/3.2.00/01.00371"}]
[null,{"$f":"'3.3'!I977","v":0},{"$f":"'3.3'!L977","v":0},0,0,372,{"$f":"'poměry financování'!D970","v":"CZ.1.11/3.3.00/01.00372"}]
[null,{"$f":"'3.3'!I978","v":0},{"$f":"'3.3'!L978","v":0},0,0,373,{"$f":"'poměry financování'!D971","v":"CZ.1.11/3.3.00/01.00373"}]
[null,{"$f":"'3.3'!I979","v":0},{"$f":"'3.3'!L979","v":0},0,0,373,{"$f":"'poměry financování'!D972","v":"CZ.1.11/3.3.00/01.00373"}]
[null,{"$f":"'3.3'!I980","v":0},{"$f":"'3.3'!L980","v":0},0,0,374,{"$f":"'poměry financování'!D973","v":"CZ.1.11/3.2.00/01.00374"}]
[null,{"$f":"'3.3'!I981","v":0},{"$f":"'3.3'!L981","v":0},0,0,374,{"$f":"'poměry financování'!D974","v":"CZ.1.11/3.2.00/01.00374"}]
[null,{"$f":"'3.3'!I982","v":0},{"$f":"'3.3'!L982","v":0},0,0,374,{"$f":"'poměry financování'!D975","v":"CZ.1.11/3.2.00/01.00374"}]
[null,{"$f":"'3.3'!I983","v":0},{"$f":"'3.3'!L983","v":0},0,0,374,{"$f":"'poměry financování'!D976","v":"CZ.1.11/3.2.00/01.00374"}]
[null,{"$f":"'3.3'!I984","v":0},{"$f":"'3.3'!L984","v":0},0,0,375,{"$f":"'poměry financování'!D977","v":"CZ.1.11/3.3.00/01.00375"}]
[null,{"$f":"'3.3'!I985","v":0},{"$f":"'3.3'!L985","v":0},0,0,376,{"$f":"'poměry financování'!D978","v":"CZ.1.11/3.3.00/01.00376"}]
[null,{"$f":"'3.3'!I986","v":0},{"$f":"'3.3'!L986","v":0},0,0,377,{"$f":"'poměry financování'!D979","v":"CZ.1.11/3.3.00/01.00377"}]
[null,{"$f":"'3.3'!I987","v":0},{"$f":"'3.3'!L987","v":0},0,0,378,{"$f":"'poměry financování'!D980","v":"CZ.1.11/3.2.00/01.00378"}]
[null,{"$f":"'3.3'!I988","v":0},{"$f":"'3.3'!L988","v":0},0,0,378,{"$f":"'poměry financování'!D981","v":"CZ.1.11/3.2.00/01.00378"}]
[null,{"$f":"'3.3'!I989","v":0},{"$f":"'3.3'!L989","v":0},0,0,378,{"$f":"'poměry financování'!D982","v":"CZ.1.11/3.2.00/01.00378"}]
[null,{"$f":"'3.3'!I990","v":0},{"$f":"'3.3'!L990","v":0},0,0,378,{"$f":"'poměry financování'!D983","v":"CZ.1.11/3.2.00/01.00378"}]
[null,{"$f":"'3.3'!I991","v":0},{"$f":"'3.3'!L991","v":0},0,0,378,{"$f":"'poměry financování'!D984","v":"CZ.1.11/3.2.00/01.00378"}]
[null,{"$f":"'3.3'!I992","v":0},{"$f":"'3.3'!L992","v":0},0,0,378,{"$f":"'poměry financování'!D985","v":"CZ.1.11/3.2.00/01.00378"}]
[null,{"$f":"'3.3'!I993","v":0},{"$f":"'3.3'!L993","v":0},0,0,379,{"$f":"'poměry financování'!D986","v":"CZ.1.11/3.3.00/01.00379"}]
[null,{"$f":"'3.3'!I994","v":0},{"$f":"'3.3'!L994","v":0},0,0,379,{"$f":"'poměry financování'!D987","v":"CZ.1.11/3.3.00/01.00379"}]
[null,{"$f":"'3.3'!I995","v":0},{"$f":"'3.3'!L995","v":0},0,0,380,{"$f":"'poměry financování'!D988","v":"CZ.1.11/3.2.00/01.00380"}]
[null,{"$f":"'3.3'!I996","v":0},{"$f":"'3.3'!L996","v":0},0,0,380,{"$f":"'poměry financování'!D989","v":"CZ.1.11/3.2.00/01.00380"}]
[null,{"$f":"'3.3'!I997","v":0},{"$f":"'3.3'!L997","v":0},0,0,381,{"$f":"'poměry financování'!D990","v":"CZ.1.11/3.2.00/01.00381"}]
[null,{"$f":"'3.3'!I998","v":0},{"$f":"'3.3'!L998","v":0},0,0,381,{"$f":"'poměry financování'!D991","v":"CZ.1.11/3.2.00/01.00381"}]
[null,{"$f":"'3.3'!I999","v":0},{"$f":"'3.3'!L999","v":0},0,0,381,{"$f":"'poměry financování'!D992","v":"CZ.1.11/3.2.00/01.00381"}]
[null,{"$f":"'3.3'!I1000","v":0},{"$f":"'3.3'!L1000","v":0},0,0,382,{"$f":"'poměry financování'!D993","v":"CZ.1.11/3.3.00/01.00382"}]
[null,{"$f":"'3.3'!I1001","v":0},{"$f":"'3.3'!L1001","v":0},0,0,382,{"$f":"'poměry financování'!D994","v":"CZ.1.11/3.3.00/01.00382"}]
[null,{"$f":"'3.3'!I1002","v":0},{"$f":"'3.3'!L1002","v":0},0,0,382,{"$f":"'poměry financování'!D995","v":"CZ.1.11/3.3.00/01.00382"}]
[null,{"$f":"'3.3'!I1003","v":0},{"$f":"'3.3'!L1003","v":0},0,0,382,{"$f":"'poměry financování'!D996","v":"CZ.1.11/3.3.00/01.00382"}]
[null,{"$f":"'3.3'!I1004","v":0},{"$f":"'3.3'!L1004","v":0},0,0,382,{"$f":"'poměry financování'!D997","v":"CZ.1.11/3.3.00/01.00382"}]
[null,{"$f":"'3.3'!I1005","v":0},{"$f":"'3.3'!L1005","v":0},0,0,382,{"$f":"'poměry financování'!D998","v":"CZ.1.11/3.3.00/01.00382"}]
[null,{"$f":"'3.3'!I1006","v":0},{"$f":"'3.3'!L1006","v":0},0,0,383,{"$f":"'poměry financování'!D999","v":"CZ.1.11/3.3.00/01.00383"}]
[null,{"$f":"'3.3'!I1007","v":0},{"$f":"'3.3'!L1007","v":0},0,0,383,{"$f":"'poměry financování'!D1000","v":"CZ.1.11/3.3.00/01.00383"}]
[null,{"$f":"'3.3'!I1008","v":0},{"$f":"'3.3'!L1008","v":0},0,0,383,{"$f":"'poměry financování'!D1001","v":"CZ.1.11/3.3.00/01.00383"}]
[null,{"$f":"'3.3'!I1009","v":0},{"$f":"'3.3'!L1009","v":0},0,0,384,{"$f":"'poměry financování'!D1002","v":"CZ.1.11/3.2.00/01.00384"}]
[null,{"$f":"'3.3'!I1010","v":0},{"$f":"'3.3'!L1010","v":0},0,0,384,{"$f":"'poměry financování'!D1003","v":"CZ.1.11/3.2.00/01.00384"}]
[null,{"$f":"'3.3'!I1011","v":0},{"$f":"'3.3'!L1011","v":0},0,0,384,{"$f":"'poměry financování'!D1004","v":"CZ.1.11/3.2.00/01.00384"}]
[null,{"$f":"'3.3'!I1012","v":0},{"$f":"'3.3'!L1012","v":0},0,0,384,{"$f":"'poměry financování'!D1005","v":"CZ.1.11/3.2.00/01.00384"}]
[null,{"$f":"'3.3'!I1013","v":0},{"$f":"'3.3'!L1013","v":0},0,0,385,{"$f":"'poměry financování'!D1006","v":"CZ.1.11/3.2.00/01.00385"}]
[null,{"$f":"'3.3'!I1014","v":0},{"$f":"'3.3'!L1014","v":0},0,0,386,{"$f":"'poměry financování'!D1007","v":"CZ.1.11/3.3.00/01.00386"}]
[null,{"$f":"'3.3'!I1015","v":0},{"$f":"'3.3'!L1015","v":0},0,0,386,{"$f":"'poměry financování'!D1008","v":"CZ.1.11/3.3.00/01.00386"}]
[null,{"$f":"'3.3'!I1016","v":0},{"$f":"'3.3'!L1016","v":0},0,0,386,{"$f":"'poměry financování'!D1009","v":"CZ.1.11/3.3.00/01.00386"}]
[null,{"$f":"'3.3'!I1017","v":0},{"$f":"'3.3'!L1017","v":0},0,0,387,{"$f":"'poměry financování'!D1010","v":"CZ.1.11/3.3.00/01.00387"}]
[null,{"$f":"'3.3'!I1018","v":0},{"$f":"'3.3'!L1018","v":0},0,0,387,{"$f":"'poměry financování'!D1011","v":"CZ.1.11/3.3.00/01.00387"}]
[null,{"$f":"'3.3'!I1019","v":0},{"$f":"'3.3'!L1019","v":0},0,0,387,{"$f":"'poměry financování'!D1012","v":"CZ.1.11/3.3.00/01.00387"}]
[null,{"$f":"'3.3'!I1020","v":0},{"$f":"'3.3'!L1020","v":0},0,0,388,{"$f":"'poměry financování'!D1013","v":"CZ.1.11/3.3.00/01.00388"}]
[null,{"$f":"'3.3'!I1021","v":0},{"$f":"'3.3'!L1021","v":0},0,0,388,{"$f":"'poměry financování'!D1014","v":"CZ.1.11/3.3.00/01.00388"}]
[null,{"$f":"'3.3'!I1022","v":0},{"$f":"'3.3'!L1022","v":0},0,0,388,{"$f":"'poměry financování'!D1015","v":"CZ.1.11/3.3.00/01.00388"}]
[null,{"$f":"'3.3'!I1023","v":0},{"$f":"'3.3'!L1023","v":0},0,0,388,{"$f":"'poměry financování'!D1016","v":"CZ.1.11/3.3.00/01.00388"}]
[null,{"$f":"'3.3'!I1024","v":0},{"$f":"'3.3'!L1024","v":0},0,0,388,{"$f":"'poměry financování'!D1017","v":"CZ.1.11/3.3.00/01.00388"}]
[null,{"$f":"'3.3'!I1025","v":0},{"$f":"'3.3'!L1025","v":0},0,0,388,{"$f":"'poměry financování'!D1018","v":"CZ.1.11/3.3.00/01.00388"}]
[null,{"$f":"'3.3'!I1026","v":0},{"$f":"'3.3'!L1026","v":0},0,0,389,{"$f":"'poměry financování'!D1019","v":"CZ.1.11/3.3.00/01.00389"}]
[null,{"$f":"'3.3'!I1027","v":0},{"$f":"'3.3'!L1027","v":0},0,0,389,{"$f":"'poměry financování'!D1020","v":"CZ.1.11/3.3.00/01.00389"}]
[null,{"$f":"'3.3'!I1028","v":0},{"$f":"'3.3'!L1028","v":0},0,0,389,{"$f":"'poměry financování'!D1021","v":"CZ.1.11/3.3.00/01.00389"}]
[null,{"$f":"'3.3'!I1029","v":0},{"$f":"'3.3'!L1029","v":0},0,0,389,{"$f":"'poměry financování'!D1022","v":"CZ.1.11/3.3.00/01.00389"}]
[null,{"$f":"'3.3'!I1030","v":0},{"$f":"'3.3'!L1030","v":0},0,0,390,{"$f":"'poměry financování'!D1023","v":"CZ.1.11/3.3.00/01.00390"}]
[null,{"$f":"'3.3'!I1031","v":0},{"$f":"'3.3'!L1031","v":0},{"$f":"IF(B1027=\"Investiční\",C1027,0)","v":0},{"$f":"IF(B1027=\"Neinvestiční\",C1027,0)","v":0},390,{"$f":"'poměry financování'!D1024","v":"CZ.1.11/3.3.00/01.00390"}]
[null,{"$f":"'3.3'!I1032","v":0},{"$f":"'3.3'!L1032","v":0},0,0,391,{"$f":"'poměry financování'!D1025","v":"CZ.1.11/3.2.00/01.00391"}]
[null,{"$f":"'3.3'!I1033","v":0},{"$f":"'3.3'!L1033","v":0},0,0,392,{"$f":"'poměry financování'!D1026","v":"CZ.1.11/3.2.00/01.00392"}]
[null,{"$f":"'3.3'!I1034","v":0},{"$f":"'3.3'!L1034","v":0},0,0,{"$f":"VALUE((MID(G1030,20,4)))","v":392},{"$f":"'poměry financování'!D1027","v":"CZ.1.11/3.2.00/01.00392"}]
[null,{"$f":"'3.3'!I1035","v":0},{"$f":"'3.3'!L1035","v":0},0,0,393,{"$f":"'poměry financování'!D1028","v":"CZ.1.11/3.2.00/01.00393"}]
[null,{"$f":"'3.3'!I1036","v":0},{"$f":"'3.3'!L1036","v":0},0,0,393,{"$f":"'poměry financování'!D1029","v":"CZ.1.11/3.2.00/01.00393"}]
[null,{"$f":"'3.3'!I1037","v":0},{"$f":"'3.3'!L1037","v":0},0,0,393,{"$f":"'poměry financování'!D1030","v":"CZ.1.11/3.2.00/01.00393"}]
[null,{"$f":"'3.3'!I1038","v":0},{"$f":"'3.3'!L1038","v":0},0,0,393,{"$f":"'poměry financování'!D1031","v":"CZ.1.11/3.2.00/01.00393"}]
[null,{"$f":"'3.3'!I1039","v":0},{"$f":"'3.3'!L1039","v":0},0,0,393,{"$f":"'poměry financování'!D1032","v":"CZ.1.11/3.2.00/01.00393"}]
[null,{"$f":"'3.3'!I1040","v":0},{"$f":"'3.3'!L1040","v":0},0,0,393,{"$f":"'poměry financování'!D1033","v":"CZ.1.11/3.2.00/01.00393"}]
[null,{"$f":"'3.3'!I1041","v":0},{"$f":"'3.3'!L1041","v":0},0,0,394,{"$f":"'poměry financování'!D1034","v":"CZ.1.11/3.3.00/01.00394"}]
[null,{"$f":"'3.3'!I1042","v":0},{"$f":"'3.3'!L1042","v":0},0,0,394,{"$f":"'poměry financování'!D1035","v":"CZ.1.11/3.3.00/01.00394"}]
[null,{"$f":"'3.3'!I1043","v":0},{"$f":"'3.3'!L1043","v":0},0,0,394,{"$f":"'poměry financování'!D1036","v":"CZ.1.11/3.3.00/01.00394"}]
[null,{"$f":"'3.3'!I1044","v":0},{"$f":"'3.3'!L1044","v":0},0,0,395,{"$f":"'poměry financování'!D1037","v":"CZ.1.11/3.2.00/01.00395"}]
[null,{"$f":"'3.3'!I1045","v":0},{"$f":"'3.3'!L1045","v":0},0,0,395,{"$f":"'poměry financování'!D1038","v":"CZ.1.11/3.2.00/01.00395"}]
[null,{"$f":"'3.3'!I1046","v":0},{"$f":"'3.3'!L1046","v":0},0,0,395,{"$f":"'poměry financování'!D1039","v":"CZ.1.11/3.2.00/01.00395"}]
[null,{"$f":"'3.3'!I1047","v":0},{"$f":"'3.3'!L1047","v":0},0,0,396,{"$f":"'poměry financování'!D1040","v":"CZ.1.11/3.2.00/01.00396"}]
[null,{"$f":"'3.3'!I1048","v":0},{"$f":"'3.3'!L1048","v":0},0,0,396,{"$f":"'poměry financování'!D1041","v":"CZ.1.11/3.2.00/01.00396"}]
[null,{"$f":"'3.3'!I1049","v":0},{"$f":"'3.3'!L1049","v":0},0,0,396,{"$f":"'poměry financování'!D1042","v":"CZ.1.11/3.2.00/01.00396"}]
[null,{"$f":"'3.3'!I1050","v":0},{"$f":"'3.3'!L1050","v":0},0,0,396,{"$f":"'poměry financování'!D1043","v":"CZ.1.11/3.2.00/01.00396"}]
[null,{"$f":"'3.3'!I1051","v":0},{"$f":"'3.3'!L1051","v":0},0,0,397,{"$f":"'poměry financování'!D1044","v":"CZ.1.11/3.2.00/01.00397"}]
[null,{"$f":"'3.3'!I1052","v":0},{"$f":"'3.3'!L1052","v":0},0,0,398,{"$f":"'poměry financování'!D1045","v":"CZ.1.11/3.2.00/01.00398"}]
[null,{"$f":"'3.3'!I1053","v":0},{"$f":"'3.3'!L1053","v":0},0,0,398,{"$f":"'poměry financování'!D1046","v":"CZ.1.11/3.2.00/01.00398"}]
[null,{"$f":"'3.3'!I1054","v":0},{"$f":"'3.3'!L1054","v":0},0,0,399,{"$f":"'poměry financování'!D1047","v":"CZ.1.11/3.3.00/01.00399"}]
[null,{"$f":"'3.3'!I1055","v":0},{"$f":"'3.3'!L1055","v":0},0,0,399,{"$f":"'poměry financování'!D1048","v":"CZ.1.11/3.3.00/01.00399"}]
[null,{"$f":"'3.3'!I1056","v":0},{"$f":"'3.3'!L1056","v":0},0,0,399,{"$f":"'poměry financování'!D1049","v":"CZ.1.11/3.3.00/01.00399"}]
[null,{"$f":"'3.3'!I1057","v":0},{"$f":"'3.3'!L1057","v":0},0,0,400,{"$f":"'poměry financování'!D1050","v":"CZ.1.11/3.3.00/01.00400"}]
[null,{"$f":"'3.3'!I1058","v":0},{"$f":"'3.3'!L1058","v":0},0,0,400,{"$f":"'poměry financování'!D1051","v":"CZ.1.11/3.3.00/01.00400"}]
[null,{"$f":"'3.3'!I1059","v":0},{"$f":"'3.3'!L1059","v":0},0,0,400,{"$f":"'poměry financování'!D1052","v":"CZ.1.11/3.3.00/01.00400"}]
[null,{"$f":"'3.3'!I1060","v":0},{"$f":"'3.3'!L1060","v":0},0,0,401,{"$f":"'poměry financování'!D1053","v":"CZ.1.11/1.1.00/01.00401"}]
[null,{"$f":"'3.3'!I1061","v":0},{"$f":"'3.3'!L1061","v":0},0,0,401,{"$f":"'poměry financování'!D1054","v":"CZ.1.11/1.1.00/01.00401"}]
[null,{"$f":"'3.3'!I1062","v":0},{"$f":"'3.3'!L1062","v":0},0,0,401,{"$f":"'poměry financování'!D1055","v":"CZ.1.11/1.1.00/01.00401"}]
[null,{"$f":"'3.3'!I1063","v":0},{"$f":"'3.3'!L1063","v":0},0,0,402,{"$f":"'poměry financování'!D1056","v":"CZ.1.11/1.1.00/01.00402"}]
[null,{"$f":"'3.3'!I1064","v":0},{"$f":"'3.3'!L1064","v":0},0,0,403,{"$f":"'poměry financování'!D1057","v":"CZ.1.11/1.1.00/01.00403"}]
[null,{"$f":"'3.3'!I1065","v":0},{"$f":"'3.3'!L1065","v":0},0,0,403,{"$f":"'poměry financování'!D1058","v":"CZ.1.11/1.1.00/01.00403"}]
[null,{"$f":"'3.3'!I1066","v":0},{"$f":"'3.3'!L1066","v":0},0,0,403,{"$f":"'poměry financování'!D1059","v":"CZ.1.11/1.1.00/01.00403"}]
[null,{"$f":"'3.3'!I1067","v":0},{"$f":"'3.3'!L1067","v":0},0,0,404,{"$f":"'poměry financování'!D1060","v":"CZ.1.11/1.1.00/01.00404"}]
[null,{"$f":"'3.3'!I1068","v":0},{"$f":"'3.3'!L1068","v":0},0,0,405,{"$f":"'poměry financování'!D1061","v":"CZ.1.11/4.2.00/01.00405"}]
[null,{"$f":"'3.3'!I1069","v":0},{"$f":"'3.3'!L1069","v":0},0,0,405,{"$f":"'poměry financování'!D1062","v":"CZ.1.11/4.2.00/01.00405"}]
[null,{"$f":"'3.3'!I1070","v":0},{"$f":"'3.3'!L1070","v":0},0,0,405,{"$f":"'poměry financování'!D1063","v":"CZ.1.11/4.2.00/01.00405"}]
[null,{"$f":"'3.3'!I1071","v":0},{"$f":"'3.3'!L1071","v":0},0,0,406,{"$f":"'poměry financování'!D1064","v":"CZ.1.11/3.3.00/01.00406"}]
[null,{"$f":"'3.3'!I1072","v":0},{"$f":"'3.3'!L1072","v":0},0,0,407,{"$f":"'poměry financování'!D1065","v":"CZ.1.11/3.4.00/02.00407"}]
[null,{"$f":"'3.3'!I1073","v":0},{"$f":"'3.3'!L1073","v":0},0,0,408,{"$f":"'poměry financování'!D1066","v":"CZ.1.11/1.1.00/01.00408"}]
[null,{"$f":"'3.3'!I1074","v":0},{"$f":"'3.3'!L1074","v":0},0,0,408,{"$f":"'poměry financování'!D1067","v":"CZ.1.11/1.1.00/01.00408"}]
[null,{"$f":"'3.3'!I1075","v":0},{"$f":"'3.3'!L1075","v":0},0,0,408,{"$f":"'poměry financování'!D1068","v":"CZ.1.11/1.1.00/01.00408"}]
[null,{"$f":"'3.3'!I1076","v":0},{"$f":"'3.3'!L1076","v":0},0,0,408,{"$f":"'poměry financování'!D1069","v":"CZ.1.11/1.1.00/01.00408"}]
[null,{"$f":"'3.3'!I1077","v":0},{"$f":"'3.3'!L1077","v":0},0,0,409,{"$f":"'poměry financování'!D1070","v":"CZ.1.11/2.1.00/02.00409"}]
[null,{"$f":"'3.3'!I1078","v":0},{"$f":"'3.3'!L1078","v":0},0,0,409,{"$f":"'poměry financování'!D1071","v":"CZ.1.11/2.1.00/02.00409"}]
[null,{"$f":"'3.3'!I1079","v":0},{"$f":"'3.3'!L1079","v":0},0,0,409,{"$f":"'poměry financování'!D1072","v":"CZ.1.11/2.1.00/02.00409"}]
[null,{"$f":"'3.3'!I1080","v":0},{"$f":"'3.3'!L1080","v":0},0,0,410,{"$f":"'poměry financování'!D1073","v":"CZ.1.11/4.2.00/01.00410"}]
[null,{"$f":"'3.3'!I1081","v":0},{"$f":"'3.3'!L1081","v":0},0,0,410,{"$f":"'poměry financování'!D1074","v":"CZ.1.11/4.2.00/01.00410"}]
[null,{"$f":"'3.3'!I1082","v":0},{"$f":"'3.3'!L1082","v":0},0,0,410,{"$f":"'poměry financování'!D1075","v":"CZ.1.11/4.2.00/01.00410"}]
[null,{"$f":"'3.3'!I1083","v":0},{"$f":"'3.3'!L1083","v":0},0,0,410,{"$f":"'poměry financování'!D1076","v":"CZ.1.11/4.2.00/01.00410"}]
[null,{"$f":"'3.3'!I1084","v":0},{"$f":"'3.3'!L1084","v":0},0,0,410,{"$f":"'poměry financování'!D1077","v":"CZ.1.11/4.2.00/01.00410"}]
[null,{"$f":"'3.3'!I1085","v":0},{"$f":"'3.3'!L1085","v":0},0,0,410,{"$f":"'poměry financování'!D1078","v":"CZ.1.11/4.2.00/01.00410"}]
[null,{"$f":"'3.3'!I1086","v":0},{"$f":"'3.3'!L1086","v":0},0,0,410,{"$f":"'poměry financování'!D1079","v":"CZ.1.11/4.2.00/01.00410"}]
[null,{"$f":"'3.3'!I1087","v":0},{"$f":"'3.3'!L1087","v":0},0,0,411,{"$f":"'poměry financování'!D1080","v":"CZ.1.11/3.4.00/02.00411"}]
[null,{"$f":"'3.3'!I1088","v":0},{"$f":"'3.3'!L1088","v":0},0,0,411,{"$f":"'poměry financování'!D1081","v":"CZ.1.11/3.4.00/02.00411"}]
[null,{"$f":"'3.3'!I1089","v":0},{"$f":"'3.3'!L1089","v":0},0,0,411,{"$f":"'poměry financování'!D1082","v":"CZ.1.11/3.4.00/02.00411"}]
[null,{"$f":"'3.3'!I1090","v":0},{"$f":"'3.3'!L1090","v":0},0,0,412,{"$f":"'poměry financování'!D1083","v":"CZ.1.11/2.1.00/02.00412"}]
[null,{"$f":"'3.3'!I1091","v":0},{"$f":"'3.3'!L1091","v":0},0,0,412,{"$f":"'poměry financování'!D1084","v":"CZ.1.11/2.1.00/02.00412"}]
[null,{"$f":"'3.3'!I1092","v":0},{"$f":"'3.3'!L1092","v":0},0,0,412,{"$f":"'poměry financování'!D1085","v":"CZ.1.11/2.1.00/02.00412"}]
[null,{"$f":"'3.3'!I1093","v":0},{"$f":"'3.3'!L1093","v":0},0,0,412,{"$f":"'poměry financování'!D1086","v":"CZ.1.11/2.1.00/02.00412"}]
[null,{"$f":"'3.3'!I1094","v":0},{"$f":"'3.3'!L1094","v":0},0,0,413,{"$f":"'poměry financování'!D1087","v":"CZ.1.11/2.1.00/02.00413"}]
[null,{"$f":"'3.3'!I1095","v":0},{"$f":"'3.3'!L1095","v":0},{"$f":"IF(B1091=\"Investiční\",C1091,0)","v":0},{"$f":"IF(B1091=\"Neinvestiční\",C1091,0)","v":0},413,{"$f":"'poměry financování'!D1088","v":"CZ.1.11/2.1.00/02.00413"}]
[null,{"$f":"'3.3'!I1096","v":0},{"$f":"'3.3'!L1096","v":0},0,0,413,{"$f":"'poměry financování'!D1089","v":"CZ.1.11/2.1.00/02.00413"}]
[null,{"$f":"'3.3'!I1097","v":0},{"$f":"'3.3'!L1097","v":0},0,0,413,{"$f":"'poměry financování'!D1090","v":"CZ.1.11/2.1.00/02.00413"}]
[null,{"$f":"'3.3'!I1098","v":0},{"$f":"'3.3'!L1098","v":0},0,0,{"$f":"VALUE((MID(G1094,20,4)))","v":414},{"$f":"'poměry financování'!D1091","v":"CZ.1.11/2.2.00/02.00414"}]
[null,{"$f":"'3.3'!I1099","v":0},{"$f":"'3.3'!L1099","v":0},0,0,415,{"$f":"'poměry financování'!D1092","v":"CZ.1.11/2.1.00/02.00415"}]
[null,{"$f":"'3.3'!I1100","v":0},{"$f":"'3.3'!L1100","v":0},0,0,415,{"$f":"'poměry financování'!D1093","v":"CZ.1.11/2.1.00/02.00415"}]
[null,{"$f":"'3.3'!I1101","v":0},{"$f":"'3.3'!L1101","v":0},0,0,415,{"$f":"'poměry financování'!D1094","v":"CZ.1.11/2.1.00/02.00415"}]
[null,{"$f":"'3.3'!I1102","v":0},{"$f":"'3.3'!L1102","v":0},0,0,415,{"$f":"'poměry financování'!D1095","v":"CZ.1.11/2.1.00/02.00415"}]
[null,{"$f":"'3.3'!I1103","v":0},{"$f":"'3.3'!L1103","v":0},0,0,415,{"$f":"'poměry financování'!D1096","v":"CZ.1.11/2.1.00/02.00415"}]
[null,{"$f":"'3.3'!I1104","v":0},{"$f":"'3.3'!L1104","v":0},0,0,415,{"$f":"'poměry financování'!D1097","v":"CZ.1.11/2.1.00/02.00415"}]
[null,{"$f":"'3.3'!I1105","v":0},{"$f":"'3.3'!L1105","v":0},0,0,416,{"$f":"'poměry financování'!D1098","v":"CZ.1.11/2.1.00/02.00416"}]
[null,{"$f":"'3.3'!I1106","v":0},{"$f":"'3.3'!L1106","v":0},0,0,416,{"$f":"'poměry financování'!D1099","v":"CZ.1.11/2.1.00/02.00416"}]
[null,{"$f":"'3.3'!I1107","v":0},{"$f":"'3.3'!L1107","v":0},0,0,416,{"$f":"'poměry financování'!D1100","v":"CZ.1.11/2.1.00/02.00416"}]
[null,{"$f":"'3.3'!I1108","v":0},{"$f":"'3.3'!L1108","v":0},0,0,416,{"$f":"'poměry financování'!D1101","v":"CZ.1.11/2.1.00/02.00416"}]
[null,{"$f":"'3.3'!I1109","v":0},{"$f":"'3.3'!L1109","v":0},0,0,417,{"$f":"'poměry financování'!D1102","v":"CZ.1.11/2.1.00/02.00417"}]
[null,{"$f":"'3.3'!I1110","v":0},{"$f":"'3.3'!L1110","v":0},0,0,417,{"$f":"'poměry financování'!D1103","v":"CZ.1.11/2.1.00/02.00417"}]
[null,{"$f":"'3.3'!I1111","v":0},{"$f":"'3.3'!L1111","v":0},0,0,418,{"$f":"'poměry financování'!D1104","v":"CZ.1.11/2.1.00/02.00418"}]
[null,{"$f":"'3.3'!I1112","v":0},{"$f":"'3.3'!L1112","v":0},0,0,418,{"$f":"'poměry financování'!D1105","v":"CZ.1.11/2.1.00/02.00418"}]
[null,{"$f":"'3.3'!I1113","v":0},{"$f":"'3.3'!L1113","v":0},0,0,418,{"$f":"'poměry financování'!D1106","v":"CZ.1.11/2.1.00/02.00418"}]
[null,{"$f":"'3.3'!I1114","v":0},{"$f":"'3.3'!L1114","v":0},0,0,418,{"$f":"'poměry financování'!D1107","v":"CZ.1.11/2.1.00/02.00418"}]
[null,{"$f":"'3.3'!I1115","v":0},{"$f":"'3.3'!L1115","v":0},0,0,419,{"$f":"'poměry financování'!D1108","v":"CZ.1.11/1.1.00/01.00419"}]
[null,{"$f":"'3.3'!I1116","v":0},{"$f":"'3.3'!L1116","v":0},0,0,419,{"$f":"'poměry financování'!D1109","v":"CZ.1.11/1.1.00/01.00419"}]
[null,{"$f":"'3.3'!I1117","v":0},{"$f":"'3.3'!L1117","v":0},0,0,419,{"$f":"'poměry financování'!D1110","v":"CZ.1.11/1.1.00/01.00419"}]
[null,{"$f":"'3.3'!I1118","v":0},{"$f":"'3.3'!L1118","v":0},0,0,420,{"$f":"'poměry financování'!D1111","v":"CZ.1.11/1.1.00/01.00420"}]
[null,{"$f":"'3.3'!I1119","v":0},{"$f":"'3.3'!L1119","v":0},0,0,420,{"$f":"'poměry financování'!D1112","v":"CZ.1.11/1.1.00/01.00420"}]
[null,{"$f":"'3.3'!I1120","v":0},{"$f":"'3.3'!L1120","v":0},0,0,421,{"$f":"'poměry financování'!D1113","v":"CZ.1.11/1.1.00/01.00421"}]
[null,{"$f":"'3.3'!I1121","v":0},{"$f":"'3.3'!L1121","v":0},0,0,422,{"$f":"'poměry financování'!D1114","v":"CZ.1.11/2.2.00/02.00422"}]
[null,{"$f":"'3.3'!I1122","v":0},{"$f":"'3.3'!L1122","v":0},0,0,422,{"$f":"'poměry financování'!D1115","v":"CZ.1.11/2.2.00/02.00422"}]
[null,{"$f":"'3.3'!I1123","v":0},{"$f":"'3.3'!L1123","v":0},0,0,422,{"$f":"'poměry financování'!D1116","v":"CZ.1.11/2.2.00/02.00422"}]
[null,{"$f":"'3.3'!I1124","v":0},{"$f":"'3.3'!L1124","v":0},0,0,422,{"$f":"'poměry financování'!D1117","v":"CZ.1.11/2.2.00/02.00422"}]
[null,{"$f":"'3.3'!I1125","v":0},{"$f":"'3.3'!L1125","v":0},0,0,423,{"$f":"'poměry financování'!D1118","v":"CZ.1.11/1.3.00/02.00423"}]
[null,{"$f":"'3.3'!I1126","v":0},{"$f":"'3.3'!L1126","v":0},0,0,423,{"$f":"'poměry financování'!D1119","v":"CZ.1.11/1.3.00/02.00423"}]
[null,{"$f":"'3.3'!I1127","v":0},{"$f":"'3.3'!L1127","v":0},0,0,424,{"$f":"'poměry financování'!D1120","v":"CZ.1.11/1.1.00/01.00424"}]
[null,{"$f":"'3.3'!I1128","v":0},{"$f":"'3.3'!L1128","v":0},0,0,424,{"$f":"'poměry financování'!D1121","v":"CZ.1.11/1.1.00/01.00424"}]
[null,{"$f":"'3.3'!I1129","v":0},{"$f":"'3.3'!L1129","v":0},0,0,424,{"$f":"'poměry financování'!D1122","v":"CZ.1.11/1.1.00/01.00424"}]
[null,{"$f":"'3.3'!I1130","v":0},{"$f":"'3.3'!L1130","v":0},0,0,425,{"$f":"'poměry financování'!D1123","v":"CZ.1.11/1.1.00/01.00425"}]
[null,{"$f":"'3.3'!I1131","v":0},{"$f":"'3.3'!L1131","v":0},0,0,426,{"$f":"'poměry financování'!D1124","v":"CZ.1.11/2.2.00/02.00426"}]
[null,{"$f":"'3.3'!I1132","v":0},{"$f":"'3.3'!L1132","v":0},0,0,426,{"$f":"'poměry financování'!D1125","v":"CZ.1.11/2.2.00/02.00426"}]
[null,{"$f":"'3.3'!I1133","v":0},{"$f":"'3.3'!L1133","v":0},0,0,427,{"$f":"'poměry financování'!D1126","v":"CZ.1.11/2.1.00/02.00427"}]
[null,{"$f":"'3.3'!I1134","v":0},{"$f":"'3.3'!L1134","v":0},0,0,427,{"$f":"'poměry financování'!D1127","v":"CZ.1.11/2.1.00/02.00427"}]
[null,{"$f":"'3.3'!I1135","v":0},{"$f":"'3.3'!L1135","v":0},0,0,427,{"$f":"'poměry financování'!D1128","v":"CZ.1.11/2.1.00/02.00427"}]
[null,{"$f":"'3.3'!I1136","v":0},{"$f":"'3.3'!L1136","v":0},0,0,427,{"$f":"'poměry financování'!D1129","v":"CZ.1.11/2.1.00/02.00427"}]
[null,{"$f":"'3.3'!I1137","v":0},{"$f":"'3.3'!L1137","v":0},0,0,427,{"$f":"'poměry financování'!D1130","v":"CZ.1.11/2.1.00/02.00427"}]
[null,{"$f":"'3.3'!I1138","v":0},{"$f":"'3.3'!L1138","v":0},0,0,428,{"$f":"'poměry financování'!D1131","v":"CZ.1.11/2.2.00/02.00428"}]
[null,{"$f":"'3.3'!I1139","v":0},{"$f":"'3.3'!L1139","v":0},0,0,428,{"$f":"'poměry financování'!D1132","v":"CZ.1.11/2.2.00/02.00428"}]
[null,{"$f":"'3.3'!I1140","v":0},{"$f":"'3.3'!L1140","v":0},0,0,428,{"$f":"'poměry financování'!D1133","v":"CZ.1.11/2.2.00/02.00428"}]
[null,{"$f":"'3.3'!I1141","v":0},{"$f":"'3.3'!L1141","v":0},0,0,428,{"$f":"'poměry financování'!D1134","v":"CZ.1.11/2.2.00/02.00428"}]
[null,{"$f":"'3.3'!I1142","v":0},{"$f":"'3.3'!L1142","v":0},0,0,428,{"$f":"'poměry financování'!D1135","v":"CZ.1.11/2.2.00/02.00428"}]
[null,{"$f":"'3.3'!I1143","v":0},{"$f":"'3.3'!L1143","v":0},0,0,428,{"$f":"'poměry financování'!D1136","v":"CZ.1.11/2.2.00/02.00428"}]
[null,{"$f":"'3.3'!I1144","v":0},{"$f":"'3.3'!L1144","v":0},0,0,428,{"$f":"'poměry financování'!D1137","v":"CZ.1.11/2.2.00/02.00428"}]
[null,{"$f":"'3.3'!I1145","v":0},{"$f":"'3.3'!L1145","v":0},0,0,429,{"$f":"'poměry financování'!D1138","v":"CZ.1.11/2.1.00/02.00429"}]
[null,{"$f":"'3.3'!I1146","v":0},{"$f":"'3.3'!L1146","v":0},0,0,429,{"$f":"'poměry financování'!D1139","v":"CZ.1.11/2.1.00/02.00429"}]
[null,{"$f":"'3.3'!I1147","v":0},{"$f":"'3.3'!L1147","v":0},0,0,429,{"$f":"'poměry financování'!D1140","v":"CZ.1.11/2.1.00/02.00429"}]
[null,{"$f":"'3.3'!I1148","v":0},{"$f":"'3.3'!L1148","v":0},0,0,430,{"$f":"'poměry financování'!D1141","v":"CZ.1.11/2.2.00/02.00430"}]
[null,{"$f":"'3.3'!I1149","v":0},{"$f":"'3.3'!L1149","v":0},0,0,431,{"$f":"'poměry financování'!D1142","v":"CZ.1.11/2.1.00/02.00431"}]
[null,{"$f":"'3.3'!I1150","v":0},{"$f":"'3.3'!L1150","v":0},0,0,431,{"$f":"'poměry financování'!D1143","v":"CZ.1.11/2.1.00/02.00431"}]
[null,{"$f":"'3.3'!I1151","v":0},{"$f":"'3.3'!L1151","v":0},0,0,431,{"$f":"'poměry financování'!D1144","v":"CZ.1.11/2.1.00/02.00431"}]
[null,{"$f":"'3.3'!I1152","v":0},{"$f":"'3.3'!L1152","v":0},0,0,432,{"$f":"'poměry financování'!D1145","v":"CZ.1.11/2.1.00/02.00432"}]
[null,{"$f":"'3.3'!I1153","v":0},{"$f":"'3.3'!L1153","v":0},0,0,433,{"$f":"'poměry financování'!D1146","v":"CZ.1.11/1.4.00/02.00433"}]
[null,{"$f":"'3.3'!I1154","v":0},{"$f":"'3.3'!L1154","v":0},0,0,434,{"$f":"'poměry financování'!D1147","v":"CZ.1.11/2.1.00/02.00434"}]
[null,{"$f":"'3.3'!I1155","v":0},{"$f":"'3.3'!L1155","v":0},0,0,435,{"$f":"'poměry financování'!D1148","v":"CZ.1.11/2.1.00/02.00435"}]
[null,{"$f":"'3.3'!I1156","v":0},{"$f":"'3.3'!L1156","v":0},0,0,435,{"$f":"'poměry financování'!D1149","v":"CZ.1.11/2.1.00/02.00435"}]
[null,{"$f":"'3.3'!I1157","v":0},{"$f":"'3.3'!L1157","v":0},0,0,435,{"$f":"'poměry financování'!D1150","v":"CZ.1.11/2.1.00/02.00435"}]
[null,{"$f":"'3.3'!I1158","v":0},{"$f":"'3.3'!L1158","v":0},0,0,435,{"$f":"'poměry financování'!D1151","v":"CZ.1.11/2.1.00/02.00435"}]
[null,{"$f":"'3.3'!I1159","v":0},{"$f":"'3.3'!L1159","v":0},{"$f":"IF(B1155=\"Investiční\",C1155,0)","v":0},{"$f":"IF(B1155=\"Neinvestiční\",C1155,0)","v":0},435,{"$f":"'poměry financování'!D1152","v":"CZ.1.11/2.1.00/02.00435"}]
[null,{"$f":"'3.3'!I1160","v":0},{"$f":"'3.3'!L1160","v":0},0,0,436,{"$f":"'poměry financování'!D1153","v":"CZ.1.11/2.1.00/02.00436"}]
[null,{"$f":"'3.3'!I1161","v":0},{"$f":"'3.3'!L1161","v":0},0,0,436,{"$f":"'poměry financování'!D1154","v":"CZ.1.11/2.1.00/02.00436"}]
[null,{"$f":"'3.3'!I1162","v":0},{"$f":"'3.3'!L1162","v":0},0,0,{"$f":"VALUE((MID(G1158,20,4)))","v":437},{"$f":"'poměry financování'!D1155","v":"CZ.1.11/1.4.00/02.00437"}]
[null,{"$f":"'3.3'!I1163","v":0},{"$f":"'3.3'!L1163","v":0},0,0,437,{"$f":"'poměry financování'!D1156","v":"CZ.1.11/1.4.00/02.00437"}]
[null,{"$f":"'3.3'!I1164","v":0},{"$f":"'3.3'!L1164","v":0},0,0,437,{"$f":"'poměry financování'!D1157","v":"CZ.1.11/1.4.00/02.00437"}]
[null,{"$f":"'3.3'!I1165","v":0},{"$f":"'3.3'!L1165","v":0},0,0,438,{"$f":"'poměry financování'!D1158","v":"CZ.1.11/2.1.00/02.00438"}]
[null,{"$f":"'3.3'!I1166","v":0},{"$f":"'3.3'!L1166","v":0},0,0,439,{"$f":"'poměry financování'!D1159","v":"CZ.1.11/1.4.00/02.00439"}]
[null,{"$f":"'3.3'!I1167","v":0},{"$f":"'3.3'!L1167","v":0},0,0,439,{"$f":"'poměry financování'!D1160","v":"CZ.1.11/1.4.00/02.00439"}]
[null,{"$f":"'3.3'!I1168","v":0},{"$f":"'3.3'!L1168","v":0},0,0,440,{"$f":"'poměry financování'!D1161","v":"CZ.1.11/2.2.00/02.00440"}]
[null,{"$f":"'3.3'!I1169","v":0},{"$f":"'3.3'!L1169","v":0},0,0,440,{"$f":"'poměry financování'!D1162","v":"CZ.1.11/2.2.00/02.00440"}]
[null,{"$f":"'3.3'!I1170","v":0},{"$f":"'3.3'!L1170","v":0},0,0,441,{"$f":"'poměry financování'!D1163","v":"CZ.1.11/1.4.00/02.00441"}]
[null,{"$f":"'3.3'!I1171","v":0},{"$f":"'3.3'!L1171","v":0},0,0,441,{"$f":"'poměry financování'!D1164","v":"CZ.1.11/1.4.00/02.00441"}]
[null,{"$f":"'3.3'!I1172","v":0},{"$f":"'3.3'!L1172","v":0},0,0,441,{"$f":"'poměry financování'!D1165","v":"CZ.1.11/1.4.00/02.00441"}]
[null,{"$f":"'3.3'!I1173","v":0},{"$f":"'3.3'!L1173","v":0},0,0,442,{"$f":"'poměry financování'!D1166","v":"CZ.1.11/2.1.00/02.00442"}]
[null,{"$f":"'3.3'!I1174","v":0},{"$f":"'3.3'!L1174","v":0},0,0,442,{"$f":"'poměry financování'!D1167","v":"CZ.1.11/2.1.00/02.00442"}]
[null,{"$f":"'3.3'!I1175","v":0},{"$f":"'3.3'!L1175","v":0},0,0,442,{"$f":"'poměry financování'!D1168","v":"CZ.1.11/2.1.00/02.00442"}]
[null,{"$f":"'3.3'!I1176","v":0},{"$f":"'3.3'!L1176","v":0},0,0,443,{"$f":"'poměry financování'!D1169","v":"CZ.1.11/2.2.00/02.00443"}]
[null,{"$f":"'3.3'!I1177","v":0},{"$f":"'3.3'!L1177","v":0},0,0,444,{"$f":"'poměry financování'!D1170","v":"CZ.1.11/2.2.00/02.00444"}]
[null,{"$f":"'3.3'!I1178","v":0},{"$f":"'3.3'!L1178","v":0},0,0,444,{"$f":"'poměry financování'!D1171","v":"CZ.1.11/2.2.00/02.00444"}]
[null,{"$f":"'3.3'!I1179","v":0},{"$f":"'3.3'!L1179","v":0},0,0,444,{"$f":"'poměry financování'!D1172","v":"CZ.1.11/2.2.00/02.00444"}]
[null,{"$f":"'3.3'!I1180","v":0},{"$f":"'3.3'!L1180","v":0},0,0,444,{"$f":"'poměry financování'!D1173","v":"CZ.1.11/2.2.00/02.00444"}]
[null,{"$f":"'3.3'!I1181","v":0},{"$f":"'3.3'!L1181","v":0},0,0,445,{"$f":"'poměry financování'!D1174","v":"CZ.1.11/2.1.00/02.00445"}]
[null,{"$f":"'3.3'!I1182","v":0},{"$f":"'3.3'!L1182","v":0},0,0,445,{"$f":"'poměry financování'!D1175","v":"CZ.1.11/2.1.00/02.00445"}]
[null,{"$f":"'3.3'!I1183","v":0},{"$f":"'3.3'!L1183","v":0},0,0,445,{"$f":"'poměry financování'!D1176","v":"CZ.1.11/2.1.00/02.00445"}]
[null,{"$f":"'3.3'!I1184","v":0},{"$f":"'3.3'!L1184","v":0},0,0,446,{"$f":"'poměry financování'!D1177","v":"CZ.1.11/2.1.00/02.00446"}]
[null,{"$f":"'3.3'!I1185","v":0},{"$f":"'3.3'!L1185","v":0},0,0,447,{"$f":"'poměry financování'!D1178","v":"CZ.1.11/2.2.00/02.00447"}]
[null,{"$f":"'3.3'!I1186","v":0},{"$f":"'3.3'!L1186","v":0},0,0,447,{"$f":"'poměry financování'!D1179","v":"CZ.1.11/2.2.00/02.00447"}]
[null,{"$f":"'3.3'!I1187","v":0},{"$f":"'3.3'!L1187","v":0},0,0,447,{"$f":"'poměry financování'!D1180","v":"CZ.1.11/2.2.00/02.00447"}]
[null,{"$f":"'3.3'!I1188","v":0},{"$f":"'3.3'!L1188","v":0},0,0,448,{"$f":"'poměry financování'!D1181","v":"CZ.1.11/2.1.00/02.00448"}]
[null,{"$f":"'3.3'!I1189","v":0},{"$f":"'3.3'!L1189","v":0},0,0,448,{"$f":"'poměry financování'!D1182","v":"CZ.1.11/2.1.00/02.00448"}]
[null,{"$f":"'3.3'!I1190","v":0},{"$f":"'3.3'!L1190","v":0},0,0,448,{"$f":"'poměry financování'!D1183","v":"CZ.1.11/2.1.00/02.00448"}]
[null,{"$f":"'3.3'!I1191","v":0},{"$f":"'3.3'!L1191","v":0},0,0,448,{"$f":"'poměry financování'!D1184","v":"CZ.1.11/2.1.00/02.00448"}]
[null,{"$f":"'3.3'!I1192","v":0},{"$f":"'3.3'!L1192","v":0},0,0,448,{"$f":"'poměry financování'!D1185","v":"CZ.1.11/2.1.00/02.00448"}]
[null,{"$f":"'3.3'!I1193","v":0},{"$f":"'3.3'!L1193","v":0},0,0,448,{"$f":"'poměry financování'!D1186","v":"CZ.1.11/2.1.00/02.00448"}]
[null,{"$f":"'3.3'!I1194","v":0},{"$f":"'3.3'!L1194","v":0},0,0,448,{"$f":"'poměry financování'!D1187","v":"CZ.1.11/2.1.00/02.00448"}]
[null,{"$f":"'3.3'!I1195","v":0},{"$f":"'3.3'!L1195","v":0},0,0,449,{"$f":"'poměry financování'!D1188","v":"CZ.1.11/2.1.00/02.00449"}]
[null,{"$f":"'3.3'!I1196","v":0},{"$f":"'3.3'!L1196","v":0},0,0,450,{"$f":"'poměry financování'!D1189","v":"CZ.1.11/2.1.00/02.00450"}]
[null,{"$f":"'3.3'!I1197","v":0},{"$f":"'3.3'!L1197","v":0},0,0,451,{"$f":"'poměry financování'!D1190","v":"CZ.1.11/2.1.00/02.00451"}]
[null,{"$f":"'3.3'!I1198","v":0},{"$f":"'3.3'!L1198","v":0},0,0,452,{"$f":"'poměry financování'!D1191","v":"CZ.1.11/2.1.00/02.00452"}]
[null,{"$f":"'3.3'!I1199","v":0},{"$f":"'3.3'!L1199","v":0},0,0,453,{"$f":"'poměry financování'!D1192","v":"CZ.1.11/2.1.00/02.00453"}]
[null,{"$f":"'3.3'!I1200","v":0},{"$f":"'3.3'!L1200","v":0},0,0,453,{"$f":"'poměry financování'!D1193","v":"CZ.1.11/2.1.00/02.00453"}]
[null,{"$f":"'3.3'!I1201","v":0},{"$f":"'3.3'!L1201","v":0},0,0,453,{"$f":"'poměry financování'!D1194","v":"CZ.1.11/2.1.00/02.00453"}]
[null,{"$f":"'3.3'!I1202","v":0},{"$f":"'3.3'!L1202","v":0},0,0,453,{"$f":"'poměry financování'!D1195","v":"CZ.1.11/2.1.00/02.00453"}]
[null,{"$f":"'3.3'!I1203","v":0},{"$f":"'3.3'!L1203","v":0},0,0,453,{"$f":"'poměry financování'!D1196","v":"CZ.1.11/2.1.00/02.00453"}]
[null,{"$f":"'3.3'!I1204","v":0},{"$f":"'3.3'!L1204","v":0},0,0,453,{"$f":"'poměry financování'!D1197","v":"CZ.1.11/2.1.00/02.00453"}]
[null,{"$f":"'3.3'!I1205","v":0},{"$f":"'3.3'!L1205","v":0},0,0,454,{"$f":"'poměry financování'!D1198","v":"CZ.1.11/2.2.00/02.00454"}]
[null,{"$f":"'3.3'!I1206","v":0},{"$f":"'3.3'!L1206","v":0},0,0,454,{"$f":"'poměry financování'!D1199","v":"CZ.1.11/2.2.00/02.00454"}]
[null,{"$f":"'3.3'!I1207","v":0},{"$f":"'3.3'!L1207","v":0},0,0,454,{"$f":"'poměry financování'!D1200","v":"CZ.1.11/2.2.00/02.00454"}]
[null,{"$f":"'3.3'!I1208","v":0},{"$f":"'3.3'!L1208","v":0},0,0,455,{"$f":"'poměry financování'!D1201","v":"CZ.1.11/2.1.00/02.00455"}]
[null,{"$f":"'3.3'!I1209","v":0},{"$f":"'3.3'!L1209","v":0},0,0,455,{"$f":"'poměry financování'!D1202","v":"CZ.1.11/2.1.00/02.00455"}]
[null,{"$f":"'3.3'!I1210","v":0},{"$f":"'3.3'!L1210","v":0},0,0,456,{"$f":"'poměry financování'!D1203","v":"CZ.1.11/2.2.00/02.00456"}]
[null,{"$f":"'3.3'!I1211","v":0},{"$f":"'3.3'!L1211","v":0},0,0,457,{"$f":"'poměry financování'!D1204","v":"CZ.1.11/1.4.00/02.00457"}]
[null,{"$f":"'3.3'!I1212","v":0},{"$f":"'3.3'!L1212","v":0},0,0,458,{"$f":"'poměry financování'!D1205","v":"CZ.1.11/2.1.00/02.00458"}]
[null,{"$f":"'3.3'!I1213","v":0},{"$f":"'3.3'!L1213","v":0},0,0,459,{"$f":"'poměry financování'!D1206","v":"CZ.1.11/2.1.00/02.00459"}]
[null,{"$f":"'3.3'!I1214","v":0},{"$f":"'3.3'!L1214","v":0},0,0,459,{"$f":"'poměry financování'!D1207","v":"CZ.1.11/2.1.00/02.00459"}]
[null,{"$f":"'3.3'!I1215","v":0},{"$f":"'3.3'!L1215","v":0},0,0,460,{"$f":"'poměry financování'!D1208","v":"CZ.1.11/2.1.00/02.00460"}]
[null,{"$f":"'3.3'!I1216","v":0},{"$f":"'3.3'!L1216","v":0},0,0,461,{"$f":"'poměry financování'!D1209","v":"CZ.1.11/1.4.00/02.00461"}]
[null,{"$f":"'3.3'!I1217","v":0},{"$f":"'3.3'!L1217","v":0},0,0,461,{"$f":"'poměry financování'!D1210","v":"CZ.1.11/1.4.00/02.00461"}]
[null,{"$f":"'3.3'!I1218","v":0},{"$f":"'3.3'!L1218","v":0},0,0,461,{"$f":"'poměry financování'!D1211","v":"CZ.1.11/1.4.00/02.00461"}]
[null,{"$f":"'3.3'!I1219","v":0},{"$f":"'3.3'!L1219","v":0},0,0,462,{"$f":"'poměry financování'!D1212","v":"CZ.1.11/2.1.00/02.00462"}]
[null,{"$f":"'3.3'!I1220","v":0},{"$f":"'3.3'!L1220","v":0},0,0,462,{"$f":"'poměry financování'!D1213","v":"CZ.1.11/2.1.00/02.00462"}]
[null,{"$f":"'3.3'!I1221","v":0},{"$f":"'3.3'!L1221","v":0},0,0,462,{"$f":"'poměry financování'!D1214","v":"CZ.1.11/2.1.00/02.00462"}]
[null,{"$f":"'3.3'!I1222","v":0},{"$f":"'3.3'!L1222","v":0},0,0,463,{"$f":"'poměry financování'!D1215","v":"CZ.1.11/2.2.00/02.00463"}]
[null,{"$f":"'3.3'!I1223","v":0},{"$f":"'3.3'!L1223","v":0},{"$f":"IF(B1219=\"Investiční\",C1219,0)","v":0},{"$f":"IF(B1219=\"Neinvestiční\",C1219,0)","v":0},464,{"$f":"'poměry financování'!D1216","v":"CZ.1.11/2.1.00/02.00464"}]
[null,{"$f":"'3.3'!I1224","v":0},{"$f":"'3.3'!L1224","v":0},0,0,464,{"$f":"'poměry financování'!D1217","v":"CZ.1.11/2.1.00/02.00464"}]
[null,{"$f":"'3.3'!I1225","v":0},{"$f":"'3.3'!L1225","v":0},0,0,464,{"$f":"'poměry financování'!D1218","v":"CZ.1.11/2.1.00/02.00464"}]
[null,{"$f":"'3.3'!I1226","v":0},{"$f":"'3.3'!L1226","v":0},0,0,{"$f":"VALUE((MID(G1222,20,4)))","v":464},{"$f":"'poměry financování'!D1219","v":"CZ.1.11/2.1.00/02.00464"}]
[null,{"$f":"'3.3'!I1227","v":0},{"$f":"'3.3'!L1227","v":0},0,0,465,{"$f":"'poměry financování'!D1220","v":"CZ.1.11/2.2.00/02.00465"}]
[null,{"$f":"'3.3'!I1228","v":0},{"$f":"'3.3'!L1228","v":0},0,0,466,{"$f":"'poměry financování'!D1221","v":"CZ.1.11/2.2.00/02.00466"}]
[null,{"$f":"'3.3'!I1229","v":0},{"$f":"'3.3'!L1229","v":0},0,0,467,{"$f":"'poměry financování'!D1222","v":"CZ.1.11/2.1.00/02.00467"}]
[null,{"$f":"'3.3'!I1230","v":0},{"$f":"'3.3'!L1230","v":0},0,0,467,{"$f":"'poměry financování'!D1223","v":"CZ.1.11/2.1.00/02.00467"}]
[null,{"$f":"'3.3'!I1231","v":0},{"$f":"'3.3'!L1231","v":0},0,0,467,{"$f":"'poměry financování'!D1224","v":"CZ.1.11/2.1.00/02.00467"}]
[null,{"$f":"'3.3'!I1232","v":0},{"$f":"'3.3'!L1232","v":0},0,0,467,{"$f":"'poměry financování'!D1225","v":"CZ.1.11/2.1.00/02.00467"}]
[null,{"$f":"'3.3'!I1233","v":0},{"$f":"'3.3'!L1233","v":0},0,0,468,{"$f":"'poměry financování'!D1226","v":"CZ.1.11/2.1.00/02.00468"}]
[null,{"$f":"'3.3'!I1234","v":0},{"$f":"'3.3'!L1234","v":0},0,0,468,{"$f":"'poměry financování'!D1227","v":"CZ.1.11/2.1.00/02.00468"}]
[null,{"$f":"'3.3'!I1235","v":0},{"$f":"'3.3'!L1235","v":0},0,0,468,{"$f":"'poměry financování'!D1228","v":"CZ.1.11/2.1.00/02.00468"}]
[null,{"$f":"'3.3'!I1236","v":0},{"$f":"'3.3'!L1236","v":0},0,0,469,{"$f":"'poměry financování'!D1229","v":"CZ.1.11/2.1.00/02.00469"}]
[null,{"$f":"'3.3'!I1237","v":0},{"$f":"'3.3'!L1237","v":0},0,0,470,{"$f":"'poměry financování'!D1230","v":"CZ.1.11/2.2.00/02.00470"}]
[null,{"$f":"'3.3'!I1238","v":0},{"$f":"'3.3'!L1238","v":0},0,0,471,{"$f":"'poměry financování'!D1231","v":"CZ.1.11/2.2.00/02.00471"}]
[null,{"$f":"'3.3'!I1239","v":0},{"$f":"'3.3'!L1239","v":0},0,0,471,{"$f":"'poměry financování'!D1232","v":"CZ.1.11/2.2.00/02.00471"}]
[null,{"$f":"'3.3'!I1240","v":0},{"$f":"'3.3'!L1240","v":0},0,0,472,{"$f":"'poměry financování'!D1233","v":"CZ.1.11/1.2.00/02.00472"}]
[null,{"$f":"'3.3'!I1241","v":0},{"$f":"'3.3'!L1241","v":0},0,0,473,{"$f":"'poměry financování'!D1234","v":"CZ.1.11/1.2.00/02.00473"}]
[null,{"$f":"'3.3'!I1242","v":0},{"$f":"'3.3'!L1242","v":0},0,0,474,{"$f":"'poměry financování'!D1235","v":"CZ.1.11/2.2.00/02.00474"}]
[null,{"$f":"'3.3'!I1243","v":0},{"$f":"'3.3'!L1243","v":0},0,0,475,{"$f":"'poměry financování'!D1236","v":"CZ.1.11/2.2.00/02.00475"}]
[null,{"$f":"'3.3'!I1244","v":0},{"$f":"'3.3'!L1244","v":0},0,0,475,{"$f":"'poměry financování'!D1237","v":"CZ.1.11/2.2.00/02.00475"}]
[null,{"$f":"'3.3'!I1245","v":0},{"$f":"'3.3'!L1245","v":0},0,0,475,{"$f":"'poměry financování'!D1238","v":"CZ.1.11/2.2.00/02.00475"}]
[null,{"$f":"'3.3'!I1246","v":0},{"$f":"'3.3'!L1246","v":0},0,0,475,{"$f":"'poměry financování'!D1239","v":"CZ.1.11/2.2.00/02.00475"}]
[null,{"$f":"'3.3'!I1247","v":0},{"$f":"'3.3'!L1247","v":0},0,0,476,{"$f":"'poměry financování'!D1240","v":"CZ.1.11/1.1.00/02.00476"}]
[null,{"$f":"'3.3'!I1248","v":0},{"$f":"'3.3'!L1248","v":0},0,0,476,{"$f":"'poměry financování'!D1241","v":"CZ.1.11/1.1.00/02.00476"}]
[null,{"$f":"'3.3'!I1249","v":0},{"$f":"'3.3'!L1249","v":0},0,0,477,{"$f":"'poměry financování'!D1242","v":"CZ.1.11/2.1.00/02.00477"}]
[null,{"$f":"'3.3'!I1250","v":0},{"$f":"'3.3'!L1250","v":0},0,0,477,{"$f":"'poměry financování'!D1243","v":"CZ.1.11/2.1.00/02.00477"}]
[null,{"$f":"'3.3'!I1251","v":0},{"$f":"'3.3'!L1251","v":0},0,0,477,{"$f":"'poměry financování'!D1244","v":"CZ.1.11/2.1.00/02.00477"}]
[null,{"$f":"'3.3'!I1252","v":0},{"$f":"'3.3'!L1252","v":0},0,0,477,{"$f":"'poměry financování'!D1245","v":"CZ.1.11/2.1.00/02.00477"}]
[null,{"$f":"'3.3'!I1253","v":0},{"$f":"'3.3'!L1253","v":0},0,0,477,{"$f":"'poměry financování'!D1246","v":"CZ.1.11/2.1.00/02.00477"}]
[null,{"$f":"'3.3'!I1254","v":0},{"$f":"'3.3'!L1254","v":0},0,0,478,{"$f":"'poměry financování'!D1247","v":"CZ.1.11/2.1.00/02.00478"}]
[null,{"$f":"'3.3'!I1255","v":0},{"$f":"'3.3'!L1255","v":0},0,0,478,{"$f":"'poměry financování'!D1248","v":"CZ.1.11/2.1.00/02.00478"}]
[null,{"$f":"'3.3'!I1256","v":0},{"$f":"'3.3'!L1256","v":0},0,0,479,{"$f":"'poměry financování'!D1249","v":"CZ.1.11/2.1.00/02.00479"}]
[null,{"$f":"'3.3'!I1257","v":0},{"$f":"'3.3'!L1257","v":0},0,0,479,{"$f":"'poměry financování'!D1250","v":"CZ.1.11/2.1.00/02.00479"}]
[null,{"$f":"'3.3'!I1258","v":0},{"$f":"'3.3'!L1258","v":0},0,0,479,{"$f":"'poměry financování'!D1251","v":"CZ.1.11/2.1.00/02.00479"}]
[null,{"$f":"'3.3'!I1259","v":0},{"$f":"'3.3'!L1259","v":0},0,0,479,{"$f":"'poměry financování'!D1252","v":"CZ.1.11/2.1.00/02.00479"}]
[null,{"$f":"'3.3'!I1260","v":0},{"$f":"'3.3'!L1260","v":0},0,0,479,{"$f":"'poměry financování'!D1253","v":"CZ.1.11/2.1.00/02.00479"}]
[null,{"$f":"'3.3'!I1261","v":0},{"$f":"'3.3'!L1261","v":0},0,0,479,{"$f":"'poměry financování'!D1254","v":"CZ.1.11/2.1.00/02.00479"}]
[null,{"$f":"'3.3'!I1262","v":0},{"$f":"'3.3'!L1262","v":0},0,0,480,{"$f":"'poměry financování'!D1255","v":"CZ.1.11/2.1.00/02.00480"}]
[null,{"$f":"'3.3'!I1263","v":0},{"$f":"'3.3'!L1263","v":0},0,0,480,{"$f":"'poměry financování'!D1256","v":"CZ.1.11/2.1.00/02.00480"}]
[null,{"$f":"'3.3'!I1264","v":0},{"$f":"'3.3'!L1264","v":0},0,0,480,{"$f":"'poměry financování'!D1257","v":"CZ.1.11/2.1.00/02.00480"}]
[null,{"$f":"'3.3'!I1265","v":0},{"$f":"'3.3'!L1265","v":0},0,0,481,{"$f":"'poměry financování'!D1258","v":"CZ.1.11/2.1.00/02.00481"}]
[null,{"$f":"'3.3'!I1266","v":0},{"$f":"'3.3'!L1266","v":0},0,0,481,{"$f":"'poměry financování'!D1259","v":"CZ.1.11/2.1.00/02.00481"}]
[null,{"$f":"'3.3'!I1267","v":0},{"$f":"'3.3'!L1267","v":0},0,0,482,{"$f":"'poměry financování'!D1260","v":"CZ.1.11/2.1.00/02.00482"}]
[null,{"$f":"'3.3'!I1268","v":0},{"$f":"'3.3'!L1268","v":0},0,0,482,{"$f":"'poměry financování'!D1261","v":"CZ.1.11/2.1.00/02.00482"}]
[null,{"$f":"'3.3'!I1269","v":0},{"$f":"'3.3'!L1269","v":0},0,0,482,{"$f":"'poměry financování'!D1262","v":"CZ.1.11/2.1.00/02.00482"}]
[null,{"$f":"'3.3'!I1270","v":0},{"$f":"'3.3'!L1270","v":0},0,0,482,{"$f":"'poměry financování'!D1263","v":"CZ.1.11/2.1.00/02.00482"}]
[null,{"$f":"'3.3'!I1271","v":0},{"$f":"'3.3'!L1271","v":0},0,0,483,{"$f":"'poměry financování'!D1264","v":"CZ.1.11/2.1.00/02.00483"}]
[null,{"$f":"'3.3'!I1272","v":0},{"$f":"'3.3'!L1272","v":0},0,0,483,{"$f":"'poměry financování'!D1265","v":"CZ.1.11/2.1.00/02.00483"}]
[null,{"$f":"'3.3'!I1273","v":0},{"$f":"'3.3'!L1273","v":0},0,0,483,{"$f":"'poměry financování'!D1266","v":"CZ.1.11/2.1.00/02.00483"}]
[null,{"$f":"'3.3'!I1274","v":0},{"$f":"'3.3'!L1274","v":0},0,0,484,{"$f":"'poměry financování'!D1267","v":"CZ.1.11/2.2.00/02.00484"}]
[null,{"$f":"'3.3'!I1275","v":0},{"$f":"'3.3'!L1275","v":0},0,0,484,{"$f":"'poměry financování'!D1268","v":"CZ.1.11/2.2.00/02.00484"}]
[null,{"$f":"'3.3'!I1276","v":0},{"$f":"'3.3'!L1276","v":0},0,0,484,{"$f":"'poměry financování'!D1269","v":"CZ.1.11/2.2.00/02.00484"}]
[null,{"$f":"'3.3'!I1277","v":0},{"$f":"'3.3'!L1277","v":0},0,0,485,{"$f":"'poměry financování'!D1270","v":"CZ.1.11/2.2.00/02.00485"}]
[null,{"$f":"'3.3'!I1278","v":0},{"$f":"'3.3'!L1278","v":0},0,0,485,{"$f":"'poměry financování'!D1271","v":"CZ.1.11/2.2.00/02.00485"}]
[null,{"$f":"'3.3'!I1279","v":0},{"$f":"'3.3'!L1279","v":0},0,0,485,{"$f":"'poměry financování'!D1272","v":"CZ.1.11/2.2.00/02.00485"}]
[null,{"$f":"'3.3'!I1280","v":0},{"$f":"'3.3'!L1280","v":0},0,0,486,{"$f":"'poměry financování'!D1273","v":"CZ.1.11/2.1.00/02.00486"}]
[null,{"$f":"'3.3'!I1281","v":0},{"$f":"'3.3'!L1281","v":0},0,0,486,{"$f":"'poměry financování'!D1274","v":"CZ.1.11/2.1.00/02.00486"}]
[null,{"$f":"'3.3'!I1282","v":0},{"$f":"'3.3'!L1282","v":0},0,0,487,{"$f":"'poměry financování'!D1275","v":"CZ.1.11/2.1.00/02.00487"}]
[null,{"$f":"'3.3'!I1283","v":0},{"$f":"'3.3'!L1283","v":0},0,0,488,{"$f":"'poměry financování'!D1276","v":"CZ.1.11/2.1.00/02.00488"}]
[null,{"$f":"'3.3'!I1284","v":0},{"$f":"'3.3'!L1284","v":0},0,0,488,{"$f":"'poměry financování'!D1277","v":"CZ.1.11/2.1.00/02.00488"}]
[null,{"$f":"'3.3'!I1285","v":0},{"$f":"'3.3'!L1285","v":0},0,0,488,{"$f":"'poměry financování'!D1278","v":"CZ.1.11/2.1.00/02.00488"}]
[null,{"$f":"'3.3'!I1286","v":0},{"$f":"'3.3'!L1286","v":0},0,0,488,{"$f":"'poměry financování'!D1279","v":"CZ.1.11/2.1.00/02.00488"}]
[null,{"$f":"'3.3'!I1287","v":0},{"$f":"'3.3'!L1287","v":0},{"$f":"IF(B1283=\"Investiční\",C1283,0)","v":0},{"$f":"IF(B1283=\"Neinvestiční\",C1283,0)","v":0},489,{"$f":"'poměry financování'!D1280","v":"CZ.1.11/2.1.00/02.00489"}]
[null,{"$f":"'3.3'!I1288","v":0},{"$f":"'3.3'!L1288","v":0},0,0,489,{"$f":"'poměry financování'!D1281","v":"CZ.1.11/2.1.00/02.00489"}]
[null,{"$f":"'3.3'!I1289","v":0},{"$f":"'3.3'!L1289","v":0},0,0,489,{"$f":"'poměry financování'!D1282","v":"CZ.1.11/2.1.00/02.00489"}]
[null,{"$f":"'3.3'!I1290","v":0},{"$f":"'3.3'!L1290","v":0},0,0,{"$f":"VALUE((MID(G1286,20,4)))","v":490},{"$f":"'poměry financování'!D1283","v":"CZ.1.11/2.1.00/02.00490"}]
[null,{"$f":"'3.3'!I1291","v":0},{"$f":"'3.3'!L1291","v":0},0,0,491,{"$f":"'poměry financování'!D1284","v":"CZ.1.11/2.1.00/02.00491"}]
[null,{"$f":"'3.3'!I1292","v":0},{"$f":"'3.3'!L1292","v":0},0,0,491,{"$f":"'poměry financování'!D1285","v":"CZ.1.11/2.1.00/02.00491"}]
[null,{"$f":"'3.3'!I1293","v":0},{"$f":"'3.3'!L1293","v":0},0,0,491,{"$f":"'poměry financování'!D1286","v":"CZ.1.11/2.1.00/02.00491"}]
[null,{"$f":"'3.3'!I1294","v":0},{"$f":"'3.3'!L1294","v":0},0,0,491,{"$f":"'poměry financování'!D1287","v":"CZ.1.11/2.1.00/02.00491"}]
[null,{"$f":"'3.3'!I1295","v":0},{"$f":"'3.3'!L1295","v":0},0,0,492,{"$f":"'poměry financování'!D1288","v":"CZ.1.11/2.1.00/02.00492"}]
[null,{"$f":"'3.3'!I1296","v":0},{"$f":"'3.3'!L1296","v":0},0,0,492,{"$f":"'poměry financování'!D1289","v":"CZ.1.11/2.1.00/02.00492"}]
[null,{"$f":"'3.3'!I1297","v":0},{"$f":"'3.3'!L1297","v":0},0,0,492,{"$f":"'poměry financování'!D1290","v":"CZ.1.11/2.1.00/02.00492"}]
[null,{"$f":"'3.3'!I1298","v":0},{"$f":"'3.3'!L1298","v":0},0,0,493,{"$f":"'poměry financování'!D1291","v":"CZ.1.11/2.2.00/02.00493"}]
[null,{"$f":"'3.3'!I1299","v":0},{"$f":"'3.3'!L1299","v":0},0,0,493,{"$f":"'poměry financování'!D1292","v":"CZ.1.11/2.2.00/02.00493"}]
[null,{"$f":"'3.3'!I1300","v":0},{"$f":"'3.3'!L1300","v":0},0,0,493,{"$f":"'poměry financování'!D1293","v":"CZ.1.11/2.2.00/02.00493"}]
[null,{"$f":"'3.3'!I1301","v":0},{"$f":"'3.3'!L1301","v":0},0,0,494,{"$f":"'poměry financování'!D1294","v":"CZ.1.11/2.2.00/02.00494"}]
[null,{"$f":"'3.3'!I1302","v":0},{"$f":"'3.3'!L1302","v":0},0,0,494,{"$f":"'poměry financování'!D1295","v":"CZ.1.11/2.2.00/02.00494"}]
[null,{"$f":"'3.3'!I1303","v":0},{"$f":"'3.3'!L1303","v":0},0,0,494,{"$f":"'poměry financování'!D1296","v":"CZ.1.11/2.2.00/02.00494"}]
[null,{"$f":"'3.3'!I1304","v":0},{"$f":"'3.3'!L1304","v":0},0,0,495,{"$f":"'poměry financování'!D1297","v":"CZ.1.11/2.1.00/02.00495"}]
[null,{"$f":"'3.3'!I1305","v":0},{"$f":"'3.3'!L1305","v":0},0,0,495,{"$f":"'poměry financování'!D1298","v":"CZ.1.11/2.1.00/02.00495"}]
[null,{"$f":"'3.3'!I1306","v":0},{"$f":"'3.3'!L1306","v":0},0,0,495,{"$f":"'poměry financování'!D1299","v":"CZ.1.11/2.1.00/02.00495"}]
[null,{"$f":"'3.3'!I1307","v":0},{"$f":"'3.3'!L1307","v":0},0,0,495,{"$f":"'poměry financování'!D1300","v":"CZ.1.11/2.1.00/02.00495"}]
[null,{"$f":"'3.3'!I1308","v":0},{"$f":"'3.3'!L1308","v":0},0,0,496,{"$f":"'poměry financování'!D1301","v":"CZ.1.11/2.2.00/02.00496"}]
[null,{"$f":"'3.3'!I1309","v":0},{"$f":"'3.3'!L1309","v":0},0,0,496,{"$f":"'poměry financování'!D1302","v":"CZ.1.11/2.2.00/02.00496"}]
[null,{"$f":"'3.3'!I1310","v":0},{"$f":"'3.3'!L1310","v":0},0,0,496,{"$f":"'poměry financování'!D1303","v":"CZ.1.11/2.2.00/02.00496"}]
[null,{"$f":"'3.3'!I1311","v":0},{"$f":"'3.3'!L1311","v":0},0,0,497,{"$f":"'poměry financování'!D1304","v":"CZ.1.11/2.1.00/02.00497"}]
[null,{"$f":"'3.3'!I1312","v":0},{"$f":"'3.3'!L1312","v":0},0,0,497,{"$f":"'poměry financování'!D1305","v":"CZ.1.11/2.1.00/02.00497"}]
[null,{"$f":"'3.3'!I1313","v":0},{"$f":"'3.3'!L1313","v":0},0,0,497,{"$f":"'poměry financování'!D1306","v":"CZ.1.11/2.1.00/02.00497"}]
[null,{"$f":"'3.3'!I1314","v":0},{"$f":"'3.3'!L1314","v":0},0,0,498,{"$f":"'poměry financování'!D1307","v":"CZ.1.11/1.3.00/02.00498"}]
[null,{"$f":"'3.3'!I1315","v":0},{"$f":"'3.3'!L1315","v":0},0,0,498,{"$f":"'poměry financování'!D1308","v":"CZ.1.11/1.3.00/02.00498"}]
[null,{"$f":"'3.3'!I1316","v":0},{"$f":"'3.3'!L1316","v":0},0,0,498,{"$f":"'poměry financování'!D1309","v":"CZ.1.11/1.3.00/02.00498"}]
[null,{"$f":"'3.3'!I1317","v":0},{"$f":"'3.3'!L1317","v":0},0,0,499,{"$f":"'poměry financování'!D1310","v":"CZ.1.11/2.2.00/02.00499"}]
[null,{"$f":"'3.3'!I1318","v":0},{"$f":"'3.3'!L1318","v":0},0,0,499,{"$f":"'poměry financování'!D1311","v":"CZ.1.11/2.2.00/02.00499"}]
[null,{"$f":"'3.3'!I1319","v":0},{"$f":"'3.3'!L1319","v":0},0,0,499,{"$f":"'poměry financování'!D1312","v":"CZ.1.11/2.2.00/02.00499"}]
[null,{"$f":"'3.3'!I1320","v":0},{"$f":"'3.3'!L1320","v":0},0,0,500,{"$f":"'poměry financování'!D1313","v":"CZ.1.11/2.1.00/02.00500"}]
[null,{"$f":"'3.3'!I1321","v":0},{"$f":"'3.3'!L1321","v":0},0,0,501,{"$f":"'poměry financování'!D1314","v":"CZ.1.11/2.1.00/02.00501"}]
[null,{"$f":"'3.3'!I1322","v":0},{"$f":"'3.3'!L1322","v":0},0,0,501,{"$f":"'poměry financování'!D1315","v":"CZ.1.11/2.1.00/02.00501"}]
[null,{"$f":"'3.3'!I1323","v":0},{"$f":"'3.3'!L1323","v":0},0,0,501,{"$f":"'poměry financování'!D1316","v":"CZ.1.11/2.1.00/02.00501"}]
[null,{"$f":"'3.3'!I1324","v":0},{"$f":"'3.3'!L1324","v":0},0,0,502,{"$f":"'poměry financování'!D1317","v":"CZ.1.11/2.1.00/02.00502"}]
[null,{"$f":"'3.3'!I1325","v":0},{"$f":"'3.3'!L1325","v":0},0,0,503,{"$f":"'poměry financování'!D1318","v":"CZ.1.11/2.1.00/02.00503"}]
[null,{"$f":"'3.3'!I1326","v":0},{"$f":"'3.3'!L1326","v":0},0,0,503,{"$f":"'poměry financování'!D1319","v":"CZ.1.11/2.1.00/02.00503"}]
[null,{"$f":"'3.3'!I1327","v":0},{"$f":"'3.3'!L1327","v":0},0,0,503,{"$f":"'poměry financování'!D1320","v":"CZ.1.11/2.1.00/02.00503"}]
[null,{"$f":"'3.3'!I1328","v":0},{"$f":"'3.3'!L1328","v":0},0,0,503,{"$f":"'poměry financování'!D1321","v":"CZ.1.11/2.1.00/02.00503"}]
[null,{"$f":"'3.3'!I1329","v":0},{"$f":"'3.3'!L1329","v":0},0,0,503,{"$f":"'poměry financování'!D1322","v":"CZ.1.11/2.1.00/02.00503"}]
[null,{"$f":"'3.3'!I1330","v":0},{"$f":"'3.3'!L1330","v":0},0,0,503,{"$f":"'poměry financování'!D1323","v":"CZ.1.11/2.1.00/02.00503"}]
[null,{"$f":"'3.3'!I1331","v":0},{"$f":"'3.3'!L1331","v":0},0,0,503,{"$f":"'poměry financování'!D1324","v":"CZ.1.11/2.1.00/02.00503"}]
[null,{"$f":"'3.3'!I1332","v":0},{"$f":"'3.3'!L1332","v":0},0,0,503,{"$f":"'poměry financování'!D1325","v":"CZ.1.11/2.1.00/02.00503"}]
[null,{"$f":"'3.3'!I1333","v":0},{"$f":"'3.3'!L1333","v":0},0,0,504,{"$f":"'poměry financování'!D1326","v":"CZ.1.11/2.1.00/02.00504"}]
[null,{"$f":"'3.3'!I1334","v":0},{"$f":"'3.3'!L1334","v":0},0,0,504,{"$f":"'poměry financování'!D1327","v":"CZ.1.11/2.1.00/02.00504"}]
[null,{"$f":"'3.3'!I1335","v":0},{"$f":"'3.3'!L1335","v":0},0,0,505,{"$f":"'poměry financování'!D1328","v":"CZ.1.11/2.1.00/02.00505"}]
[null,{"$f":"'3.3'!I1336","v":0},{"$f":"'3.3'!L1336","v":0},0,0,506,{"$f":"'poměry financování'!D1329","v":"CZ.1.11/2.2.00/02.00506"}]
[null,{"$f":"'3.3'!I1337","v":0},{"$f":"'3.3'!L1337","v":0},0,0,507,{"$f":"'poměry financování'!D1330","v":"CZ.1.11/2.1.00/02.00507"}]
[null,{"$f":"'3.3'!I1338","v":0},{"$f":"'3.3'!L1338","v":0},0,0,508,{"$f":"'poměry financování'!D1331","v":"CZ.1.11/2.1.00/02.00508"}]
[null,{"$f":"'3.3'!I1339","v":0},{"$f":"'3.3'!L1339","v":0},0,0,508,{"$f":"'poměry financování'!D1332","v":"CZ.1.11/2.1.00/02.00508"}]
[null,{"$f":"'3.3'!I1340","v":0},{"$f":"'3.3'!L1340","v":0},0,0,508,{"$f":"'poměry financování'!D1333","v":"CZ.1.11/2.1.00/02.00508"}]
[null,{"$f":"'3.3'!I1341","v":0},{"$f":"'3.3'!L1341","v":0},0,0,508,{"$f":"'poměry financování'!D1334","v":"CZ.1.11/2.1.00/02.00508"}]
[null,{"$f":"'3.3'!I1342","v":0},{"$f":"'3.3'!L1342","v":0},0,0,508,{"$f":"'poměry financování'!D1335","v":"CZ.1.11/2.1.00/02.00508"}]
[null,{"$f":"'3.3'!I1343","v":0},{"$f":"'3.3'!L1343","v":0},0,0,508,{"$f":"'poměry financování'!D1336","v":"CZ.1.11/2.1.00/02.00508"}]
[null,{"$f":"'3.3'!I1344","v":0},{"$f":"'3.3'!L1344","v":0},0,0,508,{"$f":"'poměry financování'!D1337","v":"CZ.1.11/2.1.00/02.00508"}]
[null,{"$f":"'3.3'!I1345","v":0},{"$f":"'3.3'!L1345","v":0},0,0,508,{"$f":"'poměry financování'!D1338","v":"CZ.1.11/2.1.00/02.00508"}]
[null,{"$f":"'3.3'!I1346","v":0},{"$f":"'3.3'!L1346","v":0},0,0,508,{"$f":"'poměry financování'!D1339","v":"CZ.1.11/2.1.00/02.00508"}]
[null,{"$f":"'3.3'!I1347","v":0},{"$f":"'3.3'!L1347","v":0},0,0,508,{"$f":"'poměry financování'!D1340","v":"CZ.1.11/2.1.00/02.00508"}]
[null,{"$f":"'3.3'!I1348","v":0},{"$f":"'3.3'!L1348","v":0},0,0,509,{"$f":"'poměry financování'!D1341","v":"CZ.1.11/2.2.00/02.00509"}]
[null,{"$f":"'3.3'!I1349","v":0},{"$f":"'3.3'!L1349","v":0},0,0,510,{"$f":"'poměry financování'!D1342","v":"CZ.1.11/2.1.00/02.00510"}]
[null,{"$f":"'3.3'!I1350","v":0},{"$f":"'3.3'!L1350","v":0},0,0,511,{"$f":"'poměry financování'!D1343","v":"CZ.1.11/2.1.00/02.00511"}]
[null,{"$f":"'3.3'!I1351","v":0},{"$f":"'3.3'!L1351","v":0},{"$f":"IF(B1347=\"Investiční\",C1347,0)","v":0},{"$f":"IF(B1347=\"Neinvestiční\",C1347,0)","v":0},512,{"$f":"'poměry financování'!D1344","v":"CZ.1.11/2.2.00/02.00512"}]
[null,{"$f":"'3.3'!I1352","v":0},{"$f":"'3.3'!L1352","v":0},0,0,513,{"$f":"'poměry financování'!D1345","v":"CZ.1.11/1.4.00/02.00513"}]
[null,{"$f":"'3.3'!I1353","v":0},{"$f":"'3.3'!L1353","v":0},0,0,514,{"$f":"'poměry financování'!D1346","v":"CZ.1.11/2.1.00/02.00514"}]
[null,{"$f":"'3.3'!I1354","v":0},{"$f":"'3.3'!L1354","v":0},0,0,{"$f":"VALUE((MID(G1350,20,4)))","v":514},{"$f":"'poměry financování'!D1347","v":"CZ.1.11/2.1.00/02.00514"}]
[null,{"$f":"'3.3'!I1355","v":0},{"$f":"'3.3'!L1355","v":0},0,0,515,{"$f":"'poměry financování'!D1348","v":"CZ.1.11/2.1.00/02.00515"}]
[null,{"$f":"'3.3'!I1356","v":0},{"$f":"'3.3'!L1356","v":0},0,0,515,{"$f":"'poměry financování'!D1349","v":"CZ.1.11/2.1.00/02.00515"}]
[null,{"$f":"'3.3'!I1357","v":0},{"$f":"'3.3'!L1357","v":0},0,0,515,{"$f":"'poměry financování'!D1350","v":"CZ.1.11/2.1.00/02.00515"}]
[null,{"$f":"'3.3'!I1358","v":0},{"$f":"'3.3'!L1358","v":0},0,0,515,{"$f":"'poměry financování'!D1351","v":"CZ.1.11/2.1.00/02.00515"}]
[null,{"$f":"'3.3'!I1359","v":0},{"$f":"'3.3'!L1359","v":0},0,0,515,{"$f":"'poměry financování'!D1352","v":"CZ.1.11/2.1.00/02.00515"}]
[null,{"$f":"'3.3'!I1360","v":0},{"$f":"'3.3'!L1360","v":0},0,0,515,{"$f":"'poměry financování'!D1353","v":"CZ.1.11/2.1.00/02.00515"}]
[null,{"$f":"'3.3'!I1361","v":0},{"$f":"'3.3'!L1361","v":0},0,0,515,{"$f":"'poměry financování'!D1354","v":"CZ.1.11/2.1.00/02.00515"}]
[null,{"$f":"'3.3'!I1362","v":0},{"$f":"'3.3'!L1362","v":0},0,0,516,{"$f":"'poměry financování'!D1355","v":"CZ.1.11/2.1.00/02.00516"}]
[null,{"$f":"'3.3'!I1363","v":0},{"$f":"'3.3'!L1363","v":0},0,0,517,{"$f":"'poměry financování'!D1356","v":"CZ.1.11/2.2.00/02.00517"}]
[null,{"$f":"'3.3'!I1364","v":0},{"$f":"'3.3'!L1364","v":0},0,0,518,{"$f":"'poměry financování'!D1357","v":"CZ.1.11/2.2.00/02.00518"}]
[null,{"$f":"'3.3'!I1365","v":0},{"$f":"'3.3'!L1365","v":0},0,0,518,{"$f":"'poměry financování'!D1358","v":"CZ.1.11/2.2.00/02.00518"}]
[null,{"$f":"'3.3'!I1366","v":0},{"$f":"'3.3'!L1366","v":0},0,0,518,{"$f":"'poměry financování'!D1359","v":"CZ.1.11/2.2.00/02.00518"}]
[null,{"$f":"'3.3'!I1367","v":0},{"$f":"'3.3'!L1367","v":0},0,0,518,{"$f":"'poměry financování'!D1360","v":"CZ.1.11/2.2.00/02.00518"}]
[null,{"$f":"'3.3'!I1368","v":0},{"$f":"'3.3'!L1368","v":0},0,0,519,{"$f":"'poměry financování'!D1361","v":"CZ.1.11/2.2.00/02.00519"}]
[null,{"$f":"'3.3'!I1369","v":0},{"$f":"'3.3'!L1369","v":0},0,0,519,{"$f":"'poměry financování'!D1362","v":"CZ.1.11/2.2.00/02.00519"}]
[null,{"$f":"'3.3'!I1370","v":0},{"$f":"'3.3'!L1370","v":0},0,0,519,{"$f":"'poměry financování'!D1363","v":"CZ.1.11/2.2.00/02.00519"}]
[null,{"$f":"'3.3'!I1371","v":0},{"$f":"'3.3'!L1371","v":0},0,0,520,{"$f":"'poměry financování'!D1364","v":"CZ.1.11/2.1.00/02.00520"}]
[null,{"$f":"'3.3'!I1372","v":0},{"$f":"'3.3'!L1372","v":0},0,0,520,{"$f":"'poměry financování'!D1365","v":"CZ.1.11/2.1.00/02.00520"}]
[null,{"$f":"'3.3'!I1373","v":0},{"$f":"'3.3'!L1373","v":0},0,0,520,{"$f":"'poměry financování'!D1366","v":"CZ.1.11/2.1.00/02.00520"}]
[null,{"$f":"'3.3'!I1374","v":0},{"$f":"'3.3'!L1374","v":0},0,0,521,{"$f":"'poměry financování'!D1367","v":"CZ.1.11/1.2.00/02.00521"}]
[null,{"$f":"'3.3'!I1375","v":0},{"$f":"'3.3'!L1375","v":0},0,0,521,{"$f":"'poměry financování'!D1368","v":"CZ.1.11/1.2.00/02.00521"}]
[null,{"$f":"'3.3'!I1376","v":0},{"$f":"'3.3'!L1376","v":0},0,0,522,{"$f":"'poměry financování'!D1369","v":"CZ.1.11/2.1.00/02.00522"}]
[null,{"$f":"'3.3'!I1377","v":0},{"$f":"'3.3'!L1377","v":0},0,0,522,{"$f":"'poměry financování'!D1370","v":"CZ.1.11/2.1.00/02.00522"}]
[null,{"$f":"'3.3'!I1378","v":0},{"$f":"'3.3'!L1378","v":0},0,0,523,{"$f":"'poměry financování'!D1371","v":"CZ.1.11/2.1.00/02.00523"}]
[null,{"$f":"'3.3'!I1379","v":0},{"$f":"'3.3'!L1379","v":0},0,0,523,{"$f":"'poměry financování'!D1372","v":"CZ.1.11/2.1.00/02.00523"}]
[null,{"$f":"'3.3'!I1380","v":0},{"$f":"'3.3'!L1380","v":0},0,0,523,{"$f":"'poměry financování'!D1373","v":"CZ.1.11/2.1.00/02.00523"}]
[null,{"$f":"'3.3'!I1381","v":0},{"$f":"'3.3'!L1381","v":0},0,0,524,{"$f":"'poměry financování'!D1374","v":"CZ.1.11/2.1.00/02.00524"}]
[null,{"$f":"'3.3'!I1382","v":0},{"$f":"'3.3'!L1382","v":0},0,0,524,{"$f":"'poměry financování'!D1375","v":"CZ.1.11/2.1.00/02.00524"}]
[null,{"$f":"'3.3'!I1383","v":0},{"$f":"'3.3'!L1383","v":0},0,0,524,{"$f":"'poměry financování'!D1376","v":"CZ.1.11/2.1.00/02.00524"}]
[null,{"$f":"'3.3'!I1384","v":0},{"$f":"'3.3'!L1384","v":0},0,0,525,{"$f":"'poměry financování'!D1377","v":"CZ.1.11/2.2.00/02.00525"}]
[null,{"$f":"'3.3'!I1385","v":0},{"$f":"'3.3'!L1385","v":0},0,0,526,{"$f":"'poměry financování'!D1378","v":"CZ.1.11/2.1.00/02.00526"}]
[null,{"$f":"'3.3'!I1386","v":0},{"$f":"'3.3'!L1386","v":0},0,0,526,{"$f":"'poměry financování'!D1379","v":"CZ.1.11/2.1.00/02.00526"}]
[null,{"$f":"'3.3'!I1387","v":0},{"$f":"'3.3'!L1387","v":0},0,0,526,{"$f":"'poměry financování'!D1380","v":"CZ.1.11/2.1.00/02.00526"}]
[null,{"$f":"'3.3'!I1388","v":0},{"$f":"'3.3'!L1388","v":0},0,0,527,{"$f":"'poměry financování'!D1381","v":"CZ.1.11/2.2.00/02.00527"}]
[null,{"$f":"'3.3'!I1389","v":0},{"$f":"'3.3'!L1389","v":0},0,0,528,{"$f":"'poměry financování'!D1382","v":"CZ.1.11/2.2.00/02.00528"}]
[null,{"$f":"'3.3'!I1390","v":0},{"$f":"'3.3'!L1390","v":0},0,0,528,{"$f":"'poměry financování'!D1383","v":"CZ.1.11/2.2.00/02.00528"}]
[null,{"$f":"'3.3'!I1391","v":0},{"$f":"'3.3'!L1391","v":0},0,0,528,{"$f":"'poměry financování'!D1384","v":"CZ.1.11/2.2.00/02.00528"}]
[null,{"$f":"'3.3'!I1392","v":0},{"$f":"'3.3'!L1392","v":0},0,0,528,{"$f":"'poměry financování'!D1385","v":"CZ.1.11/2.2.00/02.00528"}]
[null,{"$f":"'3.3'!I1393","v":0},{"$f":"'3.3'!L1393","v":0},0,0,529,{"$f":"'poměry financování'!D1386","v":"CZ.1.11/2.1.00/02.00529"}]
[null,{"$f":"'3.3'!I1394","v":0},{"$f":"'3.3'!L1394","v":0},0,0,530,{"$f":"'poměry financování'!D1387","v":"CZ.1.11/2.2.00/02.00530"}]
[null,{"$f":"'3.3'!I1395","v":0},{"$f":"'3.3'!L1395","v":0},0,0,531,{"$f":"'poměry financování'!D1388","v":"CZ.1.11/2.1.00/02.00531"}]
[null,{"$f":"'3.3'!I1396","v":0},{"$f":"'3.3'!L1396","v":0},0,0,531,{"$f":"'poměry financování'!D1389","v":"CZ.1.11/2.1.00/02.00531"}]
[null,{"$f":"'3.3'!I1397","v":0},{"$f":"'3.3'!L1397","v":0},0,0,531,{"$f":"'poměry financování'!D1390","v":"CZ.1.11/2.1.00/02.00531"}]
[null,{"$f":"'3.3'!I1398","v":0},{"$f":"'3.3'!L1398","v":0},0,0,532,{"$f":"'poměry financování'!D1391","v":"CZ.1.11/2.1.00/02.00532"}]
[null,{"$f":"'3.3'!I1399","v":0},{"$f":"'3.3'!L1399","v":0},0,0,532,{"$f":"'poměry financování'!D1392","v":"CZ.1.11/2.1.00/02.00532"}]
[null,{"$f":"'3.3'!I1400","v":0},{"$f":"'3.3'!L1400","v":0},0,0,533,{"$f":"'poměry financování'!D1393","v":"CZ.1.11/2.1.00/02.00533"}]
[null,{"$f":"'3.3'!I1401","v":0},{"$f":"'3.3'!L1401","v":0},0,0,534,{"$f":"'poměry financování'!D1394","v":"CZ.1.11/2.1.00/02.00534"}]
[null,{"$f":"'3.3'!I1402","v":0},{"$f":"'3.3'!L1402","v":0},0,0,535,{"$f":"'poměry financování'!D1395","v":"CZ.1.11/2.1.00/02.00535"}]
[null,{"$f":"'3.3'!I1403","v":0},{"$f":"'3.3'!L1403","v":0},0,0,536,{"$f":"'poměry financování'!D1396","v":"CZ.1.11/2.1.00/02.00536"}]
[null,{"$f":"'3.3'!I1404","v":0},{"$f":"'3.3'!L1404","v":0},0,0,536,{"$f":"'poměry financování'!D1397","v":"CZ.1.11/2.1.00/02.00536"}]
[null,{"$f":"'3.3'!I1405","v":0},{"$f":"'3.3'!L1405","v":0},0,0,537,{"$f":"'poměry financování'!D1398","v":"CZ.1.11/2.2.00/02.00537"}]
[null,{"$f":"'3.3'!I1406","v":0},{"$f":"'3.3'!L1406","v":0},0,0,537,{"$f":"'poměry financování'!D1399","v":"CZ.1.11/2.2.00/02.00537"}]
[null,{"$f":"'3.3'!I1407","v":0},{"$f":"'3.3'!L1407","v":0},0,0,537,{"$f":"'poměry financování'!D1400","v":"CZ.1.11/2.2.00/02.00537"}]
[null,{"$f":"'3.3'!I1408","v":0},{"$f":"'3.3'!L1408","v":0},0,0,538,{"$f":"'poměry financování'!D1401","v":"CZ.1.11/2.2.00/02.00538"}]
[null,{"$f":"'3.3'!I1409","v":0},{"$f":"'3.3'!L1409","v":0},0,0,538,{"$f":"'poměry financování'!D1402","v":"CZ.1.11/2.2.00/02.00538"}]
[null,{"$f":"'3.3'!I1410","v":0},{"$f":"'3.3'!L1410","v":0},0,0,539,{"$f":"'poměry financování'!D1403","v":"CZ.1.11/2.1.00/02.00539"}]
[null,{"$f":"'3.3'!I1411","v":0},{"$f":"'3.3'!L1411","v":0},0,0,539,{"$f":"'poměry financování'!D1404","v":"CZ.1.11/2.1.00/02.00539"}]
[null,{"$f":"'3.3'!I1412","v":0},{"$f":"'3.3'!L1412","v":0},0,0,539,{"$f":"'poměry financování'!D1405","v":"CZ.1.11/2.1.00/02.00539"}]
[null,{"$f":"'3.3'!I1413","v":0},{"$f":"'3.3'!L1413","v":0},0,0,539,{"$f":"'poměry financování'!D1406","v":"CZ.1.11/2.1.00/02.00539"}]
[null,{"$f":"'3.3'!I1414","v":0},{"$f":"'3.3'!L1414","v":0},0,0,540,{"$f":"'poměry financování'!D1407","v":"CZ.1.11/2.1.00/02.00540"}]
[null,{"$f":"'3.3'!I1415","v":0},{"$f":"'3.3'!L1415","v":0},{"$f":"IF(B1411=\"Investiční\",C1411,0)","v":0},{"$f":"IF(B1411=\"Neinvestiční\",C1411,0)","v":0},540,{"$f":"'poměry financování'!D1408","v":"CZ.1.11/2.1.00/02.00540"}]
[null,{"$f":"'3.3'!I1416","v":0},{"$f":"'3.3'!L1416","v":0},0,0,541,{"$f":"'poměry financování'!D1409","v":"CZ.1.11/2.1.00/02.00541"}]
[null,{"$f":"'3.3'!I1417","v":0},{"$f":"'3.3'!L1417","v":0},0,0,541,{"$f":"'poměry financování'!D1410","v":"CZ.1.11/2.1.00/02.00541"}]
[null,{"$f":"'3.3'!I1418","v":0},{"$f":"'3.3'!L1418","v":0},0,0,{"$f":"VALUE((MID(G1414,20,4)))","v":541},{"$f":"'poměry financování'!D1411","v":"CZ.1.11/2.1.00/02.00541"}]
[null,{"$f":"'3.3'!I1419","v":0},{"$f":"'3.3'!L1419","v":0},0,0,542,{"$f":"'poměry financování'!D1412","v":"CZ.1.11/1.2.00/02.00542"}]
[null,{"$f":"'3.3'!I1420","v":0},{"$f":"'3.3'!L1420","v":0},0,0,542,{"$f":"'poměry financování'!D1413","v":"CZ.1.11/1.2.00/02.00542"}]
[null,{"$f":"'3.3'!I1421","v":0},{"$f":"'3.3'!L1421","v":0},0,0,542,{"$f":"'poměry financování'!D1414","v":"CZ.1.11/1.2.00/02.00542"}]
[null,{"$f":"'3.3'!I1422","v":0},{"$f":"'3.3'!L1422","v":0},0,0,543,{"$f":"'poměry financování'!D1415","v":"CZ.1.11/2.2.00/02.00543"}]
[null,{"$f":"'3.3'!I1423","v":0},{"$f":"'3.3'!L1423","v":0},0,0,543,{"$f":"'poměry financování'!D1416","v":"CZ.1.11/2.2.00/02.00543"}]
[null,{"$f":"'3.3'!I1424","v":0},{"$f":"'3.3'!L1424","v":0},0,0,543,{"$f":"'poměry financování'!D1417","v":"CZ.1.11/2.2.00/02.00543"}]
[null,{"$f":"'3.3'!I1425","v":0},{"$f":"'3.3'!L1425","v":0},0,0,544,{"$f":"'poměry financování'!D1418","v":"CZ.1.11/2.2.00/02.00544"}]
[null,{"$f":"'3.3'!I1426","v":0},{"$f":"'3.3'!L1426","v":0},0,0,544,{"$f":"'poměry financování'!D1419","v":"CZ.1.11/2.2.00/02.00544"}]
[null,{"$f":"'3.3'!I1427","v":0},{"$f":"'3.3'!L1427","v":0},0,0,544,{"$f":"'poměry financování'!D1420","v":"CZ.1.11/2.2.00/02.00544"}]
[null,{"$f":"'3.3'!I1428","v":0},{"$f":"'3.3'!L1428","v":0},0,0,544,{"$f":"'poměry financování'!D1421","v":"CZ.1.11/2.2.00/02.00544"}]
[null,{"$f":"'3.3'!I1429","v":0},{"$f":"'3.3'!L1429","v":0},0,0,545,{"$f":"'poměry financování'!D1422","v":"CZ.1.11/2.2.00/02.00545"}]
[null,{"$f":"'3.3'!I1430","v":0},{"$f":"'3.3'!L1430","v":0},0,0,545,{"$f":"'poměry financování'!D1423","v":"CZ.1.11/2.2.00/02.00545"}]
[null,{"$f":"'3.3'!I1431","v":0},{"$f":"'3.3'!L1431","v":0},0,0,545,{"$f":"'poměry financování'!D1424","v":"CZ.1.11/2.2.00/02.00545"}]
[null,{"$f":"'3.3'!I1432","v":0},{"$f":"'3.3'!L1432","v":0},0,0,545,{"$f":"'poměry financování'!D1425","v":"CZ.1.11/2.2.00/02.00545"}]
[null,{"$f":"'3.3'!I1433","v":0},{"$f":"'3.3'!L1433","v":0},0,0,546,{"$f":"'poměry financování'!D1426","v":"CZ.1.11/2.1.00/02.00546"}]
[null,{"$f":"'3.3'!I1434","v":0},{"$f":"'3.3'!L1434","v":0},0,0,546,{"$f":"'poměry financování'!D1427","v":"CZ.1.11/2.1.00/02.00546"}]
[null,{"$f":"'3.3'!I1435","v":0},{"$f":"'3.3'!L1435","v":0},0,0,546,{"$f":"'poměry financování'!D1428","v":"CZ.1.11/2.1.00/02.00546"}]
[null,{"$f":"'3.3'!I1436","v":0},{"$f":"'3.3'!L1436","v":0},0,0,547,{"$f":"'poměry financování'!D1429","v":"CZ.1.11/2.1.00/02.00547"}]
[null,{"$f":"'3.3'!I1437","v":0},{"$f":"'3.3'!L1437","v":0},0,0,547,{"$f":"'poměry financování'!D1430","v":"CZ.1.11/2.1.00/02.00547"}]
[null,{"$f":"'3.3'!I1438","v":0},{"$f":"'3.3'!L1438","v":0},0,0,547,{"$f":"'poměry financování'!D1431","v":"CZ.1.11/2.1.00/02.00547"}]
[null,{"$f":"'3.3'!I1439","v":0},{"$f":"'3.3'!L1439","v":0},0,0,547,{"$f":"'poměry financování'!D1432","v":"CZ.1.11/2.1.00/02.00547"}]
[null,{"$f":"'3.3'!I1440","v":0},{"$f":"'3.3'!L1440","v":0},0,0,547,{"$f":"'poměry financování'!D1433","v":"CZ.1.11/2.1.00/02.00547"}]
[null,{"$f":"'3.3'!I1441","v":0},{"$f":"'3.3'!L1441","v":0},0,0,547,{"$f":"'poměry financování'!D1434","v":"CZ.1.11/2.1.00/02.00547"}]
[null,{"$f":"'3.3'!I1442","v":0},{"$f":"'3.3'!L1442","v":0},0,0,548,{"$f":"'poměry financování'!D1435","v":"CZ.1.11/2.1.00/02.00548"}]
[null,{"$f":"'3.3'!I1443","v":0},{"$f":"'3.3'!L1443","v":0},0,0,548,{"$f":"'poměry financování'!D1436","v":"CZ.1.11/2.1.00/02.00548"}]
[null,{"$f":"'3.3'!I1444","v":0},{"$f":"'3.3'!L1444","v":0},0,0,548,{"$f":"'poměry financování'!D1437","v":"CZ.1.11/2.1.00/02.00548"}]
[null,{"$f":"'3.3'!I1445","v":0},{"$f":"'3.3'!L1445","v":0},0,0,549,{"$f":"'poměry financování'!D1438","v":"CZ.1.11/2.1.00/02.00549"}]
[null,{"$f":"'3.3'!I1446","v":0},{"$f":"'3.3'!L1446","v":0},0,0,550,{"$f":"'poměry financování'!D1439","v":"CZ.1.11/2.1.00/02.00550"}]
[null,{"$f":"'3.3'!I1447","v":0},{"$f":"'3.3'!L1447","v":0},0,0,551,{"$f":"'poměry financování'!D1440","v":"CZ.1.11/2.1.00/02.00551"}]
[null,{"$f":"'3.3'!I1448","v":0},{"$f":"'3.3'!L1448","v":0},0,0,551,{"$f":"'poměry financování'!D1441","v":"CZ.1.11/2.1.00/02.00551"}]
[null,{"$f":"'3.3'!I1449","v":0},{"$f":"'3.3'!L1449","v":0},0,0,551,{"$f":"'poměry financování'!D1442","v":"CZ.1.11/2.1.00/02.00551"}]
[null,{"$f":"'3.3'!I1450","v":0},{"$f":"'3.3'!L1450","v":0},0,0,551,{"$f":"'poměry financování'!D1443","v":"CZ.1.11/2.1.00/02.00551"}]
[null,{"$f":"'3.3'!I1451","v":0},{"$f":"'3.3'!L1451","v":0},0,0,552,{"$f":"'poměry financování'!D1444","v":"CZ.1.11/2.1.00/02.00552"}]
[null,{"$f":"'3.3'!I1452","v":0},{"$f":"'3.3'!L1452","v":0},0,0,552,{"$f":"'poměry financování'!D1445","v":"CZ.1.11/2.1.00/02.00552"}]
[null,{"$f":"'3.3'!I1453","v":0},{"$f":"'3.3'!L1453","v":0},0,0,552,{"$f":"'poměry financování'!D1446","v":"CZ.1.11/2.1.00/02.00552"}]
[null,{"$f":"'3.3'!I1454","v":0},{"$f":"'3.3'!L1454","v":0},0,0,553,{"$f":"'poměry financování'!D1447","v":"CZ.1.11/2.1.00/02.00553"}]
[null,{"$f":"'3.3'!I1455","v":0},{"$f":"'3.3'!L1455","v":0},0,0,553,{"$f":"'poměry financování'!D1448","v":"CZ.1.11/2.1.00/02.00553"}]
[null,{"$f":"'3.3'!I1456","v":0},{"$f":"'3.3'!L1456","v":0},0,0,553,{"$f":"'poměry financování'!D1449","v":"CZ.1.11/2.1.00/02.00553"}]
[null,{"$f":"'3.3'!I1457","v":0},{"$f":"'3.3'!L1457","v":0},0,0,554,{"$f":"'poměry financování'!D1450","v":"CZ.1.11/2.2.00/02.00554"}]
[null,{"$f":"'3.3'!I1458","v":0},{"$f":"'3.3'!L1458","v":0},0,0,554,{"$f":"'poměry financování'!D1451","v":"CZ.1.11/2.2.00/02.00554"}]
[null,{"$f":"'3.3'!I1459","v":0},{"$f":"'3.3'!L1459","v":0},0,0,555,{"$f":"'poměry financování'!D1452","v":"CZ.1.11/2.1.00/02.00555"}]
[null,{"$f":"'3.3'!I1460","v":0},{"$f":"'3.3'!L1460","v":0},0,0,555,{"$f":"'poměry financování'!D1453","v":"CZ.1.11/2.1.00/02.00555"}]
[null,{"$f":"'3.3'!I1461","v":0},{"$f":"'3.3'!L1461","v":0},0,0,556,{"$f":"'poměry financování'!D1454","v":"CZ.1.11/2.2.00/02.00556"}]
[null,{"$f":"'3.3'!I1462","v":0},{"$f":"'3.3'!L1462","v":0},0,0,556,{"$f":"'poměry financování'!D1455","v":"CZ.1.11/2.2.00/02.00556"}]
[null,{"$f":"'3.3'!I1463","v":0},{"$f":"'3.3'!L1463","v":0},0,0,556,{"$f":"'poměry financování'!D1456","v":"CZ.1.11/2.2.00/02.00556"}]
[null,{"$f":"'3.3'!I1464","v":0},{"$f":"'3.3'!L1464","v":0},0,0,556,{"$f":"'poměry financování'!D1457","v":"CZ.1.11/2.2.00/02.00556"}]
[null,{"$f":"'3.3'!I1465","v":0},{"$f":"'3.3'!L1465","v":0},0,0,557,{"$f":"'poměry financování'!D1458","v":"CZ.1.11/2.2.00/02.00557"}]
[null,{"$f":"'3.3'!I1466","v":0},{"$f":"'3.3'!L1466","v":0},0,0,557,{"$f":"'poměry financování'!D1459","v":"CZ.1.11/2.2.00/02.00557"}]
[null,{"$f":"'3.3'!I1467","v":0},{"$f":"'3.3'!L1467","v":0},0,0,557,{"$f":"'poměry financování'!D1460","v":"CZ.1.11/2.2.00/02.00557"}]
[null,{"$f":"'3.3'!I1468","v":0},{"$f":"'3.3'!L1468","v":0},0,0,557,{"$f":"'poměry financování'!D1461","v":"CZ.1.11/2.2.00/02.00557"}]
[null,{"$f":"'3.3'!I1469","v":0},{"$f":"'3.3'!L1469","v":0},0,0,557,{"$f":"'poměry financování'!D1462","v":"CZ.1.11/2.2.00/02.00557"}]
[null,{"$f":"'3.3'!I1470","v":0},{"$f":"'3.3'!L1470","v":0},0,0,557,{"$f":"'poměry financování'!D1463","v":"CZ.1.11/2.2.00/02.00557"}]
[null,{"$f":"'3.3'!I1471","v":0},{"$f":"'3.3'!L1471","v":0},0,0,558,{"$f":"'poměry financování'!D1464","v":"CZ.1.11/2.1.00/02.00558"}]
[null,{"$f":"'3.3'!I1472","v":0},{"$f":"'3.3'!L1472","v":0},0,0,558,{"$f":"'poměry financování'!D1465","v":"CZ.1.11/2.1.00/02.00558"}]
[null,{"$f":"'3.3'!I1473","v":0},{"$f":"'3.3'!L1473","v":0},0,0,558,{"$f":"'poměry financování'!D1466","v":"CZ.1.11/2.1.00/02.00558"}]
[null,{"$f":"'3.3'!I1474","v":0},{"$f":"'3.3'!L1474","v":0},0,0,559,{"$f":"'poměry financování'!D1467","v":"CZ.1.11/2.1.00/02.00559"}]
[null,{"$f":"'3.3'!I1475","v":0},{"$f":"'3.3'!L1475","v":0},0,0,559,{"$f":"'poměry financování'!D1468","v":"CZ.1.11/2.1.00/02.00559"}]
[null,{"$f":"'3.3'!I1476","v":0},{"$f":"'3.3'!L1476","v":0},0,0,559,{"$f":"'poměry financování'!D1469","v":"CZ.1.11/2.1.00/02.00559"}]
[null,{"$f":"'3.3'!I1477","v":0},{"$f":"'3.3'!L1477","v":0},0,0,560,{"$f":"'poměry financování'!D1470","v":"CZ.1.11/2.1.00/02.00560"}]
[null,{"$f":"'3.3'!I1478","v":0},{"$f":"'3.3'!L1478","v":0},0,0,560,{"$f":"'poměry financování'!D1471","v":"CZ.1.11/2.1.00/02.00560"}]
[null,{"$f":"'3.3'!I1479","v":0},{"$f":"'3.3'!L1479","v":0},{"$f":"IF(B1475=\"Investiční\",C1475,0)","v":0},{"$f":"IF(B1475=\"Neinvestiční\",C1475,0)","v":0},561,{"$f":"'poměry financování'!D1472","v":"CZ.1.11/2.1.00/02.00561"}]
[null,{"$f":"'3.3'!I1480","v":0},{"$f":"'3.3'!L1480","v":0},0,0,561,{"$f":"'poměry financování'!D1473","v":"CZ.1.11/2.1.00/02.00561"}]
[null,{"$f":"'3.3'!I1481","v":0},{"$f":"'3.3'!L1481","v":0},0,0,562,{"$f":"'poměry financování'!D1474","v":"CZ.1.11/2.1.00/02.00562"}]
[null,{"$f":"'3.3'!I1482","v":0},{"$f":"'3.3'!L1482","v":0},0,0,{"$f":"VALUE((MID(G1478,20,4)))","v":562},{"$f":"'poměry financování'!D1475","v":"CZ.1.11/2.1.00/02.00562"}]
[null,{"$f":"'3.3'!I1483","v":0},{"$f":"'3.3'!L1483","v":0},0,0,562,{"$f":"'poměry financování'!D1476","v":"CZ.1.11/2.1.00/02.00562"}]
[null,{"$f":"'3.3'!I1484","v":0},{"$f":"'3.3'!L1484","v":0},0,0,562,{"$f":"'poměry financování'!D1477","v":"CZ.1.11/2.1.00/02.00562"}]
[null,{"$f":"'3.3'!I1485","v":0},{"$f":"'3.3'!L1485","v":0},0,0,562,{"$f":"'poměry financování'!D1478","v":"CZ.1.11/2.1.00/02.00562"}]
[null,{"$f":"'3.3'!I1486","v":0},{"$f":"'3.3'!L1486","v":0},0,0,563,{"$f":"'poměry financování'!D1479","v":"CZ.1.11/2.1.00/02.00563"}]
[null,{"$f":"'3.3'!I1487","v":0},{"$f":"'3.3'!L1487","v":0},0,0,563,{"$f":"'poměry financování'!D1480","v":"CZ.1.11/2.1.00/02.00563"}]
[null,{"$f":"'3.3'!I1488","v":0},{"$f":"'3.3'!L1488","v":0},0,0,563,{"$f":"'poměry financování'!D1481","v":"CZ.1.11/2.1.00/02.00563"}]
[null,{"$f":"'3.3'!I1489","v":0},{"$f":"'3.3'!L1489","v":0},0,0,564,{"$f":"'poměry financování'!D1482","v":"CZ.1.11/2.2.00/02.00564"}]
[null,{"$f":"'3.3'!I1490","v":0},{"$f":"'3.3'!L1490","v":0},0,0,565,{"$f":"'poměry financování'!D1483","v":"CZ.1.11/2.2.00/02.00565"}]
[null,{"$f":"'3.3'!I1491","v":0},{"$f":"'3.3'!L1491","v":0},0,0,565,{"$f":"'poměry financování'!D1484","v":"CZ.1.11/2.2.00/02.00565"}]
[null,{"$f":"'3.3'!I1492","v":0},{"$f":"'3.3'!L1492","v":0},0,0,566,{"$f":"'poměry financování'!D1485","v":"CZ.1.11/2.1.00/02.00566"}]
[null,{"$f":"'3.3'!I1493","v":0},{"$f":"'3.3'!L1493","v":0},0,0,566,{"$f":"'poměry financování'!D1486","v":"CZ.1.11/2.1.00/02.00566"}]
[null,{"$f":"'3.3'!I1494","v":0},{"$f":"'3.3'!L1494","v":0},0,0,566,{"$f":"'poměry financování'!D1487","v":"CZ.1.11/2.1.00/02.00566"}]
[null,{"$f":"'3.3'!I1495","v":0},{"$f":"'3.3'!L1495","v":0},0,0,567,{"$f":"'poměry financování'!D1488","v":"CZ.1.11/2.2.00/02.00567"}]
[null,{"$f":"'3.3'!I1496","v":0},{"$f":"'3.3'!L1496","v":0},0,0,568,{"$f":"'poměry financování'!D1489","v":"CZ.1.11/2.2.00/02.00568"}]
[null,{"$f":"'3.3'!I1497","v":0},{"$f":"'3.3'!L1497","v":0},0,0,569,{"$f":"'poměry financování'!D1490","v":"CZ.1.11/2.1.00/02.00569"}]
[null,{"$f":"'3.3'!I1498","v":0},{"$f":"'3.3'!L1498","v":0},0,0,569,{"$f":"'poměry financování'!D1491","v":"CZ.1.11/2.1.00/02.00569"}]
[null,{"$f":"'3.3'!I1499","v":0},{"$f":"'3.3'!L1499","v":0},0,0,570,{"$f":"'poměry financování'!D1492","v":"CZ.1.11/2.1.00/02.00570"}]
[null,{"$f":"'3.3'!I1500","v":0},{"$f":"'3.3'!L1500","v":0},0,0,570,{"$f":"'poměry financování'!D1493","v":"CZ.1.11/2.1.00/02.00570"}]
[null,{"$f":"'3.3'!I1501","v":0},{"$f":"'3.3'!L1501","v":0},0,0,570,{"$f":"'poměry financování'!D1494","v":"CZ.1.11/2.1.00/02.00570"}]
[null,{"$f":"'3.3'!I1502","v":0},{"$f":"'3.3'!L1502","v":0},0,0,570,{"$f":"'poměry financování'!D1495","v":"CZ.1.11/2.1.00/02.00570"}]
[null,{"$f":"'3.3'!I1503","v":0},{"$f":"'3.3'!L1503","v":0},0,0,571,{"$f":"'poměry financování'!D1496","v":"CZ.1.11/2.2.00/02.00571"}]
[null,{"$f":"'3.3'!I1504","v":0},{"$f":"'3.3'!L1504","v":0},0,0,572,{"$f":"'poměry financování'!D1497","v":"CZ.1.11/2.2.00/02.00572"}]
[null,{"$f":"'3.3'!I1505","v":0},{"$f":"'3.3'!L1505","v":0},0,0,572,{"$f":"'poměry financování'!D1498","v":"CZ.1.11/2.2.00/02.00572"}]
[null,{"$f":"'3.3'!I1506","v":0},{"$f":"'3.3'!L1506","v":0},0,0,573,{"$f":"'poměry financování'!D1499","v":"CZ.1.11/2.2.00/02.00573"}]
[null,{"$f":"'3.3'!I1507","v":0},{"$f":"'3.3'!L1507","v":0},0,0,574,{"$f":"'poměry financování'!D1500","v":"CZ.1.11/2.2.00/02.00574"}]
[null,{"$f":"'3.3'!I1508","v":0},{"$f":"'3.3'!L1508","v":0},0,0,575,{"$f":"'poměry financování'!D1501","v":"CZ.1.11/2.2.00/02.00575"}]
[null,{"$f":"'3.3'!I1509","v":0},{"$f":"'3.3'!L1509","v":0},0,0,576,{"$f":"'poměry financování'!D1502","v":"CZ.1.11/2.2.00/02.00576"}]
[null,{"$f":"'3.3'!I1510","v":0},{"$f":"'3.3'!L1510","v":0},0,0,577,{"$f":"'poměry financování'!D1503","v":"CZ.1.11/2.1.00/02.00577"}]
[null,{"$f":"'3.3'!I1511","v":0},{"$f":"'3.3'!L1511","v":0},0,0,577,{"$f":"'poměry financování'!D1504","v":"CZ.1.11/2.1.00/02.00577"}]
[null,{"$f":"'3.3'!I1512","v":0},{"$f":"'3.3'!L1512","v":0},0,0,578,{"$f":"'poměry financování'!D1505","v":"CZ.1.11/2.2.00/02.00578"}]
[null,{"$f":"'3.3'!I1513","v":0},{"$f":"'3.3'!L1513","v":0},0,0,578,{"$f":"'poměry financování'!D1506","v":"CZ.1.11/2.2.00/02.00578"}]
[null,{"$f":"'3.3'!I1514","v":0},{"$f":"'3.3'!L1514","v":0},0,0,579,{"$f":"'poměry financování'!D1507","v":"CZ.1.11/2.2.00/02.00579"}]
[null,{"$f":"'3.3'!I1515","v":0},{"$f":"'3.3'!L1515","v":0},0,0,579,{"$f":"'poměry financování'!D1508","v":"CZ.1.11/2.2.00/02.00579"}]
[null,{"$f":"'3.3'!I1516","v":0},{"$f":"'3.3'!L1516","v":0},0,0,579,{"$f":"'poměry financování'!D1509","v":"CZ.1.11/2.2.00/02.00579"}]
[null,{"$f":"'3.3'!I1517","v":0},{"$f":"'3.3'!L1517","v":0},0,0,580,{"$f":"'poměry financování'!D1510","v":"CZ.1.11/2.1.00/02.00580"}]
[null,{"$f":"'3.3'!I1518","v":0},{"$f":"'3.3'!L1518","v":0},0,0,580,{"$f":"'poměry financování'!D1511","v":"CZ.1.11/2.1.00/02.00580"}]
[null,{"$f":"'3.3'!I1519","v":0},{"$f":"'3.3'!L1519","v":0},0,0,580,{"$f":"'poměry financování'!D1512","v":"CZ.1.11/2.1.00/02.00580"}]
[null,{"$f":"'3.3'!I1520","v":0},{"$f":"'3.3'!L1520","v":0},0,0,580,{"$f":"'poměry financování'!D1513","v":"CZ.1.11/2.1.00/02.00580"}]
[null,{"$f":"'3.3'!I1521","v":0},{"$f":"'3.3'!L1521","v":0},0,0,581,{"$f":"'poměry financování'!D1514","v":"CZ.1.11/2.1.00/02.00581"}]
[null,{"$f":"'3.3'!I1522","v":0},{"$f":"'3.3'!L1522","v":0},0,0,581,{"$f":"'poměry financování'!D1515","v":"CZ.1.11/2.1.00/02.00581"}]
[null,{"$f":"'3.3'!I1523","v":0},{"$f":"'3.3'!L1523","v":0},0,0,582,{"$f":"'poměry financování'!D1516","v":"CZ.1.11/2.2.00/02.00582"}]
[null,{"$f":"'3.3'!I1524","v":0},{"$f":"'3.3'!L1524","v":0},0,0,583,{"$f":"'poměry financování'!D1517","v":"CZ.1.11/3.1.00/02.00583"}]
[null,{"$f":"'3.3'!I1525","v":0},{"$f":"'3.3'!L1525","v":0},0,0,583,{"$f":"'poměry financování'!D1518","v":"CZ.1.11/3.1.00/02.00583"}]
[null,{"$f":"'3.3'!I1526","v":0},{"$f":"'3.3'!L1526","v":0},0,0,583,{"$f":"'poměry financování'!D1519","v":"CZ.1.11/3.1.00/02.00583"}]
[null,{"$f":"'3.3'!I1527","v":0},{"$f":"'3.3'!L1527","v":0},0,0,583,{"$f":"'poměry financování'!D1520","v":"CZ.1.11/3.1.00/02.00583"}]
[null,{"$f":"'3.3'!I1528","v":0},{"$f":"'3.3'!L1528","v":0},0,0,584,{"$f":"'poměry financování'!D1521","v":"CZ.1.11/1.1.00/02.00584"}]
[null,{"$f":"'3.3'!I1529","v":0},{"$f":"'3.3'!L1529","v":0},0,0,585,{"$f":"'poměry financování'!D1522","v":"CZ.1.11/1.1.00/02.00585"}]
[null,{"$f":"'3.3'!I1530","v":0},{"$f":"'3.3'!L1530","v":0},0,0,585,{"$f":"'poměry financování'!D1523","v":"CZ.1.11/1.1.00/02.00585"}]
[null,{"$f":"'3.3'!I1531","v":0},{"$f":"'3.3'!L1531","v":0},0,0,586,{"$f":"'poměry financování'!D1524","v":"CZ.1.11/1.1.00/02.00586"}]
[null,{"$f":"'3.3'!I1532","v":0},{"$f":"'3.3'!L1532","v":0},0,0,586,{"$f":"'poměry financování'!D1525","v":"CZ.1.11/1.1.00/02.00586"}]
[null,{"$f":"'3.3'!I1533","v":0},{"$f":"'3.3'!L1533","v":0},0,0,587,{"$f":"'poměry financování'!D1526","v":"CZ.1.11/1.1.00/02.00587"}]
[null,{"$f":"'3.3'!I1534","v":0},{"$f":"'3.3'!L1534","v":0},0,0,587,{"$f":"'poměry financování'!D1527","v":"CZ.1.11/1.1.00/02.00587"}]
[null,{"$f":"'3.3'!I1535","v":0},{"$f":"'3.3'!L1535","v":0},0,0,588,{"$f":"'poměry financování'!D1528","v":"CZ.1.11/1.1.00/02.00588"}]
[null,{"$f":"'3.3'!I1536","v":0},{"$f":"'3.3'!L1536","v":0},0,0,588,{"$f":"'poměry financování'!D1529","v":"CZ.1.11/1.1.00/02.00588"}]
[null,{"$f":"'3.3'!I1537","v":0},{"$f":"'3.3'!L1537","v":0},0,0,588,{"$f":"'poměry financování'!D1530","v":"CZ.1.11/1.1.00/02.00588"}]
[null,{"$f":"'3.3'!I1538","v":0},{"$f":"'3.3'!L1538","v":0},0,0,589,{"$f":"'poměry financování'!D1531","v":"CZ.1.11/1.1.00/02.00589"}]
[null,{"$f":"'3.3'!I1539","v":0},{"$f":"'3.3'!L1539","v":0},0,0,589,{"$f":"'poměry financování'!D1532","v":"CZ.1.11/1.1.00/02.00589"}]
[null,{"$f":"'3.3'!I1540","v":0},{"$f":"'3.3'!L1540","v":0},0,0,589,{"$f":"'poměry financování'!D1533","v":"CZ.1.11/1.1.00/02.00589"}]
[null,{"$f":"'3.3'!I1541","v":0},{"$f":"'3.3'!L1541","v":0},0,0,590,{"$f":"'poměry financování'!D1534","v":"CZ.1.11/1.1.00/02.00590"}]
[null,{"$f":"'3.3'!I1542","v":0},{"$f":"'3.3'!L1542","v":0},0,0,590,{"$f":"'poměry financování'!D1535","v":"CZ.1.11/1.1.00/02.00590"}]
[null,{"$f":"'3.3'!I1543","v":0},{"$f":"'3.3'!L1543","v":0},{"$f":"IF(B1539=\"Investiční\",C1539,0)","v":0},{"$f":"IF(B1539=\"Neinvestiční\",C1539,0)","v":0},591,{"$f":"'poměry financování'!D1536","v":"CZ.1.11/1.1.00/02.00591"}]
[null,{"$f":"'3.3'!I1544","v":0},{"$f":"'3.3'!L1544","v":0},0,0,591,{"$f":"'poměry financování'!D1537","v":"CZ.1.11/1.1.00/02.00591"}]
[null,{"$f":"'3.3'!I1545","v":0},{"$f":"'3.3'!L1545","v":0},0,0,591,{"$f":"'poměry financování'!D1538","v":"CZ.1.11/1.1.00/02.00591"}]
[null,{"$f":"'3.3'!I1546","v":0},{"$f":"'3.3'!L1546","v":0},0,0,{"$f":"VALUE((MID(G1542,20,4)))","v":592},{"$f":"'poměry financování'!D1539","v":"CZ.1.11/1.1.00/02.00592"}]
[null,{"$f":"'3.3'!I1547","v":0},{"$f":"'3.3'!L1547","v":0},0,0,592,{"$f":"'poměry financování'!D1540","v":"CZ.1.11/1.1.00/02.00592"}]
[null,{"$f":"'3.3'!I1548","v":0},{"$f":"'3.3'!L1548","v":0},0,0,592,{"$f":"'poměry financování'!D1541","v":"CZ.1.11/1.1.00/02.00592"}]
[null,{"$f":"'3.3'!I1549","v":0},{"$f":"'3.3'!L1549","v":0},0,0,593,{"$f":"'poměry financování'!D1542","v":"CZ.1.11/1.1.00/02.00593"}]
[null,{"$f":"'3.3'!I1550","v":0},{"$f":"'3.3'!L1550","v":0},0,0,594,{"$f":"'poměry financování'!D1543","v":"CZ.1.11/1.1.00/02.00594"}]
[null,{"$f":"'3.3'!I1551","v":0},{"$f":"'3.3'!L1551","v":0},0,0,594,{"$f":"'poměry financování'!D1544","v":"CZ.1.11/1.1.00/02.00594"}]
[null,{"$f":"'3.3'!I1552","v":0},{"$f":"'3.3'!L1552","v":0},0,0,594,{"$f":"'poměry financování'!D1545","v":"CZ.1.11/1.1.00/02.00594"}]
[null,{"$f":"'3.3'!I1553","v":0},{"$f":"'3.3'!L1553","v":0},0,0,595,{"$f":"'poměry financování'!D1546","v":"CZ.1.11/1.1.00/02.00595"}]
[null,{"$f":"'3.3'!I1554","v":0},{"$f":"'3.3'!L1554","v":0},0,0,595,{"$f":"'poměry financování'!D1547","v":"CZ.1.11/1.1.00/02.00595"}]
[null,{"$f":"'3.3'!I1555","v":0},{"$f":"'3.3'!L1555","v":0},0,0,595,{"$f":"'poměry financování'!D1548","v":"CZ.1.11/1.1.00/02.00595"}]
[null,{"$f":"'3.3'!I1556","v":0},{"$f":"'3.3'!L1556","v":0},0,0,596,{"$f":"'poměry financování'!D1549","v":"CZ.1.11/1.1.00/02.00596"}]
[null,{"$f":"'3.3'!I1557","v":0},{"$f":"'3.3'!L1557","v":0},0,0,597,{"$f":"'poměry financování'!D1550","v":"CZ.1.11/1.1.00/02.00597"}]
[null,{"$f":"'3.3'!I1558","v":0},{"$f":"'3.3'!L1558","v":0},0,0,597,{"$f":"'poměry financování'!D1551","v":"CZ.1.11/1.1.00/02.00597"}]
[null,{"$f":"'3.3'!I1559","v":0},{"$f":"'3.3'!L1559","v":0},0,0,598,{"$f":"'poměry financování'!D1552","v":"CZ.1.11/1.1.00/02.00598"}]
[null,{"$f":"'3.3'!I1560","v":0},{"$f":"'3.3'!L1560","v":0},0,0,599,{"$f":"'poměry financování'!D1553","v":"CZ.1.11/3.4.00/02.00599"}]
[null,{"$f":"'3.3'!I1561","v":0},{"$f":"'3.3'!L1561","v":0},0,0,599,{"$f":"'poměry financování'!D1554","v":"CZ.1.11/3.4.00/02.00599"}]
[null,{"$f":"'3.3'!I1562","v":0},{"$f":"'3.3'!L1562","v":0},0,0,599,{"$f":"'poměry financování'!D1555","v":"CZ.1.11/3.4.00/02.00599"}]
[null,{"$f":"'3.3'!I1563","v":0},{"$f":"'3.3'!L1563","v":0},0,0,600,{"$f":"'poměry financování'!D1556","v":"CZ.1.11/3.1.00/02.00600"}]
[null,{"$f":"'3.3'!I1564","v":0},{"$f":"'3.3'!L1564","v":0},0,0,600,{"$f":"'poměry financování'!D1557","v":"CZ.1.11/3.1.00/02.00600"}]
[null,{"$f":"'3.3'!I1565","v":0},{"$f":"'3.3'!L1565","v":0},0,0,601,{"$f":"'poměry financování'!D1558","v":"CZ.1.11/3.1.00/02.00601"}]
[null,{"$f":"'3.3'!I1566","v":0},{"$f":"'3.3'!L1566","v":0},0,0,601,{"$f":"'poměry financování'!D1559","v":"CZ.1.11/3.1.00/02.00601"}]
[null,{"$f":"'3.3'!I1567","v":0},{"$f":"'3.3'!L1567","v":0},0,0,601,{"$f":"'poměry financování'!D1560","v":"CZ.1.11/3.1.00/02.00601"}]
[null,{"$f":"'3.3'!I1568","v":0},{"$f":"'3.3'!L1568","v":0},0,0,601,{"$f":"'poměry financování'!D1561","v":"CZ.1.11/3.1.00/02.00601"}]
[null,{"$f":"'3.3'!I1569","v":0},{"$f":"'3.3'!L1569","v":0},0,0,602,{"$f":"'poměry financování'!D1562","v":"CZ.1.11/3.1.00/02.00602"}]
[null,{"$f":"'3.3'!I1570","v":0},{"$f":"'3.3'!L1570","v":0},0,0,602,{"$f":"'poměry financování'!D1563","v":"CZ.1.11/3.1.00/02.00602"}]
[null,{"$f":"'3.3'!I1571","v":0},{"$f":"'3.3'!L1571","v":0},0,0,602,{"$f":"'poměry financování'!D1564","v":"CZ.1.11/3.1.00/02.00602"}]
[null,{"$f":"'3.3'!I1572","v":0},{"$f":"'3.3'!L1572","v":0},0,0,603,{"$f":"'poměry financování'!D1565","v":"CZ.1.11/3.1.00/02.00603"}]
[null,{"$f":"'3.3'!I1573","v":0},{"$f":"'3.3'!L1573","v":0},0,0,603,{"$f":"'poměry financování'!D1566","v":"CZ.1.11/3.1.00/02.00603"}]
[null,{"$f":"'3.3'!I1574","v":0},{"$f":"'3.3'!L1574","v":0},0,0,603,{"$f":"'poměry financování'!D1567","v":"CZ.1.11/3.1.00/02.00603"}]
[null,{"$f":"'3.3'!I1575","v":0},{"$f":"'3.3'!L1575","v":0},0,0,603,{"$f":"'poměry financování'!D1568","v":"CZ.1.11/3.1.00/02.00603"}]
[null,{"$f":"'3.3'!I1576","v":0},{"$f":"'3.3'!L1576","v":0},0,0,604,{"$f":"'poměry financování'!D1569","v":"CZ.1.11/3.4.00/02.00604"}]
[null,{"$f":"'3.3'!I1577","v":0},{"$f":"'3.3'!L1577","v":0},0,0,605,{"$f":"'poměry financování'!D1570","v":"CZ.1.11/3.2.00/02.00605"}]
[null,{"$f":"'3.3'!I1578","v":0},{"$f":"'3.3'!L1578","v":0},0,0,605,{"$f":"'poměry financování'!D1571","v":"CZ.1.11/3.2.00/02.00605"}]
[null,{"$f":"'3.3'!I1579","v":0},{"$f":"'3.3'!L1579","v":0},0,0,605,{"$f":"'poměry financování'!D1572","v":"CZ.1.11/3.2.00/02.00605"}]
[null,{"$f":"'3.3'!I1580","v":0},{"$f":"'3.3'!L1580","v":0},0,0,605,{"$f":"'poměry financování'!D1573","v":"CZ.1.11/3.2.00/02.00605"}]
[null,{"$f":"'3.3'!I1581","v":0},{"$f":"'3.3'!L1581","v":0},0,0,605,{"$f":"'poměry financování'!D1574","v":"CZ.1.11/3.2.00/02.00605"}]
[null,{"$f":"'3.3'!I1582","v":0},{"$f":"'3.3'!L1582","v":0},0,0,606,{"$f":"'poměry financování'!D1575","v":"CZ.1.11/3.2.00/02.00606"}]
[null,{"$f":"'3.3'!I1583","v":0},{"$f":"'3.3'!L1583","v":0},0,0,607,{"$f":"'poměry financování'!D1576","v":"CZ.1.11/3.4.00/02.00607"}]
[null,{"$f":"'3.3'!I1584","v":0},{"$f":"'3.3'!L1584","v":0},0,0,608,{"$f":"'poměry financování'!D1577","v":"CZ.1.11/3.3.00/02.00608"}]
[null,{"$f":"'3.3'!I1585","v":0},{"$f":"'3.3'!L1585","v":0},0,0,609,{"$f":"'poměry financování'!D1578","v":"CZ.1.11/3.4.00/02.00609"}]
[null,{"$f":"'3.3'!I1586","v":0},{"$f":"'3.3'!L1586","v":0},0,0,610,{"$f":"'poměry financování'!D1579","v":"CZ.1.11/3.3.00/02.00610"}]
[null,{"$f":"'3.3'!I1587","v":0},{"$f":"'3.3'!L1587","v":0},0,0,611,{"$f":"'poměry financování'!D1580","v":"CZ.1.11/3.3.00/02.00611"}]
[null,{"$f":"'3.3'!I1588","v":0},{"$f":"'3.3'!L1588","v":0},0,0,611,{"$f":"'poměry financování'!D1581","v":"CZ.1.11/3.3.00/02.00611"}]
[null,{"$f":"'3.3'!I1589","v":0},{"$f":"'3.3'!L1589","v":0},0,0,611,{"$f":"'poměry financování'!D1582","v":"CZ.1.11/3.3.00/02.00611"}]
[null,{"$f":"'3.3'!I1590","v":0},{"$f":"'3.3'!L1590","v":0},0,0,612,{"$f":"'poměry financování'!D1583","v":"CZ.1.11/3.2.00/02.00612"}]
[null,{"$f":"'3.3'!I1591","v":0},{"$f":"'3.3'!L1591","v":0},0,0,612,{"$f":"'poměry financování'!D1584","v":"CZ.1.11/3.2.00/02.00612"}]
[null,{"$f":"'3.3'!I1592","v":0},{"$f":"'3.3'!L1592","v":0},0,0,613,{"$f":"'poměry financování'!D1585","v":"CZ.1.11/3.3.00/02.00613"}]
[null,{"$f":"'3.3'!I1593","v":0},{"$f":"'3.3'!L1593","v":0},0,0,614,{"$f":"'poměry financování'!D1586","v":"CZ.1.11/3.3.00/02.00614"}]
[null,{"$f":"'3.3'!I1594","v":0},{"$f":"'3.3'!L1594","v":0},0,0,614,{"$f":"'poměry financování'!D1587","v":"CZ.1.11/3.3.00/02.00614"}]
[null,{"$f":"'3.3'!I1595","v":0},{"$f":"'3.3'!L1595","v":0},0,0,615,{"$f":"'poměry financování'!D1588","v":"CZ.1.11/3.4.00/02.00615"}]
[null,{"$f":"'3.3'!I1596","v":0},{"$f":"'3.3'!L1596","v":0},0,0,615,{"$f":"'poměry financování'!D1589","v":"CZ.1.11/3.4.00/02.00615"}]
[null,{"$f":"'3.3'!I1597","v":0},{"$f":"'3.3'!L1597","v":0},0,0,616,{"$f":"'poměry financování'!D1590","v":"CZ.1.11/3.2.00/02.00616"}]
[null,{"$f":"'3.3'!I1598","v":0},{"$f":"'3.3'!L1598","v":0},0,0,617,{"$f":"'poměry financování'!D1591","v":"CZ.1.11/3.3.00/02.00617"}]
[null,{"$f":"'3.3'!I1599","v":0},{"$f":"'3.3'!L1599","v":0},0,0,617,{"$f":"'poměry financování'!D1592","v":"CZ.1.11/3.3.00/02.00617"}]
[null,{"$f":"'3.3'!I1600","v":0},{"$f":"'3.3'!L1600","v":0},0,0,617,{"$f":"'poměry financování'!D1593","v":"CZ.1.11/3.3.00/02.00617"}]
[null,{"$f":"'3.3'!I1601","v":0},{"$f":"'3.3'!L1601","v":0},0,0,617,{"$f":"'poměry financování'!D1594","v":"CZ.1.11/3.3.00/02.00617"}]
[null,{"$f":"'3.3'!I1602","v":0},{"$f":"'3.3'!L1602","v":0},0,0,618,{"$f":"'poměry financování'!D1595","v":"CZ.1.11/3.3.00/02.00618"}]
[null,{"$f":"'3.3'!I1603","v":0},{"$f":"'3.3'!L1603","v":0},0,0,618,{"$f":"'poměry financování'!D1596","v":"CZ.1.11/3.3.00/02.00618"}]
[null,{"$f":"'3.3'!I1604","v":0},{"$f":"'3.3'!L1604","v":0},0,0,618,{"$f":"'poměry financování'!D1597","v":"CZ.1.11/3.3.00/02.00618"}]
[null,{"$f":"'3.3'!I1605","v":0},{"$f":"'3.3'!L1605","v":0},0,0,619,{"$f":"'poměry financování'!D1598","v":"CZ.1.11/3.3.00/02.00619"}]
[null,{"$f":"'3.3'!I1606","v":0},{"$f":"'3.3'!L1606","v":0},0,0,619,{"$f":"'poměry financování'!D1599","v":"CZ.1.11/3.3.00/02.00619"}]
[null,{"$f":"'3.3'!I1607","v":0},{"$f":"'3.3'!L1607","v":0},{"$f":"IF(B1603=\"Investiční\",C1603,0)","v":0},{"$f":"IF(B1603=\"Neinvestiční\",C1603,0)","v":0},619,{"$f":"'poměry financování'!D1600","v":"CZ.1.11/3.3.00/02.00619"}]
[null,{"$f":"'3.3'!I1608","v":0},{"$f":"'3.3'!L1608","v":0},0,0,620,{"$f":"'poměry financování'!D1601","v":"CZ.1.11/3.3.00/02.00620"}]
[null,{"$f":"'3.3'!I1609","v":0},{"$f":"'3.3'!L1609","v":0},0,0,621,{"$f":"'poměry financování'!D1602","v":"CZ.1.11/3.3.00/02.00621"}]
[null,{"$f":"'3.3'!I1610","v":0},{"$f":"'3.3'!L1610","v":0},0,0,{"$f":"VALUE((MID(G1606,20,4)))","v":622},{"$f":"'poměry financování'!D1603","v":"CZ.1.11/3.3.00/02.00622"}]
[null,{"$f":"'3.3'!I1611","v":0},{"$f":"'3.3'!L1611","v":0},0,0,622,{"$f":"'poměry financování'!D1604","v":"CZ.1.11/3.3.00/02.00622"}]
[null,{"$f":"'3.3'!I1612","v":0},{"$f":"'3.3'!L1612","v":0},0,0,623,{"$f":"'poměry financování'!D1605","v":"CZ.1.11/3.3.00/02.00623"}]
[null,{"$f":"'3.3'!I1613","v":0},{"$f":"'3.3'!L1613","v":0},0,0,623,{"$f":"'poměry financování'!D1606","v":"CZ.1.11/3.3.00/02.00623"}]
[null,{"$f":"'3.3'!I1614","v":0},{"$f":"'3.3'!L1614","v":0},0,0,623,{"$f":"'poměry financování'!D1607","v":"CZ.1.11/3.3.00/02.00623"}]
[null,{"$f":"'3.3'!I1615","v":0},{"$f":"'3.3'!L1615","v":0},0,0,623,{"$f":"'poměry financování'!D1608","v":"CZ.1.11/3.3.00/02.00623"}]
[null,{"$f":"'3.3'!I1616","v":0},{"$f":"'3.3'!L1616","v":0},0,0,624,{"$f":"'poměry financování'!D1609","v":"CZ.1.11/1.4.00/03.00624"}]
[null,{"$f":"'3.3'!I1617","v":0},{"$f":"'3.3'!L1617","v":0},0,0,625,{"$f":"'poměry financování'!D1610","v":"CZ.1.11/3.2.00/02.00625"}]
[null,{"$f":"'3.3'!I1618","v":0},{"$f":"'3.3'!L1618","v":0},0,0,626,{"$f":"'poměry financování'!D1611","v":"CZ.1.11/3.3.00/02.00626"}]
[null,{"$f":"'3.3'!I1619","v":0},{"$f":"'3.3'!L1619","v":0},0,0,626,{"$f":"'poměry financování'!D1612","v":"CZ.1.11/3.3.00/02.00626"}]
[null,{"$f":"'3.3'!I1620","v":0},{"$f":"'3.3'!L1620","v":0},0,0,626,{"$f":"'poměry financování'!D1613","v":"CZ.1.11/3.3.00/02.00626"}]
[null,{"$f":"'3.3'!I1621","v":0},{"$f":"'3.3'!L1621","v":0},0,0,626,{"$f":"'poměry financování'!D1614","v":"CZ.1.11/3.3.00/02.00626"}]
[null,{"$f":"'3.3'!I1622","v":0},{"$f":"'3.3'!L1622","v":0},0,0,627,{"$f":"'poměry financování'!D1615","v":"CZ.1.11/3.2.00/02.00627"}]
[null,{"$f":"'3.3'!I1623","v":0},{"$f":"'3.3'!L1623","v":0},0,0,627,{"$f":"'poměry financování'!D1616","v":"CZ.1.11/3.2.00/02.00627"}]
[null,{"$f":"'3.3'!I1624","v":0},{"$f":"'3.3'!L1624","v":0},0,0,627,{"$f":"'poměry financování'!D1617","v":"CZ.1.11/3.2.00/02.00627"}]
[null,{"$f":"'3.3'!I1625","v":0},{"$f":"'3.3'!L1625","v":0},0,0,627,{"$f":"'poměry financování'!D1618","v":"CZ.1.11/3.2.00/02.00627"}]
[null,{"$f":"'3.3'!I1626","v":0},{"$f":"'3.3'!L1626","v":0},0,0,627,{"$f":"'poměry financování'!D1619","v":"CZ.1.11/3.2.00/02.00627"}]
[null,{"$f":"'3.3'!I1627","v":0},{"$f":"'3.3'!L1627","v":0},0,0,627,{"$f":"'poměry financování'!D1620","v":"CZ.1.11/3.2.00/02.00627"}]
[null,{"$f":"'3.3'!I1628","v":0},{"$f":"'3.3'!L1628","v":0},0,0,627,{"$f":"'poměry financování'!D1621","v":"CZ.1.11/3.2.00/02.00627"}]
[null,{"$f":"'3.3'!I1629","v":0},{"$f":"'3.3'!L1629","v":0},0,0,628,{"$f":"'poměry financování'!D1622","v":"CZ.1.11/3.3.00/02.00628"}]
[null,{"$f":"'3.3'!I1630","v":0},{"$f":"'3.3'!L1630","v":0},0,0,629,{"$f":"'poměry financování'!D1623","v":"CZ.1.11/3.2.00/02.00629"}]
[null,{"$f":"'3.3'!I1631","v":0},{"$f":"'3.3'!L1631","v":0},0,0,629,{"$f":"'poměry financování'!D1624","v":"CZ.1.11/3.2.00/02.00629"}]
[null,{"$f":"'3.3'!I1632","v":0},{"$f":"'3.3'!L1632","v":0},0,0,629,{"$f":"'poměry financování'!D1625","v":"CZ.1.11/3.2.00/02.00629"}]
[null,{"$f":"'3.3'!I1633","v":0},{"$f":"'3.3'!L1633","v":0},0,0,629,{"$f":"'poměry financování'!D1626","v":"CZ.1.11/3.2.00/02.00629"}]
[null,{"$f":"'3.3'!I1634","v":0},{"$f":"'3.3'!L1634","v":0},0,0,629,{"$f":"'poměry financování'!D1627","v":"CZ.1.11/3.2.00/02.00629"}]
[null,{"$f":"'3.3'!I1635","v":0},{"$f":"'3.3'!L1635","v":0},0,0,629,{"$f":"'poměry financování'!D1628","v":"CZ.1.11/3.2.00/02.00629"}]
[null,{"$f":"'3.3'!I1636","v":0},{"$f":"'3.3'!L1636","v":0},0,0,630,{"$f":"'poměry financování'!D1629","v":"CZ.1.11/3.3.00/02.00630"}]
[null,{"$f":"'3.3'!I1637","v":0},{"$f":"'3.3'!L1637","v":0},0,0,630,{"$f":"'poměry financování'!D1630","v":"CZ.1.11/3.3.00/02.00630"}]
[null,{"$f":"'3.3'!I1638","v":0},{"$f":"'3.3'!L1638","v":0},0,0,630,{"$f":"'poměry financování'!D1631","v":"CZ.1.11/3.3.00/02.00630"}]
[null,{"$f":"'3.3'!I1639","v":0},{"$f":"'3.3'!L1639","v":0},0,0,630,{"$f":"'poměry financování'!D1632","v":"CZ.1.11/3.3.00/02.00630"}]
[null,{"$f":"'3.3'!I1640","v":0},{"$f":"'3.3'!L1640","v":0},0,0,630,{"$f":"'poměry financování'!D1633","v":"CZ.1.11/3.3.00/02.00630"}]
[null,{"$f":"'3.3'!I1641","v":0},{"$f":"'3.3'!L1641","v":0},0,0,630,{"$f":"'poměry financování'!D1634","v":"CZ.1.11/3.3.00/02.00630"}]
[null,{"$f":"'3.3'!I1642","v":0},{"$f":"'3.3'!L1642","v":0},0,0,631,{"$f":"'poměry financování'!D1635","v":"CZ.1.11/3.3.00/02.00631"}]
[null,{"$f":"'3.3'!I1643","v":0},{"$f":"'3.3'!L1643","v":0},0,0,632,{"$f":"'poměry financování'!D1636","v":"CZ.1.11/3.3.00/02.00632"}]
[null,{"$f":"'3.3'!I1644","v":0},{"$f":"'3.3'!L1644","v":0},0,0,632,{"$f":"'poměry financování'!D1637","v":"CZ.1.11/3.3.00/02.00632"}]
[null,{"$f":"'3.3'!I1645","v":0},{"$f":"'3.3'!L1645","v":0},0,0,633,{"$f":"'poměry financování'!D1638","v":"CZ.1.11/3.2.00/02.00633"}]
[null,{"$f":"'3.3'!I1646","v":0},{"$f":"'3.3'!L1646","v":0},0,0,633,{"$f":"'poměry financování'!D1639","v":"CZ.1.11/3.2.00/02.00633"}]
[null,{"$f":"'3.3'!I1647","v":0},{"$f":"'3.3'!L1647","v":0},0,0,633,{"$f":"'poměry financování'!D1640","v":"CZ.1.11/3.2.00/02.00633"}]
[null,{"$f":"'3.3'!I1648","v":0},{"$f":"'3.3'!L1648","v":0},0,0,634,{"$f":"'poměry financování'!D1641","v":"CZ.1.11/3.2.00/02.00634"}]
[null,{"$f":"'3.3'!I1649","v":0},{"$f":"'3.3'!L1649","v":0},0,0,635,{"$f":"'poměry financování'!D1642","v":"CZ.1.11/3.3.00/02.00635"}]
[null,{"$f":"'3.3'!I1650","v":0},{"$f":"'3.3'!L1650","v":0},0,0,636,{"$f":"'poměry financování'!D1643","v":"CZ.1.11/3.2.00/02.00636"}]
[null,{"$f":"'3.3'!I1651","v":0},{"$f":"'3.3'!L1651","v":0},0,0,637,{"$f":"'poměry financování'!D1644","v":"CZ.1.11/3.3.00/02.00637"}]
[null,{"$f":"'3.3'!I1652","v":0},{"$f":"'3.3'!L1652","v":0},0,0,638,{"$f":"'poměry financování'!D1645","v":"CZ.1.11/3.3.00/02.00638"}]
[null,{"$f":"'3.3'!I1653","v":0},{"$f":"'3.3'!L1653","v":0},0,0,639,{"$f":"'poměry financování'!D1646","v":"CZ.1.11/3.3.00/02.00639"}]
[null,{"$f":"'3.3'!I1654","v":0},{"$f":"'3.3'!L1654","v":0},0,0,640,{"$f":"'poměry financování'!D1647","v":"CZ.1.11/3.3.00/02.00640"}]
[null,{"$f":"'3.3'!I1655","v":0},{"$f":"'3.3'!L1655","v":0},0,0,641,{"$f":"'poměry financování'!D1648","v":"CZ.1.11/3.3.00/02.00641"}]
[null,{"$f":"'3.3'!I1656","v":0},{"$f":"'3.3'!L1656","v":0},0,0,642,{"$f":"'poměry financování'!D1649","v":"CZ.1.11/3.2.00/02.00642"}]
[null,{"$f":"'3.3'!I1657","v":0},{"$f":"'3.3'!L1657","v":0},0,0,642,{"$f":"'poměry financování'!D1650","v":"CZ.1.11/3.2.00/02.00642"}]
[null,{"$f":"'3.3'!I1658","v":0},{"$f":"'3.3'!L1658","v":0},0,0,643,{"$f":"'poměry financování'!D1651","v":"CZ.1.11/3.3.00/02.00643"}]
[null,{"$f":"'3.3'!I1659","v":0},{"$f":"'3.3'!L1659","v":0},0,0,643,{"$f":"'poměry financování'!D1652","v":"CZ.1.11/3.3.00/02.00643"}]
[null,{"$f":"'3.3'!I1660","v":0},{"$f":"'3.3'!L1660","v":0},0,0,643,{"$f":"'poměry financování'!D1653","v":"CZ.1.11/3.3.00/02.00643"}]
[null,{"$f":"'3.3'!I1661","v":0},{"$f":"'3.3'!L1661","v":0},0,0,644,{"$f":"'poměry financování'!D1654","v":"CZ.1.11/3.3.00/02.00644"}]
[null,{"$f":"'3.3'!I1662","v":0},{"$f":"'3.3'!L1662","v":0},0,0,645,{"$f":"'poměry financování'!D1655","v":"CZ.1.11/3.3.00/02.00645"}]
[null,{"$f":"'3.3'!I1663","v":0},{"$f":"'3.3'!L1663","v":0},0,0,646,{"$f":"'poměry financování'!D1656","v":"CZ.1.11/3.3.00/02.00646"}]
[null,{"$f":"'3.3'!I1664","v":0},{"$f":"'3.3'!L1664","v":0},0,0,647,{"$f":"'poměry financování'!D1657","v":"CZ.1.11/3.3.00/02.00647"}]
[null,{"$f":"'3.3'!I1665","v":0},{"$f":"'3.3'!L1665","v":0},0,0,648,{"$f":"'poměry financování'!D1658","v":"CZ.1.11/3.3.00/02.00648"}]
[null,{"$f":"'3.3'!I1666","v":0},{"$f":"'3.3'!L1666","v":0},0,0,648,{"$f":"'poměry financování'!D1659","v":"CZ.1.11/3.3.00/02.00648"}]
[null,{"$f":"'3.3'!I1667","v":0},{"$f":"'3.3'!L1667","v":0},0,0,648,{"$f":"'poměry financování'!D1660","v":"CZ.1.11/3.3.00/02.00648"}]
[null,{"$f":"'3.3'!I1668","v":0},{"$f":"'3.3'!L1668","v":0},0,0,649,{"$f":"'poměry financování'!D1661","v":"CZ.1.11/3.3.00/02.00649"}]
[null,{"$f":"'3.3'!I1669","v":0},{"$f":"'3.3'!L1669","v":0},0,0,650,{"$f":"'poměry financování'!D1662","v":"CZ.1.11/3.3.00/02.00650"}]
[null,{"$f":"'3.3'!I1670","v":0},{"$f":"'3.3'!L1670","v":0},0,0,651,{"$f":"'poměry financování'!D1663","v":"CZ.1.11/3.3.00/02.00651"}]
[null,{"$f":"'3.3'!I1671","v":0},{"$f":"'3.3'!L1671","v":0},{"$f":"IF(B1667=\"Investiční\",C1667,0)","v":0},{"$f":"IF(B1667=\"Neinvestiční\",C1667,0)","v":0},651,{"$f":"'poměry financování'!D1664","v":"CZ.1.11/3.3.00/02.00651"}]
[null,{"$f":"'3.3'!I1672","v":0},{"$f":"'3.3'!L1672","v":0},0,0,651,{"$f":"'poměry financování'!D1665","v":"CZ.1.11/3.3.00/02.00651"}]
[null,{"$f":"'3.3'!I1673","v":0},{"$f":"'3.3'!L1673","v":0},0,0,651,{"$f":"'poměry financování'!D1666","v":"CZ.1.11/3.3.00/02.00651"}]
[null,{"$f":"'3.3'!I1674","v":0},{"$f":"'3.3'!L1674","v":0},0,0,{"$f":"VALUE((MID(G1670,20,4)))","v":652},{"$f":"'poměry financování'!D1667","v":"CZ.1.11/3.3.00/02.00652"}]
[null,{"$f":"'3.3'!I1675","v":0},{"$f":"'3.3'!L1675","v":0},0,0,652,{"$f":"'poměry financování'!D1668","v":"CZ.1.11/3.3.00/02.00652"}]
[null,{"$f":"'3.3'!I1676","v":0},{"$f":"'3.3'!L1676","v":0},0,0,652,{"$f":"'poměry financování'!D1669","v":"CZ.1.11/3.3.00/02.00652"}]
[null,{"$f":"'3.3'!I1677","v":0},{"$f":"'3.3'!L1677","v":0},0,0,652,{"$f":"'poměry financování'!D1670","v":"CZ.1.11/3.3.00/02.00652"}]
[null,{"$f":"'3.3'!I1678","v":0},{"$f":"'3.3'!L1678","v":0},0,0,653,{"$f":"'poměry financování'!D1671","v":"CZ.1.11/3.3.00/02.00653"}]
[null,{"$f":"'3.3'!I1679","v":0},{"$f":"'3.3'!L1679","v":0},0,0,653,{"$f":"'poměry financování'!D1672","v":"CZ.1.11/3.3.00/02.00653"}]
[null,{"$f":"'3.3'!I1680","v":0},{"$f":"'3.3'!L1680","v":0},0,0,654,{"$f":"'poměry financování'!D1673","v":"CZ.1.11/3.3.00/02.00654"}]
[null,{"$f":"'3.3'!I1681","v":0},{"$f":"'3.3'!L1681","v":0},0,0,654,{"$f":"'poměry financování'!D1674","v":"CZ.1.11/3.3.00/02.00654"}]
[null,{"$f":"'3.3'!I1682","v":0},{"$f":"'3.3'!L1682","v":0},0,0,654,{"$f":"'poměry financování'!D1675","v":"CZ.1.11/3.3.00/02.00654"}]
[null,{"$f":"'3.3'!I1683","v":0},{"$f":"'3.3'!L1683","v":0},0,0,654,{"$f":"'poměry financování'!D1676","v":"CZ.1.11/3.3.00/02.00654"}]
[null,{"$f":"'3.3'!I1684","v":0},{"$f":"'3.3'!L1684","v":0},0,0,654,{"$f":"'poměry financování'!D1677","v":"CZ.1.11/3.3.00/02.00654"}]
[null,{"$f":"'3.3'!I1685","v":0},{"$f":"'3.3'!L1685","v":0},0,0,654,{"$f":"'poměry financování'!D1678","v":"CZ.1.11/3.3.00/02.00654"}]
[null,{"$f":"'3.3'!I1686","v":0},{"$f":"'3.3'!L1686","v":0},0,0,655,{"$f":"'poměry financování'!D1679","v":"CZ.1.11/3.3.00/02.00655"}]
[null,{"$f":"'3.3'!I1687","v":0},{"$f":"'3.3'!L1687","v":0},0,0,656,{"$f":"'poměry financování'!D1680","v":"CZ.1.11/3.2.00/02.00656"}]
[null,{"$f":"'3.3'!I1688","v":0},{"$f":"'3.3'!L1688","v":0},0,0,656,{"$f":"'poměry financování'!D1681","v":"CZ.1.11/3.2.00/02.00656"}]
[null,{"$f":"'3.3'!I1689","v":0},{"$f":"'3.3'!L1689","v":0},0,0,656,{"$f":"'poměry financování'!D1682","v":"CZ.1.11/3.2.00/02.00656"}]
[null,{"$f":"'3.3'!I1690","v":0},{"$f":"'3.3'!L1690","v":0},0,0,656,{"$f":"'poměry financování'!D1683","v":"CZ.1.11/3.2.00/02.00656"}]
[null,{"$f":"'3.3'!I1691","v":0},{"$f":"'3.3'!L1691","v":0},0,0,657,{"$f":"'poměry financování'!D1684","v":"CZ.1.11/3.2.00/02.00657"}]
[null,{"$f":"'3.3'!I1692","v":0},{"$f":"'3.3'!L1692","v":0},0,0,657,{"$f":"'poměry financování'!D1685","v":"CZ.1.11/3.2.00/02.00657"}]
[null,{"$f":"'3.3'!I1693","v":0},{"$f":"'3.3'!L1693","v":0},0,0,657,{"$f":"'poměry financování'!D1686","v":"CZ.1.11/3.2.00/02.00657"}]
[null,{"$f":"'3.3'!I1694","v":0},{"$f":"'3.3'!L1694","v":0},0,0,658,{"$f":"'poměry financování'!D1687","v":"CZ.1.11/3.2.00/02.00658"}]
[null,{"$f":"'3.3'!I1695","v":0},{"$f":"'3.3'!L1695","v":0},0,0,658,{"$f":"'poměry financování'!D1688","v":"CZ.1.11/3.2.00/02.00658"}]
[null,{"$f":"'3.3'!I1696","v":0},{"$f":"'3.3'!L1696","v":0},0,0,658,{"$f":"'poměry financování'!D1689","v":"CZ.1.11/3.2.00/02.00658"}]
[null,{"$f":"'3.3'!I1697","v":0},{"$f":"'3.3'!L1697","v":0},0,0,658,{"$f":"'poměry financování'!D1690","v":"CZ.1.11/3.2.00/02.00658"}]
[null,{"$f":"'3.3'!I1698","v":0},{"$f":"'3.3'!L1698","v":0},0,0,658,{"$f":"'poměry financování'!D1691","v":"CZ.1.11/3.2.00/02.00658"}]
[null,{"$f":"'3.3'!I1699","v":0},{"$f":"'3.3'!L1699","v":0},0,0,659,{"$f":"'poměry financování'!D1692","v":"CZ.1.11/3.3.00/02.00659"}]
[null,{"$f":"'3.3'!I1700","v":0},{"$f":"'3.3'!L1700","v":0},0,0,660,{"$f":"'poměry financování'!D1693","v":"CZ.1.11/3.3.00/02.00660"}]
[null,{"$f":"'3.3'!I1701","v":0},{"$f":"'3.3'!L1701","v":0},0,0,660,{"$f":"'poměry financování'!D1694","v":"CZ.1.11/3.3.00/02.00660"}]
[null,{"$f":"'3.3'!I1702","v":0},{"$f":"'3.3'!L1702","v":0},0,0,661,{"$f":"'poměry financování'!D1695","v":"CZ.1.11/3.3.00/02.00661"}]
[null,{"$f":"'3.3'!I1703","v":0},{"$f":"'3.3'!L1703","v":0},0,0,661,{"$f":"'poměry financování'!D1696","v":"CZ.1.11/3.3.00/02.00661"}]
[null,{"$f":"'3.3'!I1704","v":0},{"$f":"'3.3'!L1704","v":0},0,0,662,{"$f":"'poměry financování'!D1697","v":"CZ.1.11/3.3.00/02.00662"}]
[null,{"$f":"'3.3'!I1705","v":0},{"$f":"'3.3'!L1705","v":0},0,0,662,{"$f":"'poměry financování'!D1698","v":"CZ.1.11/3.3.00/02.00662"}]
[null,{"$f":"'3.3'!I1706","v":0},{"$f":"'3.3'!L1706","v":0},0,0,663,{"$f":"'poměry financování'!D1699","v":"CZ.1.11/3.3.00/02.00663"}]
[null,{"$f":"'3.3'!I1707","v":0},{"$f":"'3.3'!L1707","v":0},0,0,664,{"$f":"'poměry financování'!D1700","v":"CZ.1.11/3.3.00/02.00664"}]
[null,{"$f":"'3.3'!I1708","v":0},{"$f":"'3.3'!L1708","v":0},0,0,664,{"$f":"'poměry financování'!D1701","v":"CZ.1.11/3.3.00/02.00664"}]
[null,{"$f":"'3.3'!I1709","v":0},{"$f":"'3.3'!L1709","v":0},0,0,664,{"$f":"'poměry financování'!D1702","v":"CZ.1.11/3.3.00/02.00664"}]
[null,{"$f":"'3.3'!I1710","v":0},{"$f":"'3.3'!L1710","v":0},0,0,664,{"$f":"'poměry financování'!D1703","v":"CZ.1.11/3.3.00/02.00664"}]
[null,{"$f":"'3.3'!I1711","v":0},{"$f":"'3.3'!L1711","v":0},0,0,665,{"$f":"'poměry financování'!D1704","v":"CZ.1.11/3.3.00/02.00665"}]
[null,{"$f":"'3.3'!I1712","v":0},{"$f":"'3.3'!L1712","v":0},0,0,665,{"$f":"'poměry financování'!D1705","v":"CZ.1.11/3.3.00/02.00665"}]
[null,{"$f":"'3.3'!I1713","v":0},{"$f":"'3.3'!L1713","v":0},0,0,665,{"$f":"'poměry financování'!D1706","v":"CZ.1.11/3.3.00/02.00665"}]
[null,{"$f":"'3.3'!I1714","v":0},{"$f":"'3.3'!L1714","v":0},0,0,666,{"$f":"'poměry financování'!D1707","v":"CZ.1.11/3.2.00/02.00666"}]
[null,{"$f":"'3.3'!I1715","v":0},{"$f":"'3.3'!L1715","v":0},0,0,667,{"$f":"'poměry financování'!D1708","v":"CZ.1.11/3.3.00/02.00667"}]
[null,{"$f":"'3.3'!I1716","v":0},{"$f":"'3.3'!L1716","v":0},0,0,667,{"$f":"'poměry financování'!D1709","v":"CZ.1.11/3.3.00/02.00667"}]
[null,{"$f":"'3.3'!I1717","v":0},{"$f":"'3.3'!L1717","v":0},0,0,667,{"$f":"'poměry financování'!D1710","v":"CZ.1.11/3.3.00/02.00667"}]
[null,{"$f":"'3.3'!I1718","v":0},{"$f":"'3.3'!L1718","v":0},0,0,667,{"$f":"'poměry financování'!D1711","v":"CZ.1.11/3.3.00/02.00667"}]
[null,{"$f":"'3.3'!I1719","v":0},{"$f":"'3.3'!L1719","v":0},0,0,668,{"$f":"'poměry financování'!D1712","v":"CZ.1.11/3.2.00/02.00668"}]
[null,{"$f":"'3.3'!I1720","v":0},{"$f":"'3.3'!L1720","v":0},0,0,669,{"$f":"'poměry financování'!D1713","v":"CZ.1.11/3.3.00/02.00669"}]
[null,{"$f":"'3.3'!I1721","v":0},{"$f":"'3.3'!L1721","v":0},0,0,669,{"$f":"'poměry financování'!D1714","v":"CZ.1.11/3.3.00/02.00669"}]
[null,{"$f":"'3.3'!I1722","v":0},{"$f":"'3.3'!L1722","v":0},0,0,670,{"$f":"'poměry financování'!D1715","v":"CZ.1.11/3.2.00/02.00670"}]
[null,{"$f":"'3.3'!I1723","v":0},{"$f":"'3.3'!L1723","v":0},0,0,671,{"$f":"'poměry financování'!D1716","v":"CZ.1.11/3.2.00/02.00671"}]
[null,{"$f":"'3.3'!I1724","v":0},{"$f":"'3.3'!L1724","v":0},0,0,672,{"$f":"'poměry financování'!D1717","v":"CZ.1.11/3.2.00/02.00672"}]
[null,{"$f":"'3.3'!I1725","v":0},{"$f":"'3.3'!L1725","v":0},0,0,673,{"$f":"'poměry financování'!D1718","v":"CZ.1.11/3.2.00/02.00673"}]
[null,{"$f":"'3.3'!I1726","v":0},{"$f":"'3.3'!L1726","v":0},0,0,674,{"$f":"'poměry financování'!D1719","v":"CZ.1.11/3.2.00/02.00674"}]
[null,{"$f":"'3.3'!I1727","v":0},{"$f":"'3.3'!L1727","v":0},0,0,674,{"$f":"'poměry financování'!D1720","v":"CZ.1.11/3.2.00/02.00674"}]
[null,{"$f":"'3.3'!I1728","v":0},{"$f":"'3.3'!L1728","v":0},0,0,674,{"$f":"'poměry financování'!D1721","v":"CZ.1.11/3.2.00/02.00674"}]
[null,{"$f":"'3.3'!I1729","v":0},{"$f":"'3.3'!L1729","v":0},0,0,674,{"$f":"'poměry financování'!D1722","v":"CZ.1.11/3.2.00/02.00674"}]
[null,{"$f":"'3.3'!I1730","v":0},{"$f":"'3.3'!L1730","v":0},0,0,674,{"$f":"'poměry financování'!D1723","v":"CZ.1.11/3.2.00/02.00674"}]
[null,{"$f":"'3.3'!I1731","v":0},{"$f":"'3.3'!L1731","v":0},0,0,675,{"$f":"'poměry financování'!D1724","v":"CZ.1.11/3.3.00/02.00675"}]
[null,{"$f":"'3.3'!I1732","v":0},{"$f":"'3.3'!L1732","v":0},0,0,676,{"$f":"'poměry financování'!D1725","v":"CZ.1.11/3.3.00/02.00676"}]
[null,{"$f":"'3.3'!I1733","v":0},{"$f":"'3.3'!L1733","v":0},0,0,676,{"$f":"'poměry financování'!D1726","v":"CZ.1.11/3.3.00/02.00676"}]
[null,{"$f":"'3.3'!I1734","v":0},{"$f":"'3.3'!L1734","v":0},0,0,676,{"$f":"'poměry financování'!D1727","v":"CZ.1.11/3.3.00/02.00676"}]
[null,{"$f":"'3.3'!I1735","v":0},{"$f":"'3.3'!L1735","v":0},{"$f":"IF(B1731=\"Investiční\",C1731,0)","v":0},{"$f":"IF(B1731=\"Neinvestiční\",C1731,0)","v":0},677,{"$f":"'poměry financování'!D1728","v":"CZ.1.11/3.3.00/02.00677"}]
[null,{"$f":"'3.3'!I1736","v":0},{"$f":"'3.3'!L1736","v":0},0,0,677,{"$f":"'poměry financování'!D1729","v":"CZ.1.11/3.3.00/02.00677"}]
[null,{"$f":"'3.3'!I1737","v":0},{"$f":"'3.3'!L1737","v":0},0,0,678,{"$f":"'poměry financování'!D1730","v":"CZ.1.11/3.3.00/02.00678"}]
[null,{"$f":"'3.3'!I1738","v":0},{"$f":"'3.3'!L1738","v":0},0,0,{"$f":"VALUE((MID(G1734,20,4)))","v":679},{"$f":"'poměry financování'!D1731","v":"CZ.1.11/3.3.00/02.00679"}]
[null,{"$f":"'3.3'!I1739","v":0},{"$f":"'3.3'!L1739","v":0},0,0,679,{"$f":"'poměry financování'!D1732","v":"CZ.1.11/3.3.00/02.00679"}]
[null,{"$f":"'3.3'!I1740","v":0},{"$f":"'3.3'!L1740","v":0},0,0,679,{"$f":"'poměry financování'!D1733","v":"CZ.1.11/3.3.00/02.00679"}]
[null,{"$f":"'3.3'!I1741","v":0},{"$f":"'3.3'!L1741","v":0},0,0,680,{"$f":"'poměry financování'!D1734","v":"CZ.1.11/3.3.00/02.00680"}]
[null,{"$f":"'3.3'!I1742","v":0},{"$f":"'3.3'!L1742","v":0},0,0,680,{"$f":"'poměry financování'!D1735","v":"CZ.1.11/3.3.00/02.00680"}]
[null,{"$f":"'3.3'!I1743","v":0},{"$f":"'3.3'!L1743","v":0},0,0,680,{"$f":"'poměry financování'!D1736","v":"CZ.1.11/3.3.00/02.00680"}]
[null,{"$f":"'3.3'!I1744","v":0},{"$f":"'3.3'!L1744","v":0},0,0,681,{"$f":"'poměry financování'!D1737","v":"CZ.1.11/3.3.00/02.00681"}]
[null,{"$f":"'3.3'!I1745","v":0},{"$f":"'3.3'!L1745","v":0},0,0,682,{"$f":"'poměry financování'!D1738","v":"CZ.1.11/3.3.00/02.00682"}]
[null,{"$f":"'3.3'!I1746","v":0},{"$f":"'3.3'!L1746","v":0},0,0,682,{"$f":"'poměry financování'!D1739","v":"CZ.1.11/3.3.00/02.00682"}]
[null,{"$f":"'3.3'!I1747","v":0},{"$f":"'3.3'!L1747","v":0},0,0,683,{"$f":"'poměry financování'!D1740","v":"CZ.1.11/3.3.00/02.00683"}]
[null,{"$f":"'3.3'!I1748","v":0},{"$f":"'3.3'!L1748","v":0},0,0,683,{"$f":"'poměry financování'!D1741","v":"CZ.1.11/3.3.00/02.00683"}]
[null,{"$f":"'3.3'!I1749","v":0},{"$f":"'3.3'!L1749","v":0},0,0,683,{"$f":"'poměry financování'!D1742","v":"CZ.1.11/3.3.00/02.00683"}]
[null,{"$f":"'3.3'!I1750","v":0},{"$f":"'3.3'!L1750","v":0},0,0,683,{"$f":"'poměry financování'!D1743","v":"CZ.1.11/3.3.00/02.00683"}]
[null,{"$f":"'3.3'!I1751","v":0},{"$f":"'3.3'!L1751","v":0},0,0,684,{"$f":"'poměry financování'!D1744","v":"CZ.1.11/3.3.00/02.00684"}]
[null,{"$f":"'3.3'!I1752","v":0},{"$f":"'3.3'!L1752","v":0},0,0,685,{"$f":"'poměry financování'!D1745","v":"CZ.1.11/3.2.00/02.00685"}]
[null,{"$f":"'3.3'!I1753","v":0},{"$f":"'3.3'!L1753","v":0},0,0,685,{"$f":"'poměry financování'!D1746","v":"CZ.1.11/3.2.00/02.00685"}]
[null,{"$f":"'3.3'!I1754","v":0},{"$f":"'3.3'!L1754","v":0},0,0,686,{"$f":"'poměry financování'!D1747","v":"CZ.1.11/3.3.00/02.00686"}]
[null,{"$f":"'3.3'!I1755","v":0},{"$f":"'3.3'!L1755","v":0},0,0,687,{"$f":"'poměry financování'!D1748","v":"CZ.1.11/3.3.00/02.00687"}]
[null,{"$f":"'3.3'!I1756","v":0},{"$f":"'3.3'!L1756","v":0},0,0,688,{"$f":"'poměry financování'!D1749","v":"CZ.1.11/3.2.00/02.00688"}]
[null,{"$f":"'3.3'!I1757","v":0},{"$f":"'3.3'!L1757","v":0},0,0,688,{"$f":"'poměry financování'!D1750","v":"CZ.1.11/3.2.00/02.00688"}]
[null,{"$f":"'3.3'!I1758","v":0},{"$f":"'3.3'!L1758","v":0},0,0,688,{"$f":"'poměry financování'!D1751","v":"CZ.1.11/3.2.00/02.00688"}]
[null,{"$f":"'3.3'!I1759","v":0},{"$f":"'3.3'!L1759","v":0},0,0,689,{"$f":"'poměry financování'!D1752","v":"CZ.1.11/3.2.00/02.00689"}]
[null,{"$f":"'3.3'!I1760","v":0},{"$f":"'3.3'!L1760","v":0},0,0,689,{"$f":"'poměry financování'!D1753","v":"CZ.1.11/3.2.00/02.00689"}]
[null,{"$f":"'3.3'!I1761","v":0},{"$f":"'3.3'!L1761","v":0},0,0,689,{"$f":"'poměry financování'!D1754","v":"CZ.1.11/3.2.00/02.00689"}]
[null,{"$f":"'3.3'!I1762","v":0},{"$f":"'3.3'!L1762","v":0},0,0,689,{"$f":"'poměry financování'!D1755","v":"CZ.1.11/3.2.00/02.00689"}]
[null,{"$f":"'3.3'!I1763","v":0},{"$f":"'3.3'!L1763","v":0},0,0,689,{"$f":"'poměry financování'!D1756","v":"CZ.1.11/3.2.00/02.00689"}]
[null,{"$f":"'3.3'!I1764","v":0},{"$f":"'3.3'!L1764","v":0},0,0,689,{"$f":"'poměry financování'!D1757","v":"CZ.1.11/3.2.00/02.00689"}]
[null,{"$f":"'3.3'!I1765","v":0},{"$f":"'3.3'!L1765","v":0},0,0,690,{"$f":"'poměry financování'!D1758","v":"CZ.1.11/3.2.00/02.00690"}]
[null,{"$f":"'3.3'!I1766","v":0},{"$f":"'3.3'!L1766","v":0},0,0,690,{"$f":"'poměry financování'!D1759","v":"CZ.1.11/3.2.00/02.00690"}]
[null,{"$f":"'3.3'!I1767","v":0},{"$f":"'3.3'!L1767","v":0},0,0,690,{"$f":"'poměry financování'!D1760","v":"CZ.1.11/3.2.00/02.00690"}]
[null,{"$f":"'3.3'!I1768","v":0},{"$f":"'3.3'!L1768","v":0},0,0,691,{"$f":"'poměry financování'!D1761","v":"CZ.1.11/3.2.00/02.00691"}]
[null,{"$f":"'3.3'!I1769","v":0},{"$f":"'3.3'!L1769","v":0},0,0,692,{"$f":"'poměry financování'!D1762","v":"CZ.1.11/3.3.00/02.00692"}]
[null,{"$f":"'3.3'!I1770","v":0},{"$f":"'3.3'!L1770","v":0},0,0,692,{"$f":"'poměry financování'!D1763","v":"CZ.1.11/3.3.00/02.00692"}]
[null,{"$f":"'3.3'!I1771","v":0},{"$f":"'3.3'!L1771","v":0},0,0,692,{"$f":"'poměry financování'!D1764","v":"CZ.1.11/3.3.00/02.00692"}]
[null,{"$f":"'3.3'!I1772","v":0},{"$f":"'3.3'!L1772","v":0},0,0,693,{"$f":"'poměry financování'!D1765","v":"CZ.1.11/3.3.00/02.00693"}]
[null,{"$f":"'3.3'!I1773","v":0},{"$f":"'3.3'!L1773","v":0},0,0,693,{"$f":"'poměry financování'!D1766","v":"CZ.1.11/3.3.00/02.00693"}]
[null,{"$f":"'3.3'!I1774","v":0},{"$f":"'3.3'!L1774","v":0},0,0,693,{"$f":"'poměry financování'!D1767","v":"CZ.1.11/3.3.00/02.00693"}]
[null,{"$f":"'3.3'!I1775","v":0},{"$f":"'3.3'!L1775","v":0},0,0,694,{"$f":"'poměry financování'!D1768","v":"CZ.1.11/3.2.00/02.00694"}]
[null,{"$f":"'3.3'!I1776","v":0},{"$f":"'3.3'!L1776","v":0},0,0,694,{"$f":"'poměry financování'!D1769","v":"CZ.1.11/3.2.00/02.00694"}]
[null,{"$f":"'3.3'!I1777","v":0},{"$f":"'3.3'!L1777","v":0},0,0,694,{"$f":"'poměry financování'!D1770","v":"CZ.1.11/3.2.00/02.00694"}]
[null,{"$f":"'3.3'!I1778","v":0},{"$f":"'3.3'!L1778","v":0},0,0,695,{"$f":"'poměry financování'!D1771","v":"CZ.1.11/3.3.00/02.00695"}]
[null,{"$f":"'3.3'!I1779","v":0},{"$f":"'3.3'!L1779","v":0},0,0,695,{"$f":"'poměry financování'!D1772","v":"CZ.1.11/3.3.00/02.00695"}]
[null,{"$f":"'3.3'!I1780","v":0},{"$f":"'3.3'!L1780","v":0},0,0,695,{"$f":"'poměry financování'!D1773","v":"CZ.1.11/3.3.00/02.00695"}]
[null,{"$f":"'3.3'!I1781","v":0},{"$f":"'3.3'!L1781","v":0},0,0,695,{"$f":"'poměry financování'!D1774","v":"CZ.1.11/3.3.00/02.00695"}]
[null,{"$f":"'3.3'!I1782","v":0},{"$f":"'3.3'!L1782","v":0},0,0,695,{"$f":"'poměry financování'!D1775","v":"CZ.1.11/3.3.00/02.00695"}]
[null,{"$f":"'3.3'!I1783","v":0},{"$f":"'3.3'!L1783","v":0},0,0,696,{"$f":"'poměry financování'!D1776","v":"CZ.1.11/3.3.00/02.00696"}]
[null,{"$f":"'3.3'!I1784","v":0},{"$f":"'3.3'!L1784","v":0},0,0,697,{"$f":"'poměry financování'!D1777","v":"CZ.1.11/3.3.00/02.00697"}]
[null,{"$f":"'3.3'!I1785","v":0},{"$f":"'3.3'!L1785","v":0},0,0,698,{"$f":"'poměry financování'!D1778","v":"CZ.1.11/3.3.00/02.00698"}]
[null,{"$f":"'3.3'!I1786","v":0},{"$f":"'3.3'!L1786","v":0},0,0,699,{"$f":"'poměry financování'!D1779","v":"CZ.1.11/3.2.00/02.00699"}]
[null,{"$f":"'3.3'!I1787","v":0},{"$f":"'3.3'!L1787","v":0},0,0,700,{"$f":"'poměry financování'!D1780","v":"CZ.1.11/3.3.00/02.00700"}]
[null,{"$f":"'3.3'!I1788","v":0},{"$f":"'3.3'!L1788","v":0},0,0,701,{"$f":"'poměry financování'!D1781","v":"CZ.1.11/3.2.00/02.00701"}]
[null,{"$f":"'3.3'!I1789","v":0},{"$f":"'3.3'!L1789","v":0},0,0,701,{"$f":"'poměry financování'!D1782","v":"CZ.1.11/3.2.00/02.00701"}]
[null,{"$f":"'3.3'!I1790","v":0},{"$f":"'3.3'!L1790","v":0},0,0,701,{"$f":"'poměry financování'!D1783","v":"CZ.1.11/3.2.00/02.00701"}]
[null,{"$f":"'3.3'!I1791","v":0},{"$f":"'3.3'!L1791","v":0},0,0,701,{"$f":"'poměry financování'!D1784","v":"CZ.1.11/3.2.00/02.00701"}]
[null,{"$f":"'3.3'!I1792","v":0},{"$f":"'3.3'!L1792","v":0},0,0,701,{"$f":"'poměry financování'!D1785","v":"CZ.1.11/3.2.00/02.00701"}]
[null,{"$f":"'3.3'!I1793","v":0},{"$f":"'3.3'!L1793","v":0},0,0,702,{"$f":"'poměry financování'!D1786","v":"CZ.1.11/3.3.00/02.00702"}]
[null,{"$f":"'3.3'!I1794","v":0},{"$f":"'3.3'!L1794","v":0},0,0,703,{"$f":"'poměry financování'!D1787","v":"CZ.1.11/3.2.00/02.00703"}]
[null,{"$f":"'3.3'!I1795","v":0},{"$f":"'3.3'!L1795","v":0},0,0,703,{"$f":"'poměry financování'!D1788","v":"CZ.1.11/3.2.00/02.00703"}]
[null,{"$f":"'3.3'!I1796","v":0},{"$f":"'3.3'!L1796","v":0},0,0,703,{"$f":"'poměry financování'!D1789","v":"CZ.1.11/3.2.00/02.00703"}]
[null,{"$f":"'3.3'!I1797","v":0},{"$f":"'3.3'!L1797","v":0},0,0,703,{"$f":"'poměry financování'!D1790","v":"CZ.1.11/3.2.00/02.00703"}]
[null,{"$f":"'3.3'!I1798","v":0},{"$f":"'3.3'!L1798","v":0},0,0,704,{"$f":"'poměry financování'!D1791","v":"CZ.1.11/3.3.00/02.00704"}]
[null,{"$f":"'3.3'!I1799","v":0},{"$f":"'3.3'!L1799","v":0},{"$f":"IF(B1795=\"Investiční\",C1795,0)","v":0},{"$f":"IF(B1795=\"Neinvestiční\",C1795,0)","v":0},705,{"$f":"'poměry financování'!D1792","v":"CZ.1.11/3.2.00/02.00705"}]
[null,{"$f":"'3.3'!I1800","v":0},{"$f":"'3.3'!L1800","v":0},0,0,705,{"$f":"'poměry financování'!D1793","v":"CZ.1.11/3.2.00/02.00705"}]
[null,{"$f":"'3.3'!I1801","v":0},{"$f":"'3.3'!L1801","v":0},0,0,706,{"$f":"'poměry financování'!D1794","v":"CZ.1.11/3.3.00/02.00706"}]
[null,{"$f":"'3.3'!I1802","v":0},{"$f":"'3.3'!L1802","v":0},0,0,{"$f":"VALUE((MID(G1798,20,4)))","v":707},{"$f":"'poměry financování'!D1795","v":"CZ.1.11/3.3.00/02.00707"}]
[null,{"$f":"'3.3'!I1803","v":0},{"$f":"'3.3'!L1803","v":0},0,0,708,{"$f":"'poměry financování'!D1796","v":"CZ.1.11/3.3.00/02.00708"}]
[null,{"$f":"'3.3'!I1804","v":0},{"$f":"'3.3'!L1804","v":0},0,0,709,{"$f":"'poměry financování'!D1797","v":"CZ.1.11/3.3.00/02.00709"}]
[null,{"$f":"'3.3'!I1805","v":0},{"$f":"'3.3'!L1805","v":0},0,0,710,{"$f":"'poměry financování'!D1798","v":"CZ.1.11/3.3.00/02.00710"}]
[null,{"$f":"'3.3'!I1806","v":0},{"$f":"'3.3'!L1806","v":0},0,0,710,{"$f":"'poměry financování'!D1799","v":"CZ.1.11/3.3.00/02.00710"}]
[null,{"$f":"'3.3'!I1807","v":0},{"$f":"'3.3'!L1807","v":0},0,0,710,{"$f":"'poměry financování'!D1800","v":"CZ.1.11/3.3.00/02.00710"}]
[null,{"$f":"'3.3'!I1808","v":0},{"$f":"'3.3'!L1808","v":0},0,0,710,{"$f":"'poměry financování'!D1801","v":"CZ.1.11/3.3.00/02.00710"}]
[null,{"$f":"'3.3'!I1809","v":0},{"$f":"'3.3'!L1809","v":0},0,0,710,{"$f":"'poměry financování'!D1802","v":"CZ.1.11/3.3.00/02.00710"}]
[null,{"$f":"'3.3'!I1810","v":0},{"$f":"'3.3'!L1810","v":0},0,0,711,{"$f":"'poměry financování'!D1803","v":"CZ.1.11/3.3.00/02.00711"}]
[null,{"$f":"'3.3'!I1811","v":0},{"$f":"'3.3'!L1811","v":0},0,0,711,{"$f":"'poměry financování'!D1804","v":"CZ.1.11/3.3.00/02.00711"}]
[null,{"$f":"'3.3'!I1812","v":0},{"$f":"'3.3'!L1812","v":0},0,0,712,{"$f":"'poměry financování'!D1805","v":"CZ.1.11/3.3.00/02.00712"}]
[null,{"$f":"'3.3'!I1813","v":0},{"$f":"'3.3'!L1813","v":0},0,0,713,{"$f":"'poměry financování'!D1806","v":"CZ.1.11/3.3.00/02.00713"}]
[null,{"$f":"'3.3'!I1814","v":0},{"$f":"'3.3'!L1814","v":0},0,0,714,{"$f":"'poměry financování'!D1807","v":"CZ.1.11/3.2.00/02.00714"}]
[null,{"$f":"'3.3'!I1815","v":0},{"$f":"'3.3'!L1815","v":0},0,0,714,{"$f":"'poměry financování'!D1808","v":"CZ.1.11/3.2.00/02.00714"}]
[null,{"$f":"'3.3'!I1816","v":0},{"$f":"'3.3'!L1816","v":0},0,0,715,{"$f":"'poměry financování'!D1809","v":"CZ.1.11/3.2.00/02.00715"}]
[null,{"$f":"'3.3'!I1817","v":0},{"$f":"'3.3'!L1817","v":0},0,0,716,{"$f":"'poměry financování'!D1810","v":"CZ.1.11/3.3.00/02.00716"}]
[null,{"$f":"'3.3'!I1818","v":0},{"$f":"'3.3'!L1818","v":0},0,0,716,{"$f":"'poměry financování'!D1811","v":"CZ.1.11/3.3.00/02.00716"}]
[null,{"$f":"'3.3'!I1819","v":0},{"$f":"'3.3'!L1819","v":0},0,0,716,{"$f":"'poměry financování'!D1812","v":"CZ.1.11/3.3.00/02.00716"}]
[null,{"$f":"'3.3'!I1820","v":0},{"$f":"'3.3'!L1820","v":0},0,0,717,{"$f":"'poměry financování'!D1813","v":"CZ.1.11/3.2.00/02.00717"}]
[null,{"$f":"'3.3'!I1821","v":0},{"$f":"'3.3'!L1821","v":0},0,0,717,{"$f":"'poměry financování'!D1814","v":"CZ.1.11/3.2.00/02.00717"}]
[null,{"$f":"'3.3'!I1822","v":0},{"$f":"'3.3'!L1822","v":0},0,0,717,{"$f":"'poměry financování'!D1815","v":"CZ.1.11/3.2.00/02.00717"}]
[null,{"$f":"'3.3'!I1823","v":0},{"$f":"'3.3'!L1823","v":0},0,0,718,{"$f":"'poměry financování'!D1816","v":"CZ.1.11/3.3.00/02.00718"}]
[null,{"$f":"'3.3'!I1824","v":0},{"$f":"'3.3'!L1824","v":0},0,0,719,{"$f":"'poměry financování'!D1817","v":"CZ.1.11/3.3.00/02.00719"}]
[null,{"$f":"'3.3'!I1825","v":0},{"$f":"'3.3'!L1825","v":0},0,0,720,{"$f":"'poměry financování'!D1818","v":"CZ.1.11/3.3.00/02.00720"}]
[null,{"$f":"'3.3'!I1826","v":0},{"$f":"'3.3'!L1826","v":0},0,0,720,{"$f":"'poměry financování'!D1819","v":"CZ.1.11/3.3.00/02.00720"}]
[null,{"$f":"'3.3'!I1827","v":0},{"$f":"'3.3'!L1827","v":0},0,0,720,{"$f":"'poměry financování'!D1820","v":"CZ.1.11/3.3.00/02.00720"}]
[null,{"$f":"'3.3'!I1828","v":0},{"$f":"'3.3'!L1828","v":0},0,0,720,{"$f":"'poměry financování'!D1821","v":"CZ.1.11/3.3.00/02.00720"}]
[null,{"$f":"'3.3'!I1829","v":0},{"$f":"'3.3'!L1829","v":0},0,0,721,{"$f":"'poměry financování'!D1822","v":"CZ.1.11/3.3.00/02.00721"}]
[null,{"$f":"'3.3'!I1830","v":0},{"$f":"'3.3'!L1830","v":0},0,0,722,{"$f":"'poměry financování'!D1823","v":"CZ.1.11/3.3.00/02.00722"}]
[null,{"$f":"'3.3'!I1831","v":0},{"$f":"'3.3'!L1831","v":0},0,0,722,{"$f":"'poměry financování'!D1824","v":"CZ.1.11/3.3.00/02.00722"}]
[null,{"$f":"'3.3'!I1832","v":0},{"$f":"'3.3'!L1832","v":0},0,0,722,{"$f":"'poměry financování'!D1825","v":"CZ.1.11/3.3.00/02.00722"}]
[null,{"$f":"'3.3'!I1833","v":0},{"$f":"'3.3'!L1833","v":0},0,0,723,{"$f":"'poměry financování'!D1826","v":"CZ.1.11/3.3.00/02.00723"}]
[null,{"$f":"'3.3'!I1834","v":0},{"$f":"'3.3'!L1834","v":0},0,0,724,{"$f":"'poměry financování'!D1827","v":"CZ.1.11/3.3.00/02.00724"}]
[null,{"$f":"'3.3'!I1835","v":0},{"$f":"'3.3'!L1835","v":0},0,0,724,{"$f":"'poměry financování'!D1828","v":"CZ.1.11/3.3.00/02.00724"}]
[null,{"$f":"'3.3'!I1836","v":0},{"$f":"'3.3'!L1836","v":0},0,0,724,{"$f":"'poměry financování'!D1829","v":"CZ.1.11/3.3.00/02.00724"}]
[null,{"$f":"'3.3'!I1837","v":0},{"$f":"'3.3'!L1837","v":0},0,0,724,{"$f":"'poměry financování'!D1830","v":"CZ.1.11/3.3.00/02.00724"}]
[null,{"$f":"'3.3'!I1838","v":0},{"$f":"'3.3'!L1838","v":0},0,0,725,{"$f":"'poměry financování'!D1831","v":"CZ.1.11/3.3.00/02.00725"}]
[null,{"$f":"'3.3'!I1839","v":0},{"$f":"'3.3'!L1839","v":0},0,0,725,{"$f":"'poměry financování'!D1832","v":"CZ.1.11/3.3.00/02.00725"}]
[null,{"$f":"'3.3'!I1840","v":0},{"$f":"'3.3'!L1840","v":0},0,0,725,{"$f":"'poměry financování'!D1833","v":"CZ.1.11/3.3.00/02.00725"}]
[null,{"$f":"'3.3'!I1841","v":0},{"$f":"'3.3'!L1841","v":0},0,0,726,{"$f":"'poměry financování'!D1834","v":"CZ.1.11/3.3.00/02.00726"}]
[null,{"$f":"'3.3'!I1842","v":0},{"$f":"'3.3'!L1842","v":0},0,0,726,{"$f":"'poměry financování'!D1835","v":"CZ.1.11/3.3.00/02.00726"}]
[null,{"$f":"'3.3'!I1843","v":0},{"$f":"'3.3'!L1843","v":0},0,0,726,{"$f":"'poměry financování'!D1836","v":"CZ.1.11/3.3.00/02.00726"}]
[null,{"$f":"'3.3'!I1844","v":0},{"$f":"'3.3'!L1844","v":0},0,0,726,{"$f":"'poměry financování'!D1837","v":"CZ.1.11/3.3.00/02.00726"}]
[null,{"$f":"'3.3'!I1845","v":0},{"$f":"'3.3'!L1845","v":0},0,0,727,{"$f":"'poměry financování'!D1838","v":"CZ.1.11/3.3.00/02.00727"}]
[null,{"$f":"'3.3'!I1846","v":0},{"$f":"'3.3'!L1846","v":0},0,0,728,{"$f":"'poměry financování'!D1839","v":"CZ.1.11/3.2.00/02.00728"}]
[null,{"$f":"'3.3'!I1847","v":0},{"$f":"'3.3'!L1847","v":0},0,0,728,{"$f":"'poměry financování'!D1840","v":"CZ.1.11/3.2.00/02.00728"}]
[null,{"$f":"'3.3'!I1848","v":0},{"$f":"'3.3'!L1848","v":0},0,0,728,{"$f":"'poměry financování'!D1841","v":"CZ.1.11/3.2.00/02.00728"}]
[null,{"$f":"'3.3'!I1849","v":0},{"$f":"'3.3'!L1849","v":0},0,0,728,{"$f":"'poměry financování'!D1842","v":"CZ.1.11/3.2.00/02.00728"}]
[null,{"$f":"'3.3'!I1850","v":0},{"$f":"'3.3'!L1850","v":0},0,0,728,{"$f":"'poměry financování'!D1843","v":"CZ.1.11/3.2.00/02.00728"}]
[null,{"$f":"'3.3'!I1851","v":0},{"$f":"'3.3'!L1851","v":0},0,0,728,{"$f":"'poměry financování'!D1844","v":"CZ.1.11/3.2.00/02.00728"}]
[null,{"$f":"'3.3'!I1852","v":0},{"$f":"'3.3'!L1852","v":0},0,0,729,{"$f":"'poměry financování'!D1845","v":"CZ.1.11/3.3.00/02.00729"}]
[null,{"$f":"'3.3'!I1853","v":0},{"$f":"'3.3'!L1853","v":0},0,0,729,{"$f":"'poměry financování'!D1846","v":"CZ.1.11/3.3.00/02.00729"}]
[null,{"$f":"'3.3'!I1854","v":0},{"$f":"'3.3'!L1854","v":0},0,0,729,{"$f":"'poměry financování'!D1847","v":"CZ.1.11/3.3.00/02.00729"}]
[null,{"$f":"'3.3'!I1855","v":0},{"$f":"'3.3'!L1855","v":0},0,0,729,{"$f":"'poměry financování'!D1848","v":"CZ.1.11/3.3.00/02.00729"}]
[null,{"$f":"'3.3'!I1856","v":0},{"$f":"'3.3'!L1856","v":0},0,0,730,{"$f":"'poměry financování'!D1849","v":"CZ.1.11/3.3.00/02.00730"}]
[null,{"$f":"'3.3'!I1857","v":0},{"$f":"'3.3'!L1857","v":0},0,0,731,{"$f":"'poměry financování'!D1850","v":"CZ.1.11/3.3.00/02.00731"}]
[null,{"$f":"'3.3'!I1858","v":0},{"$f":"'3.3'!L1858","v":0},0,0,732,{"$f":"'poměry financování'!D1851","v":"CZ.1.11/3.2.00/02.00732"}]
[null,{"$f":"'3.3'!I1859","v":0},{"$f":"'3.3'!L1859","v":0},0,0,733,{"$f":"'poměry financování'!D1852","v":"CZ.1.11/3.3.00/02.00733"}]
[null,{"$f":"'3.3'!I1860","v":0},{"$f":"'3.3'!L1860","v":0},0,0,733,{"$f":"'poměry financování'!D1853","v":"CZ.1.11/3.3.00/02.00733"}]
[null,{"$f":"'3.3'!I1861","v":0},{"$f":"'3.3'!L1861","v":0},0,0,734,{"$f":"'poměry financování'!D1854","v":"CZ.1.11/3.3.00/02.00734"}]
[null,{"$f":"'3.3'!I1862","v":0},{"$f":"'3.3'!L1862","v":0},0,0,734,{"$f":"'poměry financování'!D1855","v":"CZ.1.11/3.3.00/02.00734"}]
[null,{"$f":"'3.3'!I1863","v":0},{"$f":"'3.3'!L1863","v":0},{"$f":"IF(B1859=\"Investiční\",C1859,0)","v":0},{"$f":"IF(B1859=\"Neinvestiční\",C1859,0)","v":0},735,{"$f":"'poměry financování'!D1856","v":"CZ.1.11/3.3.00/02.00735"}]
[null,{"$f":"'3.3'!I1864","v":0},{"$f":"'3.3'!L1864","v":0},0,0,735,{"$f":"'poměry financování'!D1857","v":"CZ.1.11/3.3.00/02.00735"}]
[null,{"$f":"'3.3'!I1865","v":0},{"$f":"'3.3'!L1865","v":0},0,0,736,{"$f":"'poměry financování'!D1858","v":"CZ.1.11/3.3.00/02.00736"}]
[null,{"$f":"'3.3'!I1866","v":0},{"$f":"'3.3'!L1866","v":0},0,0,{"$f":"VALUE((MID(G1862,20,4)))","v":736},{"$f":"'poměry financování'!D1859","v":"CZ.1.11/3.3.00/02.00736"}]
[null,{"$f":"'3.3'!I1867","v":0},{"$f":"'3.3'!L1867","v":0},0,0,737,{"$f":"'poměry financování'!D1860","v":"CZ.1.11/3.4.00/02.00737"}]
[null,{"$f":"'3.3'!I1868","v":0},{"$f":"'3.3'!L1868","v":0},0,0,738,{"$f":"'poměry financování'!D1861","v":"CZ.1.11/3.3.00/02.00738"}]
[null,{"$f":"'3.3'!I1869","v":0},{"$f":"'3.3'!L1869","v":0},0,0,738,{"$f":"'poměry financování'!D1862","v":"CZ.1.11/3.3.00/02.00738"}]
[null,{"$f":"'3.3'!I1870","v":0},{"$f":"'3.3'!L1870","v":0},0,0,738,{"$f":"'poměry financování'!D1863","v":"CZ.1.11/3.3.00/02.00738"}]
[null,{"$f":"'3.3'!I1871","v":0},{"$f":"'3.3'!L1871","v":0},0,0,738,{"$f":"'poměry financování'!D1864","v":"CZ.1.11/3.3.00/02.00738"}]
[null,{"$f":"'3.3'!I1872","v":0},{"$f":"'3.3'!L1872","v":0},0,0,738,{"$f":"'poměry financování'!D1865","v":"CZ.1.11/3.3.00/02.00738"}]
[null,{"$f":"'3.3'!I1873","v":0},{"$f":"'3.3'!L1873","v":0},0,0,739,{"$f":"'poměry financování'!D1866","v":"CZ.1.11/3.3.00/02.00739"}]
[null,{"$f":"'3.3'!I1874","v":0},{"$f":"'3.3'!L1874","v":0},0,0,740,{"$f":"'poměry financování'!D1867","v":"CZ.1.11/3.2.00/02.00740"}]
[null,{"$f":"'3.3'!I1875","v":0},{"$f":"'3.3'!L1875","v":0},0,0,741,{"$f":"'poměry financování'!D1868","v":"CZ.1.11/3.3.00/02.00741"}]
[null,{"$f":"'3.3'!I1876","v":0},{"$f":"'3.3'!L1876","v":0},0,0,742,{"$f":"'poměry financování'!D1869","v":"CZ.1.11/3.3.00/02.00742"}]
[null,{"$f":"'3.3'!I1877","v":0},{"$f":"'3.3'!L1877","v":0},0,0,742,{"$f":"'poměry financování'!D1870","v":"CZ.1.11/3.3.00/02.00742"}]
[null,{"$f":"'3.3'!I1878","v":0},{"$f":"'3.3'!L1878","v":0},0,0,743,{"$f":"'poměry financování'!D1871","v":"CZ.1.11/3.3.00/02.00743"}]
[null,{"$f":"'3.3'!I1879","v":0},{"$f":"'3.3'!L1879","v":0},0,0,744,{"$f":"'poměry financování'!D1872","v":"CZ.1.11/3.3.00/02.00744"}]
[null,{"$f":"'3.3'!I1880","v":0},{"$f":"'3.3'!L1880","v":0},0,0,744,{"$f":"'poměry financování'!D1873","v":"CZ.1.11/3.3.00/02.00744"}]
[null,{"$f":"'3.3'!I1881","v":0},{"$f":"'3.3'!L1881","v":0},0,0,745,{"$f":"'poměry financování'!D1874","v":"CZ.1.11/3.3.00/02.00745"}]
[null,{"$f":"'3.3'!I1882","v":0},{"$f":"'3.3'!L1882","v":0},0,0,745,{"$f":"'poměry financování'!D1875","v":"CZ.1.11/3.3.00/02.00745"}]
[null,{"$f":"'3.3'!I1883","v":0},{"$f":"'3.3'!L1883","v":0},0,0,745,{"$f":"'poměry financování'!D1876","v":"CZ.1.11/3.3.00/02.00745"}]
[null,{"$f":"'3.3'!I1884","v":0},{"$f":"'3.3'!L1884","v":0},0,0,746,{"$f":"'poměry financování'!D1877","v":"CZ.1.11/3.3.00/02.00746"}]
[null,{"$f":"'3.3'!I1885","v":0},{"$f":"'3.3'!L1885","v":0},0,0,746,{"$f":"'poměry financování'!D1878","v":"CZ.1.11/3.3.00/02.00746"}]
[null,{"$f":"'3.3'!I1886","v":0},{"$f":"'3.3'!L1886","v":0},0,0,746,{"$f":"'poměry financování'!D1879","v":"CZ.1.11/3.3.00/02.00746"}]
[null,{"$f":"'3.3'!I1887","v":0},{"$f":"'3.3'!L1887","v":0},0,0,747,{"$f":"'poměry financování'!D1880","v":"CZ.1.11/3.3.00/02.00747"}]
[null,{"$f":"'3.3'!I1888","v":0},{"$f":"'3.3'!L1888","v":0},0,0,748,{"$f":"'poměry financování'!D1881","v":"CZ.1.11/3.3.00/02.00748"}]
[null,{"$f":"'3.3'!I1889","v":0},{"$f":"'3.3'!L1889","v":0},0,0,748,{"$f":"'poměry financování'!D1882","v":"CZ.1.11/3.3.00/02.00748"}]
[null,{"$f":"'3.3'!I1890","v":0},{"$f":"'3.3'!L1890","v":0},0,0,748,{"$f":"'poměry financování'!D1883","v":"CZ.1.11/3.3.00/02.00748"}]
[null,{"$f":"'3.3'!I1891","v":0},{"$f":"'3.3'!L1891","v":0},0,0,749,{"$f":"'poměry financování'!D1884","v":"CZ.1.11/3.3.00/02.00749"}]
[null,{"$f":"'3.3'!I1892","v":0},{"$f":"'3.3'!L1892","v":0},0,0,749,{"$f":"'poměry financování'!D1885","v":"CZ.1.11/3.3.00/02.00749"}]
[null,{"$f":"'3.3'!I1893","v":0},{"$f":"'3.3'!L1893","v":0},0,0,749,{"$f":"'poměry financování'!D1886","v":"CZ.1.11/3.3.00/02.00749"}]
[null,{"$f":"'3.3'!I1894","v":0},{"$f":"'3.3'!L1894","v":0},0,0,749,{"$f":"'poměry financování'!D1887","v":"CZ.1.11/3.3.00/02.00749"}]
[null,{"$f":"'3.3'!I1895","v":0},{"$f":"'3.3'!L1895","v":0},0,0,749,{"$f":"'poměry financování'!D1888","v":"CZ.1.11/3.3.00/02.00749"}]
[null,{"$f":"'3.3'!I1896","v":0},{"$f":"'3.3'!L1896","v":0},0,0,749,{"$f":"'poměry financování'!D1889","v":"CZ.1.11/3.3.00/02.00749"}]
[null,{"$f":"'3.3'!I1897","v":0},{"$f":"'3.3'!L1897","v":0},0,0,749,{"$f":"'poměry financování'!D1890","v":"CZ.1.11/3.3.00/02.00749"}]
[null,{"$f":"'3.3'!I1898","v":0},{"$f":"'3.3'!L1898","v":0},0,0,749,{"$f":"'poměry financování'!D1891","v":"CZ.1.11/3.3.00/02.00749"}]
[null,{"$f":"'3.3'!I1899","v":0},{"$f":"'3.3'!L1899","v":0},0,0,750,{"$f":"'poměry financování'!D1892","v":"CZ.1.11/3.3.00/02.00750"}]
[null,{"$f":"'3.3'!I1900","v":0},{"$f":"'3.3'!L1900","v":0},0,0,750,{"$f":"'poměry financování'!D1893","v":"CZ.1.11/3.3.00/02.00750"}]
[null,{"$f":"'3.3'!I1901","v":0},{"$f":"'3.3'!L1901","v":0},0,0,751,{"$f":"'poměry financování'!D1894","v":"CZ.1.11/3.3.00/02.00751"}]
[null,{"$f":"'3.3'!I1902","v":0},{"$f":"'3.3'!L1902","v":0},0,0,751,{"$f":"'poměry financování'!D1895","v":"CZ.1.11/3.3.00/02.00751"}]
[null,{"$f":"'3.3'!I1903","v":0},{"$f":"'3.3'!L1903","v":0},0,0,752,{"$f":"'poměry financování'!D1896","v":"CZ.1.11/3.3.00/02.00752"}]
[null,{"$f":"'3.3'!I1904","v":0},{"$f":"'3.3'!L1904","v":0},0,0,752,{"$f":"'poměry financování'!D1897","v":"CZ.1.11/3.3.00/02.00752"}]
[null,{"$f":"'3.3'!I1905","v":0},{"$f":"'3.3'!L1905","v":0},0,0,752,{"$f":"'poměry financování'!D1898","v":"CZ.1.11/3.3.00/02.00752"}]
[null,{"$f":"'3.3'!I1906","v":0},{"$f":"'3.3'!L1906","v":0},0,0,753,{"$f":"'poměry financování'!D1899","v":"CZ.1.11/3.3.00/02.00753"}]
[null,{"$f":"'3.3'!I1907","v":0},{"$f":"'3.3'!L1907","v":0},0,0,753,{"$f":"'poměry financování'!D1900","v":"CZ.1.11/3.3.00/02.00753"}]
[null,{"$f":"'3.3'!I1908","v":0},{"$f":"'3.3'!L1908","v":0},0,0,753,{"$f":"'poměry financování'!D1901","v":"CZ.1.11/3.3.00/02.00753"}]
[null,{"$f":"'3.3'!I1909","v":0},{"$f":"'3.3'!L1909","v":0},0,0,754,{"$f":"'poměry financování'!D1902","v":"CZ.1.11/3.3.00/02.00754"}]
[null,{"$f":"'3.3'!I1910","v":0},{"$f":"'3.3'!L1910","v":0},0,0,754,{"$f":"'poměry financování'!D1903","v":"CZ.1.11/3.3.00/02.00754"}]
[null,{"$f":"'3.3'!I1911","v":0},{"$f":"'3.3'!L1911","v":0},0,0,754,{"$f":"'poměry financování'!D1904","v":"CZ.1.11/3.3.00/02.00754"}]
[null,{"$f":"'3.3'!I1912","v":0},{"$f":"'3.3'!L1912","v":0},0,0,754,{"$f":"'poměry financování'!D1905","v":"CZ.1.11/3.3.00/02.00754"}]
[null,{"$f":"'3.3'!I1913","v":0},{"$f":"'3.3'!L1913","v":0},0,0,755,{"$f":"'poměry financování'!D1906","v":"CZ.1.11/3.2.00/02.00755"}]
[null,{"$f":"'3.3'!I1914","v":0},{"$f":"'3.3'!L1914","v":0},0,0,755,{"$f":"'poměry financování'!D1907","v":"CZ.1.11/3.2.00/02.00755"}]
[null,{"$f":"'3.3'!I1915","v":0},{"$f":"'3.3'!L1915","v":0},0,0,756,{"$f":"'poměry financování'!D1908","v":"CZ.1.11/3.2.00/02.00756"}]
[null,{"$f":"'3.3'!I1916","v":0},{"$f":"'3.3'!L1916","v":0},0,0,757,{"$f":"'poměry financování'!D1909","v":"CZ.1.11/3.3.00/02.00757"}]
[null,{"$f":"'3.3'!I1917","v":0},{"$f":"'3.3'!L1917","v":0},0,0,758,{"$f":"'poměry financování'!D1910","v":"CZ.1.11/3.3.00/02.00758"}]
[null,{"$f":"'3.3'!I1918","v":0},{"$f":"'3.3'!L1918","v":0},0,0,759,{"$f":"'poměry financování'!D1911","v":"CZ.1.11/3.2.00/02.00759"}]
[null,{"$f":"'3.3'!I1919","v":0},{"$f":"'3.3'!L1919","v":0},0,0,759,{"$f":"'poměry financování'!D1912","v":"CZ.1.11/3.2.00/02.00759"}]
[null,{"$f":"'3.3'!I1920","v":0},{"$f":"'3.3'!L1920","v":0},0,0,759,{"$f":"'poměry financování'!D1913","v":"CZ.1.11/3.2.00/02.00759"}]
[null,{"$f":"'3.3'!I1921","v":0},{"$f":"'3.3'!L1921","v":0},0,0,759,{"$f":"'poměry financování'!D1914","v":"CZ.1.11/3.2.00/02.00759"}]
[null,{"$f":"'3.3'!I1922","v":0},{"$f":"'3.3'!L1922","v":0},0,0,760,{"$f":"'poměry financování'!D1915","v":"CZ.1.11/3.3.00/02.00760"}]
[null,{"$f":"'3.3'!I1923","v":0},{"$f":"'3.3'!L1923","v":0},0,0,761,{"$f":"'poměry financování'!D1916","v":"CZ.1.11/3.3.00/02.00761"}]
[null,{"$f":"'3.3'!I1924","v":0},{"$f":"'3.3'!L1924","v":0},0,0,761,{"$f":"'poměry financování'!D1917","v":"CZ.1.11/3.3.00/02.00761"}]
[null,{"$f":"'3.3'!I1925","v":0},{"$f":"'3.3'!L1925","v":0},0,0,761,{"$f":"'poměry financování'!D1918","v":"CZ.1.11/3.3.00/02.00761"}]
[null,{"$f":"'3.3'!I1926","v":0},{"$f":"'3.3'!L1926","v":0},0,0,761,{"$f":"'poměry financování'!D1919","v":"CZ.1.11/3.3.00/02.00761"}]
[null,{"$f":"'3.3'!I1927","v":0},{"$f":"'3.3'!L1927","v":0},{"$f":"IF(B1923=\"Investiční\",C1923,0)","v":0},{"$f":"IF(B1923=\"Neinvestiční\",C1923,0)","v":0},762,{"$f":"'poměry financování'!D1920","v":"CZ.1.11/3.3.00/02.00762"}]
[null,{"$f":"'3.3'!I1928","v":0},{"$f":"'3.3'!L1928","v":0},0,0,762,{"$f":"'poměry financování'!D1921","v":"CZ.1.11/3.3.00/02.00762"}]
[null,{"$f":"'3.3'!I1929","v":0},{"$f":"'3.3'!L1929","v":0},0,0,763,{"$f":"'poměry financování'!D1922","v":"CZ.1.11/3.3.00/02.00763"}]
[null,{"$f":"'3.3'!I1930","v":0},{"$f":"'3.3'!L1930","v":0},0,0,{"$f":"VALUE((MID(G1926,20,4)))","v":763},{"$f":"'poměry financování'!D1923","v":"CZ.1.11/3.3.00/02.00763"}]
[null,{"$f":"'3.3'!I1931","v":0},{"$f":"'3.3'!L1931","v":0},0,0,764,{"$f":"'poměry financování'!D1924","v":"CZ.1.11/3.3.00/02.00764"}]
[null,{"$f":"'3.3'!I1932","v":0},{"$f":"'3.3'!L1932","v":0},0,0,765,{"$f":"'poměry financování'!D1925","v":"CZ.1.11/3.3.00/02.00765"}]
[null,{"$f":"'3.3'!I1933","v":0},{"$f":"'3.3'!L1933","v":0},0,0,765,{"$f":"'poměry financování'!D1926","v":"CZ.1.11/3.3.00/02.00765"}]
[null,{"$f":"'3.3'!I1934","v":0},{"$f":"'3.3'!L1934","v":0},0,0,765,{"$f":"'poměry financování'!D1927","v":"CZ.1.11/3.3.00/02.00765"}]
[null,{"$f":"'3.3'!I1935","v":0},{"$f":"'3.3'!L1935","v":0},0,0,766,{"$f":"'poměry financování'!D1928","v":"CZ.1.11/3.2.00/02.00766"}]
[null,{"$f":"'3.3'!I1936","v":0},{"$f":"'3.3'!L1936","v":0},0,0,766,{"$f":"'poměry financování'!D1929","v":"CZ.1.11/3.2.00/02.00766"}]
[null,{"$f":"'3.3'!I1937","v":0},{"$f":"'3.3'!L1937","v":0},0,0,767,{"$f":"'poměry financování'!D1930","v":"CZ.1.11/3.2.00/02.00767"}]
[null,{"$f":"'3.3'!I1938","v":0},{"$f":"'3.3'!L1938","v":0},0,0,768,{"$f":"'poměry financování'!D1931","v":"CZ.1.11/3.3.00/02.00768"}]
[null,{"$f":"'3.3'!I1939","v":0},{"$f":"'3.3'!L1939","v":0},0,0,769,{"$f":"'poměry financování'!D1932","v":"CZ.1.11/3.2.00/02.00769"}]
[null,{"$f":"'3.3'!I1940","v":0},{"$f":"'3.3'!L1940","v":0},0,0,770,{"$f":"'poměry financování'!D1933","v":"CZ.1.11/3.3.00/02.00770"}]
[null,{"$f":"'3.3'!I1941","v":0},{"$f":"'3.3'!L1941","v":0},0,0,770,{"$f":"'poměry financování'!D1934","v":"CZ.1.11/3.3.00/02.00770"}]
[null,{"$f":"'3.3'!I1942","v":0},{"$f":"'3.3'!L1942","v":0},0,0,771,{"$f":"'poměry financování'!D1935","v":"CZ.1.11/3.2.00/02.00771"}]
[null,{"$f":"'3.3'!I1943","v":0},{"$f":"'3.3'!L1943","v":0},0,0,771,{"$f":"'poměry financování'!D1936","v":"CZ.1.11/3.2.00/02.00771"}]
[null,{"$f":"'3.3'!I1944","v":0},{"$f":"'3.3'!L1944","v":0},0,0,772,{"$f":"'poměry financování'!D1937","v":"CZ.1.11/3.2.00/02.00772"}]
[null,{"$f":"'3.3'!I1945","v":0},{"$f":"'3.3'!L1945","v":0},0,0,772,{"$f":"'poměry financování'!D1938","v":"CZ.1.11/3.2.00/02.00772"}]
[null,{"$f":"'3.3'!I1946","v":0},{"$f":"'3.3'!L1946","v":0},0,0,772,{"$f":"'poměry financování'!D1939","v":"CZ.1.11/3.2.00/02.00772"}]
[null,{"$f":"'3.3'!I1947","v":0},{"$f":"'3.3'!L1947","v":0},0,0,772,{"$f":"'poměry financování'!D1940","v":"CZ.1.11/3.2.00/02.00772"}]
[null,{"$f":"'3.3'!I1948","v":0},{"$f":"'3.3'!L1948","v":0},0,0,773,{"$f":"'poměry financování'!D1941","v":"CZ.1.11/3.3.00/02.00773"}]
[null,{"$f":"'3.3'!I1949","v":0},{"$f":"'3.3'!L1949","v":0},0,0,773,{"$f":"'poměry financování'!D1942","v":"CZ.1.11/3.3.00/02.00773"}]
[null,{"$f":"'3.3'!I1950","v":0},{"$f":"'3.3'!L1950","v":0},0,0,773,{"$f":"'poměry financování'!D1943","v":"CZ.1.11/3.3.00/02.00773"}]
[null,{"$f":"'3.3'!I1951","v":0},{"$f":"'3.3'!L1951","v":0},0,0,774,{"$f":"'poměry financování'!D1944","v":"CZ.1.11/3.3.00/02.00774"}]
[null,{"$f":"'3.3'!I1952","v":0},{"$f":"'3.3'!L1952","v":0},0,0,774,{"$f":"'poměry financování'!D1945","v":"CZ.1.11/3.3.00/02.00774"}]
[null,{"$f":"'3.3'!I1953","v":0},{"$f":"'3.3'!L1953","v":0},0,0,774,{"$f":"'poměry financování'!D1946","v":"CZ.1.11/3.3.00/02.00774"}]
[null,{"$f":"'3.3'!I1954","v":0},{"$f":"'3.3'!L1954","v":0},0,0,775,{"$f":"'poměry financování'!D1947","v":"CZ.1.11/3.3.00/02.00775"}]
[null,{"$f":"'3.3'!I1955","v":0},{"$f":"'3.3'!L1955","v":0},0,0,776,{"$f":"'poměry financování'!D1948","v":"CZ.1.11/3.2.00/02.00776"}]
[null,{"$f":"'3.3'!I1956","v":0},{"$f":"'3.3'!L1956","v":0},0,0,776,{"$f":"'poměry financování'!D1949","v":"CZ.1.11/3.2.00/02.00776"}]
[null,{"$f":"'3.3'!I1957","v":0},{"$f":"'3.3'!L1957","v":0},0,0,776,{"$f":"'poměry financování'!D1950","v":"CZ.1.11/3.2.00/02.00776"}]
[null,{"$f":"'3.3'!I1958","v":0},{"$f":"'3.3'!L1958","v":0},0,0,777,{"$f":"'poměry financování'!D1951","v":"CZ.1.11/3.3.00/02.00777"}]
[null,{"$f":"'3.3'!I1959","v":0},{"$f":"'3.3'!L1959","v":0},0,0,777,{"$f":"'poměry financování'!D1952","v":"CZ.1.11/3.3.00/02.00777"}]
[null,{"$f":"'3.3'!I1960","v":0},{"$f":"'3.3'!L1960","v":0},0,0,777,{"$f":"'poměry financování'!D1953","v":"CZ.1.11/3.3.00/02.00777"}]
[null,{"$f":"'3.3'!I1961","v":0},{"$f":"'3.3'!L1961","v":0},0,0,777,{"$f":"'poměry financování'!D1954","v":"CZ.1.11/3.3.00/02.00777"}]
[null,{"$f":"'3.3'!I1962","v":0},{"$f":"'3.3'!L1962","v":0},0,0,777,{"$f":"'poměry financování'!D1955","v":"CZ.1.11/3.3.00/02.00777"}]
[null,{"$f":"'3.3'!I1963","v":0},{"$f":"'3.3'!L1963","v":0},0,0,778,{"$f":"'poměry financování'!D1956","v":"CZ.1.11/3.3.00/02.00778"}]
[null,{"$f":"'3.3'!I1964","v":0},{"$f":"'3.3'!L1964","v":0},0,0,778,{"$f":"'poměry financování'!D1957","v":"CZ.1.11/3.3.00/02.00778"}]
[null,{"$f":"'3.3'!I1965","v":0},{"$f":"'3.3'!L1965","v":0},0,0,778,{"$f":"'poměry financování'!D1958","v":"CZ.1.11/3.3.00/02.00778"}]
[null,{"$f":"'3.3'!I1966","v":0},{"$f":"'3.3'!L1966","v":0},0,0,778,{"$f":"'poměry financování'!D1959","v":"CZ.1.11/3.3.00/02.00778"}]
[null,{"$f":"'3.3'!I1967","v":0},{"$f":"'3.3'!L1967","v":0},0,0,779,{"$f":"'poměry financování'!D1960","v":"CZ.1.11/3.3.00/02.00779"}]
[null,{"$f":"'3.3'!I1968","v":0},{"$f":"'3.3'!L1968","v":0},0,0,779,{"$f":"'poměry financování'!D1961","v":"CZ.1.11/3.3.00/02.00779"}]
[null,{"$f":"'3.3'!I1969","v":0},{"$f":"'3.3'!L1969","v":0},0,0,779,{"$f":"'poměry financování'!D1962","v":"CZ.1.11/3.3.00/02.00779"}]
[null,{"$f":"'3.3'!I1970","v":0},{"$f":"'3.3'!L1970","v":0},0,0,779,{"$f":"'poměry financování'!D1963","v":"CZ.1.11/3.3.00/02.00779"}]
[null,{"$f":"'3.3'!I1971","v":0},{"$f":"'3.3'!L1971","v":0},0,0,779,{"$f":"'poměry financování'!D1964","v":"CZ.1.11/3.3.00/02.00779"}]
[null,{"$f":"'3.3'!I1972","v":0},{"$f":"'3.3'!L1972","v":0},0,0,779,{"$f":"'poměry financování'!D1965","v":"CZ.1.11/3.3.00/02.00779"}]
[null,{"$f":"'3.3'!I1973","v":0},{"$f":"'3.3'!L1973","v":0},0,0,780,{"$f":"'poměry financování'!D1966","v":"CZ.1.11/3.3.00/02.00780"}]
[null,{"$f":"'3.3'!I1974","v":0},{"$f":"'3.3'!L1974","v":0},0,0,780,{"$f":"'poměry financování'!D1967","v":"CZ.1.11/3.3.00/02.00780"}]
[null,{"$f":"'3.3'!I1975","v":0},{"$f":"'3.3'!L1975","v":0},0,0,780,{"$f":"'poměry financování'!D1968","v":"CZ.1.11/3.3.00/02.00780"}]
[null,{"$f":"'3.3'!I1976","v":0},{"$f":"'3.3'!L1976","v":0},0,0,780,{"$f":"'poměry financování'!D1969","v":"CZ.1.11/3.3.00/02.00780"}]
[null,{"$f":"'3.3'!I1977","v":0},{"$f":"'3.3'!L1977","v":0},0,0,781,{"$f":"'poměry financování'!D1970","v":"CZ.1.11/3.2.00/02.00781"}]
[null,{"$f":"'3.3'!I1978","v":0},{"$f":"'3.3'!L1978","v":0},0,0,781,{"$f":"'poměry financování'!D1971","v":"CZ.1.11/3.2.00/02.00781"}]
[null,{"$f":"'3.3'!I1979","v":0},{"$f":"'3.3'!L1979","v":0},0,0,781,{"$f":"'poměry financování'!D1972","v":"CZ.1.11/3.2.00/02.00781"}]
[null,{"$f":"'3.3'!I1980","v":0},{"$f":"'3.3'!L1980","v":0},0,0,781,{"$f":"'poměry financování'!D1973","v":"CZ.1.11/3.2.00/02.00781"}]
[null,{"$f":"'3.3'!I1981","v":0},{"$f":"'3.3'!L1981","v":0},0,0,781,{"$f":"'poměry financování'!D1974","v":"CZ.1.11/3.2.00/02.00781"}]
[null,{"$f":"'3.3'!I1982","v":0},{"$f":"'3.3'!L1982","v":0},0,0,782,{"$f":"'poměry financování'!D1975","v":"CZ.1.11/3.2.00/02.00782"}]
[null,{"$f":"'3.3'!I1983","v":0},{"$f":"'3.3'!L1983","v":0},0,0,782,{"$f":"'poměry financování'!D1976","v":"CZ.1.11/3.2.00/02.00782"}]
[null,{"$f":"'3.3'!I1984","v":0},{"$f":"'3.3'!L1984","v":0},0,0,783,{"$f":"'poměry financování'!D1977","v":"CZ.1.11/3.3.00/02.00783"}]
[null,{"$f":"'3.3'!I1985","v":0},{"$f":"'3.3'!L1985","v":0},0,0,783,{"$f":"'poměry financování'!D1978","v":"CZ.1.11/3.3.00/02.00783"}]
[null,{"$f":"'3.3'!I1986","v":0},{"$f":"'3.3'!L1986","v":0},0,0,783,{"$f":"'poměry financování'!D1979","v":"CZ.1.11/3.3.00/02.00783"}]
[null,{"$f":"'3.3'!I1987","v":0},{"$f":"'3.3'!L1987","v":0},0,0,783,{"$f":"'poměry financování'!D1980","v":"CZ.1.11/3.3.00/02.00783"}]
[null,{"$f":"'3.3'!I1988","v":0},{"$f":"'3.3'!L1988","v":0},0,0,783,{"$f":"'poměry financování'!D1981","v":"CZ.1.11/3.3.00/02.00783"}]
[null,{"$f":"'3.3'!I1989","v":0},{"$f":"'3.3'!L1989","v":0},0,0,784,{"$f":"'poměry financování'!D1982","v":"CZ.1.11/3.3.00/02.00784"}]
[null,{"$f":"'3.3'!I1990","v":0},{"$f":"'3.3'!L1990","v":0},0,0,784,{"$f":"'poměry financování'!D1983","v":"CZ.1.11/3.3.00/02.00784"}]
[null,{"$f":"'3.3'!I1991","v":0},{"$f":"'3.3'!L1991","v":0},{"$f":"IF(B1987=\"Investiční\",C1987,0)","v":0},{"$f":"IF(B1987=\"Neinvestiční\",C1987,0)","v":0},784,{"$f":"'poměry financování'!D1984","v":"CZ.1.11/3.3.00/02.00784"}]
[null,{"$f":"'3.3'!I1992","v":0},{"$f":"'3.3'!L1992","v":0},0,0,784,{"$f":"'poměry financování'!D1985","v":"CZ.1.11/3.3.00/02.00784"}]
[null,{"$f":"'3.3'!I1993","v":0},{"$f":"'3.3'!L1993","v":0},0,0,785,{"$f":"'poměry financování'!D1986","v":"CZ.1.11/3.2.00/02.00785"}]
[null,{"$f":"'3.3'!I1994","v":0},{"$f":"'3.3'!L1994","v":0},0,0,{"$f":"VALUE((MID(G1990,20,4)))","v":785},{"$f":"'poměry financování'!D1987","v":"CZ.1.11/3.2.00/02.00785"}]
[null,{"$f":"'3.3'!I1995","v":0},{"$f":"'3.3'!L1995","v":0},0,0,785,{"$f":"'poměry financování'!D1988","v":"CZ.1.11/3.2.00/02.00785"}]
[null,{"$f":"'3.3'!I1996","v":0},{"$f":"'3.3'!L1996","v":0},0,0,786,{"$f":"'poměry financování'!D1989","v":"CZ.1.11/3.3.00/02.00786"}]
[null,{"$f":"'3.3'!I1997","v":0},{"$f":"'3.3'!L1997","v":0},0,0,787,{"$f":"'poměry financování'!D1990","v":"CZ.1.11/3.2.00/02.00787"}]
[null,{"$f":"'3.3'!I1998","v":0},{"$f":"'3.3'!L1998","v":0},0,0,787,{"$f":"'poměry financování'!D1991","v":"CZ.1.11/3.2.00/02.00787"}]
[null,{"$f":"'3.3'!I1999","v":0},{"$f":"'3.3'!L1999","v":0},0,0,787,{"$f":"'poměry financování'!D1992","v":"CZ.1.11/3.2.00/02.00787"}]
[null,{"$f":"'3.3'!I2000","v":0},{"$f":"'3.3'!L2000","v":0},0,0,787,{"$f":"'poměry financování'!D1993","v":"CZ.1.11/3.2.00/02.00787"}]
[null,{"$f":"'3.3'!I2001","v":0},{"$f":"'3.3'!L2001","v":0},0,0,787,{"$f":"'poměry financování'!D1994","v":"CZ.1.11/3.2.00/02.00787"}]
[null,{"$f":"'3.3'!I2002","v":0},{"$f":"'3.3'!L2002","v":0},0,0,788,{"$f":"'poměry financování'!D1995","v":"CZ.1.11/3.3.00/02.00788"}]
[null,{"$f":"'3.3'!I2003","v":0},{"$f":"'3.3'!L2003","v":0},0,0,789,{"$f":"'poměry financování'!D1996","v":"CZ.1.11/3.3.00/02.00789"}]
[null,{"$f":"'3.3'!I2004","v":0},{"$f":"'3.3'!L2004","v":0},0,0,789,{"$f":"'poměry financování'!D1997","v":"CZ.1.11/3.3.00/02.00789"}]
[null,{"$f":"'3.3'!I2005","v":0},{"$f":"'3.3'!L2005","v":0},0,0,789,{"$f":"'poměry financování'!D1998","v":"CZ.1.11/3.3.00/02.00789"}]
[null,{"$f":"'3.3'!I2006","v":0},{"$f":"'3.3'!L2006","v":0},0,0,790,{"$f":"'poměry financování'!D1999","v":"CZ.1.11/3.3.00/02.00790"}]
[null,{"$f":"'3.3'!I2007","v":0},{"$f":"'3.3'!L2007","v":0},0,0,790,{"$f":"'poměry financování'!D2000","v":"CZ.1.11/3.3.00/02.00790"}]
[null,{"$f":"'3.3'!I2008","v":0},{"$f":"'3.3'!L2008","v":0},0,0,791,{"$f":"'poměry financování'!D2001","v":"CZ.1.11/3.2.00/02.00791"}]
[null,{"$f":"'3.3'!I2009","v":0},{"$f":"'3.3'!L2009","v":0},0,0,792,{"$f":"'poměry financování'!D2002","v":"CZ.1.11/3.3.00/02.00792"}]
[null,{"$f":"'3.3'!I2010","v":0},{"$f":"'3.3'!L2010","v":0},0,0,792,{"$f":"'poměry financování'!D2003","v":"CZ.1.11/3.3.00/02.00792"}]
[null,{"$f":"'3.3'!I2011","v":0},{"$f":"'3.3'!L2011","v":0},0,0,793,{"$f":"'poměry financování'!D2004","v":"CZ.1.11/3.3.00/02.00793"}]
[null,{"$f":"'3.3'!I2012","v":0},{"$f":"'3.3'!L2012","v":0},0,0,793,{"$f":"'poměry financování'!D2005","v":"CZ.1.11/3.3.00/02.00793"}]
[null,{"$f":"'3.3'!I2013","v":0},{"$f":"'3.3'!L2013","v":0},0,0,794,{"$f":"'poměry financování'!D2006","v":"CZ.1.11/3.3.00/02.00794"}]
[null,{"$f":"'3.3'!I2014","v":0},{"$f":"'3.3'!L2014","v":0},0,0,794,{"$f":"'poměry financování'!D2007","v":"CZ.1.11/3.3.00/02.00794"}]
[null,{"$f":"'3.3'!I2015","v":0},{"$f":"'3.3'!L2015","v":0},0,0,794,{"$f":"'poměry financování'!D2008","v":"CZ.1.11/3.3.00/02.00794"}]
[null,{"$f":"'3.3'!I2016","v":0},{"$f":"'3.3'!L2016","v":0},0,0,795,{"$f":"'poměry financování'!D2009","v":"CZ.1.11/3.3.00/02.00795"}]
[null,{"$f":"'3.3'!I2017","v":0},{"$f":"'3.3'!L2017","v":0},0,0,796,{"$f":"'poměry financování'!D2010","v":"CZ.1.11/3.3.00/02.00796"}]
[null,{"$f":"'3.3'!I2018","v":0},{"$f":"'3.3'!L2018","v":0},0,0,796,{"$f":"'poměry financování'!D2011","v":"CZ.1.11/3.3.00/02.00796"}]
[null,{"$f":"'3.3'!I2019","v":0},{"$f":"'3.3'!L2019","v":0},0,0,796,{"$f":"'poměry financování'!D2012","v":"CZ.1.11/3.3.00/02.00796"}]
[null,{"$f":"'3.3'!I2020","v":0},{"$f":"'3.3'!L2020","v":0},0,0,796,{"$f":"'poměry financování'!D2013","v":"CZ.1.11/3.3.00/02.00796"}]
[null,{"$f":"'3.3'!I2021","v":0},{"$f":"'3.3'!L2021","v":0},0,0,796,{"$f":"'poměry financování'!D2014","v":"CZ.1.11/3.3.00/02.00796"}]
[null,{"$f":"'3.3'!I2022","v":0},{"$f":"'3.3'!L2022","v":0},0,0,797,{"$f":"'poměry financování'!D2015","v":"CZ.1.11/3.3.00/02.00797"}]
[null,{"$f":"'3.3'!I2023","v":0},{"$f":"'3.3'!L2023","v":0},0,0,798,{"$f":"'poměry financování'!D2016","v":"CZ.1.11/3.3.00/02.00798"}]
[null,{"$f":"'3.3'!I2024","v":0},{"$f":"'3.3'!L2024","v":0},0,0,798,{"$f":"'poměry financování'!D2017","v":"CZ.1.11/3.3.00/02.00798"}]
[null,{"$f":"'3.3'!I2025","v":0},{"$f":"'3.3'!L2025","v":0},0,0,798,{"$f":"'poměry financování'!D2018","v":"CZ.1.11/3.3.00/02.00798"}]
[null,{"$f":"'3.3'!I2026","v":0},{"$f":"'3.3'!L2026","v":0},0,0,798,{"$f":"'poměry financování'!D2019","v":"CZ.1.11/3.3.00/02.00798"}]
[null,{"$f":"'3.3'!I2027","v":0},{"$f":"'3.3'!L2027","v":0},0,0,799,{"$f":"'poměry financování'!D2020","v":"CZ.1.11/3.3.00/02.00799"}]
[null,{"$f":"'3.3'!I2028","v":0},{"$f":"'3.3'!L2028","v":0},0,0,799,{"$f":"'poměry financování'!D2021","v":"CZ.1.11/3.3.00/02.00799"}]
[null,{"$f":"'3.3'!I2029","v":0},{"$f":"'3.3'!L2029","v":0},0,0,800,{"$f":"'poměry financování'!D2022","v":"CZ.1.11/3.3.00/02.00800"}]
[null,{"$f":"'3.3'!I2030","v":0},{"$f":"'3.3'!L2030","v":0},0,0,801,{"$f":"'poměry financování'!D2023","v":"CZ.1.11/3.2.00/02.00801"}]
[null,{"$f":"'3.3'!I2031","v":0},{"$f":"'3.3'!L2031","v":0},0,0,801,{"$f":"'poměry financování'!D2024","v":"CZ.1.11/3.2.00/02.00801"}]
[null,{"$f":"'3.3'!I2032","v":0},{"$f":"'3.3'!L2032","v":0},0,0,802,{"$f":"'poměry financování'!D2025","v":"CZ.1.11/3.3.00/02.00802"}]
[null,{"$f":"'3.3'!I2033","v":0},{"$f":"'3.3'!L2033","v":0},0,0,803,{"$f":"'poměry financování'!D2026","v":"CZ.1.11/3.3.00/02.00803"}]
[null,{"$f":"'3.3'!I2034","v":0},{"$f":"'3.3'!L2034","v":0},0,0,803,{"$f":"'poměry financování'!D2027","v":"CZ.1.11/3.3.00/02.00803"}]
[null,{"$f":"'3.3'!I2035","v":0},{"$f":"'3.3'!L2035","v":0},0,0,803,{"$f":"'poměry financování'!D2028","v":"CZ.1.11/3.3.00/02.00803"}]
[null,{"$f":"'3.3'!I2036","v":0},{"$f":"'3.3'!L2036","v":0},0,0,804,{"$f":"'poměry financování'!D2029","v":"CZ.1.11/3.3.00/02.00804"}]
[null,{"$f":"'3.3'!I2037","v":0},{"$f":"'3.3'!L2037","v":0},0,0,805,{"$f":"'poměry financování'!D2030","v":"CZ.1.11/3.2.00/02.00805"}]
[null,{"$f":"'3.3'!I2038","v":0},{"$f":"'3.3'!L2038","v":0},0,0,806,{"$f":"'poměry financování'!D2031","v":"CZ.1.11/3.3.00/02.00806"}]
[null,{"$f":"'3.3'!I2039","v":0},{"$f":"'3.3'!L2039","v":0},0,0,806,{"$f":"'poměry financování'!D2032","v":"CZ.1.11/3.3.00/02.00806"}]
[null,{"$f":"'3.3'!I2040","v":0},{"$f":"'3.3'!L2040","v":0},0,0,807,{"$f":"'poměry financování'!D2033","v":"CZ.1.11/3.3.00/02.00807"}]
[null,{"$f":"'3.3'!I2041","v":0},{"$f":"'3.3'!L2041","v":0},0,0,808,{"$f":"'poměry financování'!D2034","v":"CZ.1.11/3.3.00/02.00808"}]
[null,{"$f":"'3.3'!I2042","v":0},{"$f":"'3.3'!L2042","v":0},0,0,808,{"$f":"'poměry financování'!D2035","v":"CZ.1.11/3.3.00/02.00808"}]
[null,{"$f":"'3.3'!I2043","v":0},{"$f":"'3.3'!L2043","v":0},0,0,808,{"$f":"'poměry financování'!D2036","v":"CZ.1.11/3.3.00/02.00808"}]
[null,{"$f":"'3.3'!I2044","v":0},{"$f":"'3.3'!L2044","v":0},0,0,808,{"$f":"'poměry financování'!D2037","v":"CZ.1.11/3.3.00/02.00808"}]
[null,{"$f":"'3.3'!I2045","v":0},{"$f":"'3.3'!L2045","v":0},0,0,809,{"$f":"'poměry financování'!D2038","v":"CZ.1.11/3.3.00/02.00809"}]
[null,{"$f":"'3.3'!I2046","v":0},{"$f":"'3.3'!L2046","v":0},0,0,810,{"$f":"'poměry financování'!D2039","v":"CZ.1.11/3.3.00/02.00810"}]
[null,{"$f":"'3.3'!I2047","v":0},{"$f":"'3.3'!L2047","v":0},0,0,811,{"$f":"'poměry financování'!D2040","v":"CZ.1.11/3.3.00/02.00811"}]
[null,{"$f":"'3.3'!I2048","v":0},{"$f":"'3.3'!L2048","v":0},0,0,811,{"$f":"'poměry financování'!D2041","v":"CZ.1.11/3.3.00/02.00811"}]
[null,{"$f":"'3.3'!I2049","v":0},{"$f":"'3.3'!L2049","v":0},0,0,811,{"$f":"'poměry financování'!D2042","v":"CZ.1.11/3.3.00/02.00811"}]
[null,{"$f":"'3.3'!I2050","v":0},{"$f":"'3.3'!L2050","v":0},0,0,812,{"$f":"'poměry financování'!D2043","v":"CZ.1.11/3.3.00/02.00812"}]
[null,{"$f":"'3.3'!I2051","v":0},{"$f":"'3.3'!L2051","v":0},0,0,813,{"$f":"'poměry financování'!D2044","v":"CZ.1.11/3.3.00/02.00813"}]
[null,{"$f":"'3.3'!I2052","v":0},{"$f":"'3.3'!L2052","v":0},0,0,813,{"$f":"'poměry financování'!D2045","v":"CZ.1.11/3.3.00/02.00813"}]
[null,{"$f":"'3.3'!I2053","v":0},{"$f":"'3.3'!L2053","v":0},0,0,814,{"$f":"'poměry financování'!D2046","v":"CZ.1.11/3.2.00/02.00814"}]
[null,{"$f":"'3.3'!I2054","v":0},{"$f":"'3.3'!L2054","v":0},0,0,815,{"$f":"'poměry financování'!D2047","v":"CZ.1.11/3.3.00/02.00815"}]
[null,{"$f":"'3.3'!I2055","v":0},{"$f":"'3.3'!L2055","v":0},{"$f":"IF(B2051=\"Investiční\",C2051,0)","v":0},{"$f":"IF(B2051=\"Neinvestiční\",C2051,0)","v":0},815,{"$f":"'poměry financování'!D2048","v":"CZ.1.11/3.3.00/02.00815"}]
[null,{"$f":"'3.3'!I2056","v":0},{"$f":"'3.3'!L2056","v":0},0,0,815,{"$f":"'poměry financování'!D2049","v":"CZ.1.11/3.3.00/02.00815"}]
[null,{"$f":"'3.3'!I2057","v":0},{"$f":"'3.3'!L2057","v":0},0,0,816,{"$f":"'poměry financování'!D2050","v":"CZ.1.11/3.3.00/02.00816"}]
[null,{"$f":"'3.3'!I2058","v":0},{"$f":"'3.3'!L2058","v":0},0,0,{"$f":"VALUE((MID(G2054,20,4)))","v":816},{"$f":"'poměry financování'!D2051","v":"CZ.1.11/3.3.00/02.00816"}]
[null,{"$f":"'3.3'!I2059","v":0},{"$f":"'3.3'!L2059","v":0},0,0,816,{"$f":"'poměry financování'!D2052","v":"CZ.1.11/3.3.00/02.00816"}]
[null,{"$f":"'3.3'!I2060","v":0},{"$f":"'3.3'!L2060","v":0},0,0,817,{"$f":"'poměry financování'!D2053","v":"CZ.1.11/3.3.00/02.00817"}]
[null,{"$f":"'3.3'!I2061","v":0},{"$f":"'3.3'!L2061","v":0},0,0,818,{"$f":"'poměry financování'!D2054","v":"CZ.1.11/3.3.00/02.00818"}]
[null,{"$f":"'3.3'!I2062","v":0},{"$f":"'3.3'!L2062","v":0},0,0,818,{"$f":"'poměry financování'!D2055","v":"CZ.1.11/3.3.00/02.00818"}]
[null,{"$f":"'3.3'!I2063","v":0},{"$f":"'3.3'!L2063","v":0},0,0,819,{"$f":"'poměry financování'!D2056","v":"CZ.1.11/3.2.00/02.00819"}]
[null,{"$f":"'3.3'!I2064","v":0},{"$f":"'3.3'!L2064","v":0},0,0,819,{"$f":"'poměry financování'!D2057","v":"CZ.1.11/3.2.00/02.00819"}]
[null,{"$f":"'3.3'!I2065","v":0},{"$f":"'3.3'!L2065","v":0},0,0,819,{"$f":"'poměry financování'!D2058","v":"CZ.1.11/3.2.00/02.00819"}]
[null,{"$f":"'3.3'!I2066","v":0},{"$f":"'3.3'!L2066","v":0},0,0,819,{"$f":"'poměry financování'!D2059","v":"CZ.1.11/3.2.00/02.00819"}]
[null,{"$f":"'3.3'!I2067","v":0},{"$f":"'3.3'!L2067","v":0},0,0,820,{"$f":"'poměry financování'!D2060","v":"CZ.1.11/3.3.00/02.00820"}]
[null,{"$f":"'3.3'!I2068","v":0},{"$f":"'3.3'!L2068","v":0},0,0,820,{"$f":"'poměry financování'!D2061","v":"CZ.1.11/3.3.00/02.00820"}]
[null,{"$f":"'3.3'!I2069","v":0},{"$f":"'3.3'!L2069","v":0},0,0,820,{"$f":"'poměry financování'!D2062","v":"CZ.1.11/3.3.00/02.00820"}]
[null,{"$f":"'3.3'!I2070","v":0},{"$f":"'3.3'!L2070","v":0},0,0,821,{"$f":"'poměry financování'!D2063","v":"CZ.1.11/3.3.00/02.00821"}]
[null,{"$f":"'3.3'!I2071","v":0},{"$f":"'3.3'!L2071","v":0},0,0,821,{"$f":"'poměry financování'!D2064","v":"CZ.1.11/3.3.00/02.00821"}]
[null,{"$f":"'3.3'!I2072","v":0},{"$f":"'3.3'!L2072","v":0},0,0,821,{"$f":"'poměry financování'!D2065","v":"CZ.1.11/3.3.00/02.00821"}]
[null,{"$f":"'3.3'!I2073","v":0},{"$f":"'3.3'!L2073","v":0},0,0,822,{"$f":"'poměry financování'!D2066","v":"CZ.1.11/3.2.00/02.00822"}]
[null,{"$f":"'3.3'!I2074","v":0},{"$f":"'3.3'!L2074","v":0},0,0,822,{"$f":"'poměry financování'!D2067","v":"CZ.1.11/3.2.00/02.00822"}]
[null,{"$f":"'3.3'!I2075","v":0},{"$f":"'3.3'!L2075","v":0},0,0,822,{"$f":"'poměry financování'!D2068","v":"CZ.1.11/3.2.00/02.00822"}]
[null,{"$f":"'3.3'!I2076","v":0},{"$f":"'3.3'!L2076","v":0},0,0,823,{"$f":"'poměry financování'!D2069","v":"CZ.1.11/3.3.00/02.00823"}]
[null,{"$f":"'3.3'!I2077","v":0},{"$f":"'3.3'!L2077","v":0},0,0,824,{"$f":"'poměry financování'!D2070","v":"CZ.1.11/3.3.00/02.00824"}]
[null,{"$f":"'3.3'!I2078","v":0},{"$f":"'3.3'!L2078","v":0},0,0,824,{"$f":"'poměry financování'!D2071","v":"CZ.1.11/3.3.00/02.00824"}]
[null,{"$f":"'3.3'!I2079","v":0},{"$f":"'3.3'!L2079","v":0},0,0,824,{"$f":"'poměry financování'!D2072","v":"CZ.1.11/3.3.00/02.00824"}]
[null,{"$f":"'3.3'!I2080","v":0},{"$f":"'3.3'!L2080","v":0},0,0,824,{"$f":"'poměry financování'!D2073","v":"CZ.1.11/3.3.00/02.00824"}]
[null,{"$f":"'3.3'!I2081","v":0},{"$f":"'3.3'!L2081","v":0},0,0,825,{"$f":"'poměry financování'!D2074","v":"CZ.1.11/3.3.00/02.00825"}]
[null,{"$f":"'3.3'!I2082","v":0},{"$f":"'3.3'!L2082","v":0},0,0,825,{"$f":"'poměry financování'!D2075","v":"CZ.1.11/3.3.00/02.00825"}]
[null,{"$f":"'3.3'!I2083","v":0},{"$f":"'3.3'!L2083","v":0},0,0,825,{"$f":"'poměry financování'!D2076","v":"CZ.1.11/3.3.00/02.00825"}]
[null,{"$f":"'3.3'!I2084","v":0},{"$f":"'3.3'!L2084","v":0},0,0,825,{"$f":"'poměry financování'!D2077","v":"CZ.1.11/3.3.00/02.00825"}]
[null,{"$f":"'3.3'!I2085","v":0},{"$f":"'3.3'!L2085","v":0},0,0,826,{"$f":"'poměry financování'!D2078","v":"CZ.1.11/3.3.00/02.00826"}]
[null,{"$f":"'3.3'!I2086","v":0},{"$f":"'3.3'!L2086","v":0},0,0,826,{"$f":"'poměry financování'!D2079","v":"CZ.1.11/3.3.00/02.00826"}]
[null,{"$f":"'3.3'!I2087","v":0},{"$f":"'3.3'!L2087","v":0},0,0,827,{"$f":"'poměry financování'!D2080","v":"CZ.1.11/3.3.00/02.00827"}]
[null,{"$f":"'3.3'!I2088","v":0},{"$f":"'3.3'!L2088","v":0},0,0,828,{"$f":"'poměry financování'!D2081","v":"CZ.1.11/3.3.00/02.00828"}]
[null,{"$f":"'3.3'!I2089","v":0},{"$f":"'3.3'!L2089","v":0},0,0,828,{"$f":"'poměry financování'!D2082","v":"CZ.1.11/3.3.00/02.00828"}]
[null,{"$f":"'3.3'!I2090","v":0},{"$f":"'3.3'!L2090","v":0},0,0,829,{"$f":"'poměry financování'!D2083","v":"CZ.1.11/3.2.00/02.00829"}]
[null,{"$f":"'3.3'!I2091","v":0},{"$f":"'3.3'!L2091","v":0},0,0,829,{"$f":"'poměry financování'!D2084","v":"CZ.1.11/3.2.00/02.00829"}]
[null,{"$f":"'3.3'!I2092","v":0},{"$f":"'3.3'!L2092","v":0},0,0,830,{"$f":"'poměry financování'!D2085","v":"CZ.1.11/3.3.00/02.00830"}]
[null,{"$f":"'3.3'!I2093","v":0},{"$f":"'3.3'!L2093","v":0},0,0,830,{"$f":"'poměry financování'!D2086","v":"CZ.1.11/3.3.00/02.00830"}]
[null,{"$f":"'3.3'!I2094","v":0},{"$f":"'3.3'!L2094","v":0},0,0,830,{"$f":"'poměry financování'!D2087","v":"CZ.1.11/3.3.00/02.00830"}]
[null,{"$f":"'3.3'!I2095","v":0},{"$f":"'3.3'!L2095","v":0},0,0,831,{"$f":"'poměry financování'!D2088","v":"CZ.1.11/3.3.00/02.00831"}]
[null,{"$f":"'3.3'!I2096","v":0},{"$f":"'3.3'!L2096","v":0},0,0,831,{"$f":"'poměry financování'!D2089","v":"CZ.1.11/3.3.00/02.00831"}]
[null,{"$f":"'3.3'!I2097","v":0},{"$f":"'3.3'!L2097","v":0},0,0,831,{"$f":"'poměry financování'!D2090","v":"CZ.1.11/3.3.00/02.00831"}]
[null,{"$f":"'3.3'!I2098","v":0},{"$f":"'3.3'!L2098","v":0},0,0,832,{"$f":"'poměry financování'!D2091","v":"CZ.1.11/3.3.00/02.00832"}]
[null,{"$f":"'3.3'!I2099","v":0},{"$f":"'3.3'!L2099","v":0},0,0,833,{"$f":"'poměry financování'!D2092","v":"CZ.1.11/3.3.00/02.00833"}]
[null,{"$f":"'3.3'!I2100","v":0},{"$f":"'3.3'!L2100","v":0},0,0,833,{"$f":"'poměry financování'!D2093","v":"CZ.1.11/3.3.00/02.00833"}]
[null,{"$f":"'3.3'!I2101","v":0},{"$f":"'3.3'!L2101","v":0},0,0,833,{"$f":"'poměry financování'!D2094","v":"CZ.1.11/3.3.00/02.00833"}]
[null,{"$f":"'3.3'!I2102","v":0},{"$f":"'3.3'!L2102","v":0},0,0,834,{"$f":"'poměry financování'!D2095","v":"CZ.1.11/3.3.00/02.00834"}]
[null,{"$f":"'3.3'!I2103","v":0},{"$f":"'3.3'!L2103","v":0},0,0,835,{"$f":"'poměry financování'!D2096","v":"CZ.1.11/3.3.00/02.00835"}]
[null,{"$f":"'3.3'!I2104","v":0},{"$f":"'3.3'!L2104","v":0},0,0,835,{"$f":"'poměry financování'!D2097","v":"CZ.1.11/3.3.00/02.00835"}]
[null,{"$f":"'3.3'!I2105","v":0},{"$f":"'3.3'!L2105","v":0},0,0,835,{"$f":"'poměry financování'!D2098","v":"CZ.1.11/3.3.00/02.00835"}]
[null,{"$f":"'3.3'!I2106","v":0},{"$f":"'3.3'!L2106","v":0},0,0,836,{"$f":"'poměry financování'!D2099","v":"CZ.1.11/3.3.00/02.00836"}]
[null,{"$f":"'3.3'!I2107","v":0},{"$f":"'3.3'!L2107","v":0},0,0,836,{"$f":"'poměry financování'!D2100","v":"CZ.1.11/3.3.00/02.00836"}]
[null,{"$f":"'3.3'!I2108","v":0},{"$f":"'3.3'!L2108","v":0},0,0,836,{"$f":"'poměry financování'!D2101","v":"CZ.1.11/3.3.00/02.00836"}]
[null,{"$f":"'3.3'!I2109","v":0},{"$f":"'3.3'!L2109","v":0},0,0,836,{"$f":"'poměry financování'!D2102","v":"CZ.1.11/3.3.00/02.00836"}]
[null,{"$f":"'3.3'!I2110","v":0},{"$f":"'3.3'!L2110","v":0},0,0,837,{"$f":"'poměry financování'!D2103","v":"CZ.1.11/3.3.00/02.00837"}]
[null,{"$f":"'3.3'!I2111","v":0},{"$f":"'3.3'!L2111","v":0},0,0,837,{"$f":"'poměry financování'!D2104","v":"CZ.1.11/3.3.00/02.00837"}]
[null,{"$f":"'3.3'!I2112","v":0},{"$f":"'3.3'!L2112","v":0},0,0,837,{"$f":"'poměry financování'!D2105","v":"CZ.1.11/3.3.00/02.00837"}]
[null,{"$f":"'3.3'!I2113","v":0},{"$f":"'3.3'!L2113","v":0},0,0,837,{"$f":"'poměry financování'!D2106","v":"CZ.1.11/3.3.00/02.00837"}]
[null,{"$f":"'3.3'!I2114","v":0},{"$f":"'3.3'!L2114","v":0},0,0,838,{"$f":"'poměry financování'!D2107","v":"CZ.1.11/3.3.00/02.00838"}]
[null,{"$f":"'3.3'!I2115","v":0},{"$f":"'3.3'!L2115","v":0},0,0,838,{"$f":"'poměry financování'!D2108","v":"CZ.1.11/3.3.00/02.00838"}]
[null,{"$f":"'3.3'!I2116","v":0},{"$f":"'3.3'!L2116","v":0},0,0,839,{"$f":"'poměry financování'!D2109","v":"CZ.1.11/3.3.00/02.00839"}]
[null,{"$f":"'3.3'!I2117","v":0},{"$f":"'3.3'!L2117","v":0},0,0,840,{"$f":"'poměry financování'!D2110","v":"CZ.1.11/3.2.00/02.00840"}]
[null,{"$f":"'3.3'!I2118","v":0},{"$f":"'3.3'!L2118","v":0},0,0,840,{"$f":"'poměry financování'!D2111","v":"CZ.1.11/3.2.00/02.00840"}]
[null,{"$f":"'3.3'!I2119","v":0},{"$f":"'3.3'!L2119","v":0},{"$f":"IF(B2115=\"Investiční\",C2115,0)","v":0},{"$f":"IF(B2115=\"Neinvestiční\",C2115,0)","v":0},840,{"$f":"'poměry financování'!D2112","v":"CZ.1.11/3.2.00/02.00840"}]
[null,{"$f":"'3.3'!I2120","v":0},{"$f":"'3.3'!L2120","v":0},0,0,840,{"$f":"'poměry financování'!D2113","v":"CZ.1.11/3.2.00/02.00840"}]
[null,{"$f":"'3.3'!I2121","v":0},{"$f":"'3.3'!L2121","v":0},0,0,841,{"$f":"'poměry financování'!D2114","v":"CZ.1.11/3.3.00/02.00841"}]
[null,{"$f":"'3.3'!I2122","v":0},{"$f":"'3.3'!L2122","v":0},0,0,{"$f":"VALUE((MID(G2118,20,4)))","v":841},{"$f":"'poměry financování'!D2115","v":"CZ.1.11/3.3.00/02.00841"}]
[null,{"$f":"'3.3'!I2123","v":0},{"$f":"'3.3'!L2123","v":0},0,0,842,{"$f":"'poměry financování'!D2116","v":"CZ.1.11/3.3.00/02.00842"}]
[null,{"$f":"'3.3'!I2124","v":0},{"$f":"'3.3'!L2124","v":0},0,0,842,{"$f":"'poměry financování'!D2117","v":"CZ.1.11/3.3.00/02.00842"}]
[null,{"$f":"'3.3'!I2125","v":0},{"$f":"'3.3'!L2125","v":0},0,0,842,{"$f":"'poměry financování'!D2118","v":"CZ.1.11/3.3.00/02.00842"}]
[null,{"$f":"'3.3'!I2126","v":0},{"$f":"'3.3'!L2126","v":0},0,0,843,{"$f":"'poměry financování'!D2119","v":"CZ.1.11/3.2.00/02.00843"}]
[null,{"$f":"'3.3'!I2127","v":0},{"$f":"'3.3'!L2127","v":0},0,0,843,{"$f":"'poměry financování'!D2120","v":"CZ.1.11/3.2.00/02.00843"}]
[null,{"$f":"'3.3'!I2128","v":0},{"$f":"'3.3'!L2128","v":0},0,0,844,{"$f":"'poměry financování'!D2121","v":"CZ.1.11/3.3.00/02.00844"}]
[null,{"$f":"'3.3'!I2129","v":0},{"$f":"'3.3'!L2129","v":0},0,0,844,{"$f":"'poměry financování'!D2122","v":"CZ.1.11/3.3.00/02.00844"}]
[null,{"$f":"'3.3'!I2130","v":0},{"$f":"'3.3'!L2130","v":0},0,0,844,{"$f":"'poměry financování'!D2123","v":"CZ.1.11/3.3.00/02.00844"}]
[null,{"$f":"'3.3'!I2131","v":0},{"$f":"'3.3'!L2131","v":0},0,0,844,{"$f":"'poměry financování'!D2124","v":"CZ.1.11/3.3.00/02.00844"}]
[null,{"$f":"'3.3'!I2132","v":0},{"$f":"'3.3'!L2132","v":0},0,0,845,{"$f":"'poměry financování'!D2125","v":"CZ.1.11/3.2.00/02.00845"}]
[null,{"$f":"'3.3'!I2133","v":0},{"$f":"'3.3'!L2133","v":0},0,0,845,{"$f":"'poměry financování'!D2126","v":"CZ.1.11/3.2.00/02.00845"}]
[null,{"$f":"'3.3'!I2134","v":0},{"$f":"'3.3'!L2134","v":0},0,0,845,{"$f":"'poměry financování'!D2127","v":"CZ.1.11/3.2.00/02.00845"}]
[null,{"$f":"'3.3'!I2135","v":0},{"$f":"'3.3'!L2135","v":0},0,0,846,{"$f":"'poměry financování'!D2128","v":"CZ.1.11/3.2.00/02.00846"}]
[null,{"$f":"'3.3'!I2136","v":0},{"$f":"'3.3'!L2136","v":0},0,0,847,{"$f":"'poměry financování'!D2129","v":"CZ.1.11/3.3.00/02.00847"}]
[null,{"$f":"'3.3'!I2137","v":0},{"$f":"'3.3'!L2137","v":0},0,0,847,{"$f":"'poměry financování'!D2130","v":"CZ.1.11/3.3.00/02.00847"}]
[null,{"$f":"'3.3'!I2138","v":0},{"$f":"'3.3'!L2138","v":0},0,0,847,{"$f":"'poměry financování'!D2131","v":"CZ.1.11/3.3.00/02.00847"}]
[null,{"$f":"'3.3'!I2139","v":0},{"$f":"'3.3'!L2139","v":0},0,0,847,{"$f":"'poměry financování'!D2132","v":"CZ.1.11/3.3.00/02.00847"}]
[null,{"$f":"'3.3'!I2140","v":0},{"$f":"'3.3'!L2140","v":0},0,0,847,{"$f":"'poměry financování'!D2133","v":"CZ.1.11/3.3.00/02.00847"}]
[null,{"$f":"'3.3'!I2141","v":0},{"$f":"'3.3'!L2141","v":0},0,0,847,{"$f":"'poměry financování'!D2134","v":"CZ.1.11/3.3.00/02.00847"}]
[null,{"$f":"'3.3'!I2142","v":0},{"$f":"'3.3'!L2142","v":0},0,0,848,{"$f":"'poměry financování'!D2135","v":"CZ.1.11/3.2.00/02.00848"}]
[null,{"$f":"'3.3'!I2143","v":0},{"$f":"'3.3'!L2143","v":0},0,0,848,{"$f":"'poměry financování'!D2136","v":"CZ.1.11/3.2.00/02.00848"}]
[null,{"$f":"'3.3'!I2144","v":0},{"$f":"'3.3'!L2144","v":0},0,0,848,{"$f":"'poměry financování'!D2137","v":"CZ.1.11/3.2.00/02.00848"}]
[null,{"$f":"'3.3'!I2145","v":0},{"$f":"'3.3'!L2145","v":0},0,0,849,{"$f":"'poměry financování'!D2138","v":"CZ.1.11/3.3.00/02.00849"}]
[null,{"$f":"'3.3'!I2146","v":0},{"$f":"'3.3'!L2146","v":0},0,0,850,{"$f":"'poměry financování'!D2139","v":"CZ.1.11/3.3.00/02.00850"}]
[null,{"$f":"'3.3'!I2147","v":0},{"$f":"'3.3'!L2147","v":0},0,0,850,{"$f":"'poměry financování'!D2140","v":"CZ.1.11/3.3.00/02.00850"}]
[null,{"$f":"'3.3'!I2148","v":0},{"$f":"'3.3'!L2148","v":0},0,0,851,{"$f":"'poměry financování'!D2141","v":"CZ.1.11/3.3.00/02.00851"}]
[null,{"$f":"'3.3'!I2149","v":0},{"$f":"'3.3'!L2149","v":0},0,0,851,{"$f":"'poměry financování'!D2142","v":"CZ.1.11/3.3.00/02.00851"}]
[null,{"$f":"'3.3'!I2150","v":0},{"$f":"'3.3'!L2150","v":0},0,0,851,{"$f":"'poměry financování'!D2143","v":"CZ.1.11/3.3.00/02.00851"}]
[null,{"$f":"'3.3'!I2151","v":0},{"$f":"'3.3'!L2151","v":0},0,0,852,{"$f":"'poměry financování'!D2144","v":"CZ.1.11/3.3.00/02.00852"}]
[null,{"$f":"'3.3'!I2152","v":0},{"$f":"'3.3'!L2152","v":0},0,0,852,{"$f":"'poměry financování'!D2145","v":"CZ.1.11/3.3.00/02.00852"}]
[null,{"$f":"'3.3'!I2153","v":0},{"$f":"'3.3'!L2153","v":0},0,0,852,{"$f":"'poměry financování'!D2146","v":"CZ.1.11/3.3.00/02.00852"}]
[null,{"$f":"'3.3'!I2154","v":0},{"$f":"'3.3'!L2154","v":0},0,0,852,{"$f":"'poměry financování'!D2147","v":"CZ.1.11/3.3.00/02.00852"}]
[null,{"$f":"'3.3'!I2155","v":0},{"$f":"'3.3'!L2155","v":0},0,0,853,{"$f":"'poměry financování'!D2148","v":"CZ.1.11/3.3.00/02.00853"}]
[null,{"$f":"'3.3'!I2156","v":0},{"$f":"'3.3'!L2156","v":0},0,0,853,{"$f":"'poměry financování'!D2149","v":"CZ.1.11/3.3.00/02.00853"}]
[null,{"$f":"'3.3'!I2157","v":0},{"$f":"'3.3'!L2157","v":0},0,0,854,{"$f":"'poměry financování'!D2150","v":"CZ.1.11/3.3.00/02.00854"}]
[null,{"$f":"'3.3'!I2158","v":0},{"$f":"'3.3'!L2158","v":0},0,0,854,{"$f":"'poměry financování'!D2151","v":"CZ.1.11/3.3.00/02.00854"}]
[null,{"$f":"'3.3'!I2159","v":0},{"$f":"'3.3'!L2159","v":0},0,0,855,{"$f":"'poměry financování'!D2152","v":"CZ.1.11/3.3.00/02.00855"}]
[null,{"$f":"'3.3'!I2160","v":0},{"$f":"'3.3'!L2160","v":0},0,0,855,{"$f":"'poměry financování'!D2153","v":"CZ.1.11/3.3.00/02.00855"}]
[null,{"$f":"'3.3'!I2161","v":0},{"$f":"'3.3'!L2161","v":0},0,0,856,{"$f":"'poměry financování'!D2154","v":"CZ.1.11/3.3.00/02.00856"}]
[null,{"$f":"'3.3'!I2162","v":0},{"$f":"'3.3'!L2162","v":0},0,0,856,{"$f":"'poměry financování'!D2155","v":"CZ.1.11/3.3.00/02.00856"}]
[null,{"$f":"'3.3'!I2163","v":0},{"$f":"'3.3'!L2163","v":0},0,0,856,{"$f":"'poměry financování'!D2156","v":"CZ.1.11/3.3.00/02.00856"}]
[null,{"$f":"'3.3'!I2164","v":0},{"$f":"'3.3'!L2164","v":0},0,0,856,{"$f":"'poměry financování'!D2157","v":"CZ.1.11/3.3.00/02.00856"}]
[null,{"$f":"'3.3'!I2165","v":0},{"$f":"'3.3'!L2165","v":0},0,0,857,{"$f":"'poměry financování'!D2158","v":"CZ.1.11/3.3.00/02.00857"}]
[null,{"$f":"'3.3'!I2166","v":0},{"$f":"'3.3'!L2166","v":0},0,0,857,{"$f":"'poměry financování'!D2159","v":"CZ.1.11/3.3.00/02.00857"}]
[null,{"$f":"'3.3'!I2167","v":0},{"$f":"'3.3'!L2167","v":0},0,0,858,{"$f":"'poměry financování'!D2160","v":"CZ.1.11/1.4.00/03.00858"}]
[null,{"$f":"'3.3'!I2168","v":0},{"$f":"'3.3'!L2168","v":0},0,0,858,{"$f":"'poměry financování'!D2161","v":"CZ.1.11/1.4.00/03.00858"}]
[null,{"$f":"'3.3'!I2169","v":0},{"$f":"'3.3'!L2169","v":0},0,0,858,{"$f":"'poměry financování'!D2162","v":"CZ.1.11/1.4.00/03.00858"}]
[null,{"$f":"'3.3'!I2170","v":0},{"$f":"'3.3'!L2170","v":0},0,0,859,{"$f":"'poměry financování'!D2163","v":"CZ.1.11/1.4.00/03.00859"}]
[null,{"$f":"'3.3'!I2171","v":0},{"$f":"'3.3'!L2171","v":0},0,0,860,{"$f":"'poměry financování'!D2164","v":"CZ.1.11/1.4.00/03.00860"}]
[null,{"$f":"'3.3'!I2172","v":0},{"$f":"'3.3'!L2172","v":0},0,0,861,{"$f":"'poměry financování'!D2165","v":"CZ.1.11/1.4.00/03.00861"}]
[null,{"$f":"'3.3'!I2173","v":0},{"$f":"'3.3'!L2173","v":0},0,0,861,{"$f":"'poměry financování'!D2166","v":"CZ.1.11/1.4.00/03.00861"}]
[null,{"$f":"'3.3'!I2174","v":0},{"$f":"'3.3'!L2174","v":0},0,0,861,{"$f":"'poměry financování'!D2167","v":"CZ.1.11/1.4.00/03.00861"}]
[null,{"$f":"'3.3'!I2175","v":0},{"$f":"'3.3'!L2175","v":0},0,0,862,{"$f":"'poměry financování'!D2168","v":"CZ.1.11/1.4.00/03.00862"}]
[null,{"$f":"'3.3'!I2176","v":0},{"$f":"'3.3'!L2176","v":0},0,0,863,{"$f":"'poměry financování'!D2169","v":"CZ.1.11/1.4.00/03.00863"}]
[null,{"$f":"'3.3'!I2177","v":0},{"$f":"'3.3'!L2177","v":0},0,0,863,{"$f":"'poměry financování'!D2170","v":"CZ.1.11/1.4.00/03.00863"}]
[null,{"$f":"'3.3'!I2178","v":0},{"$f":"'3.3'!L2178","v":0},0,0,863,{"$f":"'poměry financování'!D2171","v":"CZ.1.11/1.4.00/03.00863"}]
[null,{"$f":"'3.3'!I2179","v":0},{"$f":"'3.3'!L2179","v":0},0,0,864,{"$f":"'poměry financování'!D2172","v":"CZ.1.11/1.4.00/03.00864"}]
[null,{"$f":"'3.3'!I2180","v":0},{"$f":"'3.3'!L2180","v":0},0,0,865,{"$f":"'poměry financování'!D2173","v":"CZ.1.11/1.4.00/03.00865"}]
[null,{"$f":"'3.3'!I2181","v":0},{"$f":"'3.3'!L2181","v":0},0,0,865,{"$f":"'poměry financování'!D2174","v":"CZ.1.11/1.4.00/03.00865"}]
[null,{"$f":"'3.3'!I2182","v":0},{"$f":"'3.3'!L2182","v":0},0,0,865,{"$f":"'poměry financování'!D2175","v":"CZ.1.11/1.4.00/03.00865"}]
[null,{"$f":"'3.3'!I2183","v":0},{"$f":"'3.3'!L2183","v":0},{"$f":"IF(B2179=\"Investiční\",C2179,0)","v":0},{"$f":"IF(B2179=\"Neinvestiční\",C2179,0)","v":0},865,{"$f":"'poměry financování'!D2176","v":"CZ.1.11/1.4.00/03.00865"}]
[null,{"$f":"'3.3'!I2184","v":0},{"$f":"'3.3'!L2184","v":0},0,0,865,{"$f":"'poměry financování'!D2177","v":"CZ.1.11/1.4.00/03.00865"}]
[null,{"$f":"'3.3'!I2185","v":0},{"$f":"'3.3'!L2185","v":0},0,0,866,{"$f":"'poměry financování'!D2178","v":"CZ.1.11/1.1.00/02.00866"}]
[null,{"$f":"'3.3'!I2186","v":0},{"$f":"'3.3'!L2186","v":0},0,0,{"$f":"VALUE((MID(G2182,20,4)))","v":866},{"$f":"'poměry financování'!D2179","v":"CZ.1.11/1.1.00/02.00866"}]
[null,{"$f":"'3.3'!I2187","v":0},{"$f":"'3.3'!L2187","v":0},0,0,867,{"$f":"'poměry financování'!D2180","v":"CZ.1.11/3.1.00/02.00867"}]
[null,{"$f":"'3.3'!I2188","v":0},{"$f":"'3.3'!L2188","v":0},0,0,867,{"$f":"'poměry financování'!D2181","v":"CZ.1.11/3.1.00/02.00867"}]
[null,{"$f":"'3.3'!I2189","v":0},{"$f":"'3.3'!L2189","v":0},0,0,867,{"$f":"'poměry financování'!D2182","v":"CZ.1.11/3.1.00/02.00867"}]
[null,{"$f":"'3.3'!I2190","v":0},{"$f":"'3.3'!L2190","v":0},0,0,867,{"$f":"'poměry financování'!D2183","v":"CZ.1.11/3.1.00/02.00867"}]
[null,{"$f":"'3.3'!I2191","v":0},{"$f":"'3.3'!L2191","v":0},0,0,867,{"$f":"'poměry financování'!D2184","v":"CZ.1.11/3.1.00/02.00867"}]
[null,{"$f":"'3.3'!I2192","v":0},{"$f":"'3.3'!L2192","v":0},0,0,867,{"$f":"'poměry financování'!D2185","v":"CZ.1.11/3.1.00/02.00867"}]
[null,{"$f":"'3.3'!I2193","v":0},{"$f":"'3.3'!L2193","v":0},0,0,867,{"$f":"'poměry financování'!D2186","v":"CZ.1.11/3.1.00/02.00867"}]
[null,{"$f":"'3.3'!I2194","v":0},{"$f":"'3.3'!L2194","v":0},0,0,868,{"$f":"'poměry financování'!D2187","v":"CZ.1.11/1.1.00/02.00868"}]
[null,{"$f":"'3.3'!I2195","v":0},{"$f":"'3.3'!L2195","v":0},0,0,869,{"$f":"'poměry financování'!D2188","v":"CZ.1.11/1.1.00/02.00869"}]
[null,{"$f":"'3.3'!I2196","v":0},{"$f":"'3.3'!L2196","v":0},0,0,869,{"$f":"'poměry financování'!D2189","v":"CZ.1.11/1.1.00/02.00869"}]
[null,{"$f":"'3.3'!I2197","v":0},{"$f":"'3.3'!L2197","v":0},0,0,870,{"$f":"'poměry financování'!D2190","v":"CZ.1.11/4.2.00/04.00870"}]
[null,{"$f":"'3.3'!I2198","v":0},{"$f":"'3.3'!L2198","v":0},0,0,870,{"$f":"'poměry financování'!D2191","v":"CZ.1.11/4.2.00/04.00870"}]
[null,{"$f":"'3.3'!I2199","v":0},{"$f":"'3.3'!L2199","v":0},0,0,870,{"$f":"'poměry financování'!D2192","v":"CZ.1.11/4.2.00/04.00870"}]
[null,{"$f":"'3.3'!I2200","v":0},{"$f":"'3.3'!L2200","v":0},0,0,870,{"$f":"'poměry financování'!D2193","v":"CZ.1.11/4.2.00/04.00870"}]
[null,{"$f":"'3.3'!I2201","v":0},{"$f":"'3.3'!L2201","v":0},0,0,870,{"$f":"'poměry financování'!D2194","v":"CZ.1.11/4.2.00/04.00870"}]
[null,{"$f":"'3.3'!I2202","v":0},{"$f":"'3.3'!L2202","v":0},0,0,870,{"$f":"'poměry financování'!D2195","v":"CZ.1.11/4.2.00/04.00870"}]
[null,{"$f":"'3.3'!I2203","v":0},{"$f":"'3.3'!L2203","v":0},0,0,870,{"$f":"'poměry financování'!D2196","v":"CZ.1.11/4.2.00/04.00870"}]
[null,{"$f":"'3.3'!I2204","v":0},{"$f":"'3.3'!L2204","v":0},0,0,870,{"$f":"'poměry financování'!D2197","v":"CZ.1.11/4.2.00/04.00870"}]
[null,{"$f":"'3.3'!I2205","v":0},{"$f":"'3.3'!L2205","v":0},0,0,870,{"$f":"'poměry financování'!D2198","v":"CZ.1.11/4.2.00/04.00870"}]
[null,{"$f":"'3.3'!I2206","v":0},{"$f":"'3.3'!L2206","v":0},0,0,870,{"$f":"'poměry financování'!D2199","v":"CZ.1.11/4.2.00/04.00870"}]
[null,{"$f":"'3.3'!I2207","v":0},{"$f":"'3.3'!L2207","v":0},0,0,870,{"$f":"'poměry financování'!D2200","v":"CZ.1.11/4.2.00/04.00870"}]
[null,{"$f":"'3.3'!I2208","v":0},{"$f":"'3.3'!L2208","v":0},0,0,870,{"$f":"'poměry financování'!D2201","v":"CZ.1.11/4.2.00/04.00870"}]
[null,{"$f":"'3.3'!I2209","v":0},{"$f":"'3.3'!L2209","v":0},0,0,871,{"$f":"'poměry financování'!D2202","v":"CZ.1.11/4.1.00/04.00871"}]
[null,{"$f":"'3.3'!I2210","v":0},{"$f":"'3.3'!L2210","v":0},0,0,871,{"$f":"'poměry financování'!D2203","v":"CZ.1.11/4.1.00/04.00871"}]
[null,{"$f":"'3.3'!I2211","v":0},{"$f":"'3.3'!L2211","v":0},0,0,871,{"$f":"'poměry financování'!D2204","v":"CZ.1.11/4.1.00/04.00871"}]
[null,{"$f":"'3.3'!I2212","v":0},{"$f":"'3.3'!L2212","v":0},0,0,871,{"$f":"'poměry financování'!D2205","v":"CZ.1.11/4.1.00/04.00871"}]
[null,{"$f":"'3.3'!I2213","v":0},{"$f":"'3.3'!L2213","v":0},0,0,871,{"$f":"'poměry financování'!D2206","v":"CZ.1.11/4.1.00/04.00871"}]
[null,{"$f":"'3.3'!I2214","v":0},{"$f":"'3.3'!L2214","v":0},0,0,871,{"$f":"'poměry financování'!D2207","v":"CZ.1.11/4.1.00/04.00871"}]
[null,{"$f":"'3.3'!I2215","v":0},{"$f":"'3.3'!L2215","v":0},0,0,871,{"$f":"'poměry financování'!D2208","v":"CZ.1.11/4.1.00/04.00871"}]
[null,{"$f":"'3.3'!I2216","v":0},{"$f":"'3.3'!L2216","v":0},0,0,871,{"$f":"'poměry financování'!D2209","v":"CZ.1.11/4.1.00/04.00871"}]
[null,{"$f":"'3.3'!I2217","v":0},{"$f":"'3.3'!L2217","v":0},0,0,871,{"$f":"'poměry financování'!D2210","v":"CZ.1.11/4.1.00/04.00871"}]
[null,{"$f":"'3.3'!I2218","v":0},{"$f":"'3.3'!L2218","v":0},0,0,871,{"$f":"'poměry financování'!D2211","v":"CZ.1.11/4.1.00/04.00871"}]
[null,{"$f":"'3.3'!I2219","v":0},{"$f":"'3.3'!L2219","v":0},0,0,871,{"$f":"'poměry financování'!D2212","v":"CZ.1.11/4.1.00/04.00871"}]
[null,{"$f":"'3.3'!I2220","v":0},{"$f":"'3.3'!L2220","v":0},0,0,872,{"$f":"'poměry financování'!D2213","v":"CZ.1.11/3.4.00/02.00872"}]
[null,{"$f":"'3.3'!I2221","v":0},{"$f":"'3.3'!L2221","v":0},0,0,872,{"$f":"'poměry financování'!D2214","v":"CZ.1.11/3.4.00/02.00872"}]
[null,{"$f":"'3.3'!I2222","v":0},{"$f":"'3.3'!L2222","v":0},0,0,873,{"$f":"'poměry financování'!D2215","v":"CZ.1.11/1.1.00/02.00873"}]
[null,{"$f":"'3.3'!I2223","v":0},{"$f":"'3.3'!L2223","v":0},0,0,873,{"$f":"'poměry financování'!D2216","v":"CZ.1.11/1.1.00/02.00873"}]
[null,{"$f":"'3.3'!I2224","v":0},{"$f":"'3.3'!L2224","v":0},0,0,874,{"$f":"'poměry financování'!D2217","v":"CZ.1.11/1.1.00/02.00874"}]
[null,{"$f":"'3.3'!I2225","v":0},{"$f":"'3.3'!L2225","v":0},0,0,875,{"$f":"'poměry financování'!D2218","v":"CZ.1.11/1.1.00/02.00875"}]
[null,{"$f":"'3.3'!I2226","v":0},{"$f":"'3.3'!L2226","v":0},0,0,875,{"$f":"'poměry financování'!D2219","v":"CZ.1.11/1.1.00/02.00875"}]
[null,{"$f":"'3.3'!I2227","v":0},{"$f":"'3.3'!L2227","v":0},0,0,876,{"$f":"'poměry financování'!D2220","v":"CZ.1.11/1.1.00/02.00876"}]
[null,{"$f":"'3.3'!I2228","v":0},{"$f":"'3.3'!L2228","v":0},0,0,876,{"$f":"'poměry financování'!D2221","v":"CZ.1.11/1.1.00/02.00876"}]
[null,{"$f":"'3.3'!I2229","v":0},{"$f":"'3.3'!L2229","v":0},0,0,876,{"$f":"'poměry financování'!D2222","v":"CZ.1.11/1.1.00/02.00876"}]
[null,{"$f":"'3.3'!I2230","v":0},{"$f":"'3.3'!L2230","v":0},0,0,877,{"$f":"'poměry financování'!D2223","v":"CZ.1.11/3.1.00/02.00877"}]
[null,{"$f":"'3.3'!I2231","v":0},{"$f":"'3.3'!L2231","v":0},0,0,877,{"$f":"'poměry financování'!D2224","v":"CZ.1.11/3.1.00/02.00877"}]
[null,{"$f":"'3.3'!I2232","v":0},{"$f":"'3.3'!L2232","v":0},0,0,877,{"$f":"'poměry financování'!D2225","v":"CZ.1.11/3.1.00/02.00877"}]
[null,{"$f":"'3.3'!I2233","v":0},{"$f":"'3.3'!L2233","v":0},0,0,877,{"$f":"'poměry financování'!D2226","v":"CZ.1.11/3.1.00/02.00877"}]
[null,{"$f":"'3.3'!I2234","v":0},{"$f":"'3.3'!L2234","v":0},0,0,878,{"$f":"'poměry financování'!D2227","v":"CZ.1.11/3.1.00/02.00878"}]
[null,{"$f":"'3.3'!I2235","v":0},{"$f":"'3.3'!L2235","v":0},0,0,878,{"$f":"'poměry financování'!D2228","v":"CZ.1.11/3.1.00/02.00878"}]
[null,{"$f":"'3.3'!I2236","v":0},{"$f":"'3.3'!L2236","v":0},0,0,878,{"$f":"'poměry financování'!D2229","v":"CZ.1.11/3.1.00/02.00878"}]
[null,{"$f":"'3.3'!I2237","v":0},{"$f":"'3.3'!L2237","v":0},0,0,878,{"$f":"'poměry financování'!D2230","v":"CZ.1.11/3.1.00/02.00878"}]
[null,{"$f":"'3.3'!I2238","v":0},{"$f":"'3.3'!L2238","v":0},0,0,878,{"$f":"'poměry financování'!D2231","v":"CZ.1.11/3.1.00/02.00878"}]
[null,{"$f":"'3.3'!I2239","v":0},{"$f":"'3.3'!L2239","v":0},0,0,878,{"$f":"'poměry financování'!D2232","v":"CZ.1.11/3.1.00/02.00878"}]
[null,{"$f":"'3.3'!I2240","v":0},{"$f":"'3.3'!L2240","v":0},0,0,879,{"$f":"'poměry financování'!D2233","v":"CZ.1.11/3.1.00/02.00879"}]
[null,{"$f":"'3.3'!I2241","v":0},{"$f":"'3.3'!L2241","v":0},0,0,879,{"$f":"'poměry financování'!D2234","v":"CZ.1.11/3.1.00/02.00879"}]
[null,{"$f":"'3.3'!I2242","v":0},{"$f":"'3.3'!L2242","v":0},0,0,880,{"$f":"'poměry financování'!D2235","v":"CZ.1.11/1.1.00/02.00880"}]
[null,{"$f":"'3.3'!I2243","v":0},{"$f":"'3.3'!L2243","v":0},0,0,880,{"$f":"'poměry financování'!D2236","v":"CZ.1.11/1.1.00/02.00880"}]
[null,{"$f":"'3.3'!I2244","v":0},{"$f":"'3.3'!L2244","v":0},0,0,880,{"$f":"'poměry financování'!D2237","v":"CZ.1.11/1.1.00/02.00880"}]
[null,{"$f":"'3.3'!I2245","v":0},{"$f":"'3.3'!L2245","v":0},0,0,880,{"$f":"'poměry financování'!D2238","v":"CZ.1.11/1.1.00/02.00880"}]
[null,{"$f":"'3.3'!I2246","v":0},{"$f":"'3.3'!L2246","v":0},0,0,880,{"$f":"'poměry financování'!D2239","v":"CZ.1.11/1.1.00/02.00880"}]
[null,{"$f":"'3.3'!I2247","v":0},{"$f":"'3.3'!L2247","v":0},{"$f":"IF(B2243=\"Investiční\",C2243,0)","v":0},{"$f":"IF(B2243=\"Neinvestiční\",C2243,0)","v":0},881,{"$f":"'poměry financování'!D2240","v":"CZ.1.11/1.1.00/02.00881"}]
[null,{"$f":"'3.3'!I2248","v":0},{"$f":"'3.3'!L2248","v":0},0,0,882,{"$f":"'poměry financování'!D2241","v":"CZ.1.11/3.1.00/02.00882"}]
[null,{"$f":"'3.3'!I2249","v":0},{"$f":"'3.3'!L2249","v":0},0,0,882,{"$f":"'poměry financování'!D2242","v":"CZ.1.11/3.1.00/02.00882"}]
[null,{"$f":"'3.3'!I2250","v":0},{"$f":"'3.3'!L2250","v":0},0,0,{"$f":"VALUE((MID(G2246,20,4)))","v":883},{"$f":"'poměry financování'!D2243","v":"CZ.1.11/3.1.00/02.00883"}]
[null,{"$f":"'3.3'!I2251","v":0},{"$f":"'3.3'!L2251","v":0},0,0,883,{"$f":"'poměry financování'!D2244","v":"CZ.1.11/3.1.00/02.00883"}]
[null,{"$f":"'3.3'!I2252","v":0},{"$f":"'3.3'!L2252","v":0},0,0,883,{"$f":"'poměry financování'!D2245","v":"CZ.1.11/3.1.00/02.00883"}]
[null,{"$f":"'3.3'!I2253","v":0},{"$f":"'3.3'!L2253","v":0},0,0,883,{"$f":"'poměry financování'!D2246","v":"CZ.1.11/3.1.00/02.00883"}]
[null,{"$f":"'3.3'!I2254","v":0},{"$f":"'3.3'!L2254","v":0},0,0,884,{"$f":"'poměry financování'!D2247","v":"CZ.1.11/3.1.00/02.00884"}]
[null,{"$f":"'3.3'!I2255","v":0},{"$f":"'3.3'!L2255","v":0},0,0,885,{"$f":"'poměry financování'!D2248","v":"CZ.1.11/1.1.00/02.00885"}]
[null,{"$f":"'3.3'!I2256","v":0},{"$f":"'3.3'!L2256","v":0},0,0,886,{"$f":"'poměry financování'!D2249","v":"CZ.1.11/3.1.00/02.00886"}]
[null,{"$f":"'3.3'!I2257","v":0},{"$f":"'3.3'!L2257","v":0},0,0,886,{"$f":"'poměry financování'!D2250","v":"CZ.1.11/3.1.00/02.00886"}]
[null,{"$f":"'3.3'!I2258","v":0},{"$f":"'3.3'!L2258","v":0},0,0,887,{"$f":"'poměry financování'!D2251","v":"CZ.1.11/1.1.00/02.00887"}]
[null,{"$f":"'3.3'!I2259","v":0},{"$f":"'3.3'!L2259","v":0},0,0,888,{"$f":"'poměry financování'!D2252","v":"CZ.1.11/1.1.00/02.00888"}]
[null,{"$f":"'3.3'!I2260","v":0},{"$f":"'3.3'!L2260","v":0},0,0,889,{"$f":"'poměry financování'!D2253","v":"CZ.1.11/3.1.00/02.00889"}]
[null,{"$f":"'3.3'!I2261","v":0},{"$f":"'3.3'!L2261","v":0},0,0,889,{"$f":"'poměry financování'!D2254","v":"CZ.1.11/3.1.00/02.00889"}]
[null,{"$f":"'3.3'!I2262","v":0},{"$f":"'3.3'!L2262","v":0},0,0,889,{"$f":"'poměry financování'!D2255","v":"CZ.1.11/3.1.00/02.00889"}]
[null,{"$f":"'3.3'!I2263","v":0},{"$f":"'3.3'!L2263","v":0},0,0,890,{"$f":"'poměry financování'!D2256","v":"CZ.1.11/3.1.00/02.00890"}]
[null,{"$f":"'3.3'!I2264","v":0},{"$f":"'3.3'!L2264","v":0},0,0,891,{"$f":"'poměry financování'!D2257","v":"CZ.1.11/3.1.00/02.00891"}]
[null,{"$f":"'3.3'!I2265","v":0},{"$f":"'3.3'!L2265","v":0},0,0,891,{"$f":"'poměry financování'!D2258","v":"CZ.1.11/3.1.00/02.00891"}]
[null,{"$f":"'3.3'!I2266","v":0},{"$f":"'3.3'!L2266","v":0},0,0,892,{"$f":"'poměry financování'!D2259","v":"CZ.1.11/1.4.00/07.00892"}]
[null,{"$f":"'3.3'!I2267","v":0},{"$f":"'3.3'!L2267","v":0},0,0,893,{"$f":"'poměry financování'!D2260","v":"CZ.1.11/1.1.00/02.00893"}]
[null,{"$f":"'3.3'!I2268","v":0},{"$f":"'3.3'!L2268","v":0},0,0,894,{"$f":"'poměry financování'!D2261","v":"CZ.1.11/1.1.00/02.00894"}]
[null,{"$f":"'3.3'!I2269","v":0},{"$f":"'3.3'!L2269","v":0},0,0,895,{"$f":"'poměry financování'!D2262","v":"CZ.1.11/1.1.00/02.00895"}]
[null,{"$f":"'3.3'!I2270","v":0},{"$f":"'3.3'!L2270","v":0},0,0,896,{"$f":"'poměry financování'!D2263","v":"CZ.1.11/1.1.00/02.00896"}]
[null,{"$f":"'3.3'!I2271","v":0},{"$f":"'3.3'!L2271","v":0},0,0,897,{"$f":"'poměry financování'!D2264","v":"CZ.1.11/1.1.00/02.00897"}]
[null,{"$f":"'3.3'!I2272","v":0},{"$f":"'3.3'!L2272","v":0},0,0,898,{"$f":"'poměry financování'!D2265","v":"CZ.1.11/1.1.00/02.00898"}]
[null,{"$f":"'3.3'!I2273","v":0},{"$f":"'3.3'!L2273","v":0},0,0,899,{"$f":"'poměry financování'!D2266","v":"CZ.1.11/1.1.00/02.00899"}]
[null,{"$f":"'3.3'!I2274","v":0},{"$f":"'3.3'!L2274","v":0},0,0,900,{"$f":"'poměry financování'!D2267","v":"CZ.1.11/3.1.00/02.00900"}]
[null,{"$f":"'3.3'!I2275","v":0},{"$f":"'3.3'!L2275","v":0},0,0,900,{"$f":"'poměry financování'!D2268","v":"CZ.1.11/3.1.00/02.00900"}]
[null,{"$f":"'3.3'!I2276","v":0},{"$f":"'3.3'!L2276","v":0},0,0,900,{"$f":"'poměry financování'!D2269","v":"CZ.1.11/3.1.00/02.00900"}]
[null,{"$f":"'3.3'!I2277","v":0},{"$f":"'3.3'!L2277","v":0},0,0,900,{"$f":"'poměry financování'!D2270","v":"CZ.1.11/3.1.00/02.00900"}]
[null,{"$f":"'3.3'!I2278","v":0},{"$f":"'3.3'!L2278","v":0},0,0,900,{"$f":"'poměry financování'!D2271","v":"CZ.1.11/3.1.00/02.00900"}]
[null,{"$f":"'3.3'!I2279","v":0},{"$f":"'3.3'!L2279","v":0},0,0,901,{"$f":"'poměry financování'!D2272","v":"CZ.1.11/1.1.00/02.00901"}]
[null,{"$f":"'3.3'!I2280","v":0},{"$f":"'3.3'!L2280","v":0},0,0,902,{"$f":"'poměry financování'!D2273","v":"CZ.1.11/1.1.00/02.00902"}]
[null,{"$f":"'3.3'!I2281","v":0},{"$f":"'3.3'!L2281","v":0},0,0,903,{"$f":"'poměry financování'!D2274","v":"CZ.1.11/3.1.00/02.00903"}]
[null,{"$f":"'3.3'!I2282","v":0},{"$f":"'3.3'!L2282","v":0},0,0,903,{"$f":"'poměry financování'!D2275","v":"CZ.1.11/3.1.00/02.00903"}]
[null,{"$f":"'3.3'!I2283","v":0},{"$f":"'3.3'!L2283","v":0},0,0,903,{"$f":"'poměry financování'!D2276","v":"CZ.1.11/3.1.00/02.00903"}]
[null,{"$f":"'3.3'!I2284","v":0},{"$f":"'3.3'!L2284","v":0},0,0,904,{"$f":"'poměry financování'!D2277","v":"CZ.1.11/3.1.00/02.00904"}]
[null,{"$f":"'3.3'!I2285","v":0},{"$f":"'3.3'!L2285","v":0},0,0,904,{"$f":"'poměry financování'!D2278","v":"CZ.1.11/3.1.00/02.00904"}]
[null,{"$f":"'3.3'!I2286","v":0},{"$f":"'3.3'!L2286","v":0},0,0,905,{"$f":"'poměry financování'!D2279","v":"CZ.1.11/1.1.00/02.00905"}]
[null,{"$f":"'3.3'!I2287","v":0},{"$f":"'3.3'!L2287","v":0},0,0,906,{"$f":"'poměry financování'!D2280","v":"CZ.1.11/1.1.00/02.00906"}]
[null,{"$f":"'3.3'!I2288","v":0},{"$f":"'3.3'!L2288","v":0},0,0,907,{"$f":"'poměry financování'!D2281","v":"CZ.1.11/1.1.00/02.00907"}]
[null,{"$f":"'3.3'!I2289","v":0},{"$f":"'3.3'!L2289","v":0},0,0,908,{"$f":"'poměry financování'!D2282","v":"CZ.1.11/1.1.00/02.00908"}]
[null,{"$f":"'3.3'!I2290","v":0},{"$f":"'3.3'!L2290","v":0},0,0,909,{"$f":"'poměry financování'!D2283","v":"CZ.1.11/1.1.00/02.00909"}]
[null,{"$f":"'3.3'!I2291","v":0},{"$f":"'3.3'!L2291","v":0},0,0,909,{"$f":"'poměry financování'!D2284","v":"CZ.1.11/1.1.00/02.00909"}]
[null,{"$f":"'3.3'!I2292","v":0},{"$f":"'3.3'!L2292","v":0},0,0,910,{"$f":"'poměry financování'!D2285","v":"CZ.1.11/1.1.00/02.00910"}]
[null,{"$f":"'3.3'!I2293","v":0},{"$f":"'3.3'!L2293","v":0},0,0,911,{"$f":"'poměry financování'!D2286","v":"CZ.1.11/2.2.00/06.00911"}]
[null,{"$f":"'3.3'!I2294","v":0},{"$f":"'3.3'!L2294","v":0},0,0,912,{"$f":"'poměry financování'!D2287","v":"CZ.1.11/1.1.00/02.00912"}]
[null,{"$f":"'3.3'!I2295","v":0},{"$f":"'3.3'!L2295","v":0},0,0,912,{"$f":"'poměry financování'!D2288","v":"CZ.1.11/1.1.00/02.00912"}]
[null,{"$f":"'3.3'!I2296","v":0},{"$f":"'3.3'!L2296","v":0},0,0,913,{"$f":"'poměry financování'!D2289","v":"CZ.1.11/1.2.00/05.00913"}]
[null,{"$f":"'3.3'!I2297","v":0},{"$f":"'3.3'!L2297","v":0},0,0,913,{"$f":"'poměry financování'!D2290","v":"CZ.1.11/1.2.00/05.00913"}]
[null,{"$f":"'3.3'!I2298","v":0},{"$f":"'3.3'!L2298","v":0},0,0,914,{"$f":"'poměry financování'!D2291","v":"CZ.1.11/1.2.00/05.00914"}]
[null,{"$f":"'3.3'!I2299","v":0},{"$f":"'3.3'!L2299","v":0},0,0,914,{"$f":"'poměry financování'!D2292","v":"CZ.1.11/1.2.00/05.00914"}]
[null,{"$f":"'3.3'!I2300","v":0},{"$f":"'3.3'!L2300","v":0},0,0,914,{"$f":"'poměry financování'!D2293","v":"CZ.1.11/1.2.00/05.00914"}]
[null,{"$f":"'3.3'!I2301","v":0},{"$f":"'3.3'!L2301","v":0},0,0,915,{"$f":"'poměry financování'!D2294","v":"CZ.1.11/1.2.00/05.00915"}]
[null,{"$f":"'3.3'!I2302","v":0},{"$f":"'3.3'!L2302","v":0},0,0,915,{"$f":"'poměry financování'!D2295","v":"CZ.1.11/1.2.00/05.00915"}]
[null,{"$f":"'3.3'!I2303","v":0},{"$f":"'3.3'!L2303","v":0},0,0,916,{"$f":"'poměry financování'!D2296","v":"CZ.1.11/1.2.00/05.00916"}]
[null,{"$f":"'3.3'!I2304","v":0},{"$f":"'3.3'!L2304","v":0},0,0,916,{"$f":"'poměry financování'!D2297","v":"CZ.1.11/1.2.00/05.00916"}]
[null,{"$f":"'3.3'!I2305","v":0},{"$f":"'3.3'!L2305","v":0},0,0,917,{"$f":"'poměry financování'!D2298","v":"CZ.1.11/3.1.00/02.00917"}]
[null,{"$f":"'3.3'!I2306","v":0},{"$f":"'3.3'!L2306","v":0},0,0,917,{"$f":"'poměry financování'!D2299","v":"CZ.1.11/3.1.00/02.00917"}]
[null,{"$f":"'3.3'!I2307","v":0},{"$f":"'3.3'!L2307","v":0},0,0,917,{"$f":"'poměry financování'!D2300","v":"CZ.1.11/3.1.00/02.00917"}]
[null,{"$f":"'3.3'!I2308","v":0},{"$f":"'3.3'!L2308","v":0},0,0,918,{"$f":"'poměry financování'!D2301","v":"CZ.1.11/1.2.00/05.00918"}]
[null,{"$f":"'3.3'!I2309","v":0},{"$f":"'3.3'!L2309","v":0},0,0,918,{"$f":"'poměry financování'!D2302","v":"CZ.1.11/1.2.00/05.00918"}]
[null,{"$f":"'3.3'!I2310","v":0},{"$f":"'3.3'!L2310","v":0},0,0,919,{"$f":"'poměry financování'!D2303","v":"CZ.1.11/1.2.00/05.00919"}]
[null,{"$f":"'3.3'!I2311","v":0},{"$f":"'3.3'!L2311","v":0},{"$f":"IF(B2307=\"Investiční\",C2307,0)","v":0},{"$f":"IF(B2307=\"Neinvestiční\",C2307,0)","v":0},920,{"$f":"'poměry financování'!D2304","v":"CZ.1.11/1.2.00/05.00920"}]
[null,{"$f":"'3.3'!I2312","v":0},{"$f":"'3.3'!L2312","v":0},0,0,920,{"$f":"'poměry financování'!D2305","v":"CZ.1.11/1.2.00/05.00920"}]
[null,{"$f":"'3.3'!I2313","v":0},{"$f":"'3.3'!L2313","v":0},0,0,921,{"$f":"'poměry financování'!D2306","v":"CZ.1.11/1.2.00/05.00921"}]
[null,{"$f":"'3.3'!I2314","v":0},{"$f":"'3.3'!L2314","v":0},0,0,{"$f":"VALUE((MID(G2310,20,4)))","v":922},{"$f":"'poměry financování'!D2307","v":"CZ.1.11/1.2.00/05.00922"}]
[null,{"$f":"'3.3'!I2315","v":0},{"$f":"'3.3'!L2315","v":0},0,0,922,{"$f":"'poměry financování'!D2308","v":"CZ.1.11/1.2.00/05.00922"}]
[null,{"$f":"'3.3'!I2316","v":0},{"$f":"'3.3'!L2316","v":0},0,0,923,{"$f":"'poměry financování'!D2309","v":"CZ.1.11/1.2.00/05.00923"}]
[null,{"$f":"'3.3'!I2317","v":0},{"$f":"'3.3'!L2317","v":0},0,0,923,{"$f":"'poměry financování'!D2310","v":"CZ.1.11/1.2.00/05.00923"}]
[null,{"$f":"'3.3'!I2318","v":0},{"$f":"'3.3'!L2318","v":0},0,0,924,{"$f":"'poměry financování'!D2311","v":"CZ.1.11/1.2.00/05.00924"}]
[null,{"$f":"'3.3'!I2319","v":0},{"$f":"'3.3'!L2319","v":0},0,0,925,{"$f":"'poměry financování'!D2312","v":"CZ.1.11/1.2.00/05.00925"}]
[null,{"$f":"'3.3'!I2320","v":0},{"$f":"'3.3'!L2320","v":0},0,0,925,{"$f":"'poměry financování'!D2313","v":"CZ.1.11/1.2.00/05.00925"}]
[null,{"$f":"'3.3'!I2321","v":0},{"$f":"'3.3'!L2321","v":0},0,0,926,{"$f":"'poměry financování'!D2314","v":"CZ.1.11/1.2.00/05.00926"}]
[null,{"$f":"'3.3'!I2322","v":0},{"$f":"'3.3'!L2322","v":0},0,0,927,{"$f":"'poměry financování'!D2315","v":"CZ.1.11/1.2.00/05.00927"}]
[null,{"$f":"'3.3'!I2323","v":0},{"$f":"'3.3'!L2323","v":0},0,0,928,{"$f":"'poměry financování'!D2316","v":"CZ.1.11/1.2.00/05.00928"}]
[null,{"$f":"'3.3'!I2324","v":0},{"$f":"'3.3'!L2324","v":0},0,0,929,{"$f":"'poměry financování'!D2317","v":"CZ.1.11/1.2.00/05.00929"}]
[null,{"$f":"'3.3'!I2325","v":0},{"$f":"'3.3'!L2325","v":0},0,0,930,{"$f":"'poměry financování'!D2318","v":"CZ.1.11/1.2.00/05.00930"}]
[null,{"$f":"'3.3'!I2326","v":0},{"$f":"'3.3'!L2326","v":0},0,0,930,{"$f":"'poměry financování'!D2319","v":"CZ.1.11/1.2.00/05.00930"}]
[null,{"$f":"'3.3'!I2327","v":0},{"$f":"'3.3'!L2327","v":0},0,0,930,{"$f":"'poměry financování'!D2320","v":"CZ.1.11/1.2.00/05.00930"}]
[null,{"$f":"'3.3'!I2328","v":0},{"$f":"'3.3'!L2328","v":0},0,0,931,{"$f":"'poměry financování'!D2321","v":"CZ.1.11/3.1.00/02.00931"}]
[null,{"$f":"'3.3'!I2329","v":0},{"$f":"'3.3'!L2329","v":0},0,0,931,{"$f":"'poměry financování'!D2322","v":"CZ.1.11/3.1.00/02.00931"}]
[null,{"$f":"'3.3'!I2330","v":0},{"$f":"'3.3'!L2330","v":0},0,0,932,{"$f":"'poměry financování'!D2323","v":"CZ.1.11/3.1.00/02.00932"}]
[null,{"$f":"'3.3'!I2331","v":0},{"$f":"'3.3'!L2331","v":0},0,0,933,{"$f":"'poměry financování'!D2324","v":"CZ.1.11/2.2.00/06.00933"}]
[null,{"$f":"'3.3'!I2332","v":0},{"$f":"'3.3'!L2332","v":0},0,0,933,{"$f":"'poměry financování'!D2325","v":"CZ.1.11/2.2.00/06.00933"}]
[null,{"$f":"'3.3'!I2333","v":0},{"$f":"'3.3'!L2333","v":0},0,0,934,{"$f":"'poměry financování'!D2326","v":"CZ.1.11/1.2.00/07.00934"}]
[null,{"$f":"'3.3'!I2334","v":0},{"$f":"'3.3'!L2334","v":0},0,0,934,{"$f":"'poměry financování'!D2327","v":"CZ.1.11/1.2.00/07.00934"}]
[null,{"$f":"'3.3'!I2335","v":0},{"$f":"'3.3'!L2335","v":0},0,0,935,{"$f":"'poměry financování'!D2328","v":"CZ.1.11/1.1.00/02.00935"}]
[null,{"$f":"'3.3'!I2336","v":0},{"$f":"'3.3'!L2336","v":0},0,0,935,{"$f":"'poměry financování'!D2329","v":"CZ.1.11/1.1.00/02.00935"}]
[null,{"$f":"'3.3'!I2337","v":0},{"$f":"'3.3'!L2337","v":0},0,0,935,{"$f":"'poměry financování'!D2330","v":"CZ.1.11/1.1.00/02.00935"}]
[null,{"$f":"'3.3'!I2338","v":0},{"$f":"'3.3'!L2338","v":0},0,0,936,{"$f":"'poměry financování'!D2331","v":"CZ.1.11/2.2.00/06.00936"}]
[null,{"$f":"'3.3'!I2339","v":0},{"$f":"'3.3'!L2339","v":0},0,0,936,{"$f":"'poměry financování'!D2332","v":"CZ.1.11/2.2.00/06.00936"}]
[null,{"$f":"'3.3'!I2340","v":0},{"$f":"'3.3'!L2340","v":0},0,0,937,{"$f":"'poměry financování'!D2333","v":"CZ.1.11/2.2.00/06.00937"}]
[null,{"$f":"'3.3'!I2341","v":0},{"$f":"'3.3'!L2341","v":0},0,0,937,{"$f":"'poměry financování'!D2334","v":"CZ.1.11/2.2.00/06.00937"}]
[null,{"$f":"'3.3'!I2342","v":0},{"$f":"'3.3'!L2342","v":0},0,0,938,{"$f":"'poměry financování'!D2335","v":"CZ.1.11/2.2.00/06.00938"}]
[null,{"$f":"'3.3'!I2343","v":0},{"$f":"'3.3'!L2343","v":0},0,0,938,{"$f":"'poměry financování'!D2336","v":"CZ.1.11/2.2.00/06.00938"}]
[null,{"$f":"'3.3'!I2344","v":0},{"$f":"'3.3'!L2344","v":0},0,0,939,{"$f":"'poměry financování'!D2337","v":"CZ.1.11/2.2.00/06.00939"}]
[null,{"$f":"'3.3'!I2345","v":0},{"$f":"'3.3'!L2345","v":0},0,0,940,{"$f":"'poměry financování'!D2338","v":"CZ.1.11/1.2.00/07.00940"}]
[null,{"$f":"'3.3'!I2346","v":0},{"$f":"'3.3'!L2346","v":0},0,0,940,{"$f":"'poměry financování'!D2339","v":"CZ.1.11/1.2.00/07.00940"}]
[null,{"$f":"'3.3'!I2347","v":0},{"$f":"'3.3'!L2347","v":0},0,0,940,{"$f":"'poměry financování'!D2340","v":"CZ.1.11/1.2.00/07.00940"}]
[null,{"$f":"'3.3'!I2348","v":0},{"$f":"'3.3'!L2348","v":0},0,0,941,{"$f":"'poměry financování'!D2341","v":"CZ.1.11/2.2.00/06.00941"}]
[null,{"$f":"'3.3'!I2349","v":0},{"$f":"'3.3'!L2349","v":0},0,0,942,{"$f":"'poměry financování'!D2342","v":"CZ.1.11/2.2.00/06.00942"}]
[null,{"$f":"'3.3'!I2350","v":0},{"$f":"'3.3'!L2350","v":0},0,0,943,{"$f":"'poměry financování'!D2343","v":"CZ.1.11/2.2.00/06.00943"}]
[null,{"$f":"'3.3'!I2351","v":0},{"$f":"'3.3'!L2351","v":0},0,0,943,{"$f":"'poměry financování'!D2344","v":"CZ.1.11/2.2.00/06.00943"}]
[null,{"$f":"'3.3'!I2352","v":0},{"$f":"'3.3'!L2352","v":0},0,0,943,{"$f":"'poměry financování'!D2345","v":"CZ.1.11/2.2.00/06.00943"}]
[null,{"$f":"'3.3'!I2353","v":0},{"$f":"'3.3'!L2353","v":0},0,0,944,{"$f":"'poměry financování'!D2346","v":"CZ.1.11/1.2.00/07.00944"}]
[null,{"$f":"'3.3'!I2354","v":0},{"$f":"'3.3'!L2354","v":0},0,0,945,{"$f":"'poměry financování'!D2347","v":"CZ.1.11/2.2.00/06.00945"}]
[null,{"$f":"'3.3'!I2355","v":0},{"$f":"'3.3'!L2355","v":0},0,0,945,{"$f":"'poměry financování'!D2348","v":"CZ.1.11/2.2.00/06.00945"}]
[null,{"$f":"'3.3'!I2356","v":0},{"$f":"'3.3'!L2356","v":0},0,0,946,{"$f":"'poměry financování'!D2349","v":"CZ.1.11/1.2.00/07.00946"}]
[null,{"$f":"'3.3'!I2357","v":0},{"$f":"'3.3'!L2357","v":0},0,0,947,{"$f":"'poměry financování'!D2350","v":"CZ.1.11/1.2.00/07.00947"}]
[null,{"$f":"'3.3'!I2358","v":0},{"$f":"'3.3'!L2358","v":0},0,0,948,{"$f":"'poměry financování'!D2351","v":"CZ.1.11/1.2.00/07.00948"}]
[null,{"$f":"'3.3'!I2359","v":0},{"$f":"'3.3'!L2359","v":0},0,0,949,{"$f":"'poměry financování'!D2352","v":"CZ.1.11/2.2.00/06.00949"}]
[null,{"$f":"'3.3'!I2360","v":0},{"$f":"'3.3'!L2360","v":0},0,0,949,{"$f":"'poměry financování'!D2353","v":"CZ.1.11/2.2.00/06.00949"}]
[null,{"$f":"'3.3'!I2361","v":0},{"$f":"'3.3'!L2361","v":0},0,0,949,{"$f":"'poměry financování'!D2354","v":"CZ.1.11/2.2.00/06.00949"}]
[null,{"$f":"'3.3'!I2362","v":0},{"$f":"'3.3'!L2362","v":0},0,0,949,{"$f":"'poměry financování'!D2355","v":"CZ.1.11/2.2.00/06.00949"}]
[null,{"$f":"'3.3'!I2363","v":0},{"$f":"'3.3'!L2363","v":0},0,0,950,{"$f":"'poměry financování'!D2356","v":"CZ.1.11/2.2.00/06.00950"}]
[null,{"$f":"'3.3'!I2364","v":0},{"$f":"'3.3'!L2364","v":0},0,0,950,{"$f":"'poměry financování'!D2357","v":"CZ.1.11/2.2.00/06.00950"}]
[null,{"$f":"'3.3'!I2365","v":0},{"$f":"'3.3'!L2365","v":0},0,0,950,{"$f":"'poměry financování'!D2358","v":"CZ.1.11/2.2.00/06.00950"}]
[null,{"$f":"'3.3'!I2366","v":0},{"$f":"'3.3'!L2366","v":0},0,0,950,{"$f":"'poměry financování'!D2359","v":"CZ.1.11/2.2.00/06.00950"}]
[null,{"$f":"'3.3'!I2367","v":0},{"$f":"'3.3'!L2367","v":0},0,0,951,{"$f":"'poměry financování'!D2360","v":"CZ.1.11/1.2.00/07.00951"}]
[null,{"$f":"'3.3'!I2368","v":0},{"$f":"'3.3'!L2368","v":0},0,0,951,{"$f":"'poměry financování'!D2361","v":"CZ.1.11/1.2.00/07.00951"}]
[null,{"$f":"'3.3'!I2369","v":0},{"$f":"'3.3'!L2369","v":0},0,0,951,{"$f":"'poměry financování'!D2362","v":"CZ.1.11/1.2.00/07.00951"}]
[null,{"$f":"'3.3'!I2370","v":0},{"$f":"'3.3'!L2370","v":0},0,0,952,{"$f":"'poměry financování'!D2363","v":"CZ.1.11/1.2.00/07.00952"}]
[null,{"$f":"'3.3'!I2371","v":0},{"$f":"'3.3'!L2371","v":0},0,0,953,{"$f":"'poměry financování'!D2364","v":"CZ.1.11/2.2.00/06.00953"}]
[null,{"$f":"'3.3'!I2372","v":0},{"$f":"'3.3'!L2372","v":0},0,0,954,{"$f":"'poměry financování'!D2365","v":"CZ.1.11/1.2.00/07.00954"}]
[null,{"$f":"'3.3'!I2373","v":0},{"$f":"'3.3'!L2373","v":0},0,0,955,{"$f":"'poměry financování'!D2366","v":"CZ.1.11/2.2.00/06.00955"}]
[null,{"$f":"'3.3'!I2374","v":0},{"$f":"'3.3'!L2374","v":0},0,0,955,{"$f":"'poměry financování'!D2367","v":"CZ.1.11/2.2.00/06.00955"}]
[null,{"$f":"'3.3'!I2375","v":0},{"$f":"'3.3'!L2375","v":0},{"$f":"IF(B2371=\"Investiční\",C2371,0)","v":0},{"$f":"IF(B2371=\"Neinvestiční\",C2371,0)","v":0},955,{"$f":"'poměry financování'!D2368","v":"CZ.1.11/2.2.00/06.00955"}]
[null,{"$f":"'3.3'!I2376","v":0},{"$f":"'3.3'!L2376","v":0},0,0,956,{"$f":"'poměry financování'!D2369","v":"CZ.1.11/1.2.00/07.00956"}]
[null,{"$f":"'3.3'!I2377","v":0},{"$f":"'3.3'!L2377","v":0},0,0,957,{"$f":"'poměry financování'!D2370","v":"CZ.1.11/2.2.00/06.00957"}]
[null,{"$f":"'3.3'!I2378","v":0},{"$f":"'3.3'!L2378","v":0},0,0,{"$f":"VALUE((MID(G2374,20,4)))","v":957},{"$f":"'poměry financování'!D2371","v":"CZ.1.11/2.2.00/06.00957"}]
[null,{"$f":"'3.3'!I2379","v":0},{"$f":"'3.3'!L2379","v":0},0,0,957,{"$f":"'poměry financování'!D2372","v":"CZ.1.11/2.2.00/06.00957"}]
[null,{"$f":"'3.3'!I2380","v":0},{"$f":"'3.3'!L2380","v":0},0,0,957,{"$f":"'poměry financování'!D2373","v":"CZ.1.11/2.2.00/06.00957"}]
[null,{"$f":"'3.3'!I2381","v":0},{"$f":"'3.3'!L2381","v":0},0,0,958,{"$f":"'poměry financování'!D2374","v":"CZ.1.11/1.2.00/07.00958"}]
[null,{"$f":"'3.3'!I2382","v":0},{"$f":"'3.3'!L2382","v":0},0,0,959,{"$f":"'poměry financování'!D2375","v":"CZ.1.11/2.2.00/06.00959"}]
[null,{"$f":"'3.3'!I2383","v":0},{"$f":"'3.3'!L2383","v":0},0,0,959,{"$f":"'poměry financování'!D2376","v":"CZ.1.11/2.2.00/06.00959"}]
[null,{"$f":"'3.3'!I2384","v":0},{"$f":"'3.3'!L2384","v":0},0,0,960,{"$f":"'poměry financování'!D2377","v":"CZ.1.11/2.2.00/06.00960"}]
[null,{"$f":"'3.3'!I2385","v":0},{"$f":"'3.3'!L2385","v":0},0,0,960,{"$f":"'poměry financování'!D2378","v":"CZ.1.11/2.2.00/06.00960"}]
[null,{"$f":"'3.3'!I2386","v":0},{"$f":"'3.3'!L2386","v":0},0,0,960,{"$f":"'poměry financování'!D2379","v":"CZ.1.11/2.2.00/06.00960"}]
[null,{"$f":"'3.3'!I2387","v":0},{"$f":"'3.3'!L2387","v":0},0,0,961,{"$f":"'poměry financování'!D2380","v":"CZ.1.11/2.2.00/06.00961"}]
[null,{"$f":"'3.3'!I2388","v":0},{"$f":"'3.3'!L2388","v":0},0,0,961,{"$f":"'poměry financování'!D2381","v":"CZ.1.11/2.2.00/06.00961"}]
[null,{"$f":"'3.3'!I2389","v":0},{"$f":"'3.3'!L2389","v":0},0,0,961,{"$f":"'poměry financování'!D2382","v":"CZ.1.11/2.2.00/06.00961"}]
[null,{"$f":"'3.3'!I2390","v":0},{"$f":"'3.3'!L2390","v":0},0,0,961,{"$f":"'poměry financování'!D2383","v":"CZ.1.11/2.2.00/06.00961"}]
[null,{"$f":"'3.3'!I2391","v":0},{"$f":"'3.3'!L2391","v":0},0,0,962,{"$f":"'poměry financování'!D2384","v":"CZ.1.11/2.2.00/06.00962"}]
[null,{"$f":"'3.3'!I2392","v":0},{"$f":"'3.3'!L2392","v":0},0,0,963,{"$f":"'poměry financování'!D2385","v":"CZ.1.11/2.2.00/06.00963"}]
[null,{"$f":"'3.3'!I2393","v":0},{"$f":"'3.3'!L2393","v":0},0,0,964,{"$f":"'poměry financování'!D2386","v":"CZ.1.11/2.2.00/06.00964"}]
[null,{"$f":"'3.3'!I2394","v":0},{"$f":"'3.3'!L2394","v":0},0,0,964,{"$f":"'poměry financování'!D2387","v":"CZ.1.11/2.2.00/06.00964"}]
[null,{"$f":"'3.3'!I2395","v":0},{"$f":"'3.3'!L2395","v":0},0,0,964,{"$f":"'poměry financování'!D2388","v":"CZ.1.11/2.2.00/06.00964"}]
[null,{"$f":"'3.3'!I2396","v":0},{"$f":"'3.3'!L2396","v":0},0,0,965,{"$f":"'poměry financování'!D2389","v":"CZ.1.11/2.2.00/06.00965"}]
[null,{"$f":"'3.3'!I2397","v":0},{"$f":"'3.3'!L2397","v":0},0,0,966,{"$f":"'poměry financování'!D2390","v":"CZ.1.11/2.2.00/06.00966"}]
[null,{"$f":"'3.3'!I2398","v":0},{"$f":"'3.3'!L2398","v":0},0,0,966,{"$f":"'poměry financování'!D2391","v":"CZ.1.11/2.2.00/06.00966"}]
[null,{"$f":"'3.3'!I2399","v":0},{"$f":"'3.3'!L2399","v":0},0,0,967,{"$f":"'poměry financování'!D2392","v":"CZ.1.11/2.2.00/06.00967"}]
[null,{"$f":"'3.3'!I2400","v":0},{"$f":"'3.3'!L2400","v":0},0,0,968,{"$f":"'poměry financování'!D2393","v":"CZ.1.11/1.2.00/07.00968"}]
[null,{"$f":"'3.3'!I2401","v":0},{"$f":"'3.3'!L2401","v":0},0,0,968,{"$f":"'poměry financování'!D2394","v":"CZ.1.11/1.2.00/07.00968"}]
[null,{"$f":"'3.3'!I2402","v":0},{"$f":"'3.3'!L2402","v":0},0,0,969,{"$f":"'poměry financování'!D2395","v":"CZ.1.11/2.2.00/06.00969"}]
[null,{"$f":"'3.3'!I2403","v":0},{"$f":"'3.3'!L2403","v":0},0,0,969,{"$f":"'poměry financování'!D2396","v":"CZ.1.11/2.2.00/06.00969"}]
[null,{"$f":"'3.3'!I2404","v":0},{"$f":"'3.3'!L2404","v":0},0,0,969,{"$f":"'poměry financování'!D2397","v":"CZ.1.11/2.2.00/06.00969"}]
[null,{"$f":"'3.3'!I2405","v":0},{"$f":"'3.3'!L2405","v":0},0,0,969,{"$f":"'poměry financování'!D2398","v":"CZ.1.11/2.2.00/06.00969"}]
[null,{"$f":"'3.3'!I2406","v":0},{"$f":"'3.3'!L2406","v":0},0,0,969,{"$f":"'poměry financování'!D2399","v":"CZ.1.11/2.2.00/06.00969"}]
[null,{"$f":"'3.3'!I2407","v":0},{"$f":"'3.3'!L2407","v":0},0,0,970,{"$f":"'poměry financování'!D2400","v":"CZ.1.11/2.2.00/06.00970"}]
[null,{"$f":"'3.3'!I2408","v":0},{"$f":"'3.3'!L2408","v":0},0,0,970,{"$f":"'poměry financování'!D2401","v":"CZ.1.11/2.2.00/06.00970"}]
[null,{"$f":"'3.3'!I2409","v":0},{"$f":"'3.3'!L2409","v":0},0,0,970,{"$f":"'poměry financování'!D2402","v":"CZ.1.11/2.2.00/06.00970"}]
[null,{"$f":"'3.3'!I2410","v":0},{"$f":"'3.3'!L2410","v":0},0,0,971,{"$f":"'poměry financování'!D2403","v":"CZ.1.11/1.2.00/07.00971"}]
[null,{"$f":"'3.3'!I2411","v":0},{"$f":"'3.3'!L2411","v":0},0,0,972,{"$f":"'poměry financování'!D2404","v":"CZ.1.11/1.2.00/07.00972"}]
[null,{"$f":"'3.3'!I2412","v":0},{"$f":"'3.3'!L2412","v":0},0,0,972,{"$f":"'poměry financování'!D2405","v":"CZ.1.11/1.2.00/07.00972"}]
[null,{"$f":"'3.3'!I2413","v":0},{"$f":"'3.3'!L2413","v":0},0,0,972,{"$f":"'poměry financování'!D2406","v":"CZ.1.11/1.2.00/07.00972"}]
[null,{"$f":"'3.3'!I2414","v":0},{"$f":"'3.3'!L2414","v":0},0,0,973,{"$f":"'poměry financování'!D2407","v":"CZ.1.11/1.2.00/07.00973"}]
[null,{"$f":"'3.3'!I2415","v":0},{"$f":"'3.3'!L2415","v":0},0,0,974,{"$f":"'poměry financování'!D2408","v":"CZ.1.11/1.2.00/07.00974"}]
[null,{"$f":"'3.3'!I2416","v":0},{"$f":"'3.3'!L2416","v":0},0,0,975,{"$f":"'poměry financování'!D2409","v":"CZ.1.11/2.2.00/06.00975"}]
[null,{"$f":"'3.3'!I2417","v":0},{"$f":"'3.3'!L2417","v":0},0,0,975,{"$f":"'poměry financování'!D2410","v":"CZ.1.11/2.2.00/06.00975"}]
[null,{"$f":"'3.3'!I2418","v":0},{"$f":"'3.3'!L2418","v":0},0,0,975,{"$f":"'poměry financování'!D2411","v":"CZ.1.11/2.2.00/06.00975"}]
[null,{"$f":"'3.3'!I2419","v":0},{"$f":"'3.3'!L2419","v":0},0,0,975,{"$f":"'poměry financování'!D2412","v":"CZ.1.11/2.2.00/06.00975"}]
[null,{"$f":"'3.3'!I2420","v":0},{"$f":"'3.3'!L2420","v":0},0,0,975,{"$f":"'poměry financování'!D2413","v":"CZ.1.11/2.2.00/06.00975"}]
[null,{"$f":"'3.3'!I2421","v":0},{"$f":"'3.3'!L2421","v":0},0,0,976,{"$f":"'poměry financování'!D2414","v":"CZ.1.11/1.2.00/07.00976"}]
[null,{"$f":"'3.3'!I2422","v":0},{"$f":"'3.3'!L2422","v":0},0,0,977,{"$f":"'poměry financování'!D2415","v":"CZ.1.11/2.2.00/06.00977"}]
[null,{"$f":"'3.3'!I2423","v":0},{"$f":"'3.3'!L2423","v":0},0,0,978,{"$f":"'poměry financování'!D2416","v":"CZ.1.11/1.2.00/07.00978"}]
[null,{"$f":"'3.3'!I2424","v":0},{"$f":"'3.3'!L2424","v":0},0,0,979,{"$f":"'poměry financování'!D2417","v":"CZ.1.11/1.2.00/07.00979"}]
[null,{"$f":"'3.3'!I2425","v":0},{"$f":"'3.3'!L2425","v":0},0,0,979,{"$f":"'poměry financování'!D2418","v":"CZ.1.11/1.2.00/07.00979"}]
[null,{"$f":"'3.3'!I2426","v":0},{"$f":"'3.3'!L2426","v":0},0,0,979,{"$f":"'poměry financování'!D2419","v":"CZ.1.11/1.2.00/07.00979"}]
[null,{"$f":"'3.3'!I2427","v":0},{"$f":"'3.3'!L2427","v":0},0,0,980,{"$f":"'poměry financování'!D2420","v":"CZ.1.11/2.2.00/06.00980"}]
[null,{"$f":"'3.3'!I2428","v":0},{"$f":"'3.3'!L2428","v":0},0,0,981,{"$f":"'poměry financování'!D2421","v":"CZ.1.11/2.2.00/06.00981"}]
[null,{"$f":"'3.3'!I2429","v":0},{"$f":"'3.3'!L2429","v":0},0,0,982,{"$f":"'poměry financování'!D2422","v":"CZ.1.11/2.2.00/06.00982"}]
[null,{"$f":"'3.3'!I2430","v":0},{"$f":"'3.3'!L2430","v":0},0,0,983,{"$f":"'poměry financování'!D2423","v":"CZ.1.11/2.2.00/06.00983"}]
[null,{"$f":"'3.3'!I2431","v":0},{"$f":"'3.3'!L2431","v":0},0,0,983,{"$f":"'poměry financování'!D2424","v":"CZ.1.11/2.2.00/06.00983"}]
[null,{"$f":"'3.3'!I2432","v":0},{"$f":"'3.3'!L2432","v":0},0,0,984,{"$f":"'poměry financování'!D2425","v":"CZ.1.11/2.2.00/06.00984"}]
[null,{"$f":"'3.3'!I2433","v":0},{"$f":"'3.3'!L2433","v":0},0,0,984,{"$f":"'poměry financování'!D2426","v":"CZ.1.11/2.2.00/06.00984"}]
[null,{"$f":"'3.3'!I2434","v":0},{"$f":"'3.3'!L2434","v":0},0,0,984,{"$f":"'poměry financování'!D2427","v":"CZ.1.11/2.2.00/06.00984"}]
[null,{"$f":"'3.3'!I2435","v":0},{"$f":"'3.3'!L2435","v":0},0,0,984,{"$f":"'poměry financování'!D2428","v":"CZ.1.11/2.2.00/06.00984"}]
[null,{"$f":"'3.3'!I2436","v":0},{"$f":"'3.3'!L2436","v":0},0,0,985,{"$f":"'poměry financování'!D2429","v":"CZ.1.11/2.2.00/06.00985"}]
[null,{"$f":"'3.3'!I2437","v":0},{"$f":"'3.3'!L2437","v":0},0,0,985,{"$f":"'poměry financování'!D2430","v":"CZ.1.11/2.2.00/06.00985"}]
[null,{"$f":"'3.3'!I2438","v":0},{"$f":"'3.3'!L2438","v":0},0,0,986,{"$f":"'poměry financování'!D2431","v":"CZ.1.11/2.2.00/06.00986"}]
[null,{"$f":"'3.3'!I2439","v":0},{"$f":"'3.3'!L2439","v":0},{"$f":"IF(B2435=\"Investiční\",C2435,0)","v":0},{"$f":"IF(B2435=\"Neinvestiční\",C2435,0)","v":0},987,{"$f":"'poměry financování'!D2432","v":"CZ.1.11/2.2.00/06.00987"}]
[null,{"$f":"'3.3'!I2440","v":0},{"$f":"'3.3'!L2440","v":0},0,0,987,{"$f":"'poměry financování'!D2433","v":"CZ.1.11/2.2.00/06.00987"}]
[null,{"$f":"'3.3'!I2441","v":0},{"$f":"'3.3'!L2441","v":0},0,0,987,{"$f":"'poměry financování'!D2434","v":"CZ.1.11/2.2.00/06.00987"}]
[null,{"$f":"'3.3'!I2442","v":0},{"$f":"'3.3'!L2442","v":0},0,0,{"$f":"VALUE((MID(G2438,20,4)))","v":987},{"$f":"'poměry financování'!D2435","v":"CZ.1.11/2.2.00/06.00987"}]
[null,{"$f":"'3.3'!I2443","v":0},{"$f":"'3.3'!L2443","v":0},0,0,987,{"$f":"'poměry financování'!D2436","v":"CZ.1.11/2.2.00/06.00987"}]
[null,{"$f":"'3.3'!I2444","v":0},{"$f":"'3.3'!L2444","v":0},0,0,987,{"$f":"'poměry financování'!D2437","v":"CZ.1.11/2.2.00/06.00987"}]
[null,{"$f":"'3.3'!I2445","v":0},{"$f":"'3.3'!L2445","v":0},0,0,988,{"$f":"'poměry financování'!D2438","v":"CZ.1.11/2.2.00/06.00988"}]
[null,{"$f":"'3.3'!I2446","v":0},{"$f":"'3.3'!L2446","v":0},0,0,989,{"$f":"'poměry financování'!D2439","v":"CZ.1.11/2.2.00/06.00989"}]
[null,{"$f":"'3.3'!I2447","v":0},{"$f":"'3.3'!L2447","v":0},0,0,990,{"$f":"'poměry financování'!D2440","v":"CZ.1.11/2.2.00/06.00990"}]
[null,{"$f":"'3.3'!I2448","v":0},{"$f":"'3.3'!L2448","v":0},0,0,991,{"$f":"'poměry financování'!D2441","v":"CZ.1.11/2.2.00/06.00991"}]
[null,{"$f":"'3.3'!I2449","v":0},{"$f":"'3.3'!L2449","v":0},0,0,991,{"$f":"'poměry financování'!D2442","v":"CZ.1.11/2.2.00/06.00991"}]
[null,{"$f":"'3.3'!I2450","v":0},{"$f":"'3.3'!L2450","v":0},0,0,991,{"$f":"'poměry financování'!D2443","v":"CZ.1.11/2.2.00/06.00991"}]
[null,{"$f":"'3.3'!I2451","v":0},{"$f":"'3.3'!L2451","v":0},0,0,991,{"$f":"'poměry financování'!D2444","v":"CZ.1.11/2.2.00/06.00991"}]
[null,{"$f":"'3.3'!I2452","v":0},{"$f":"'3.3'!L2452","v":0},0,0,991,{"$f":"'poměry financování'!D2445","v":"CZ.1.11/2.2.00/06.00991"}]
[null,{"$f":"'3.3'!I2453","v":0},{"$f":"'3.3'!L2453","v":0},0,0,992,{"$f":"'poměry financování'!D2446","v":"CZ.1.11/2.2.00/06.00992"}]
[null,{"$f":"'3.3'!I2454","v":0},{"$f":"'3.3'!L2454","v":0},0,0,993,{"$f":"'poměry financování'!D2447","v":"CZ.1.11/2.2.00/06.00993"}]
[null,{"$f":"'3.3'!I2455","v":0},{"$f":"'3.3'!L2455","v":0},0,0,993,{"$f":"'poměry financování'!D2448","v":"CZ.1.11/2.2.00/06.00993"}]
[null,{"$f":"'3.3'!I2456","v":0},{"$f":"'3.3'!L2456","v":0},0,0,993,{"$f":"'poměry financování'!D2449","v":"CZ.1.11/2.2.00/06.00993"}]
[null,{"$f":"'3.3'!I2457","v":0},{"$f":"'3.3'!L2457","v":0},0,0,993,{"$f":"'poměry financování'!D2450","v":"CZ.1.11/2.2.00/06.00993"}]
[null,{"$f":"'3.3'!I2458","v":0},{"$f":"'3.3'!L2458","v":0},0,0,994,{"$f":"'poměry financování'!D2451","v":"CZ.1.11/2.2.00/06.00994"}]
[null,{"$f":"'3.3'!I2459","v":0},{"$f":"'3.3'!L2459","v":0},0,0,995,{"$f":"'poměry financování'!D2452","v":"CZ.1.11/2.2.00/06.00995"}]
[null,{"$f":"'3.3'!I2460","v":0},{"$f":"'3.3'!L2460","v":0},0,0,996,{"$f":"'poměry financování'!D2453","v":"CZ.1.11/2.2.00/06.00996"}]
[null,{"$f":"'3.3'!I2461","v":0},{"$f":"'3.3'!L2461","v":0},0,0,996,{"$f":"'poměry financování'!D2454","v":"CZ.1.11/2.2.00/06.00996"}]
[null,{"$f":"'3.3'!I2462","v":0},{"$f":"'3.3'!L2462","v":0},0,0,997,{"$f":"'poměry financování'!D2455","v":"CZ.1.11/2.2.00/06.00997"}]
[null,{"$f":"'3.3'!I2463","v":0},{"$f":"'3.3'!L2463","v":0},0,0,997,{"$f":"'poměry financování'!D2456","v":"CZ.1.11/2.2.00/06.00997"}]
[null,{"$f":"'3.3'!I2464","v":0},{"$f":"'3.3'!L2464","v":0},0,0,997,{"$f":"'poměry financování'!D2457","v":"CZ.1.11/2.2.00/06.00997"}]
[null,{"$f":"'3.3'!I2465","v":0},{"$f":"'3.3'!L2465","v":0},0,0,997,{"$f":"'poměry financování'!D2458","v":"CZ.1.11/2.2.00/06.00997"}]
[null,{"$f":"'3.3'!I2466","v":0},{"$f":"'3.3'!L2466","v":0},0,0,998,{"$f":"'poměry financování'!D2459","v":"CZ.1.11/2.2.00/06.00998"}]
[null,{"$f":"'3.3'!I2467","v":0},{"$f":"'3.3'!L2467","v":0},0,0,999,{"$f":"'poměry financování'!D2460","v":"CZ.1.11/2.2.00/06.00999"}]
[null,{"$f":"'3.3'!I2468","v":0},{"$f":"'3.3'!L2468","v":0},0,0,999,{"$f":"'poměry financování'!D2461","v":"CZ.1.11/2.2.00/06.00999"}]
[null,{"$f":"'3.3'!I2469","v":0},{"$f":"'3.3'!L2469","v":0},0,0,999,{"$f":"'poměry financování'!D2462","v":"CZ.1.11/2.2.00/06.00999"}]
[null,{"$f":"'3.3'!I2470","v":0},{"$f":"'3.3'!L2470","v":0},0,0,999,{"$f":"'poměry financování'!D2463","v":"CZ.1.11/2.2.00/06.00999"}]
[null,{"$f":"'3.3'!I2471","v":0},{"$f":"'3.3'!L2471","v":0},0,0,999,{"$f":"'poměry financování'!D2464","v":"CZ.1.11/2.2.00/06.00999"}]
[null,{"$f":"'3.3'!I2472","v":0},{"$f":"'3.3'!L2472","v":0},0,0,1000,{"$f":"'poměry financování'!D2465","v":"CZ.1.11/2.2.00/06.01000"}]
[null,{"$f":"'3.3'!I2473","v":0},{"$f":"'3.3'!L2473","v":0},0,0,1001,{"$f":"'poměry financování'!D2466","v":"CZ.1.11/2.2.00/06.01001"}]
[null,{"$f":"'3.3'!I2474","v":0},{"$f":"'3.3'!L2474","v":0},0,0,1002,{"$f":"'poměry financování'!D2467","v":"CZ.1.11/2.2.00/06.01002"}]
[null,{"$f":"'3.3'!I2475","v":0},{"$f":"'3.3'!L2475","v":0},0,0,1002,{"$f":"'poměry financování'!D2468","v":"CZ.1.11/2.2.00/06.01002"}]
[null,{"$f":"'3.3'!I2476","v":0},{"$f":"'3.3'!L2476","v":0},0,0,1002,{"$f":"'poměry financování'!D2469","v":"CZ.1.11/2.2.00/06.01002"}]
[null,{"$f":"'3.3'!I2477","v":0},{"$f":"'3.3'!L2477","v":0},0,0,1002,{"$f":"'poměry financování'!D2470","v":"CZ.1.11/2.2.00/06.01002"}]
[null,{"$f":"'3.3'!I2478","v":0},{"$f":"'3.3'!L2478","v":0},0,0,1002,{"$f":"'poměry financování'!D2471","v":"CZ.1.11/2.2.00/06.01002"}]
[null,{"$f":"'3.3'!I2479","v":0},{"$f":"'3.3'!L2479","v":0},0,0,1002,{"$f":"'poměry financování'!D2472","v":"CZ.1.11/2.2.00/06.01002"}]
[null,{"$f":"'3.3'!I2480","v":0},{"$f":"'3.3'!L2480","v":0},0,0,1003,{"$f":"'poměry financování'!D2473","v":"CZ.1.11/2.2.00/06.01003"}]
[null,{"$f":"'3.3'!I2481","v":0},{"$f":"'3.3'!L2481","v":0},0,0,1003,{"$f":"'poměry financování'!D2474","v":"CZ.1.11/2.2.00/06.01003"}]
[null,{"$f":"'3.3'!I2482","v":0},{"$f":"'3.3'!L2482","v":0},0,0,1003,{"$f":"'poměry financování'!D2475","v":"CZ.1.11/2.2.00/06.01003"}]
[null,{"$f":"'3.3'!I2483","v":0},{"$f":"'3.3'!L2483","v":0},0,0,1004,{"$f":"'poměry financování'!D2476","v":"CZ.1.11/2.2.00/06.01004"}]
[null,{"$f":"'3.3'!I2484","v":0},{"$f":"'3.3'!L2484","v":0},0,0,1004,{"$f":"'poměry financování'!D2477","v":"CZ.1.11/2.2.00/06.01004"}]
[null,{"$f":"'3.3'!I2485","v":0},{"$f":"'3.3'!L2485","v":0},0,0,1004,{"$f":"'poměry financování'!D2478","v":"CZ.1.11/2.2.00/06.01004"}]
[null,{"$f":"'3.3'!I2486","v":0},{"$f":"'3.3'!L2486","v":0},0,0,1004,{"$f":"'poměry financování'!D2479","v":"CZ.1.11/2.2.00/06.01004"}]
[null,{"$f":"'3.3'!I2487","v":0},{"$f":"'3.3'!L2487","v":0},0,0,1005,{"$f":"'poměry financování'!D2480","v":"CZ.1.11/2.2.00/06.01005"}]
[null,{"$f":"'3.3'!I2488","v":0},{"$f":"'3.3'!L2488","v":0},0,0,1006,{"$f":"'poměry financování'!D2481","v":"CZ.1.11/2.2.00/06.01006"}]
[null,{"$f":"'3.3'!I2489","v":0},{"$f":"'3.3'!L2489","v":0},0,0,1007,{"$f":"'poměry financování'!D2482","v":"CZ.1.11/2.2.00/06.01007"}]
[null,{"$f":"'3.3'!I2490","v":0},{"$f":"'3.3'!L2490","v":0},0,0,1007,{"$f":"'poměry financování'!D2483","v":"CZ.1.11/2.2.00/06.01007"}]
[null,{"$f":"'3.3'!I2491","v":0},{"$f":"'3.3'!L2491","v":0},0,0,1008,{"$f":"'poměry financování'!D2484","v":"CZ.1.11/1.1.00/02.01008"}]
[null,{"$f":"'3.3'!I2492","v":0},{"$f":"'3.3'!L2492","v":0},0,0,1008,{"$f":"'poměry financování'!D2485","v":"CZ.1.11/1.1.00/02.01008"}]
[null,{"$f":"'3.3'!I2493","v":0},{"$f":"'3.3'!L2493","v":0},0,0,1008,{"$f":"'poměry financování'!D2486","v":"CZ.1.11/1.1.00/02.01008"}]
[null,{"$f":"'3.3'!I2494","v":0},{"$f":"'3.3'!L2494","v":0},0,0,1008,{"$f":"'poměry financování'!D2487","v":"CZ.1.11/1.1.00/02.01008"}]
[null,{"$f":"'3.3'!I2495","v":0},{"$f":"'3.3'!L2495","v":0},0,0,1009,{"$f":"'poměry financování'!D2488","v":"CZ.1.11/3.1.00/02.01009"}]
[null,{"$f":"'3.3'!I2496","v":0},{"$f":"'3.3'!L2496","v":0},0,0,1009,{"$f":"'poměry financování'!D2489","v":"CZ.1.11/3.1.00/02.01009"}]
[null,{"$f":"'3.3'!I2497","v":0},{"$f":"'3.3'!L2497","v":0},0,0,1010,{"$f":"'poměry financování'!D2490","v":"CZ.1.11/1.4.00/07.01010"}]
[null,{"$f":"'3.3'!I2498","v":0},{"$f":"'3.3'!L2498","v":0},0,0,1011,{"$f":"'poměry financování'!D2491","v":"CZ.1.11/1.4.00/07.01011"}]
[null,{"$f":"'3.3'!I2499","v":0},{"$f":"'3.3'!L2499","v":0},0,0,1012,{"$f":"'poměry financování'!D2492","v":"CZ.1.11/1.4.00/07.01012"}]
[null,{"$f":"'3.3'!I2500","v":0},{"$f":"'3.3'!L2500","v":0},0,0,1012,{"$f":"'poměry financování'!D2493","v":"CZ.1.11/1.4.00/07.01012"}]
[null,{"$f":"'3.3'!I2501","v":0},{"$f":"'3.3'!L2501","v":0},0,0,1012,{"$f":"'poměry financování'!D2494","v":"CZ.1.11/1.4.00/07.01012"}]
[null,{"$f":"'3.3'!I2502","v":0},{"$f":"'3.3'!L2502","v":0},0,0,1013,{"$f":"'poměry financování'!D2495","v":"CZ.1.11/1.4.00/07.01013"}]
[null,{"$f":"'3.3'!I2503","v":0},{"$f":"'3.3'!L2503","v":0},{"$f":"IF(B2499=\"Investiční\",C2499,0)","v":0},{"$f":"IF(B2499=\"Neinvestiční\",C2499,0)","v":0},1013,{"$f":"'poměry financování'!D2496","v":"CZ.1.11/1.4.00/07.01013"}]
[null,{"$f":"'3.3'!I2504","v":0},{"$f":"'3.3'!L2504","v":0},0,0,1013,{"$f":"'poměry financování'!D2497","v":"CZ.1.11/1.4.00/07.01013"}]
[null,{"$f":"'3.3'!I2505","v":0},{"$f":"'3.3'!L2505","v":0},0,0,1014,{"$f":"'poměry financování'!D2498","v":"CZ.1.11/1.4.00/07.01014"}]
[null,{"$f":"'3.3'!I2506","v":0},{"$f":"'3.3'!L2506","v":0},0,0,{"$f":"VALUE((MID(G2502,20,4)))","v":1015},{"$f":"'poměry financování'!D2499","v":"CZ.1.11/1.4.00/07.01015"}]
[null,{"$f":"'3.3'!I2507","v":0},{"$f":"'3.3'!L2507","v":0},0,0,1016,{"$f":"'poměry financování'!D2500","v":"CZ.1.11/1.4.00/07.01016"}]
[null,{"$f":"'3.3'!I2508","v":0},{"$f":"'3.3'!L2508","v":0},0,0,1016,{"$f":"'poměry financování'!D2501","v":"CZ.1.11/1.4.00/07.01016"}]
[null,{"$f":"'3.3'!I2509","v":0},{"$f":"'3.3'!L2509","v":0},0,0,1016,{"$f":"'poměry financování'!D2502","v":"CZ.1.11/1.4.00/07.01016"}]
[null,{"$f":"'3.3'!I2510","v":0},{"$f":"'3.3'!L2510","v":0},0,0,1017,{"$f":"'poměry financování'!D2503","v":"CZ.1.11/1.4.00/07.01017"}]
[null,{"$f":"'3.3'!I2511","v":0},{"$f":"'3.3'!L2511","v":0},0,0,1018,{"$f":"'poměry financování'!D2504","v":"CZ.1.11/1.4.00/07.01018"}]
[null,{"$f":"'3.3'!I2512","v":0},{"$f":"'3.3'!L2512","v":0},0,0,1018,{"$f":"'poměry financování'!D2505","v":"CZ.1.11/1.4.00/07.01018"}]
[null,{"$f":"'3.3'!I2513","v":0},{"$f":"'3.3'!L2513","v":0},0,0,1019,{"$f":"'poměry financování'!D2506","v":"CZ.1.11/1.4.00/07.01019"}]
[null,{"$f":"'3.3'!I2514","v":0},{"$f":"'3.3'!L2514","v":0},0,0,1019,{"$f":"'poměry financování'!D2507","v":"CZ.1.11/1.4.00/07.01019"}]
[null,{"$f":"'3.3'!I2515","v":0},{"$f":"'3.3'!L2515","v":0},0,0,1020,{"$f":"'poměry financování'!D2508","v":"CZ.1.11/1.4.00/07.01020"}]
[null,{"$f":"'3.3'!I2516","v":0},{"$f":"'3.3'!L2516","v":0},0,0,1020,{"$f":"'poměry financování'!D2509","v":"CZ.1.11/1.4.00/07.01020"}]
[null,{"$f":"'3.3'!I2517","v":0},{"$f":"'3.3'!L2517","v":0},0,0,1021,{"$f":"'poměry financování'!D2510","v":"CZ.1.11/1.4.00/07.01021"}]
[null,{"$f":"'3.3'!I2518","v":0},{"$f":"'3.3'!L2518","v":0},0,0,1022,{"$f":"'poměry financování'!D2511","v":"CZ.1.11/1.4.00/07.01022"}]
[null,{"$f":"'3.3'!I2519","v":0},{"$f":"'3.3'!L2519","v":0},0,0,1022,{"$f":"'poměry financování'!D2512","v":"CZ.1.11/1.4.00/07.01022"}]
[null,{"$f":"'3.3'!I2520","v":0},{"$f":"'3.3'!L2520","v":0},0,0,1022,{"$f":"'poměry financování'!D2513","v":"CZ.1.11/1.4.00/07.01022"}]
[null,{"$f":"'3.3'!I2521","v":0},{"$f":"'3.3'!L2521","v":0},0,0,1022,{"$f":"'poměry financování'!D2514","v":"CZ.1.11/1.4.00/07.01022"}]
[null,{"$f":"'3.3'!I2522","v":0},{"$f":"'3.3'!L2522","v":0},0,0,1022,{"$f":"'poměry financování'!D2515","v":"CZ.1.11/1.4.00/07.01022"}]
[null,{"$f":"'3.3'!I2523","v":0},{"$f":"'3.3'!L2523","v":0},0,0,1023,{"$f":"'poměry financování'!D2516","v":"CZ.1.11/1.4.00/07.01023"}]
[null,{"$f":"'3.3'!I2524","v":0},{"$f":"'3.3'!L2524","v":0},0,0,1023,{"$f":"'poměry financování'!D2517","v":"CZ.1.11/1.4.00/07.01023"}]
[null,{"$f":"'3.3'!I2525","v":0},{"$f":"'3.3'!L2525","v":0},0,0,1024,{"$f":"'poměry financování'!D2518","v":"CZ.1.11/1.4.00/07.01024"}]
[null,{"$f":"'3.3'!I2526","v":0},{"$f":"'3.3'!L2526","v":0},0,0,1025,{"$f":"'poměry financování'!D2519","v":"CZ.1.11/1.4.00/07.01025"}]
[null,{"$f":"'3.3'!I2527","v":0},{"$f":"'3.3'!L2527","v":0},0,0,1025,{"$f":"'poměry financování'!D2520","v":"CZ.1.11/1.4.00/07.01025"}]
[null,{"$f":"'3.3'!I2528","v":0},{"$f":"'3.3'!L2528","v":0},0,0,1026,{"$f":"'poměry financování'!D2521","v":"CZ.1.11/1.4.00/07.01026"}]
[null,{"$f":"'3.3'!I2529","v":0},{"$f":"'3.3'!L2529","v":0},0,0,1026,{"$f":"'poměry financování'!D2522","v":"CZ.1.11/1.4.00/07.01026"}]
[null,{"$f":"'3.3'!I2530","v":0},{"$f":"'3.3'!L2530","v":0},0,0,1027,{"$f":"'poměry financování'!D2523","v":"CZ.1.11/1.4.00/07.01027"}]
[null,{"$f":"'3.3'!I2531","v":0},{"$f":"'3.3'!L2531","v":0},0,0,1027,{"$f":"'poměry financování'!D2524","v":"CZ.1.11/1.4.00/07.01027"}]
[null,{"$f":"'3.3'!I2532","v":0},{"$f":"'3.3'!L2532","v":0},0,0,1028,{"$f":"'poměry financování'!D2525","v":"CZ.1.11/1.4.00/07.01028"}]
[null,{"$f":"'3.3'!I2533","v":0},{"$f":"'3.3'!L2533","v":0},0,0,1028,{"$f":"'poměry financování'!D2526","v":"CZ.1.11/1.4.00/07.01028"}]
[null,{"$f":"'3.3'!I2534","v":0},{"$f":"'3.3'!L2534","v":0},0,0,1029,{"$f":"'poměry financování'!D2527","v":"CZ.1.11/1.4.00/07.01029"}]
[null,{"$f":"'3.3'!I2535","v":0},{"$f":"'3.3'!L2535","v":0},0,0,1029,{"$f":"'poměry financování'!D2528","v":"CZ.1.11/1.4.00/07.01029"}]
[null,{"$f":"'3.3'!I2536","v":0},{"$f":"'3.3'!L2536","v":0},0,0,1029,{"$f":"'poměry financování'!D2529","v":"CZ.1.11/1.4.00/07.01029"}]
[null,{"$f":"'3.3'!I2537","v":0},{"$f":"'3.3'!L2537","v":0},0,0,1030,{"$f":"'poměry financování'!D2530","v":"CZ.1.11/1.4.00/07.01030"}]
[null,{"$f":"'3.3'!I2538","v":0},{"$f":"'3.3'!L2538","v":0},0,0,1030,{"$f":"'poměry financování'!D2531","v":"CZ.1.11/1.4.00/07.01030"}]
[null,{"$f":"'3.3'!I2539","v":0},{"$f":"'3.3'!L2539","v":0},0,0,1031,{"$f":"'poměry financování'!D2532","v":"CZ.1.11/1.4.00/07.01031"}]
[null,{"$f":"'3.3'!I2540","v":0},{"$f":"'3.3'!L2540","v":0},0,0,1031,{"$f":"'poměry financování'!D2533","v":"CZ.1.11/1.4.00/07.01031"}]
[null,{"$f":"'3.3'!I2541","v":0},{"$f":"'3.3'!L2541","v":0},0,0,1032,{"$f":"'poměry financování'!D2534","v":"CZ.1.11/1.4.00/07.01032"}]
[null,{"$f":"'3.3'!I2542","v":0},{"$f":"'3.3'!L2542","v":0},0,0,1033,{"$f":"'poměry financování'!D2535","v":"CZ.1.11/1.4.00/07.01033"}]
[null,{"$f":"'3.3'!I2543","v":0},{"$f":"'3.3'!L2543","v":0},0,0,1034,{"$f":"'poměry financování'!D2536","v":"CZ.1.11/1.4.00/07.01034"}]
[null,{"$f":"'3.3'!I2544","v":0},{"$f":"'3.3'!L2544","v":0},0,0,1034,{"$f":"'poměry financování'!D2537","v":"CZ.1.11/1.4.00/07.01034"}]
[null,{"$f":"'3.3'!I2545","v":0},{"$f":"'3.3'!L2545","v":0},0,0,1034,{"$f":"'poměry financování'!D2538","v":"CZ.1.11/1.4.00/07.01034"}]
[null,{"$f":"'3.3'!I2546","v":0},{"$f":"'3.3'!L2546","v":0},0,0,1035,{"$f":"'poměry financování'!D2539","v":"CZ.1.11/1.4.00/07.01035"}]
[null,{"$f":"'3.3'!I2547","v":0},{"$f":"'3.3'!L2547","v":0},0,0,1035,{"$f":"'poměry financování'!D2540","v":"CZ.1.11/1.4.00/07.01035"}]
[null,{"$f":"'3.3'!I2548","v":0},{"$f":"'3.3'!L2548","v":0},0,0,1035,{"$f":"'poměry financování'!D2541","v":"CZ.1.11/1.4.00/07.01035"}]
[null,{"$f":"'3.3'!I2549","v":0},{"$f":"'3.3'!L2549","v":0},0,0,1036,{"$f":"'poměry financování'!D2542","v":"CZ.1.11/1.4.00/07.01036"}]
[null,{"$f":"'3.3'!I2550","v":0},{"$f":"'3.3'!L2550","v":0},0,0,1037,{"$f":"'poměry financování'!D2543","v":"CZ.1.11/1.4.00/07.01037"}]
[null,{"$f":"'3.3'!I2551","v":0},{"$f":"'3.3'!L2551","v":0},0,0,1038,{"$f":"'poměry financování'!D2544","v":"CZ.1.11/1.4.00/07.01038"}]
[null,{"$f":"'3.3'!I2552","v":0},{"$f":"'3.3'!L2552","v":0},0,0,1039,{"$f":"'poměry financování'!D2545","v":"CZ.1.11/1.4.00/07.01039"}]
[null,{"$f":"'3.3'!I2553","v":0},{"$f":"'3.3'!L2553","v":0},0,0,1040,{"$f":"'poměry financování'!D2546","v":"CZ.1.11/1.4.00/07.01040"}]
[null,{"$f":"'3.3'!I2554","v":0},{"$f":"'3.3'!L2554","v":0},0,0,1040,{"$f":"'poměry financování'!D2547","v":"CZ.1.11/1.4.00/07.01040"}]
[null,{"$f":"'3.3'!I2555","v":0},{"$f":"'3.3'!L2555","v":0},0,0,1040,{"$f":"'poměry financování'!D2548","v":"CZ.1.11/1.4.00/07.01040"}]
[null,{"$f":"'3.3'!I2556","v":0},{"$f":"'3.3'!L2556","v":0},0,0,1041,{"$f":"'poměry financování'!D2549","v":"CZ.1.11/1.4.00/07.01041"}]
[null,{"$f":"'3.3'!I2557","v":0},{"$f":"'3.3'!L2557","v":0},0,0,1042,{"$f":"'poměry financování'!D2550","v":"CZ.1.11/1.4.00/07.01042"}]
[null,{"$f":"'3.3'!I2558","v":0},{"$f":"'3.3'!L2558","v":0},0,0,1043,{"$f":"'poměry financování'!D2551","v":"CZ.1.11/1.4.00/07.01043"}]
[null,{"$f":"'3.3'!I2559","v":0},{"$f":"'3.3'!L2559","v":0},0,0,1044,{"$f":"'poměry financování'!D2552","v":"CZ.1.11/1.4.00/07.01044"}]
[null,{"$f":"'3.3'!I2560","v":0},{"$f":"'3.3'!L2560","v":0},0,0,1044,{"$f":"'poměry financování'!D2553","v":"CZ.1.11/1.4.00/07.01044"}]
[null,{"$f":"'3.3'!I2561","v":0},{"$f":"'3.3'!L2561","v":0},0,0,1045,{"$f":"'poměry financování'!D2554","v":"CZ.1.11/1.4.00/07.01045"}]
[null,{"$f":"'3.3'!I2562","v":0},{"$f":"'3.3'!L2562","v":0},0,0,1045,{"$f":"'poměry financování'!D2555","v":"CZ.1.11/1.4.00/07.01045"}]
[null,{"$f":"'3.3'!I2563","v":0},{"$f":"'3.3'!L2563","v":0},0,0,1045,{"$f":"'poměry financování'!D2556","v":"CZ.1.11/1.4.00/07.01045"}]
[null,{"$f":"'3.3'!I2564","v":0},{"$f":"'3.3'!L2564","v":0},0,0,1045,{"$f":"'poměry financování'!D2557","v":"CZ.1.11/1.4.00/07.01045"}]
[null,{"$f":"'3.3'!I2565","v":0},{"$f":"'3.3'!L2565","v":0},0,0,1046,{"$f":"'poměry financování'!D2558","v":"CZ.1.11/1.4.00/07.01046"}]
[null,{"$f":"'3.3'!I2566","v":0},{"$f":"'3.3'!L2566","v":0},0,0,1046,{"$f":"'poměry financování'!D2559","v":"CZ.1.11/1.4.00/07.01046"}]
[null,{"$f":"'3.3'!I2567","v":0},{"$f":"'3.3'!L2567","v":0},{"$f":"IF(B2563=\"Investiční\",C2563,0)","v":0},{"$f":"IF(B2563=\"Neinvestiční\",C2563,0)","v":0},1047,{"$f":"'poměry financování'!D2560","v":"CZ.1.11/1.4.00/07.01047"}]
[null,{"$f":"'3.3'!I2568","v":0},{"$f":"'3.3'!L2568","v":0},0,0,1047,{"$f":"'poměry financování'!D2561","v":"CZ.1.11/1.4.00/07.01047"}]
[null,{"$f":"'3.3'!I2569","v":0},{"$f":"'3.3'!L2569","v":0},0,0,1048,{"$f":"'poměry financování'!D2562","v":"CZ.1.11/1.4.00/07.01048"}]
[null,{"$f":"'3.3'!I2570","v":0},{"$f":"'3.3'!L2570","v":0},0,0,{"$f":"VALUE((MID(G2566,20,4)))","v":1048},{"$f":"'poměry financování'!D2563","v":"CZ.1.11/1.4.00/07.01048"}]
[null,{"$f":"'3.3'!I2571","v":0},{"$f":"'3.3'!L2571","v":0},0,0,1049,{"$f":"'poměry financování'!D2564","v":"CZ.1.11/1.4.00/07.01049"}]
[null,{"$f":"'3.3'!I2572","v":0},{"$f":"'3.3'!L2572","v":0},0,0,1049,{"$f":"'poměry financování'!D2565","v":"CZ.1.11/1.4.00/07.01049"}]
[null,{"$f":"'3.3'!I2573","v":0},{"$f":"'3.3'!L2573","v":0},0,0,1050,{"$f":"'poměry financování'!D2566","v":"CZ.1.11/1.4.00/07.01050"}]
[null,{"$f":"'3.3'!I2574","v":0},{"$f":"'3.3'!L2574","v":0},0,0,1051,{"$f":"'poměry financování'!D2567","v":"CZ.1.11/1.4.00/07.01051"}]
[null,{"$f":"'3.3'!I2575","v":0},{"$f":"'3.3'!L2575","v":0},0,0,1052,{"$f":"'poměry financování'!D2568","v":"CZ.1.11/1.3.00/09.01052"}]
[null,{"$f":"'3.3'!I2576","v":0},{"$f":"'3.3'!L2576","v":0},0,0,1053,{"$f":"'poměry financování'!D2569","v":"CZ.1.11/1.3.00/09.01053"}]
[null,{"$f":"'3.3'!I2577","v":0},{"$f":"'3.3'!L2577","v":0},0,0,1054,{"$f":"'poměry financování'!D2570","v":"CZ.1.11/2.1.00/08.01054"}]
[null,{"$f":"'3.3'!I2578","v":0},{"$f":"'3.3'!L2578","v":0},0,0,1054,{"$f":"'poměry financování'!D2571","v":"CZ.1.11/2.1.00/08.01054"}]
[null,{"$f":"'3.3'!I2579","v":0},{"$f":"'3.3'!L2579","v":0},0,0,1055,{"$f":"'poměry financování'!D2572","v":"CZ.1.11/2.1.00/06.01055"}]
[null,{"$f":"'3.3'!I2580","v":0},{"$f":"'3.3'!L2580","v":0},0,0,1055,{"$f":"'poměry financování'!D2573","v":"CZ.1.11/2.1.00/06.01055"}]
[null,{"$f":"'3.3'!I2581","v":0},{"$f":"'3.3'!L2581","v":0},0,0,1055,{"$f":"'poměry financování'!D2574","v":"CZ.1.11/2.1.00/06.01055"}]
[null,{"$f":"'3.3'!I2582","v":0},{"$f":"'3.3'!L2582","v":0},0,0,1056,{"$f":"'poměry financování'!D2575","v":"CZ.1.11/2.1.00/06.01056"}]
[null,{"$f":"'3.3'!I2583","v":0},{"$f":"'3.3'!L2583","v":0},0,0,1057,{"$f":"'poměry financování'!D2576","v":"CZ.1.11/2.1.00/06.01057"}]
[null,{"$f":"'3.3'!I2584","v":0},{"$f":"'3.3'!L2584","v":0},0,0,1057,{"$f":"'poměry financování'!D2577","v":"CZ.1.11/2.1.00/06.01057"}]
[null,{"$f":"'3.3'!I2585","v":0},{"$f":"'3.3'!L2585","v":0},0,0,1057,{"$f":"'poměry financování'!D2578","v":"CZ.1.11/2.1.00/06.01057"}]
[null,{"$f":"'3.3'!I2586","v":0},{"$f":"'3.3'!L2586","v":0},0,0,1057,{"$f":"'poměry financování'!D2579","v":"CZ.1.11/2.1.00/06.01057"}]
[null,{"$f":"'3.3'!I2587","v":0},{"$f":"'3.3'!L2587","v":0},0,0,1057,{"$f":"'poměry financování'!D2580","v":"CZ.1.11/2.1.00/06.01057"}]
[null,{"$f":"'3.3'!I2588","v":0},{"$f":"'3.3'!L2588","v":0},0,0,1057,{"$f":"'poměry financování'!D2581","v":"CZ.1.11/2.1.00/06.01057"}]
[null,{"$f":"'3.3'!I2589","v":0},{"$f":"'3.3'!L2589","v":0},0,0,1058,{"$f":"'poměry financování'!D2582","v":"CZ.1.11/2.1.00/06.01058"}]
[null,{"$f":"'3.3'!I2590","v":0},{"$f":"'3.3'!L2590","v":0},0,0,1058,{"$f":"'poměry financování'!D2583","v":"CZ.1.11/2.1.00/06.01058"}]
[null,{"$f":"'3.3'!I2591","v":0},{"$f":"'3.3'!L2591","v":0},0,0,1059,{"$f":"'poměry financování'!D2584","v":"CZ.1.11/2.1.00/06.01059"}]
[null,{"$f":"'3.3'!I2592","v":0},{"$f":"'3.3'!L2592","v":0},0,0,1060,{"$f":"'poměry financování'!D2585","v":"CZ.1.11/2.1.00/06.01060"}]
[null,{"$f":"'3.3'!I2593","v":0},{"$f":"'3.3'!L2593","v":0},0,0,1060,{"$f":"'poměry financování'!D2586","v":"CZ.1.11/2.1.00/06.01060"}]
[null,{"$f":"'3.3'!I2594","v":0},{"$f":"'3.3'!L2594","v":0},0,0,1061,{"$f":"'poměry financování'!D2587","v":"CZ.1.11/2.1.00/06.01061"}]
[null,{"$f":"'3.3'!I2595","v":0},{"$f":"'3.3'!L2595","v":0},0,0,1061,{"$f":"'poměry financování'!D2588","v":"CZ.1.11/2.1.00/06.01061"}]
[null,{"$f":"'3.3'!I2596","v":0},{"$f":"'3.3'!L2596","v":0},0,0,1061,{"$f":"'poměry financování'!D2589","v":"CZ.1.11/2.1.00/06.01061"}]
[null,{"$f":"'3.3'!I2597","v":0},{"$f":"'3.3'!L2597","v":0},0,0,1061,{"$f":"'poměry financování'!D2590","v":"CZ.1.11/2.1.00/06.01061"}]
[null,{"$f":"'3.3'!I2598","v":0},{"$f":"'3.3'!L2598","v":0},0,0,1062,{"$f":"'poměry financování'!D2591","v":"CZ.1.11/2.1.00/06.01062"}]
[null,{"$f":"'3.3'!I2599","v":0},{"$f":"'3.3'!L2599","v":0},0,0,1062,{"$f":"'poměry financování'!D2592","v":"CZ.1.11/2.1.00/06.01062"}]
[null,{"$f":"'3.3'!I2600","v":0},{"$f":"'3.3'!L2600","v":0},0,0,1062,{"$f":"'poměry financování'!D2593","v":"CZ.1.11/2.1.00/06.01062"}]
[null,{"$f":"'3.3'!I2601","v":0},{"$f":"'3.3'!L2601","v":0},0,0,1063,{"$f":"'poměry financování'!D2594","v":"CZ.1.11/2.1.00/06.01063"}]
[null,{"$f":"'3.3'!I2602","v":0},{"$f":"'3.3'!L2602","v":0},0,0,1064,{"$f":"'poměry financování'!D2595","v":"CZ.1.11/2.1.00/06.01064"}]
[null,{"$f":"'3.3'!I2603","v":0},{"$f":"'3.3'!L2603","v":0},0,0,1064,{"$f":"'poměry financování'!D2596","v":"CZ.1.11/2.1.00/06.01064"}]
[null,{"$f":"'3.3'!I2604","v":0},{"$f":"'3.3'!L2604","v":0},0,0,1064,{"$f":"'poměry financování'!D2597","v":"CZ.1.11/2.1.00/06.01064"}]
[null,{"$f":"'3.3'!I2605","v":0},{"$f":"'3.3'!L2605","v":0},0,0,1064,{"$f":"'poměry financování'!D2598","v":"CZ.1.11/2.1.00/06.01064"}]
[null,{"$f":"'3.3'!I2606","v":0},{"$f":"'3.3'!L2606","v":0},0,0,1065,{"$f":"'poměry financování'!D2599","v":"CZ.1.11/3.1.00/02.01065"}]
[null,{"$f":"'3.3'!I2607","v":0},{"$f":"'3.3'!L2607","v":0},0,0,1065,{"$f":"'poměry financování'!D2600","v":"CZ.1.11/3.1.00/02.01065"}]
[null,{"$f":"'3.3'!I2608","v":0},{"$f":"'3.3'!L2608","v":0},0,0,1066,{"$f":"'poměry financování'!D2601","v":"CZ.1.11/2.1.00/06.01066"}]
[null,{"$f":"'3.3'!I2609","v":0},{"$f":"'3.3'!L2609","v":0},0,0,1066,{"$f":"'poměry financování'!D2602","v":"CZ.1.11/2.1.00/06.01066"}]
[null,{"$f":"'3.3'!I2610","v":0},{"$f":"'3.3'!L2610","v":0},0,0,1066,{"$f":"'poměry financování'!D2603","v":"CZ.1.11/2.1.00/06.01066"}]
[null,{"$f":"'3.3'!I2611","v":0},{"$f":"'3.3'!L2611","v":0},0,0,1066,{"$f":"'poměry financování'!D2604","v":"CZ.1.11/2.1.00/06.01066"}]
[null,{"$f":"'3.3'!I2612","v":0},{"$f":"'3.3'!L2612","v":0},0,0,1066,{"$f":"'poměry financování'!D2605","v":"CZ.1.11/2.1.00/06.01066"}]
[null,{"$f":"'3.3'!I2613","v":0},{"$f":"'3.3'!L2613","v":0},0,0,1066,{"$f":"'poměry financování'!D2606","v":"CZ.1.11/2.1.00/06.01066"}]
[null,{"$f":"'3.3'!I2614","v":0},{"$f":"'3.3'!L2614","v":0},0,0,1067,{"$f":"'poměry financování'!D2607","v":"CZ.1.11/2.1.00/06.01067"}]
[null,{"$f":"'3.3'!I2615","v":0},{"$f":"'3.3'!L2615","v":0},0,0,1067,{"$f":"'poměry financování'!D2608","v":"CZ.1.11/2.1.00/06.01067"}]
[null,{"$f":"'3.3'!I2616","v":0},{"$f":"'3.3'!L2616","v":0},0,0,1067,{"$f":"'poměry financování'!D2609","v":"CZ.1.11/2.1.00/06.01067"}]
[null,{"$f":"'3.3'!I2617","v":0},{"$f":"'3.3'!L2617","v":0},0,0,1067,{"$f":"'poměry financování'!D2610","v":"CZ.1.11/2.1.00/06.01067"}]
[null,{"$f":"'3.3'!I2618","v":0},{"$f":"'3.3'!L2618","v":0},0,0,1067,{"$f":"'poměry financování'!D2611","v":"CZ.1.11/2.1.00/06.01067"}]
[null,{"$f":"'3.3'!I2619","v":0},{"$f":"'3.3'!L2619","v":0},0,0,1067,{"$f":"'poměry financování'!D2612","v":"CZ.1.11/2.1.00/06.01067"}]
[null,{"$f":"'3.3'!I2620","v":0},{"$f":"'3.3'!L2620","v":0},0,0,1068,{"$f":"'poměry financování'!D2613","v":"CZ.1.11/2.1.00/06.01068"}]
[null,{"$f":"'3.3'!I2621","v":0},{"$f":"'3.3'!L2621","v":0},0,0,1069,{"$f":"'poměry financování'!D2614","v":"CZ.1.11/2.1.00/06.01069"}]
[null,{"$f":"'3.3'!I2622","v":0},{"$f":"'3.3'!L2622","v":0},0,0,1070,{"$f":"'poměry financování'!D2615","v":"CZ.1.11/2.1.00/06.01070"}]
[null,{"$f":"'3.3'!I2623","v":0},{"$f":"'3.3'!L2623","v":0},0,0,1070,{"$f":"'poměry financování'!D2616","v":"CZ.1.11/2.1.00/06.01070"}]
[null,{"$f":"'3.3'!I2624","v":0},{"$f":"'3.3'!L2624","v":0},0,0,1071,{"$f":"'poměry financování'!D2617","v":"CZ.1.11/2.1.00/06.01071"}]
[null,{"$f":"'3.3'!I2625","v":0},{"$f":"'3.3'!L2625","v":0},0,0,1071,{"$f":"'poměry financování'!D2618","v":"CZ.1.11/2.1.00/06.01071"}]
[null,{"$f":"'3.3'!I2626","v":0},{"$f":"'3.3'!L2626","v":0},0,0,1071,{"$f":"'poměry financování'!D2619","v":"CZ.1.11/2.1.00/06.01071"}]
[null,{"$f":"'3.3'!I2627","v":0},{"$f":"'3.3'!L2627","v":0},0,0,1072,{"$f":"'poměry financování'!D2620","v":"CZ.1.11/2.1.00/06.01072"}]
[null,{"$f":"'3.3'!I2628","v":0},{"$f":"'3.3'!L2628","v":0},0,0,1073,{"$f":"'poměry financování'!D2621","v":"CZ.1.11/2.1.00/06.01073"}]
[null,{"$f":"'3.3'!I2629","v":0},{"$f":"'3.3'!L2629","v":0},0,0,1074,{"$f":"'poměry financování'!D2622","v":"CZ.1.11/2.1.00/08.01074"}]
[null,{"$f":"'3.3'!I2630","v":0},{"$f":"'3.3'!L2630","v":0},0,0,1074,{"$f":"'poměry financování'!D2623","v":"CZ.1.11/2.1.00/08.01074"}]
[null,{"$f":"'3.3'!I2631","v":0},{"$f":"'3.3'!L2631","v":0},{"$f":"IF(B2627=\"Investiční\",C2627,0)","v":0},{"$f":"IF(B2627=\"Neinvestiční\",C2627,0)","v":0},1074,{"$f":"'poměry financování'!D2624","v":"CZ.1.11/2.1.00/08.01074"}]
[null,{"$f":"'3.3'!I2632","v":0},{"$f":"'3.3'!L2632","v":0},0,0,1075,{"$f":"'poměry financování'!D2625","v":"CZ.1.11/2.1.00/06.01075"}]
[null,{"$f":"'3.3'!I2633","v":0},{"$f":"'3.3'!L2633","v":0},0,0,1075,{"$f":"'poměry financování'!D2626","v":"CZ.1.11/2.1.00/06.01075"}]
[null,{"$f":"'3.3'!I2634","v":0},{"$f":"'3.3'!L2634","v":0},0,0,{"$f":"VALUE((MID(G2630,20,4)))","v":1075},{"$f":"'poměry financování'!D2627","v":"CZ.1.11/2.1.00/06.01075"}]
[null,{"$f":"'3.3'!I2635","v":0},{"$f":"'3.3'!L2635","v":0},0,0,1075,{"$f":"'poměry financování'!D2628","v":"CZ.1.11/2.1.00/06.01075"}]
[null,{"$f":"'3.3'!I2636","v":0},{"$f":"'3.3'!L2636","v":0},0,0,1075,{"$f":"'poměry financování'!D2629","v":"CZ.1.11/2.1.00/06.01075"}]
[null,{"$f":"'3.3'!I2637","v":0},{"$f":"'3.3'!L2637","v":0},0,0,1075,{"$f":"'poměry financování'!D2630","v":"CZ.1.11/2.1.00/06.01075"}]
[null,{"$f":"'3.3'!I2638","v":0},{"$f":"'3.3'!L2638","v":0},0,0,1076,{"$f":"'poměry financování'!D2631","v":"CZ.1.11/2.1.00/06.01076"}]
[null,{"$f":"'3.3'!I2639","v":0},{"$f":"'3.3'!L2639","v":0},0,0,1076,{"$f":"'poměry financování'!D2632","v":"CZ.1.11/2.1.00/06.01076"}]
[null,{"$f":"'3.3'!I2640","v":0},{"$f":"'3.3'!L2640","v":0},0,0,1077,{"$f":"'poměry financování'!D2633","v":"CZ.1.11/2.1.00/06.01077"}]
[null,{"$f":"'3.3'!I2641","v":0},{"$f":"'3.3'!L2641","v":0},0,0,1077,{"$f":"'poměry financování'!D2634","v":"CZ.1.11/2.1.00/06.01077"}]
[null,{"$f":"'3.3'!I2642","v":0},{"$f":"'3.3'!L2642","v":0},0,0,1078,{"$f":"'poměry financování'!D2635","v":"CZ.1.11/2.1.00/06.01078"}]
[null,{"$f":"'3.3'!I2643","v":0},{"$f":"'3.3'!L2643","v":0},0,0,1078,{"$f":"'poměry financování'!D2636","v":"CZ.1.11/2.1.00/06.01078"}]
[null,{"$f":"'3.3'!I2644","v":0},{"$f":"'3.3'!L2644","v":0},0,0,1078,{"$f":"'poměry financování'!D2637","v":"CZ.1.11/2.1.00/06.01078"}]
[null,{"$f":"'3.3'!I2645","v":0},{"$f":"'3.3'!L2645","v":0},0,0,1078,{"$f":"'poměry financování'!D2638","v":"CZ.1.11/2.1.00/06.01078"}]
[null,{"$f":"'3.3'!I2646","v":0},{"$f":"'3.3'!L2646","v":0},0,0,1079,{"$f":"'poměry financování'!D2639","v":"CZ.1.11/2.1.00/06.01079"}]
[null,{"$f":"'3.3'!I2647","v":0},{"$f":"'3.3'!L2647","v":0},0,0,1079,{"$f":"'poměry financování'!D2640","v":"CZ.1.11/2.1.00/06.01079"}]
[null,{"$f":"'3.3'!I2648","v":0},{"$f":"'3.3'!L2648","v":0},0,0,1079,{"$f":"'poměry financování'!D2641","v":"CZ.1.11/2.1.00/06.01079"}]
[null,{"$f":"'3.3'!I2649","v":0},{"$f":"'3.3'!L2649","v":0},0,0,1079,{"$f":"'poměry financování'!D2642","v":"CZ.1.11/2.1.00/06.01079"}]
[null,{"$f":"'3.3'!I2650","v":0},{"$f":"'3.3'!L2650","v":0},0,0,1080,{"$f":"'poměry financování'!D2643","v":"CZ.1.11/2.1.00/06.01080"}]
[null,{"$f":"'3.3'!I2651","v":0},{"$f":"'3.3'!L2651","v":0},0,0,1080,{"$f":"'poměry financování'!D2644","v":"CZ.1.11/2.1.00/06.01080"}]
[null,{"$f":"'3.3'!I2652","v":0},{"$f":"'3.3'!L2652","v":0},0,0,1081,{"$f":"'poměry financování'!D2645","v":"CZ.1.11/2.1.00/06.01081"}]
[null,{"$f":"'3.3'!I2653","v":0},{"$f":"'3.3'!L2653","v":0},0,0,1082,{"$f":"'poměry financování'!D2646","v":"CZ.1.11/2.1.00/06.01082"}]
[null,{"$f":"'3.3'!I2654","v":0},{"$f":"'3.3'!L2654","v":0},0,0,1082,{"$f":"'poměry financování'!D2647","v":"CZ.1.11/2.1.00/06.01082"}]
[null,{"$f":"'3.3'!I2655","v":0},{"$f":"'3.3'!L2655","v":0},0,0,1083,{"$f":"'poměry financování'!D2648","v":"CZ.1.11/2.1.00/06.01083"}]
[null,{"$f":"'3.3'!I2656","v":0},{"$f":"'3.3'!L2656","v":0},0,0,1083,{"$f":"'poměry financování'!D2649","v":"CZ.1.11/2.1.00/06.01083"}]
[null,{"$f":"'3.3'!I2657","v":0},{"$f":"'3.3'!L2657","v":0},0,0,1083,{"$f":"'poměry financování'!D2650","v":"CZ.1.11/2.1.00/06.01083"}]
[null,{"$f":"'3.3'!I2658","v":0},{"$f":"'3.3'!L2658","v":0},0,0,1083,{"$f":"'poměry financování'!D2651","v":"CZ.1.11/2.1.00/06.01083"}]
[null,{"$f":"'3.3'!I2659","v":0},{"$f":"'3.3'!L2659","v":0},0,0,1083,{"$f":"'poměry financování'!D2652","v":"CZ.1.11/2.1.00/06.01083"}]
[null,{"$f":"'3.3'!I2660","v":0},{"$f":"'3.3'!L2660","v":0},0,0,1083,{"$f":"'poměry financování'!D2653","v":"CZ.1.11/2.1.00/06.01083"}]
[null,{"$f":"'3.3'!I2661","v":0},{"$f":"'3.3'!L2661","v":0},0,0,1084,{"$f":"'poměry financování'!D2654","v":"CZ.1.11/2.1.00/06.01084"}]
[null,{"$f":"'3.3'!I2662","v":0},{"$f":"'3.3'!L2662","v":0},0,0,1085,{"$f":"'poměry financování'!D2655","v":"CZ.1.11/2.1.00/06.01085"}]
[null,{"$f":"'3.3'!I2663","v":0},{"$f":"'3.3'!L2663","v":0},0,0,1085,{"$f":"'poměry financování'!D2656","v":"CZ.1.11/2.1.00/06.01085"}]
[null,{"$f":"'3.3'!I2664","v":0},{"$f":"'3.3'!L2664","v":0},0,0,1086,{"$f":"'poměry financování'!D2657","v":"CZ.1.11/2.1.00/06.01086"}]
[null,{"$f":"'3.3'!I2665","v":0},{"$f":"'3.3'!L2665","v":0},0,0,1086,{"$f":"'poměry financování'!D2658","v":"CZ.1.11/2.1.00/06.01086"}]
[null,{"$f":"'3.3'!I2666","v":0},{"$f":"'3.3'!L2666","v":0},0,0,1087,{"$f":"'poměry financování'!D2659","v":"CZ.1.11/2.1.00/06.01087"}]
[null,{"$f":"'3.3'!I2667","v":0},{"$f":"'3.3'!L2667","v":0},0,0,1087,{"$f":"'poměry financování'!D2660","v":"CZ.1.11/2.1.00/06.01087"}]
[null,{"$f":"'3.3'!I2668","v":0},{"$f":"'3.3'!L2668","v":0},0,0,1088,{"$f":"'poměry financování'!D2661","v":"CZ.1.11/2.1.00/06.01088"}]
[null,{"$f":"'3.3'!I2669","v":0},{"$f":"'3.3'!L2669","v":0},0,0,1088,{"$f":"'poměry financování'!D2662","v":"CZ.1.11/2.1.00/06.01088"}]
[null,{"$f":"'3.3'!I2670","v":0},{"$f":"'3.3'!L2670","v":0},0,0,1088,{"$f":"'poměry financování'!D2663","v":"CZ.1.11/2.1.00/06.01088"}]
[null,{"$f":"'3.3'!I2671","v":0},{"$f":"'3.3'!L2671","v":0},0,0,1089,{"$f":"'poměry financování'!D2664","v":"CZ.1.11/2.1.00/06.01089"}]
[null,{"$f":"'3.3'!I2672","v":0},{"$f":"'3.3'!L2672","v":0},0,0,1089,{"$f":"'poměry financování'!D2665","v":"CZ.1.11/2.1.00/06.01089"}]
[null,{"$f":"'3.3'!I2673","v":0},{"$f":"'3.3'!L2673","v":0},0,0,1089,{"$f":"'poměry financování'!D2666","v":"CZ.1.11/2.1.00/06.01089"}]
[null,{"$f":"'3.3'!I2674","v":0},{"$f":"'3.3'!L2674","v":0},0,0,1091,{"$f":"'poměry financování'!D2667","v":"CZ.1.11/2.1.00/06.01091"}]
[null,{"$f":"'3.3'!I2675","v":0},{"$f":"'3.3'!L2675","v":0},0,0,1091,{"$f":"'poměry financování'!D2668","v":"CZ.1.11/2.1.00/06.01091"}]
[null,{"$f":"'3.3'!I2676","v":0},{"$f":"'3.3'!L2676","v":0},0,0,1093,{"$f":"'poměry financování'!D2669","v":"CZ.1.11/2.1.00/06.01093"}]
[null,{"$f":"'3.3'!I2677","v":0},{"$f":"'3.3'!L2677","v":0},0,0,1093,{"$f":"'poměry financování'!D2670","v":"CZ.1.11/2.1.00/06.01093"}]
[null,{"$f":"'3.3'!I2678","v":0},{"$f":"'3.3'!L2678","v":0},0,0,1093,{"$f":"'poměry financování'!D2671","v":"CZ.1.11/2.1.00/06.01093"}]
[null,{"$f":"'3.3'!I2679","v":0},{"$f":"'3.3'!L2679","v":0},0,0,1093,{"$f":"'poměry financování'!D2672","v":"CZ.1.11/2.1.00/06.01093"}]
[null,{"$f":"'3.3'!I2680","v":0},{"$f":"'3.3'!L2680","v":0},0,0,1093,{"$f":"'poměry financování'!D2673","v":"CZ.1.11/2.1.00/06.01093"}]
[null,{"$f":"'3.3'!I2681","v":0},{"$f":"'3.3'!L2681","v":0},0,0,1093,{"$f":"'poměry financování'!D2674","v":"CZ.1.11/2.1.00/06.01093"}]
[null,{"$f":"'3.3'!I2682","v":0},{"$f":"'3.3'!L2682","v":0},0,0,1093,{"$f":"'poměry financování'!D2675","v":"CZ.1.11/2.1.00/06.01093"}]
[null,{"$f":"'3.3'!I2683","v":0},{"$f":"'3.3'!L2683","v":0},0,0,1094,{"$f":"'poměry financování'!D2676","v":"CZ.1.11/2.1.00/06.01094"}]
[null,{"$f":"'3.3'!I2684","v":0},{"$f":"'3.3'!L2684","v":0},0,0,1094,{"$f":"'poměry financování'!D2677","v":"CZ.1.11/2.1.00/06.01094"}]
[null,{"$f":"'3.3'!I2685","v":0},{"$f":"'3.3'!L2685","v":0},0,0,1094,{"$f":"'poměry financování'!D2678","v":"CZ.1.11/2.1.00/06.01094"}]
[null,{"$f":"'3.3'!I2686","v":0},{"$f":"'3.3'!L2686","v":0},0,0,1094,{"$f":"'poměry financování'!D2679","v":"CZ.1.11/2.1.00/06.01094"}]
[null,{"$f":"'3.3'!I2687","v":0},{"$f":"'3.3'!L2687","v":0},0,0,1094,{"$f":"'poměry financování'!D2680","v":"CZ.1.11/2.1.00/06.01094"}]
[null,{"$f":"'3.3'!I2688","v":0},{"$f":"'3.3'!L2688","v":0},0,0,1094,{"$f":"'poměry financování'!D2681","v":"CZ.1.11/2.1.00/06.01094"}]
[null,{"$f":"'3.3'!I2689","v":0},{"$f":"'3.3'!L2689","v":0},0,0,1096,{"$f":"'poměry financování'!D2682","v":"CZ.1.11/2.1.00/06.01096"}]
[null,{"$f":"'3.3'!I2690","v":0},{"$f":"'3.3'!L2690","v":0},0,0,1096,{"$f":"'poměry financování'!D2683","v":"CZ.1.11/2.1.00/06.01096"}]
[null,{"$f":"'3.3'!I2691","v":0},{"$f":"'3.3'!L2691","v":0},0,0,1096,{"$f":"'poměry financování'!D2684","v":"CZ.1.11/2.1.00/06.01096"}]
[null,{"$f":"'3.3'!I2692","v":0},{"$f":"'3.3'!L2692","v":0},0,0,1096,{"$f":"'poměry financování'!D2685","v":"CZ.1.11/2.1.00/06.01096"}]
[null,{"$f":"'3.3'!I2693","v":0},{"$f":"'3.3'!L2693","v":0},0,0,1096,{"$f":"'poměry financování'!D2686","v":"CZ.1.11/2.1.00/06.01096"}]
[null,{"$f":"'3.3'!I2694","v":0},{"$f":"'3.3'!L2694","v":0},0,0,1097,{"$f":"'poměry financování'!D2687","v":"CZ.1.11/2.1.00/06.01097"}]
[null,{"$f":"'3.3'!I2695","v":0},{"$f":"'3.3'!L2695","v":0},{"$f":"IF(B2691=\"Investiční\",C2691,0)","v":0},{"$f":"IF(B2691=\"Neinvestiční\",C2691,0)","v":0},1097,{"$f":"'poměry financování'!D2688","v":"CZ.1.11/2.1.00/06.01097"}]
[null,{"$f":"'3.3'!I2696","v":0},{"$f":"'3.3'!L2696","v":0},0,0,1098,{"$f":"'poměry financování'!D2689","v":"CZ.1.11/2.1.00/06.01098"}]
[null,{"$f":"'3.3'!I2697","v":0},{"$f":"'3.3'!L2697","v":0},0,0,1098,{"$f":"'poměry financování'!D2690","v":"CZ.1.11/2.1.00/06.01098"}]
[null,{"$f":"'3.3'!I2698","v":0},{"$f":"'3.3'!L2698","v":0},0,0,{"$f":"VALUE((MID(G2694,20,4)))","v":1099},{"$f":"'poměry financování'!D2691","v":"CZ.1.11/2.1.00/06.01099"}]
[null,{"$f":"'3.3'!I2699","v":0},{"$f":"'3.3'!L2699","v":0},0,0,1100,{"$f":"'poměry financování'!D2692","v":"CZ.1.11/2.1.00/06.01100"}]
[null,{"$f":"'3.3'!I2700","v":0},{"$f":"'3.3'!L2700","v":0},0,0,1100,{"$f":"'poměry financování'!D2693","v":"CZ.1.11/2.1.00/06.01100"}]
[null,{"$f":"'3.3'!I2701","v":0},{"$f":"'3.3'!L2701","v":0},0,0,1102,{"$f":"'poměry financování'!D2694","v":"CZ.1.11/2.1.00/06.01102"}]
[null,{"$f":"'3.3'!I2702","v":0},{"$f":"'3.3'!L2702","v":0},0,0,1104,{"$f":"'poměry financování'!D2695","v":"CZ.1.11/2.1.00/06.01104"}]
[null,{"$f":"'3.3'!I2703","v":0},{"$f":"'3.3'!L2703","v":0},0,0,1104,{"$f":"'poměry financování'!D2696","v":"CZ.1.11/2.1.00/06.01104"}]
[null,{"$f":"'3.3'!I2704","v":0},{"$f":"'3.3'!L2704","v":0},0,0,1104,{"$f":"'poměry financování'!D2697","v":"CZ.1.11/2.1.00/06.01104"}]
[null,{"$f":"'3.3'!I2705","v":0},{"$f":"'3.3'!L2705","v":0},0,0,1104,{"$f":"'poměry financování'!D2698","v":"CZ.1.11/2.1.00/06.01104"}]
[null,{"$f":"'3.3'!I2706","v":0},{"$f":"'3.3'!L2706","v":0},0,0,1105,{"$f":"'poměry financování'!D2699","v":"CZ.1.11/3.1.00/02.01105"}]
[null,{"$f":"'3.3'!I2707","v":0},{"$f":"'3.3'!L2707","v":0},0,0,1106,{"$f":"'poměry financování'!D2700","v":"CZ.1.11/1.1.00/02.01106"}]
[null,{"$f":"'3.3'!I2708","v":0},{"$f":"'3.3'!L2708","v":0},0,0,1106,{"$f":"'poměry financování'!D2701","v":"CZ.1.11/1.1.00/02.01106"}]
[null,{"$f":"'3.3'!I2709","v":0},{"$f":"'3.3'!L2709","v":0},0,0,1107,{"$f":"'poměry financování'!D2702","v":"CZ.1.11/1.1.00/02.01107"}]
[null,{"$f":"'3.3'!I2710","v":0},{"$f":"'3.3'!L2710","v":0},0,0,1107,{"$f":"'poměry financování'!D2703","v":"CZ.1.11/1.1.00/02.01107"}]
[null,{"$f":"'3.3'!I2711","v":0},{"$f":"'3.3'!L2711","v":0},0,0,1108,{"$f":"'poměry financování'!D2704","v":"CZ.1.11/1.1.00/02.01108"}]
[null,{"$f":"'3.3'!I2712","v":0},{"$f":"'3.3'!L2712","v":0},0,0,1108,{"$f":"'poměry financování'!D2705","v":"CZ.1.11/1.1.00/02.01108"}]
[null,{"$f":"'3.3'!I2713","v":0},{"$f":"'3.3'!L2713","v":0},0,0,1108,{"$f":"'poměry financování'!D2706","v":"CZ.1.11/1.1.00/02.01108"}]
[null,{"$f":"'3.3'!I2714","v":0},{"$f":"'3.3'!L2714","v":0},0,0,1109,{"$f":"'poměry financování'!D2707","v":"CZ.1.11/1.1.00/02.01109"}]
[null,{"$f":"'3.3'!I2715","v":0},{"$f":"'3.3'!L2715","v":0},0,0,1109,{"$f":"'poměry financování'!D2708","v":"CZ.1.11/1.1.00/02.01109"}]
[null,{"$f":"'3.3'!I2716","v":0},{"$f":"'3.3'!L2716","v":0},0,0,1110,{"$f":"'poměry financování'!D2709","v":"CZ.1.11/1.1.00/02.01110"}]
[null,{"$f":"'3.3'!I2717","v":0},{"$f":"'3.3'!L2717","v":0},0,0,1110,{"$f":"'poměry financování'!D2710","v":"CZ.1.11/1.1.00/02.01110"}]
[null,{"$f":"'3.3'!I2718","v":0},{"$f":"'3.3'!L2718","v":0},0,0,1111,{"$f":"'poměry financování'!D2711","v":"CZ.1.11/1.1.00/02.01111"}]
[null,{"$f":"'3.3'!I2719","v":0},{"$f":"'3.3'!L2719","v":0},0,0,1111,{"$f":"'poměry financování'!D2712","v":"CZ.1.11/1.1.00/02.01111"}]
[null,{"$f":"'3.3'!I2720","v":0},{"$f":"'3.3'!L2720","v":0},0,0,1112,{"$f":"'poměry financování'!D2713","v":"CZ.1.11/1.1.00/02.01112"}]
[null,{"$f":"'3.3'!I2721","v":0},{"$f":"'3.3'!L2721","v":0},0,0,1112,{"$f":"'poměry financování'!D2714","v":"CZ.1.11/1.1.00/02.01112"}]
[null,{"$f":"'3.3'!I2722","v":0},{"$f":"'3.3'!L2722","v":0},0,0,1113,{"$f":"'poměry financování'!D2715","v":"CZ.1.11/3.1.00/02.01113"}]
[null,{"$f":"'3.3'!I2723","v":0},{"$f":"'3.3'!L2723","v":0},0,0,1113,{"$f":"'poměry financování'!D2716","v":"CZ.1.11/3.1.00/02.01113"}]
[null,{"$f":"'3.3'!I2724","v":0},{"$f":"'3.3'!L2724","v":0},0,0,1113,{"$f":"'poměry financování'!D2717","v":"CZ.1.11/3.1.00/02.01113"}]
[null,{"$f":"'3.3'!I2725","v":0},{"$f":"'3.3'!L2725","v":0},0,0,1114,{"$f":"'poměry financování'!D2718","v":"CZ.1.11/1.1.00/02.01114"}]
[null,{"$f":"'3.3'!I2726","v":0},{"$f":"'3.3'!L2726","v":0},0,0,1114,{"$f":"'poměry financování'!D2719","v":"CZ.1.11/1.1.00/02.01114"}]
[null,{"$f":"'3.3'!I2727","v":0},{"$f":"'3.3'!L2727","v":0},0,0,1114,{"$f":"'poměry financování'!D2720","v":"CZ.1.11/1.1.00/02.01114"}]
[null,{"$f":"'3.3'!I2728","v":0},{"$f":"'3.3'!L2728","v":0},0,0,1114,{"$f":"'poměry financování'!D2721","v":"CZ.1.11/1.1.00/02.01114"}]
[null,{"$f":"'3.3'!I2729","v":0},{"$f":"'3.3'!L2729","v":0},0,0,1114,{"$f":"'poměry financování'!D2722","v":"CZ.1.11/1.1.00/02.01114"}]
[null,{"$f":"'3.3'!I2730","v":0},{"$f":"'3.3'!L2730","v":0},0,0,1114,{"$f":"'poměry financování'!D2723","v":"CZ.1.11/1.1.00/02.01114"}]
[null,{"$f":"'3.3'!I2731","v":0},{"$f":"'3.3'!L2731","v":0},0,0,1115,{"$f":"'poměry financování'!D2724","v":"CZ.1.11/2.1.00/08.01115"}]
[null,{"$f":"'3.3'!I2732","v":0},{"$f":"'3.3'!L2732","v":0},0,0,1115,{"$f":"'poměry financování'!D2725","v":"CZ.1.11/2.1.00/08.01115"}]
[null,{"$f":"'3.3'!I2733","v":0},{"$f":"'3.3'!L2733","v":0},0,0,1115,{"$f":"'poměry financování'!D2726","v":"CZ.1.11/2.1.00/08.01115"}]
[null,{"$f":"'3.3'!I2734","v":0},{"$f":"'3.3'!L2734","v":0},0,0,1115,{"$f":"'poměry financování'!D2727","v":"CZ.1.11/2.1.00/08.01115"}]
[null,{"$f":"'3.3'!I2735","v":0},{"$f":"'3.3'!L2735","v":0},0,0,1116,{"$f":"'poměry financování'!D2728","v":"CZ.1.11/2.1.00/08.01116"}]
[null,{"$f":"'3.3'!I2736","v":0},{"$f":"'3.3'!L2736","v":0},0,0,1116,{"$f":"'poměry financování'!D2729","v":"CZ.1.11/2.1.00/08.01116"}]
[null,{"$f":"'3.3'!I2737","v":0},{"$f":"'3.3'!L2737","v":0},0,0,1116,{"$f":"'poměry financování'!D2730","v":"CZ.1.11/2.1.00/08.01116"}]
[null,{"$f":"'3.3'!I2738","v":0},{"$f":"'3.3'!L2738","v":0},0,0,1117,{"$f":"'poměry financování'!D2731","v":"CZ.1.11/2.1.00/08.01117"}]
[null,{"$f":"'3.3'!I2739","v":0},{"$f":"'3.3'!L2739","v":0},0,0,1117,{"$f":"'poměry financování'!D2732","v":"CZ.1.11/2.1.00/08.01117"}]
[null,{"$f":"'3.3'!I2740","v":0},{"$f":"'3.3'!L2740","v":0},0,0,1117,{"$f":"'poměry financování'!D2733","v":"CZ.1.11/2.1.00/08.01117"}]
[null,{"$f":"'3.3'!I2741","v":0},{"$f":"'3.3'!L2741","v":0},0,0,1117,{"$f":"'poměry financování'!D2734","v":"CZ.1.11/2.1.00/08.01117"}]
[null,{"$f":"'3.3'!I2742","v":0},{"$f":"'3.3'!L2742","v":0},0,0,1117,{"$f":"'poměry financování'!D2735","v":"CZ.1.11/2.1.00/08.01117"}]
[null,{"$f":"'3.3'!I2743","v":0},{"$f":"'3.3'!L2743","v":0},0,0,1118,{"$f":"'poměry financování'!D2736","v":"CZ.1.11/2.1.00/08.01118"}]
[null,{"$f":"'3.3'!I2744","v":0},{"$f":"'3.3'!L2744","v":0},0,0,1118,{"$f":"'poměry financování'!D2737","v":"CZ.1.11/2.1.00/08.01118"}]
[null,{"$f":"'3.3'!I2745","v":0},{"$f":"'3.3'!L2745","v":0},0,0,1118,{"$f":"'poměry financování'!D2738","v":"CZ.1.11/2.1.00/08.01118"}]
[null,{"$f":"'3.3'!I2746","v":0},{"$f":"'3.3'!L2746","v":0},0,0,1118,{"$f":"'poměry financování'!D2739","v":"CZ.1.11/2.1.00/08.01118"}]
[null,{"$f":"'3.3'!I2747","v":0},{"$f":"'3.3'!L2747","v":0},0,0,1118,{"$f":"'poměry financování'!D2740","v":"CZ.1.11/2.1.00/08.01118"}]
[null,{"$f":"'3.3'!I2748","v":0},{"$f":"'3.3'!L2748","v":0},0,0,1119,{"$f":"'poměry financování'!D2741","v":"CZ.1.11/2.1.00/08.01119"}]
[null,{"$f":"'3.3'!I2749","v":0},{"$f":"'3.3'!L2749","v":0},0,0,1119,{"$f":"'poměry financování'!D2742","v":"CZ.1.11/2.1.00/08.01119"}]
[null,{"$f":"'3.3'!I2750","v":0},{"$f":"'3.3'!L2750","v":0},0,0,1119,{"$f":"'poměry financování'!D2743","v":"CZ.1.11/2.1.00/08.01119"}]
[null,{"$f":"'3.3'!I2751","v":0},{"$f":"'3.3'!L2751","v":0},0,0,1119,{"$f":"'poměry financování'!D2744","v":"CZ.1.11/2.1.00/08.01119"}]
[null,{"$f":"'3.3'!I2752","v":0},{"$f":"'3.3'!L2752","v":0},0,0,1120,{"$f":"'poměry financování'!D2745","v":"CZ.1.11/2.1.00/08.01120"}]
[null,{"$f":"'3.3'!I2753","v":0},{"$f":"'3.3'!L2753","v":0},0,0,1120,{"$f":"'poměry financování'!D2746","v":"CZ.1.11/2.1.00/08.01120"}]
[null,{"$f":"'3.3'!I2754","v":0},{"$f":"'3.3'!L2754","v":0},0,0,1120,{"$f":"'poměry financování'!D2747","v":"CZ.1.11/2.1.00/08.01120"}]
[null,{"$f":"'3.3'!I2755","v":0},{"$f":"'3.3'!L2755","v":0},0,0,1120,{"$f":"'poměry financování'!D2748","v":"CZ.1.11/2.1.00/08.01120"}]
[null,{"$f":"'3.3'!I2756","v":0},{"$f":"'3.3'!L2756","v":0},0,0,1120,{"$f":"'poměry financování'!D2749","v":"CZ.1.11/2.1.00/08.01120"}]
[null,{"$f":"'3.3'!I2757","v":0},{"$f":"'3.3'!L2757","v":0},0,0,1121,{"$f":"'poměry financování'!D2750","v":"CZ.1.11/2.1.00/08.01121"}]
[null,{"$f":"'3.3'!I2758","v":0},{"$f":"'3.3'!L2758","v":0},0,0,1121,{"$f":"'poměry financování'!D2751","v":"CZ.1.11/2.1.00/08.01121"}]
[null,{"$f":"'3.3'!I2759","v":0},{"$f":"'3.3'!L2759","v":0},{"$f":"IF(B2755=\"Investiční\",C2755,0)","v":0},{"$f":"IF(B2755=\"Neinvestiční\",C2755,0)","v":0},1121,{"$f":"'poměry financování'!D2752","v":"CZ.1.11/2.1.00/08.01121"}]
[null,{"$f":"'3.3'!I2760","v":0},{"$f":"'3.3'!L2760","v":0},0,0,1122,{"$f":"'poměry financování'!D2753","v":"CZ.1.11/2.1.00/08.01122"}]
[null,{"$f":"'3.3'!I2761","v":0},{"$f":"'3.3'!L2761","v":0},0,0,1122,{"$f":"'poměry financování'!D2754","v":"CZ.1.11/2.1.00/08.01122"}]
[null,{"$f":"'3.3'!I2762","v":0},{"$f":"'3.3'!L2762","v":0},0,0,{"$f":"VALUE((MID(G2758,20,4)))","v":1122},{"$f":"'poměry financování'!D2755","v":"CZ.1.11/2.1.00/08.01122"}]
[null,{"$f":"'3.3'!I2763","v":0},{"$f":"'3.3'!L2763","v":0},0,0,1123,{"$f":"'poměry financování'!D2756","v":"CZ.1.11/2.1.00/08.01123"}]
[null,{"$f":"'3.3'!I2764","v":0},{"$f":"'3.3'!L2764","v":0},0,0,1123,{"$f":"'poměry financování'!D2757","v":"CZ.1.11/2.1.00/08.01123"}]
[null,{"$f":"'3.3'!I2765","v":0},{"$f":"'3.3'!L2765","v":0},0,0,1123,{"$f":"'poměry financování'!D2758","v":"CZ.1.11/2.1.00/08.01123"}]
[null,{"$f":"'3.3'!I2766","v":0},{"$f":"'3.3'!L2766","v":0},0,0,1123,{"$f":"'poměry financování'!D2759","v":"CZ.1.11/2.1.00/08.01123"}]
[null,{"$f":"'3.3'!I2767","v":0},{"$f":"'3.3'!L2767","v":0},0,0,1123,{"$f":"'poměry financování'!D2760","v":"CZ.1.11/2.1.00/08.01123"}]
[null,{"$f":"'3.3'!I2768","v":0},{"$f":"'3.3'!L2768","v":0},0,0,1124,{"$f":"'poměry financování'!D2761","v":"CZ.1.11/2.1.00/08.01124"}]
[null,{"$f":"'3.3'!I2769","v":0},{"$f":"'3.3'!L2769","v":0},0,0,1124,{"$f":"'poměry financování'!D2762","v":"CZ.1.11/2.1.00/08.01124"}]
[null,{"$f":"'3.3'!I2770","v":0},{"$f":"'3.3'!L2770","v":0},0,0,1124,{"$f":"'poměry financování'!D2763","v":"CZ.1.11/2.1.00/08.01124"}]
[null,{"$f":"'3.3'!I2771","v":0},{"$f":"'3.3'!L2771","v":0},0,0,1124,{"$f":"'poměry financování'!D2764","v":"CZ.1.11/2.1.00/08.01124"}]
[null,{"$f":"'3.3'!I2772","v":0},{"$f":"'3.3'!L2772","v":0},0,0,1125,{"$f":"'poměry financování'!D2765","v":"CZ.1.11/2.1.00/08.01125"}]
[null,{"$f":"'3.3'!I2773","v":0},{"$f":"'3.3'!L2773","v":0},0,0,1125,{"$f":"'poměry financování'!D2766","v":"CZ.1.11/2.1.00/08.01125"}]
[null,{"$f":"'3.3'!I2774","v":0},{"$f":"'3.3'!L2774","v":0},0,0,1125,{"$f":"'poměry financování'!D2767","v":"CZ.1.11/2.1.00/08.01125"}]
[null,{"$f":"'3.3'!I2775","v":0},{"$f":"'3.3'!L2775","v":0},0,0,1125,{"$f":"'poměry financování'!D2768","v":"CZ.1.11/2.1.00/08.01125"}]
[null,{"$f":"'3.3'!I2776","v":0},{"$f":"'3.3'!L2776","v":0},0,0,1125,{"$f":"'poměry financování'!D2769","v":"CZ.1.11/2.1.00/08.01125"}]
[null,{"$f":"'3.3'!I2777","v":0},{"$f":"'3.3'!L2777","v":0},0,0,1125,{"$f":"'poměry financování'!D2770","v":"CZ.1.11/2.1.00/08.01125"}]
[null,{"$f":"'3.3'!I2778","v":0},{"$f":"'3.3'!L2778","v":0},0,0,1125,{"$f":"'poměry financování'!D2771","v":"CZ.1.11/2.1.00/08.01125"}]
[null,{"$f":"'3.3'!I2779","v":0},{"$f":"'3.3'!L2779","v":0},0,0,1126,{"$f":"'poměry financování'!D2772","v":"CZ.1.11/2.1.00/08.01126"}]
[null,{"$f":"'3.3'!I2780","v":0},{"$f":"'3.3'!L2780","v":0},0,0,1126,{"$f":"'poměry financování'!D2773","v":"CZ.1.11/2.1.00/08.01126"}]
[null,{"$f":"'3.3'!I2781","v":0},{"$f":"'3.3'!L2781","v":0},0,0,1126,{"$f":"'poměry financování'!D2774","v":"CZ.1.11/2.1.00/08.01126"}]
[null,{"$f":"'3.3'!I2782","v":0},{"$f":"'3.3'!L2782","v":0},0,0,1126,{"$f":"'poměry financování'!D2775","v":"CZ.1.11/2.1.00/08.01126"}]
[null,{"$f":"'3.3'!I2783","v":0},{"$f":"'3.3'!L2783","v":0},0,0,1126,{"$f":"'poměry financování'!D2776","v":"CZ.1.11/2.1.00/08.01126"}]
[null,{"$f":"'3.3'!I2784","v":0},{"$f":"'3.3'!L2784","v":0},0,0,1127,{"$f":"'poměry financování'!D2777","v":"CZ.1.11/2.1.00/06.01127"}]
[null,{"$f":"'3.3'!I2785","v":0},{"$f":"'3.3'!L2785","v":0},0,0,1127,{"$f":"'poměry financování'!D2778","v":"CZ.1.11/2.1.00/06.01127"}]
[null,{"$f":"'3.3'!I2786","v":0},{"$f":"'3.3'!L2786","v":0},0,0,1128,{"$f":"'poměry financování'!D2779","v":"CZ.1.11/2.1.00/06.01128"}]
[null,{"$f":"'3.3'!I2787","v":0},{"$f":"'3.3'!L2787","v":0},0,0,1129,{"$f":"'poměry financování'!D2780","v":"CZ.1.11/2.1.00/06.01129"}]
[null,{"$f":"'3.3'!I2788","v":0},{"$f":"'3.3'!L2788","v":0},0,0,1129,{"$f":"'poměry financování'!D2781","v":"CZ.1.11/2.1.00/06.01129"}]
[null,{"$f":"'3.3'!I2789","v":0},{"$f":"'3.3'!L2789","v":0},0,0,1130,{"$f":"'poměry financování'!D2782","v":"CZ.1.11/2.1.00/06.01130"}]
[null,{"$f":"'3.3'!I2790","v":0},{"$f":"'3.3'!L2790","v":0},0,0,1130,{"$f":"'poměry financování'!D2783","v":"CZ.1.11/2.1.00/06.01130"}]
[null,{"$f":"'3.3'!I2791","v":0},{"$f":"'3.3'!L2791","v":0},0,0,1130,{"$f":"'poměry financování'!D2784","v":"CZ.1.11/2.1.00/06.01130"}]
[null,{"$f":"'3.3'!I2792","v":0},{"$f":"'3.3'!L2792","v":0},0,0,1130,{"$f":"'poměry financování'!D2785","v":"CZ.1.11/2.1.00/06.01130"}]
[null,{"$f":"'3.3'!I2793","v":0},{"$f":"'3.3'!L2793","v":0},0,0,1130,{"$f":"'poměry financování'!D2786","v":"CZ.1.11/2.1.00/06.01130"}]
[null,{"$f":"'3.3'!I2794","v":0},{"$f":"'3.3'!L2794","v":0},0,0,1130,{"$f":"'poměry financování'!D2787","v":"CZ.1.11/2.1.00/06.01130"}]
[null,{"$f":"'3.3'!I2795","v":0},{"$f":"'3.3'!L2795","v":0},0,0,1130,{"$f":"'poměry financování'!D2788","v":"CZ.1.11/2.1.00/06.01130"}]
[null,{"$f":"'3.3'!I2796","v":0},{"$f":"'3.3'!L2796","v":0},0,0,1130,{"$f":"'poměry financování'!D2789","v":"CZ.1.11/2.1.00/06.01130"}]
[null,{"$f":"'3.3'!I2797","v":0},{"$f":"'3.3'!L2797","v":0},0,0,1131,{"$f":"'poměry financování'!D2790","v":"CZ.1.11/2.1.00/06.01131"}]
[null,{"$f":"'3.3'!I2798","v":0},{"$f":"'3.3'!L2798","v":0},0,0,1131,{"$f":"'poměry financování'!D2791","v":"CZ.1.11/2.1.00/06.01131"}]
[null,{"$f":"'3.3'!I2799","v":0},{"$f":"'3.3'!L2799","v":0},0,0,1132,{"$f":"'poměry financování'!D2792","v":"CZ.1.11/3.1.00/02.01132"}]
[null,{"$f":"'3.3'!I2800","v":0},{"$f":"'3.3'!L2800","v":0},0,0,1132,{"$f":"'poměry financování'!D2793","v":"CZ.1.11/3.1.00/02.01132"}]
[null,{"$f":"'3.3'!I2801","v":0},{"$f":"'3.3'!L2801","v":0},0,0,1132,{"$f":"'poměry financování'!D2794","v":"CZ.1.11/3.1.00/02.01132"}]
[null,{"$f":"'3.3'!I2802","v":0},{"$f":"'3.3'!L2802","v":0},0,0,1133,{"$f":"'poměry financování'!D2795","v":"CZ.1.11/1.1.00/02.01133"}]
[null,{"$f":"'3.3'!I2803","v":0},{"$f":"'3.3'!L2803","v":0},0,0,1133,{"$f":"'poměry financování'!D2796","v":"CZ.1.11/1.1.00/02.01133"}]
[null,{"$f":"'3.3'!I2804","v":0},{"$f":"'3.3'!L2804","v":0},0,0,1134,{"$f":"'poměry financování'!D2797","v":"CZ.1.11/1.1.00/02.01134"}]
[null,{"$f":"'3.3'!I2805","v":0},{"$f":"'3.3'!L2805","v":0},0,0,1135,{"$f":"'poměry financování'!D2798","v":"CZ.1.11/3.1.00/02.01135"}]
[null,{"$f":"'3.3'!I2806","v":0},{"$f":"'3.3'!L2806","v":0},0,0,1136,{"$f":"'poměry financování'!D2799","v":"CZ.1.11/3.1.00/02.01136"}]
[null,{"$f":"'3.3'!I2807","v":0},{"$f":"'3.3'!L2807","v":0},0,0,1136,{"$f":"'poměry financování'!D2800","v":"CZ.1.11/3.1.00/02.01136"}]
[null,{"$f":"'3.3'!I2808","v":0},{"$f":"'3.3'!L2808","v":0},0,0,1137,{"$f":"'poměry financování'!D2801","v":"CZ.1.11/3.1.00/02.01137"}]
[null,{"$f":"'3.3'!I2809","v":0},{"$f":"'3.3'!L2809","v":0},0,0,1138,{"$f":"'poměry financování'!D2802","v":"CZ.1.11/3.1.00/02.01138"}]
[null,{"$f":"'3.3'!I2810","v":0},{"$f":"'3.3'!L2810","v":0},0,0,1138,{"$f":"'poměry financování'!D2803","v":"CZ.1.11/3.1.00/02.01138"}]
[null,{"$f":"'3.3'!I2811","v":0},{"$f":"'3.3'!L2811","v":0},0,0,1139,{"$f":"'poměry financování'!D2804","v":"CZ.1.11/3.1.00/02.01139"}]
[null,{"$f":"'3.3'!I2812","v":0},{"$f":"'3.3'!L2812","v":0},0,0,1140,{"$f":"'poměry financování'!D2805","v":"CZ.1.11/1.1.00/02.01140"}]
[null,{"$f":"'3.3'!I2813","v":0},{"$f":"'3.3'!L2813","v":0},0,0,1140,{"$f":"'poměry financování'!D2806","v":"CZ.1.11/1.1.00/02.01140"}]
[null,{"$f":"'3.3'!I2814","v":0},{"$f":"'3.3'!L2814","v":0},0,0,1141,{"$f":"'poměry financování'!D2807","v":"CZ.1.11/3.1.00/02.01141"}]
[null,{"$f":"'3.3'!I2815","v":0},{"$f":"'3.3'!L2815","v":0},0,0,1142,{"$f":"'poměry financování'!D2808","v":"CZ.1.11/3.1.00/02.01142"}]
[null,{"$f":"'3.3'!I2816","v":0},{"$f":"'3.3'!L2816","v":0},0,0,1142,{"$f":"'poměry financování'!D2809","v":"CZ.1.11/3.1.00/02.01142"}]
[null,{"$f":"'3.3'!I2817","v":0},{"$f":"'3.3'!L2817","v":0},0,0,1142,{"$f":"'poměry financování'!D2810","v":"CZ.1.11/3.1.00/02.01142"}]
[null,{"$f":"'3.3'!I2818","v":0},{"$f":"'3.3'!L2818","v":0},0,0,1142,{"$f":"'poměry financování'!D2811","v":"CZ.1.11/3.1.00/02.01142"}]
[null,{"$f":"'3.3'!I2819","v":0},{"$f":"'3.3'!L2819","v":0},0,0,1142,{"$f":"'poměry financování'!D2812","v":"CZ.1.11/3.1.00/02.01142"}]
[null,{"$f":"'3.3'!I2820","v":0},{"$f":"'3.3'!L2820","v":0},0,0,1143,{"$f":"'poměry financování'!D2813","v":"CZ.1.11/3.1.00/02.01143"}]
[null,{"$f":"'3.3'!I2821","v":0},{"$f":"'3.3'!L2821","v":0},0,0,1144,{"$f":"'poměry financování'!D2814","v":"CZ.1.11/1.1.00/02.01144"}]
[null,{"$f":"'3.3'!I2822","v":0},{"$f":"'3.3'!L2822","v":0},0,0,1144,{"$f":"'poměry financování'!D2815","v":"CZ.1.11/1.1.00/02.01144"}]
[null,{"$f":"'3.3'!I2823","v":0},{"$f":"'3.3'!L2823","v":0},{"$f":"IF(B2819=\"Investiční\",C2819,0)","v":0},{"$f":"IF(B2819=\"Neinvestiční\",C2819,0)","v":0},1145,{"$f":"'poměry financování'!D2816","v":"CZ.1.11/1.1.00/02.01145"}]
[null,{"$f":"'3.3'!I2824","v":0},{"$f":"'3.3'!L2824","v":0},0,0,1146,{"$f":"'poměry financování'!D2817","v":"CZ.1.11/1.1.00/02.01146"}]
[null,{"$f":"'3.3'!I2825","v":0},{"$f":"'3.3'!L2825","v":0},0,0,1147,{"$f":"'poměry financování'!D2818","v":"CZ.1.11/1.1.00/02.01147"}]
[null,{"$f":"'3.3'!I2826","v":0},{"$f":"'3.3'!L2826","v":0},0,0,{"$f":"VALUE((MID(G2822,20,4)))","v":1147},{"$f":"'poměry financování'!D2819","v":"CZ.1.11/1.1.00/02.01147"}]
[null,{"$f":"'3.3'!I2827","v":0},{"$f":"'3.3'!L2827","v":0},0,0,1148,{"$f":"'poměry financování'!D2820","v":"CZ.1.11/1.1.00/02.01148"}]
[null,{"$f":"'3.3'!I2828","v":0},{"$f":"'3.3'!L2828","v":0},0,0,1148,{"$f":"'poměry financování'!D2821","v":"CZ.1.11/1.1.00/02.01148"}]
[null,{"$f":"'3.3'!I2829","v":0},{"$f":"'3.3'!L2829","v":0},0,0,1148,{"$f":"'poměry financování'!D2822","v":"CZ.1.11/1.1.00/02.01148"}]
[null,{"$f":"'3.3'!I2830","v":0},{"$f":"'3.3'!L2830","v":0},0,0,1149,{"$f":"'poměry financování'!D2823","v":"CZ.1.11/2.2.00/10.01149"}]
[null,{"$f":"'3.3'!I2831","v":0},{"$f":"'3.3'!L2831","v":0},0,0,1149,{"$f":"'poměry financování'!D2824","v":"CZ.1.11/2.2.00/10.01149"}]
[null,{"$f":"'3.3'!I2832","v":0},{"$f":"'3.3'!L2832","v":0},0,0,1149,{"$f":"'poměry financování'!D2825","v":"CZ.1.11/2.2.00/10.01149"}]
[null,{"$f":"'3.3'!I2833","v":0},{"$f":"'3.3'!L2833","v":0},0,0,1149,{"$f":"'poměry financování'!D2826","v":"CZ.1.11/2.2.00/10.01149"}]
[null,{"$f":"'3.3'!I2834","v":0},{"$f":"'3.3'!L2834","v":0},0,0,1150,{"$f":"'poměry financování'!D2827","v":"CZ.1.11/2.2.00/10.01150"}]
[null,{"$f":"'3.3'!I2835","v":0},{"$f":"'3.3'!L2835","v":0},0,0,1151,{"$f":"'poměry financování'!D2828","v":"CZ.1.11/2.2.00/10.01151"}]
[null,{"$f":"'3.3'!I2836","v":0},{"$f":"'3.3'!L2836","v":0},0,0,1152,{"$f":"'poměry financování'!D2829","v":"CZ.1.11/2.2.00/10.01152"}]
[null,{"$f":"'3.3'!I2837","v":0},{"$f":"'3.3'!L2837","v":0},0,0,1152,{"$f":"'poměry financování'!D2830","v":"CZ.1.11/2.2.00/10.01152"}]
[null,{"$f":"'3.3'!I2838","v":0},{"$f":"'3.3'!L2838","v":0},0,0,1152,{"$f":"'poměry financování'!D2831","v":"CZ.1.11/2.2.00/10.01152"}]
[null,{"$f":"'3.3'!I2839","v":0},{"$f":"'3.3'!L2839","v":0},0,0,1152,{"$f":"'poměry financování'!D2832","v":"CZ.1.11/2.2.00/10.01152"}]
[null,{"$f":"'3.3'!I2840","v":0},{"$f":"'3.3'!L2840","v":0},0,0,1153,{"$f":"'poměry financování'!D2833","v":"CZ.1.11/2.2.00/10.01153"}]
[null,{"$f":"'3.3'!I2841","v":0},{"$f":"'3.3'!L2841","v":0},0,0,1153,{"$f":"'poměry financování'!D2834","v":"CZ.1.11/2.2.00/10.01153"}]
[null,{"$f":"'3.3'!I2842","v":0},{"$f":"'3.3'!L2842","v":0},0,0,1153,{"$f":"'poměry financování'!D2835","v":"CZ.1.11/2.2.00/10.01153"}]
[null,{"$f":"'3.3'!I2843","v":0},{"$f":"'3.3'!L2843","v":0},0,0,1154,{"$f":"'poměry financování'!D2836","v":"CZ.1.11/2.2.00/10.01154"}]
[null,{"$f":"'3.3'!I2844","v":0},{"$f":"'3.3'!L2844","v":0},0,0,1154,{"$f":"'poměry financování'!D2837","v":"CZ.1.11/2.2.00/10.01154"}]
[null,{"$f":"'3.3'!I2845","v":0},{"$f":"'3.3'!L2845","v":0},0,0,1154,{"$f":"'poměry financování'!D2838","v":"CZ.1.11/2.2.00/10.01154"}]
[null,{"$f":"'3.3'!I2846","v":0},{"$f":"'3.3'!L2846","v":0},0,0,1155,{"$f":"'poměry financování'!D2839","v":"CZ.1.11/2.2.00/10.01155"}]
[null,{"$f":"'3.3'!I2847","v":0},{"$f":"'3.3'!L2847","v":0},0,0,1155,{"$f":"'poměry financování'!D2840","v":"CZ.1.11/2.2.00/10.01155"}]
[null,{"$f":"'3.3'!I2848","v":0},{"$f":"'3.3'!L2848","v":0},0,0,1156,{"$f":"'poměry financování'!D2841","v":"CZ.1.11/2.2.00/10.01156"}]
[null,{"$f":"'3.3'!I2849","v":0},{"$f":"'3.3'!L2849","v":0},0,0,1156,{"$f":"'poměry financování'!D2842","v":"CZ.1.11/2.2.00/10.01156"}]
[null,{"$f":"'3.3'!I2850","v":0},{"$f":"'3.3'!L2850","v":0},0,0,1157,{"$f":"'poměry financování'!D2843","v":"CZ.1.11/2.2.00/10.01157"}]
[null,{"$f":"'3.3'!I2851","v":0},{"$f":"'3.3'!L2851","v":0},0,0,1157,{"$f":"'poměry financování'!D2844","v":"CZ.1.11/2.2.00/10.01157"}]
[null,{"$f":"'3.3'!I2852","v":0},{"$f":"'3.3'!L2852","v":0},0,0,1157,{"$f":"'poměry financování'!D2845","v":"CZ.1.11/2.2.00/10.01157"}]
[null,{"$f":"'3.3'!I2853","v":0},{"$f":"'3.3'!L2853","v":0},0,0,1158,{"$f":"'poměry financování'!D2846","v":"CZ.1.11/3.1.00/02.01158"}]
[null,{"$f":"'3.3'!I2854","v":0},{"$f":"'3.3'!L2854","v":0},0,0,1159,{"$f":"'poměry financování'!D2847","v":"CZ.1.11/2.2.00/10.01159"}]
[null,{"$f":"'3.3'!I2855","v":0},{"$f":"'3.3'!L2855","v":0},0,0,1160,{"$f":"'poměry financování'!D2848","v":"CZ.1.11/2.2.00/10.01160"}]
[null,{"$f":"'3.3'!I2856","v":0},{"$f":"'3.3'!L2856","v":0},0,0,1160,{"$f":"'poměry financování'!D2849","v":"CZ.1.11/2.2.00/10.01160"}]
[null,{"$f":"'3.3'!I2857","v":0},{"$f":"'3.3'!L2857","v":0},0,0,1161,{"$f":"'poměry financování'!D2850","v":"CZ.1.11/2.2.00/10.01161"}]
[null,{"$f":"'3.3'!I2858","v":0},{"$f":"'3.3'!L2858","v":0},0,0,1161,{"$f":"'poměry financování'!D2851","v":"CZ.1.11/2.2.00/10.01161"}]
[null,{"$f":"'3.3'!I2859","v":0},{"$f":"'3.3'!L2859","v":0},0,0,1161,{"$f":"'poměry financování'!D2852","v":"CZ.1.11/2.2.00/10.01161"}]
[null,{"$f":"'3.3'!I2860","v":0},{"$f":"'3.3'!L2860","v":0},0,0,1161,{"$f":"'poměry financování'!D2853","v":"CZ.1.11/2.2.00/10.01161"}]
[null,{"$f":"'3.3'!I2861","v":0},{"$f":"'3.3'!L2861","v":0},0,0,1162,{"$f":"'poměry financování'!D2854","v":"CZ.1.11/2.2.00/10.01162"}]
[null,{"$f":"'3.3'!I2862","v":0},{"$f":"'3.3'!L2862","v":0},0,0,1162,{"$f":"'poměry financování'!D2855","v":"CZ.1.11/2.2.00/10.01162"}]
[null,{"$f":"'3.3'!I2863","v":0},{"$f":"'3.3'!L2863","v":0},0,0,1163,{"$f":"'poměry financování'!D2856","v":"CZ.1.11/2.2.00/10.01163"}]
[null,{"$f":"'3.3'!I2864","v":0},{"$f":"'3.3'!L2864","v":0},0,0,1163,{"$f":"'poměry financování'!D2857","v":"CZ.1.11/2.2.00/10.01163"}]
[null,{"$f":"'3.3'!I2865","v":0},{"$f":"'3.3'!L2865","v":0},0,0,1163,{"$f":"'poměry financování'!D2858","v":"CZ.1.11/2.2.00/10.01163"}]
[null,{"$f":"'3.3'!I2866","v":0},{"$f":"'3.3'!L2866","v":0},0,0,1163,{"$f":"'poměry financování'!D2859","v":"CZ.1.11/2.2.00/10.01163"}]
[null,{"$f":"'3.3'!I2867","v":0},{"$f":"'3.3'!L2867","v":0},0,0,1164,{"$f":"'poměry financování'!D2860","v":"CZ.1.11/2.2.00/10.01164"}]
[null,{"$f":"'3.3'!I2868","v":0},{"$f":"'3.3'!L2868","v":0},0,0,1164,{"$f":"'poměry financování'!D2861","v":"CZ.1.11/2.2.00/10.01164"}]
[null,{"$f":"'3.3'!I2869","v":0},{"$f":"'3.3'!L2869","v":0},0,0,1164,{"$f":"'poměry financování'!D2862","v":"CZ.1.11/2.2.00/10.01164"}]
[null,{"$f":"'3.3'!I2870","v":0},{"$f":"'3.3'!L2870","v":0},0,0,1164,{"$f":"'poměry financování'!D2863","v":"CZ.1.11/2.2.00/10.01164"}]
[null,{"$f":"'3.3'!I2871","v":0},{"$f":"'3.3'!L2871","v":0},0,0,1165,{"$f":"'poměry financování'!D2864","v":"CZ.1.11/2.2.00/10.01165"}]
[null,{"$f":"'3.3'!I2872","v":0},{"$f":"'3.3'!L2872","v":0},0,0,1166,{"$f":"'poměry financování'!D2865","v":"CZ.1.11/2.2.00/10.01166"}]
[null,{"$f":"'3.3'!I2873","v":0},{"$f":"'3.3'!L2873","v":0},0,0,1167,{"$f":"'poměry financování'!D2866","v":"CZ.1.11/2.2.00/10.01167"}]
[null,{"$f":"'3.3'!I2874","v":0},{"$f":"'3.3'!L2874","v":0},0,0,1168,{"$f":"'poměry financování'!D2867","v":"CZ.1.11/2.2.00/10.01168"}]
[null,{"$f":"'3.3'!I2875","v":0},{"$f":"'3.3'!L2875","v":0},0,0,1168,{"$f":"'poměry financování'!D2868","v":"CZ.1.11/2.2.00/10.01168"}]
[null,{"$f":"'3.3'!I2876","v":0},{"$f":"'3.3'!L2876","v":0},0,0,1168,{"$f":"'poměry financování'!D2869","v":"CZ.1.11/2.2.00/10.01168"}]
[null,{"$f":"'3.3'!I2877","v":0},{"$f":"'3.3'!L2877","v":0},0,0,1168,{"$f":"'poměry financování'!D2870","v":"CZ.1.11/2.2.00/10.01168"}]
[null,{"$f":"'3.3'!I2878","v":0},{"$f":"'3.3'!L2878","v":0},0,0,1169,{"$f":"'poměry financování'!D2871","v":"CZ.1.11/2.2.00/10.01169"}]
[null,{"$f":"'3.3'!I2879","v":0},{"$f":"'3.3'!L2879","v":0},0,0,1170,{"$f":"'poměry financování'!D2872","v":"CZ.1.11/2.2.00/10.01170"}]
[null,{"$f":"'3.3'!I2880","v":0},{"$f":"'3.3'!L2880","v":0},0,0,1171,{"$f":"'poměry financování'!D2873","v":"CZ.1.11/2.2.00/10.01171"}]
[null,{"$f":"'3.3'!I2881","v":0},{"$f":"'3.3'!L2881","v":0},0,0,1171,{"$f":"'poměry financování'!D2874","v":"CZ.1.11/2.2.00/10.01171"}]
[null,{"$f":"'3.3'!I2882","v":0},{"$f":"'3.3'!L2882","v":0},0,0,1172,{"$f":"'poměry financování'!D2875","v":"CZ.1.11/2.2.00/10.01172"}]
[null,{"$f":"'3.3'!I2883","v":0},{"$f":"'3.3'!L2883","v":0},0,0,1172,{"$f":"'poměry financování'!D2876","v":"CZ.1.11/2.2.00/10.01172"}]
[null,{"$f":"'3.3'!I2884","v":0},{"$f":"'3.3'!L2884","v":0},0,0,1173,{"$f":"'poměry financování'!D2877","v":"CZ.1.11/2.2.00/10.01173"}]
[null,{"$f":"'3.3'!I2885","v":0},{"$f":"'3.3'!L2885","v":0},0,0,1173,{"$f":"'poměry financování'!D2878","v":"CZ.1.11/2.2.00/10.01173"}]
[null,{"$f":"'3.3'!I2886","v":0},{"$f":"'3.3'!L2886","v":0},0,0,1174,{"$f":"'poměry financování'!D2879","v":"CZ.1.11/2.2.00/10.01174"}]
[null,{"$f":"'3.3'!I2887","v":0},{"$f":"'3.3'!L2887","v":0},{"$f":"IF(B2883=\"Investiční\",C2883,0)","v":0},{"$f":"IF(B2883=\"Neinvestiční\",C2883,0)","v":0},1174,{"$f":"'poměry financování'!D2880","v":"CZ.1.11/2.2.00/10.01174"}]
[null,{"$f":"'3.3'!I2888","v":0},{"$f":"'3.3'!L2888","v":0},0,0,1174,{"$f":"'poměry financování'!D2881","v":"CZ.1.11/2.2.00/10.01174"}]
[null,{"$f":"'3.3'!I2889","v":0},{"$f":"'3.3'!L2889","v":0},0,0,1175,{"$f":"'poměry financování'!D2882","v":"CZ.1.11/3.1.00/02.01175"}]
[null,{"$f":"'3.3'!I2890","v":0},{"$f":"'3.3'!L2890","v":0},0,0,{"$f":"VALUE((MID(G2886,20,4)))","v":1176},{"$f":"'poměry financování'!D2883","v":"CZ.1.11/3.1.00/02.01176"}]
[null,{"$f":"'3.3'!I2891","v":0},{"$f":"'3.3'!L2891","v":0},0,0,1177,{"$f":"'poměry financování'!D2884","v":"CZ.1.11/3.1.00/02.01177"}]
[null,{"$f":"'3.3'!I2892","v":0},{"$f":"'3.3'!L2892","v":0},0,0,1177,{"$f":"'poměry financování'!D2885","v":"CZ.1.11/3.1.00/02.01177"}]
[null,{"$f":"'3.3'!I2893","v":0},{"$f":"'3.3'!L2893","v":0},0,0,1178,{"$f":"'poměry financování'!D2886","v":"CZ.1.11/3.1.00/02.01178"}]
[null,{"$f":"'3.3'!I2894","v":0},{"$f":"'3.3'!L2894","v":0},0,0,1178,{"$f":"'poměry financování'!D2887","v":"CZ.1.11/3.1.00/02.01178"}]
[null,{"$f":"'3.3'!I2895","v":0},{"$f":"'3.3'!L2895","v":0},0,0,1179,{"$f":"'poměry financování'!D2888","v":"CZ.1.11/3.4.00/02.01179"}]
[null,{"$f":"'3.3'!I2896","v":0},{"$f":"'3.3'!L2896","v":0},0,0,1180,{"$f":"'poměry financování'!D2889","v":"CZ.1.11/3.1.00/02.01180"}]
[null,{"$f":"'3.3'!I2897","v":0},{"$f":"'3.3'!L2897","v":0},0,0,1180,{"$f":"'poměry financování'!D2890","v":"CZ.1.11/3.1.00/02.01180"}]
[null,{"$f":"'3.3'!I2898","v":0},{"$f":"'3.3'!L2898","v":0},0,0,1180,{"$f":"'poměry financování'!D2891","v":"CZ.1.11/3.1.00/02.01180"}]
[null,{"$f":"'3.3'!I2899","v":0},{"$f":"'3.3'!L2899","v":0},0,0,1180,{"$f":"'poměry financování'!D2892","v":"CZ.1.11/3.1.00/02.01180"}]
[null,{"$f":"'3.3'!I2900","v":0},{"$f":"'3.3'!L2900","v":0},0,0,1181,{"$f":"'poměry financování'!D2893","v":"CZ.1.11/3.1.00/02.01181"}]
[null,{"$f":"'3.3'!I2901","v":0},{"$f":"'3.3'!L2901","v":0},0,0,1181,{"$f":"'poměry financování'!D2894","v":"CZ.1.11/3.1.00/02.01181"}]
[null,{"$f":"'3.3'!I2902","v":0},{"$f":"'3.3'!L2902","v":0},0,0,1182,{"$f":"'poměry financování'!D2895","v":"CZ.1.11/1.1.00/02.01182"}]
[null,{"$f":"'3.3'!I2903","v":0},{"$f":"'3.3'!L2903","v":0},0,0,1182,{"$f":"'poměry financování'!D2896","v":"CZ.1.11/1.1.00/02.01182"}]
[null,{"$f":"'3.3'!I2904","v":0},{"$f":"'3.3'!L2904","v":0},0,0,1182,{"$f":"'poměry financování'!D2897","v":"CZ.1.11/1.1.00/02.01182"}]
[null,{"$f":"'3.3'!I2905","v":0},{"$f":"'3.3'!L2905","v":0},0,0,1183,{"$f":"'poměry financování'!D2898","v":"CZ.1.11/3.1.00/02.01183"}]
[null,{"$f":"'3.3'!I2906","v":0},{"$f":"'3.3'!L2906","v":0},0,0,1184,{"$f":"'poměry financování'!D2899","v":"CZ.1.11/1.1.00/15.01184"}]
[null,{"$f":"'3.3'!I2907","v":0},{"$f":"'3.3'!L2907","v":0},0,0,1185,{"$f":"'poměry financování'!D2900","v":"CZ.1.11/1.1.00/15.01185"}]
[null,{"$f":"'3.3'!I2908","v":0},{"$f":"'3.3'!L2908","v":0},0,0,1185,{"$f":"'poměry financování'!D2901","v":"CZ.1.11/1.1.00/15.01185"}]
[null,{"$f":"'3.3'!I2909","v":0},{"$f":"'3.3'!L2909","v":0},0,0,1186,{"$f":"'poměry financování'!D2902","v":"CZ.1.11/1.1.00/15.01186"}]
[null,{"$f":"'3.3'!I2910","v":0},{"$f":"'3.3'!L2910","v":0},0,0,1186,{"$f":"'poměry financování'!D2903","v":"CZ.1.11/1.1.00/15.01186"}]
[null,{"$f":"'3.3'!I2911","v":0},{"$f":"'3.3'!L2911","v":0},0,0,1187,{"$f":"'poměry financování'!D2904","v":"CZ.1.11/1.1.00/15.01187"}]
[null,{"$f":"'3.3'!I2912","v":0},{"$f":"'3.3'!L2912","v":0},0,0,1187,{"$f":"'poměry financování'!D2905","v":"CZ.1.11/1.1.00/15.01187"}]
[null,{"$f":"'3.3'!I2913","v":0},{"$f":"'3.3'!L2913","v":0},0,0,1187,{"$f":"'poměry financování'!D2906","v":"CZ.1.11/1.1.00/15.01187"}]
[null,{"$f":"'3.3'!I2914","v":0},{"$f":"'3.3'!L2914","v":0},0,0,1188,{"$f":"'poměry financování'!D2907","v":"CZ.1.11/1.1.00/15.01188"}]
[null,{"$f":"'3.3'!I2915","v":0},{"$f":"'3.3'!L2915","v":0},0,0,1188,{"$f":"'poměry financování'!D2908","v":"CZ.1.11/1.1.00/15.01188"}]
[null,{"$f":"'3.3'!I2916","v":0},{"$f":"'3.3'!L2916","v":0},0,0,1188,{"$f":"'poměry financování'!D2909","v":"CZ.1.11/1.1.00/15.01188"}]
[null,{"$f":"'3.3'!I2917","v":0},{"$f":"'3.3'!L2917","v":0},0,0,1189,{"$f":"'poměry financování'!D2910","v":"CZ.1.11/2.1.00/13.01189"}]
[null,{"$f":"'3.3'!I2918","v":0},{"$f":"'3.3'!L2918","v":0},0,0,1189,{"$f":"'poměry financování'!D2911","v":"CZ.1.11/2.1.00/13.01189"}]
[null,{"$f":"'3.3'!I2919","v":0},{"$f":"'3.3'!L2919","v":0},0,0,1189,{"$f":"'poměry financování'!D2912","v":"CZ.1.11/2.1.00/13.01189"}]
[null,{"$f":"'3.3'!I2920","v":0},{"$f":"'3.3'!L2920","v":0},0,0,1190,{"$f":"'poměry financování'!D2913","v":"CZ.1.11/2.1.00/13.01190"}]
[null,{"$f":"'3.3'!I2921","v":0},{"$f":"'3.3'!L2921","v":0},0,0,1191,{"$f":"'poměry financování'!D2914","v":"CZ.1.11/2.1.00/13.01191"}]
[null,{"$f":"'3.3'!I2922","v":0},{"$f":"'3.3'!L2922","v":0},0,0,1191,{"$f":"'poměry financování'!D2915","v":"CZ.1.11/2.1.00/13.01191"}]
[null,{"$f":"'3.3'!I2923","v":0},{"$f":"'3.3'!L2923","v":0},0,0,1192,{"$f":"'poměry financování'!D2916","v":"CZ.1.11/2.1.00/13.01192"}]
[null,{"$f":"'3.3'!I2924","v":0},{"$f":"'3.3'!L2924","v":0},0,0,1193,{"$f":"'poměry financování'!D2917","v":"CZ.1.11/2.1.00/13.01193"}]
[null,{"$f":"'3.3'!I2925","v":0},{"$f":"'3.3'!L2925","v":0},0,0,1194,{"$f":"'poměry financování'!D2918","v":"CZ.1.11/2.1.00/13.01194"}]
[null,{"$f":"'3.3'!I2926","v":0},{"$f":"'3.3'!L2926","v":0},0,0,1195,{"$f":"'poměry financování'!D2919","v":"CZ.1.11/2.1.00/13.01195"}]
[null,{"$f":"'3.3'!I2927","v":0},{"$f":"'3.3'!L2927","v":0},0,0,1196,{"$f":"'poměry financování'!D2920","v":"CZ.1.11/2.1.00/13.01196"}]
[null,{"$f":"'3.3'!I2928","v":0},{"$f":"'3.3'!L2928","v":0},0,0,1196,{"$f":"'poměry financování'!D2921","v":"CZ.1.11/2.1.00/13.01196"}]
[null,{"$f":"'3.3'!I2929","v":0},{"$f":"'3.3'!L2929","v":0},0,0,1196,{"$f":"'poměry financování'!D2922","v":"CZ.1.11/2.1.00/13.01196"}]
[null,{"$f":"'3.3'!I2930","v":0},{"$f":"'3.3'!L2930","v":0},0,0,1197,{"$f":"'poměry financování'!D2923","v":"CZ.1.11/2.1.00/13.01197"}]
[null,{"$f":"'3.3'!I2931","v":0},{"$f":"'3.3'!L2931","v":0},0,0,1198,{"$f":"'poměry financování'!D2924","v":"CZ.1.11/2.1.00/13.01198"}]
[null,{"$f":"'3.3'!I2932","v":0},{"$f":"'3.3'!L2932","v":0},0,0,1199,{"$f":"'poměry financování'!D2925","v":"CZ.1.11/2.1.00/13.01199"}]
[null,{"$f":"'3.3'!I2933","v":0},{"$f":"'3.3'!L2933","v":0},0,0,1200,{"$f":"'poměry financování'!D2926","v":"CZ.1.11/2.1.00/13.01200"}]
[null,{"$f":"'3.3'!I2934","v":0},{"$f":"'3.3'!L2934","v":0},0,0,1201,{"$f":"'poměry financování'!D2927","v":"CZ.1.11/2.1.00/13.01201"}]
[null,{"$f":"'3.3'!I2935","v":0},{"$f":"'3.3'!L2935","v":0},0,0,1201,{"$f":"'poměry financování'!D2928","v":"CZ.1.11/2.1.00/13.01201"}]
[null,{"$f":"'3.3'!I2936","v":0},{"$f":"'3.3'!L2936","v":0},0,0,1202,{"$f":"'poměry financování'!D2929","v":"CZ.1.11/2.1.00/13.01202"}]
[null,{"$f":"'3.3'!I2937","v":0},{"$f":"'3.3'!L2937","v":0},0,0,1203,{"$f":"'poměry financování'!D2930","v":"CZ.1.11/2.1.00/13.01203"}]
[null,{"$f":"'3.3'!I2938","v":0},{"$f":"'3.3'!L2938","v":0},0,0,1204,{"$f":"'poměry financování'!D2931","v":"CZ.1.11/2.1.00/13.01204"}]
[null,{"$f":"'3.3'!I2939","v":0},{"$f":"'3.3'!L2939","v":0},0,0,1204,{"$f":"'poměry financování'!D2932","v":"CZ.1.11/2.1.00/13.01204"}]
[null,{"$f":"'3.3'!I2940","v":0},{"$f":"'3.3'!L2940","v":0},0,0,1205,{"$f":"'poměry financování'!D2933","v":"CZ.1.11/2.1.00/13.01205"}]
[null,{"$f":"'3.3'!I2941","v":0},{"$f":"'3.3'!L2941","v":0},0,0,1206,{"$f":"'poměry financování'!D2934","v":"CZ.1.11/2.1.00/13.01206"}]
[null,{"$f":"'3.3'!I2942","v":0},{"$f":"'3.3'!L2942","v":0},0,0,1207,{"$f":"'poměry financování'!D2935","v":"CZ.1.11/2.1.00/13.01207"}]
[null,{"$f":"'3.3'!I2943","v":0},{"$f":"'3.3'!L2943","v":0},0,0,1208,{"$f":"'poměry financování'!D2936","v":"CZ.1.11/2.1.00/13.01208"}]
[null,{"$f":"'3.3'!I2944","v":0},{"$f":"'3.3'!L2944","v":0},0,0,1209,{"$f":"'poměry financování'!D2937","v":"CZ.1.11/2.1.00/13.01209"}]
[null,{"$f":"'3.3'!I2945","v":0},{"$f":"'3.3'!L2945","v":0},0,0,1209,{"$f":"'poměry financování'!D2938","v":"CZ.1.11/2.1.00/13.01209"}]
[null,{"$f":"'3.3'!I2946","v":0},{"$f":"'3.3'!L2946","v":0},0,0,1210,{"$f":"'poměry financování'!D2939","v":"CZ.1.11/2.1.00/13.01210"}]
[null,{"$f":"'3.3'!I2947","v":0},{"$f":"'3.3'!L2947","v":0},0,0,1210,{"$f":"'poměry financování'!D2940","v":"CZ.1.11/2.1.00/13.01210"}]
[null,{"$f":"'3.3'!I2948","v":0},{"$f":"'3.3'!L2948","v":0},0,0,1211,{"$f":"'poměry financování'!D2941","v":"CZ.1.11/2.1.00/13.01211"}]
[null,{"$f":"'3.3'!I2949","v":0},{"$f":"'3.3'!L2949","v":0},0,0,1212,{"$f":"'poměry financování'!D2942","v":"CZ.1.11/2.1.00/13.01212"}]
[null,{"$f":"'3.3'!I2950","v":0},{"$f":"'3.3'!L2950","v":0},0,0,1213,{"$f":"'poměry financování'!D2943","v":"CZ.1.11/2.1.00/13.01213"}]
[null,{"$f":"'3.3'!I2951","v":0},{"$f":"'3.3'!L2951","v":0},{"$f":"IF(B2947=\"Investiční\",C2947,0)","v":0},{"$f":"IF(B2947=\"Neinvestiční\",C2947,0)","v":0},1214,{"$f":"'poměry financování'!D2944","v":"CZ.1.11/2.1.00/13.01214"}]
[null,{"$f":"'3.3'!I2952","v":0},{"$f":"'3.3'!L2952","v":0},0,0,1215,{"$f":"'poměry financování'!D2945","v":"CZ.1.11/1.1.00/21.01215"}]
[null,{"$f":"'3.3'!I2953","v":0},{"$f":"'3.3'!L2953","v":0},0,0,1215,{"$f":"'poměry financování'!D2946","v":"CZ.1.11/1.1.00/21.01215"}]
[null,{"$f":"'3.3'!I2954","v":0},{"$f":"'3.3'!L2954","v":0},0,0,{"$f":"VALUE((MID(G2950,20,4)))","v":1215},{"$f":"'poměry financování'!D2947","v":"CZ.1.11/1.1.00/21.01215"}]
[null,{"$f":"'3.3'!I2955","v":0},{"$f":"'3.3'!L2955","v":0},0,0,1215,{"$f":"'poměry financování'!D2948","v":"CZ.1.11/1.1.00/21.01215"}]
[null,{"$f":"'3.3'!I2956","v":0},{"$f":"'3.3'!L2956","v":0},0,0,1215,{"$f":"'poměry financování'!D2949","v":"CZ.1.11/1.1.00/21.01215"}]
[null,{"$f":"'3.3'!I2957","v":0},{"$f":"'3.3'!L2957","v":0},0,0,1216,{"$f":"'poměry financování'!D2950","v":"CZ.1.11/3.1.00/22.01216"}]
[null,{"$f":"'3.3'!I2958","v":0},{"$f":"'3.3'!L2958","v":0},0,0,1217,{"$f":"'poměry financování'!D2951","v":"CZ.1.11/3.1.00/22.01217"}]
[null,{"$f":"'3.3'!I2959","v":0},{"$f":"'3.3'!L2959","v":0},0,0,1218,{"$f":"'poměry financování'!D2952","v":"CZ.1.11/3.1.00/22.01218"}]
[null,{"$f":"'3.3'!I2960","v":0},{"$f":"'3.3'!L2960","v":0},0,0,1218,{"$f":"'poměry financování'!D2953","v":"CZ.1.11/3.1.00/22.01218"}]
[null,{"$f":"'3.3'!I2961","v":0},{"$f":"'3.3'!L2961","v":0},0,0,1218,{"$f":"'poměry financování'!D2954","v":"CZ.1.11/3.1.00/22.01218"}]
[null,{"$f":"'3.3'!I2962","v":0},{"$f":"'3.3'!L2962","v":0},0,0,1218,{"$f":"'poměry financování'!D2955","v":"CZ.1.11/3.1.00/22.01218"}]
[null,{"$f":"'3.3'!I2963","v":0},{"$f":"'3.3'!L2963","v":0},0,0,1219,{"$f":"'poměry financování'!D2956","v":"CZ.1.11/1.1.00/21.01219"}]
[null,{"$f":"'3.3'!I2964","v":0},{"$f":"'3.3'!L2964","v":0},0,0,1219,{"$f":"'poměry financování'!D2957","v":"CZ.1.11/1.1.00/21.01219"}]
[null,{"$f":"'3.3'!I2965","v":0},{"$f":"'3.3'!L2965","v":0},0,0,1220,{"$f":"'poměry financování'!D2958","v":"CZ.1.11/1.1.00/21.01220"}]
[null,{"$f":"'3.3'!I2966","v":0},{"$f":"'3.3'!L2966","v":0},0,0,1220,{"$f":"'poměry financování'!D2959","v":"CZ.1.11/1.1.00/21.01220"}]
[null,{"$f":"'3.3'!I2967","v":0},{"$f":"'3.3'!L2967","v":0},0,0,1221,{"$f":"'poměry financování'!D2960","v":"CZ.1.11/1.1.00/21.01221"}]
[null,{"$f":"'3.3'!I2968","v":0},{"$f":"'3.3'!L2968","v":0},0,0,1222,{"$f":"'poměry financování'!D2961","v":"CZ.1.11/1.1.00/21.01222"}]
[null,{"$f":"'3.3'!I2969","v":0},{"$f":"'3.3'!L2969","v":0},0,0,1222,{"$f":"'poměry financování'!D2962","v":"CZ.1.11/1.1.00/21.01222"}]
[null,{"$f":"'3.3'!I2970","v":0},{"$f":"'3.3'!L2970","v":0},0,0,1222,{"$f":"'poměry financování'!D2963","v":"CZ.1.11/1.1.00/21.01222"}]
[null,{"$f":"'3.3'!I2971","v":0},{"$f":"'3.3'!L2971","v":0},0,0,1223,{"$f":"'poměry financování'!D2964","v":"CZ.1.11/1.1.00/21.01223"}]
[null,{"$f":"'3.3'!I2972","v":0},{"$f":"'3.3'!L2972","v":0},0,0,1224,{"$f":"'poměry financování'!D2965","v":"CZ.1.11/1.1.00/21.01224"}]
[null,{"$f":"'3.3'!I2973","v":0},{"$f":"'3.3'!L2973","v":0},0,0,1224,{"$f":"'poměry financování'!D2966","v":"CZ.1.11/1.1.00/21.01224"}]
[null,{"$f":"'3.3'!I2974","v":0},{"$f":"'3.3'!L2974","v":0},0,0,1224,{"$f":"'poměry financování'!D2967","v":"CZ.1.11/1.1.00/21.01224"}]
[null,{"$f":"'3.3'!I2975","v":0},{"$f":"'3.3'!L2975","v":0},0,0,1225,{"$f":"'poměry financování'!D2968","v":"CZ.1.11/1.1.00/21.01225"}]
[null,{"$f":"'3.3'!I2976","v":0},{"$f":"'3.3'!L2976","v":0},0,0,1226,{"$f":"'poměry financování'!D2969","v":"CZ.1.11/1.1.00/21.01226"}]
[null,{"$f":"'3.3'!I2977","v":0},{"$f":"'3.3'!L2977","v":0},0,0,1227,{"$f":"'poměry financování'!D2970","v":"CZ.1.11/2.1.00/14.01227"}]
[null,{"$f":"'3.3'!I2978","v":0},{"$f":"'3.3'!L2978","v":0},0,0,1228,{"$f":"'poměry financování'!D2971","v":"CZ.1.11/2.1.00/14.01228"}]
[null,{"$f":"'3.3'!I2979","v":0},{"$f":"'3.3'!L2979","v":0},0,0,1228,{"$f":"'poměry financování'!D2972","v":"CZ.1.11/2.1.00/14.01228"}]
[null,{"$f":"'3.3'!I2980","v":0},{"$f":"'3.3'!L2980","v":0},0,0,1229,{"$f":"'poměry financování'!D2973","v":"CZ.1.11/2.1.00/14.01229"}]
[null,{"$f":"'3.3'!I2981","v":0},{"$f":"'3.3'!L2981","v":0},0,0,1229,{"$f":"'poměry financování'!D2974","v":"CZ.1.11/2.1.00/14.01229"}]
[null,{"$f":"'3.3'!I2982","v":0},{"$f":"'3.3'!L2982","v":0},0,0,1230,{"$f":"'poměry financování'!D2975","v":"CZ.1.11/2.1.00/14.01230"}]
[null,{"$f":"'3.3'!I2983","v":0},{"$f":"'3.3'!L2983","v":0},0,0,1230,{"$f":"'poměry financování'!D2976","v":"CZ.1.11/2.1.00/14.01230"}]
[null,{"$f":"'3.3'!I2984","v":0},{"$f":"'3.3'!L2984","v":0},0,0,1231,{"$f":"'poměry financování'!D2977","v":"CZ.1.11/2.1.00/14.01231"}]
[null,{"$f":"'3.3'!I2985","v":0},{"$f":"'3.3'!L2985","v":0},0,0,1231,{"$f":"'poměry financování'!D2978","v":"CZ.1.11/2.1.00/14.01231"}]
[null,{"$f":"'3.3'!I2986","v":0},{"$f":"'3.3'!L2986","v":0},0,0,1231,{"$f":"'poměry financování'!D2979","v":"CZ.1.11/2.1.00/14.01231"}]
[null,{"$f":"'3.3'!I2987","v":0},{"$f":"'3.3'!L2987","v":0},0,0,1231,{"$f":"'poměry financování'!D2980","v":"CZ.1.11/2.1.00/14.01231"}]
[null,{"$f":"'3.3'!I2988","v":0},{"$f":"'3.3'!L2988","v":0},0,0,1231,{"$f":"'poměry financování'!D2981","v":"CZ.1.11/2.1.00/14.01231"}]
[null,{"$f":"'3.3'!I2989","v":0},{"$f":"'3.3'!L2989","v":0},0,0,1231,{"$f":"'poměry financování'!D2982","v":"CZ.1.11/2.1.00/14.01231"}]
[null,{"$f":"'3.3'!I2990","v":0},{"$f":"'3.3'!L2990","v":0},0,0,1231,{"$f":"'poměry financování'!D2983","v":"CZ.1.11/2.1.00/14.01231"}]
[null,{"$f":"'3.3'!I2991","v":0},{"$f":"'3.3'!L2991","v":0},0,0,1231,{"$f":"'poměry financování'!D2984","v":"CZ.1.11/2.1.00/14.01231"}]
[null,{"$f":"'3.3'!I2992","v":0},{"$f":"'3.3'!L2992","v":0},0,0,1232,{"$f":"'poměry financování'!D2985","v":"CZ.1.11/2.1.00/14.01232"}]
[null,{"$f":"'3.3'!I2993","v":0},{"$f":"'3.3'!L2993","v":0},0,0,1232,{"$f":"'poměry financování'!D2986","v":"CZ.1.11/2.1.00/14.01232"}]
[null,{"$f":"'3.3'!I2994","v":0},{"$f":"'3.3'!L2994","v":0},0,0,1232,{"$f":"'poměry financování'!D2987","v":"CZ.1.11/2.1.00/14.01232"}]
[null,{"$f":"'3.3'!I2995","v":0},{"$f":"'3.3'!L2995","v":0},0,0,1232,{"$f":"'poměry financování'!D2988","v":"CZ.1.11/2.1.00/14.01232"}]
[null,{"$f":"'3.3'!I2996","v":0},{"$f":"'3.3'!L2996","v":0},0,0,1232,{"$f":"'poměry financování'!D2989","v":"CZ.1.11/2.1.00/14.01232"}]
[null,{"$f":"'3.3'!I2997","v":0},{"$f":"'3.3'!L2997","v":0},0,0,1233,{"$f":"'poměry financování'!D2990","v":"CZ.1.11/2.1.00/14.01233"}]
[null,{"$f":"'3.3'!I2998","v":0},{"$f":"'3.3'!L2998","v":0},0,0,1233,{"$f":"'poměry financování'!D2991","v":"CZ.1.11/2.1.00/14.01233"}]
[null,{"$f":"'3.3'!I2999","v":0},{"$f":"'3.3'!L2999","v":0},0,0,1233,{"$f":"'poměry financování'!D2992","v":"CZ.1.11/2.1.00/14.01233"}]
[null,{"$f":"'3.3'!I3000","v":0},{"$f":"'3.3'!L3000","v":0},0,0,1233,{"$f":"'poměry financování'!D2993","v":"CZ.1.11/2.1.00/14.01233"}]
[null,{"$f":"'3.3'!I3001","v":0},{"$f":"'3.3'!L3001","v":0},0,0,1233,{"$f":"'poměry financování'!D2994","v":"CZ.1.11/2.1.00/14.01233"}]
[null,{"$f":"'3.3'!I3002","v":0},{"$f":"'3.3'!L3002","v":0},0,0,1233,{"$f":"'poměry financování'!D2995","v":"CZ.1.11/2.1.00/14.01233"}]
[null,{"$f":"'3.3'!I3003","v":0},{"$f":"'3.3'!L3003","v":0},0,0,1234,{"$f":"'poměry financování'!D2996","v":"CZ.1.11/2.1.00/14.01234"}]
[null,{"$f":"'3.3'!I3004","v":0},{"$f":"'3.3'!L3004","v":0},0,0,1234,{"$f":"'poměry financování'!D2997","v":"CZ.1.11/2.1.00/14.01234"}]
[null,{"$f":"'3.3'!I3005","v":0},{"$f":"'3.3'!L3005","v":0},0,0,1235,{"$f":"'poměry financování'!D2998","v":"CZ.1.11/2.1.00/14.01235"}]
[null,{"$f":"'3.3'!I3006","v":0},{"$f":"'3.3'!L3006","v":0},0,0,1235,{"$f":"'poměry financování'!D2999","v":"CZ.1.11/2.1.00/14.01235"}]
[null,{"$f":"'3.3'!I3007","v":0},{"$f":"'3.3'!L3007","v":0},0,0,1235,{"$f":"'poměry financování'!D3000","v":"CZ.1.11/2.1.00/14.01235"}]
[null,{"$f":"'3.3'!I3008","v":0},{"$f":"'3.3'!L3008","v":0},0,0,1236,{"$f":"'poměry financování'!D3001","v":"CZ.1.11/2.1.00/14.01236"}]
[null,{"$f":"'3.3'!I3009","v":0},{"$f":"'3.3'!L3009","v":0},0,0,1236,{"$f":"'poměry financování'!D3002","v":"CZ.1.11/2.1.00/14.01236"}]
[null,{"$f":"'3.3'!I3010","v":0},{"$f":"'3.3'!L3010","v":0},0,0,1236,{"$f":"'poměry financování'!D3003","v":"CZ.1.11/2.1.00/14.01236"}]
[null,{"$f":"'3.3'!I3011","v":0},{"$f":"'3.3'!L3011","v":0},0,0,1236,{"$f":"'poměry financování'!D3004","v":"CZ.1.11/2.1.00/14.01236"}]
[null,{"$f":"'3.3'!I3012","v":0},{"$f":"'3.3'!L3012","v":0},0,0,1236,{"$f":"'poměry financování'!D3005","v":"CZ.1.11/2.1.00/14.01236"}]
[null,{"$f":"'3.3'!I3013","v":0},{"$f":"'3.3'!L3013","v":0},0,0,1236,{"$f":"'poměry financování'!D3006","v":"CZ.1.11/2.1.00/14.01236"}]
[null,{"$f":"'3.3'!I3014","v":0},{"$f":"'3.3'!L3014","v":0},0,0,1237,{"$f":"'poměry financování'!D3007","v":"CZ.1.11/2.1.00/14.01237"}]
[null,{"$f":"'3.3'!I3015","v":0},{"$f":"'3.3'!L3015","v":0},{"$f":"IF(B3011=\"Investiční\",C3011,0)","v":0},{"$f":"IF(B3011=\"Neinvestiční\",C3011,0)","v":0},1237,{"$f":"'poměry financování'!D3008","v":"CZ.1.11/2.1.00/14.01237"}]
[null,{"$f":"'3.3'!I3016","v":0},{"$f":"'3.3'!L3016","v":0},0,0,1237,{"$f":"'poměry financování'!D3009","v":"CZ.1.11/2.1.00/14.01237"}]
[null,{"$f":"'3.3'!I3017","v":0},{"$f":"'3.3'!L3017","v":0},0,0,1238,{"$f":"'poměry financování'!D3010","v":"CZ.1.11/2.1.00/14.01238"}]
[null,{"$f":"'3.3'!I3018","v":0},{"$f":"'3.3'!L3018","v":0},0,0,{"$f":"VALUE((MID(G3014,20,4)))","v":1238},{"$f":"'poměry financování'!D3011","v":"CZ.1.11/2.1.00/14.01238"}]
[null,{"$f":"'3.3'!I3019","v":0},{"$f":"'3.3'!L3019","v":0},0,0,1239,{"$f":"'poměry financování'!D3012","v":"CZ.1.11/2.1.00/14.01239"}]
[null,{"$f":"'3.3'!I3020","v":0},{"$f":"'3.3'!L3020","v":0},0,0,1240,{"$f":"'poměry financování'!D3013","v":"CZ.1.11/2.1.00/14.01240"}]
[null,{"$f":"'3.3'!I3021","v":0},{"$f":"'3.3'!L3021","v":0},0,0,1240,{"$f":"'poměry financování'!D3014","v":"CZ.1.11/2.1.00/14.01240"}]
[null,{"$f":"'3.3'!I3022","v":0},{"$f":"'3.3'!L3022","v":0},0,0,1240,{"$f":"'poměry financování'!D3015","v":"CZ.1.11/2.1.00/14.01240"}]
[null,{"$f":"'3.3'!I3023","v":0},{"$f":"'3.3'!L3023","v":0},0,0,1240,{"$f":"'poměry financování'!D3016","v":"CZ.1.11/2.1.00/14.01240"}]
[null,{"$f":"'3.3'!I3024","v":0},{"$f":"'3.3'!L3024","v":0},0,0,1240,{"$f":"'poměry financování'!D3017","v":"CZ.1.11/2.1.00/14.01240"}]
[null,{"$f":"'3.3'!I3025","v":0},{"$f":"'3.3'!L3025","v":0},0,0,1241,{"$f":"'poměry financování'!D3018","v":"CZ.1.11/2.1.00/14.01241"}]
[null,{"$f":"'3.3'!I3026","v":0},{"$f":"'3.3'!L3026","v":0},0,0,1241,{"$f":"'poměry financování'!D3019","v":"CZ.1.11/2.1.00/14.01241"}]
[null,{"$f":"'3.3'!I3027","v":0},{"$f":"'3.3'!L3027","v":0},0,0,1241,{"$f":"'poměry financování'!D3020","v":"CZ.1.11/2.1.00/14.01241"}]
[null,{"$f":"'3.3'!I3028","v":0},{"$f":"'3.3'!L3028","v":0},0,0,1242,{"$f":"'poměry financování'!D3021","v":"CZ.1.11/2.1.00/14.01242"}]
[null,{"$f":"'3.3'!I3029","v":0},{"$f":"'3.3'!L3029","v":0},0,0,1242,{"$f":"'poměry financování'!D3022","v":"CZ.1.11/2.1.00/14.01242"}]
[null,{"$f":"'3.3'!I3030","v":0},{"$f":"'3.3'!L3030","v":0},0,0,1243,{"$f":"'poměry financování'!D3023","v":"CZ.1.11/2.1.00/14.01243"}]
[null,{"$f":"'3.3'!I3031","v":0},{"$f":"'3.3'!L3031","v":0},0,0,1244,{"$f":"'poměry financování'!D3024","v":"CZ.1.11/2.1.00/14.01244"}]
[null,{"$f":"'3.3'!I3032","v":0},{"$f":"'3.3'!L3032","v":0},0,0,1245,{"$f":"'poměry financování'!D3025","v":"CZ.1.11/2.1.00/14.01245"}]
[null,{"$f":"'3.3'!I3033","v":0},{"$f":"'3.3'!L3033","v":0},0,0,1246,{"$f":"'poměry financování'!D3026","v":"CZ.1.11/2.1.00/14.01246"}]
[null,{"$f":"'3.3'!I3034","v":0},{"$f":"'3.3'!L3034","v":0},0,0,1246,{"$f":"'poměry financování'!D3027","v":"CZ.1.11/2.1.00/14.01246"}]
[null,{"$f":"'3.3'!I3035","v":0},{"$f":"'3.3'!L3035","v":0},0,0,1246,{"$f":"'poměry financování'!D3028","v":"CZ.1.11/2.1.00/14.01246"}]
[null,{"$f":"'3.3'!I3036","v":0},{"$f":"'3.3'!L3036","v":0},0,0,1246,{"$f":"'poměry financování'!D3029","v":"CZ.1.11/2.1.00/14.01246"}]
[null,{"$f":"'3.3'!I3037","v":0},{"$f":"'3.3'!L3037","v":0},0,0,1247,{"$f":"'poměry financování'!D3030","v":"CZ.1.11/2.1.00/14.01247"}]
[null,{"$f":"'3.3'!I3038","v":0},{"$f":"'3.3'!L3038","v":0},0,0,1248,{"$f":"'poměry financování'!D3031","v":"CZ.1.11/2.1.00/14.01248"}]
[null,{"$f":"'3.3'!I3039","v":0},{"$f":"'3.3'!L3039","v":0},0,0,1248,{"$f":"'poměry financování'!D3032","v":"CZ.1.11/2.1.00/14.01248"}]
[null,{"$f":"'3.3'!I3040","v":0},{"$f":"'3.3'!L3040","v":0},0,0,1248,{"$f":"'poměry financování'!D3033","v":"CZ.1.11/2.1.00/14.01248"}]
[null,{"$f":"'3.3'!I3041","v":0},{"$f":"'3.3'!L3041","v":0},0,0,1249,{"$f":"'poměry financování'!D3034","v":"CZ.1.11/2.1.00/14.01249"}]
[null,{"$f":"'3.3'!I3042","v":0},{"$f":"'3.3'!L3042","v":0},0,0,1249,{"$f":"'poměry financování'!D3035","v":"CZ.1.11/2.1.00/14.01249"}]
[null,{"$f":"'3.3'!I3043","v":0},{"$f":"'3.3'!L3043","v":0},0,0,1250,{"$f":"'poměry financování'!D3036","v":"CZ.1.11/2.1.00/14.01250"}]
[null,{"$f":"'3.3'!I3044","v":0},{"$f":"'3.3'!L3044","v":0},0,0,1250,{"$f":"'poměry financování'!D3037","v":"CZ.1.11/2.1.00/14.01250"}]
[null,{"$f":"'3.3'!I3045","v":0},{"$f":"'3.3'!L3045","v":0},0,0,1250,{"$f":"'poměry financování'!D3038","v":"CZ.1.11/2.1.00/14.01250"}]
[null,{"$f":"'3.3'!I3046","v":0},{"$f":"'3.3'!L3046","v":0},0,0,1251,{"$f":"'poměry financování'!D3039","v":"CZ.1.11/2.1.00/14.01251"}]
[null,{"$f":"'3.3'!I3047","v":0},{"$f":"'3.3'!L3047","v":0},0,0,1251,{"$f":"'poměry financování'!D3040","v":"CZ.1.11/2.1.00/14.01251"}]
[null,{"$f":"'3.3'!I3048","v":0},{"$f":"'3.3'!L3048","v":0},0,0,1251,{"$f":"'poměry financování'!D3041","v":"CZ.1.11/2.1.00/14.01251"}]
[null,{"$f":"'3.3'!I3049","v":0},{"$f":"'3.3'!L3049","v":0},0,0,1251,{"$f":"'poměry financování'!D3042","v":"CZ.1.11/2.1.00/14.01251"}]
[null,{"$f":"'3.3'!I3050","v":0},{"$f":"'3.3'!L3050","v":0},0,0,1251,{"$f":"'poměry financování'!D3043","v":"CZ.1.11/2.1.00/14.01251"}]
[null,{"$f":"'3.3'!I3051","v":0},{"$f":"'3.3'!L3051","v":0},0,0,1251,{"$f":"'poměry financování'!D3044","v":"CZ.1.11/2.1.00/14.01251"}]
[null,{"$f":"'3.3'!I3052","v":0},{"$f":"'3.3'!L3052","v":0},0,0,1252,{"$f":"'poměry financování'!D3045","v":"CZ.1.11/2.1.00/14.01252"}]
[null,{"$f":"'3.3'!I3053","v":0},{"$f":"'3.3'!L3053","v":0},0,0,1252,{"$f":"'poměry financování'!D3046","v":"CZ.1.11/2.1.00/14.01252"}]
[null,{"$f":"'3.3'!I3054","v":0},{"$f":"'3.3'!L3054","v":0},0,0,1253,{"$f":"'poměry financování'!D3047","v":"CZ.1.11/2.1.00/14.01253"}]
[null,{"$f":"'3.3'!I3055","v":0},{"$f":"'3.3'!L3055","v":0},0,0,1253,{"$f":"'poměry financování'!D3048","v":"CZ.1.11/2.1.00/14.01253"}]
[null,{"$f":"'3.3'!I3056","v":0},{"$f":"'3.3'!L3056","v":0},0,0,1253,{"$f":"'poměry financování'!D3049","v":"CZ.1.11/2.1.00/14.01253"}]
[null,{"$f":"'3.3'!I3057","v":0},{"$f":"'3.3'!L3057","v":0},0,0,1254,{"$f":"'poměry financování'!D3050","v":"CZ.1.11/2.1.00/14.01254"}]
[null,{"$f":"'3.3'!I3058","v":0},{"$f":"'3.3'!L3058","v":0},0,0,1254,{"$f":"'poměry financování'!D3051","v":"CZ.1.11/2.1.00/14.01254"}]
[null,{"$f":"'3.3'!I3059","v":0},{"$f":"'3.3'!L3059","v":0},0,0,1254,{"$f":"'poměry financování'!D3052","v":"CZ.1.11/2.1.00/14.01254"}]
[null,{"$f":"'3.3'!I3060","v":0},{"$f":"'3.3'!L3060","v":0},0,0,1255,{"$f":"'poměry financování'!D3053","v":"CZ.1.11/2.1.00/14.01255"}]
[null,{"$f":"'3.3'!I3061","v":0},{"$f":"'3.3'!L3061","v":0},0,0,1255,{"$f":"'poměry financování'!D3054","v":"CZ.1.11/2.1.00/14.01255"}]
[null,{"$f":"'3.3'!I3062","v":0},{"$f":"'3.3'!L3062","v":0},0,0,1255,{"$f":"'poměry financování'!D3055","v":"CZ.1.11/2.1.00/14.01255"}]
[null,{"$f":"'3.3'!I3063","v":0},{"$f":"'3.3'!L3063","v":0},0,0,1255,{"$f":"'poměry financování'!D3056","v":"CZ.1.11/2.1.00/14.01255"}]
[null,{"$f":"'3.3'!I3064","v":0},{"$f":"'3.3'!L3064","v":0},0,0,1256,{"$f":"'poměry financování'!D3057","v":"CZ.1.11/2.1.00/14.01256"}]
[null,{"$f":"'3.3'!I3065","v":0},{"$f":"'3.3'!L3065","v":0},0,0,1256,{"$f":"'poměry financování'!D3058","v":"CZ.1.11/2.1.00/14.01256"}]
[null,{"$f":"'3.3'!I3066","v":0},{"$f":"'3.3'!L3066","v":0},0,0,1257,{"$f":"'poměry financování'!D3059","v":"CZ.1.11/2.1.00/14.01257"}]
[null,{"$f":"'3.3'!I3067","v":0},{"$f":"'3.3'!L3067","v":0},0,0,1257,{"$f":"'poměry financování'!D3060","v":"CZ.1.11/2.1.00/14.01257"}]
[null,{"$f":"'3.3'!I3068","v":0},{"$f":"'3.3'!L3068","v":0},0,0,1257,{"$f":"'poměry financování'!D3061","v":"CZ.1.11/2.1.00/14.01257"}]
[null,{"$f":"'3.3'!I3069","v":0},{"$f":"'3.3'!L3069","v":0},0,0,1258,{"$f":"'poměry financování'!D3062","v":"CZ.1.11/2.1.00/14.01258"}]
[null,{"$f":"'3.3'!I3070","v":0},{"$f":"'3.3'!L3070","v":0},0,0,1258,{"$f":"'poměry financování'!D3063","v":"CZ.1.11/2.1.00/14.01258"}]
[null,{"$f":"'3.3'!I3071","v":0},{"$f":"'3.3'!L3071","v":0},0,0,1259,{"$f":"'poměry financování'!D3064","v":"CZ.1.11/2.1.00/14.01259"}]
[null,{"$f":"'3.3'!I3072","v":0},{"$f":"'3.3'!L3072","v":0},0,0,1259,{"$f":"'poměry financování'!D3065","v":"CZ.1.11/2.1.00/14.01259"}]
[null,{"$f":"'3.3'!I3073","v":0},{"$f":"'3.3'!L3073","v":0},0,0,1259,{"$f":"'poměry financování'!D3066","v":"CZ.1.11/2.1.00/14.01259"}]
[null,{"$f":"'3.3'!I3074","v":0},{"$f":"'3.3'!L3074","v":0},0,0,1259,{"$f":"'poměry financování'!D3067","v":"CZ.1.11/2.1.00/14.01259"}]
[null,{"$f":"'3.3'!I3075","v":0},{"$f":"'3.3'!L3075","v":0},0,0,1259,{"$f":"'poměry financování'!D3068","v":"CZ.1.11/2.1.00/14.01259"}]
[null,{"$f":"'3.3'!I3076","v":0},{"$f":"'3.3'!L3076","v":0},0,0,1259,{"$f":"'poměry financování'!D3069","v":"CZ.1.11/2.1.00/14.01259"}]
[null,{"$f":"'3.3'!I3077","v":0},{"$f":"'3.3'!L3077","v":0},0,0,1259,{"$f":"'poměry financování'!D3070","v":"CZ.1.11/2.1.00/14.01259"}]
[null,{"$f":"'3.3'!I3078","v":0},{"$f":"'3.3'!L3078","v":0},0,0,1260,{"$f":"'poměry financování'!D3071","v":"CZ.1.11/3.1.00/22.01260"}]
[null,{"$f":"'3.3'!I3079","v":0},{"$f":"'3.3'!L3079","v":0},{"$f":"IF(B3075=\"Investiční\",C3075,0)","v":0},{"$f":"IF(B3075=\"Neinvestiční\",C3075,0)","v":0},1260,{"$f":"'poměry financování'!D3072","v":"CZ.1.11/3.1.00/22.01260"}]
[null,{"$f":"'3.3'!I3080","v":0},{"$f":"'3.3'!L3080","v":0},0,0,1260,{"$f":"'poměry financování'!D3073","v":"CZ.1.11/3.1.00/22.01260"}]
[null,{"$f":"'3.3'!I3081","v":0},{"$f":"'3.3'!L3081","v":0},0,0,1260,{"$f":"'poměry financování'!D3074","v":"CZ.1.11/3.1.00/22.01260"}]
[null,{"$f":"'3.3'!I3082","v":0},{"$f":"'3.3'!L3082","v":0},0,0,{"$f":"VALUE((MID(G3078,20,4)))","v":1260},{"$f":"'poměry financování'!D3075","v":"CZ.1.11/3.1.00/22.01260"}]
[null,{"$f":"'3.3'!I3083","v":0},{"$f":"'3.3'!L3083","v":0},0,0,1260,{"$f":"'poměry financování'!D3076","v":"CZ.1.11/3.1.00/22.01260"}]
[null,{"$f":"'3.3'!I3084","v":0},{"$f":"'3.3'!L3084","v":0},0,0,1261,{"$f":"'poměry financování'!D3077","v":"CZ.1.11/3.1.00/22.01261"}]
[null,{"$f":"'3.3'!I3085","v":0},{"$f":"'3.3'!L3085","v":0},0,0,1261,{"$f":"'poměry financování'!D3078","v":"CZ.1.11/3.1.00/22.01261"}]
[null,{"$f":"'3.3'!I3086","v":0},{"$f":"'3.3'!L3086","v":0},0,0,1261,{"$f":"'poměry financování'!D3079","v":"CZ.1.11/3.1.00/22.01261"}]
[null,{"$f":"'3.3'!I3087","v":0},{"$f":"'3.3'!L3087","v":0},0,0,1261,{"$f":"'poměry financování'!D3080","v":"CZ.1.11/3.1.00/22.01261"}]
[null,{"$f":"'3.3'!I3088","v":0},{"$f":"'3.3'!L3088","v":0},0,0,1261,{"$f":"'poměry financování'!D3081","v":"CZ.1.11/3.1.00/22.01261"}]
[null,{"$f":"'3.3'!I3089","v":0},{"$f":"'3.3'!L3089","v":0},0,0,1262,{"$f":"'poměry financování'!D3082","v":"CZ.1.11/3.1.00/22.01262"}]
[null,{"$f":"'3.3'!I3090","v":0},{"$f":"'3.3'!L3090","v":0},0,0,1263,{"$f":"'poměry financování'!D3083","v":"CZ.1.11/3.1.00/22.01263"}]
[null,{"$f":"'3.3'!I3091","v":0},{"$f":"'3.3'!L3091","v":0},0,0,1263,{"$f":"'poměry financování'!D3084","v":"CZ.1.11/3.1.00/22.01263"}]
[null,{"$f":"'3.3'!I3092","v":0},{"$f":"'3.3'!L3092","v":0},0,0,1263,{"$f":"'poměry financování'!D3085","v":"CZ.1.11/3.1.00/22.01263"}]
[null,{"$f":"'3.3'!I3093","v":0},{"$f":"'3.3'!L3093","v":0},0,0,1264,{"$f":"'poměry financování'!D3086","v":"CZ.1.11/3.1.00/22.01264"}]
[null,{"$f":"'3.3'!I3094","v":0},{"$f":"'3.3'!L3094","v":0},0,0,1265,{"$f":"'poměry financování'!D3087","v":"CZ.1.11/3.1.00/22.01265"}]
[null,{"$f":"'3.3'!I3095","v":0},{"$f":"'3.3'!L3095","v":0},0,0,1266,{"$f":"'poměry financování'!D3088","v":"CZ.1.11/3.1.00/22.01266"}]
[null,{"$f":"'3.3'!I3096","v":0},{"$f":"'3.3'!L3096","v":0},0,0,1267,{"$f":"'poměry financování'!D3089","v":"CZ.1.11/3.1.00/22.01267"}]
[null,{"$f":"'3.3'!I3097","v":0},{"$f":"'3.3'!L3097","v":0},0,0,1268,{"$f":"'poměry financování'!D3090","v":"CZ.1.11/3.1.00/22.01268"}]
[null,{"$f":"'3.3'!I3098","v":0},{"$f":"'3.3'!L3098","v":0},0,0,1269,{"$f":"'poměry financování'!D3091","v":"CZ.1.11/3.4.00/17.01269"}]
[null,{"$f":"'3.3'!I3099","v":0},{"$f":"'3.3'!L3099","v":0},0,0,1269,{"$f":"'poměry financování'!D3092","v":"CZ.1.11/3.4.00/17.01269"}]
[null,{"$f":"'3.3'!I3100","v":0},{"$f":"'3.3'!L3100","v":0},0,0,1270,{"$f":"'poměry financování'!D3093","v":"CZ.1.11/3.4.00/17.01270"}]
[null,{"$f":"'3.3'!I3101","v":0},{"$f":"'3.3'!L3101","v":0},0,0,1270,{"$f":"'poměry financování'!D3094","v":"CZ.1.11/3.4.00/17.01270"}]
[null,{"$f":"'3.3'!I3102","v":0},{"$f":"'3.3'!L3102","v":0},0,0,1271,{"$f":"'poměry financování'!D3095","v":"CZ.1.11/1.1.00/21.01271"}]
[null,{"$f":"'3.3'!I3103","v":0},{"$f":"'3.3'!L3103","v":0},0,0,1271,{"$f":"'poměry financování'!D3096","v":"CZ.1.11/1.1.00/21.01271"}]
[null,{"$f":"'3.3'!I3104","v":0},{"$f":"'3.3'!L3104","v":0},0,0,1272,{"$f":"'poměry financování'!D3097","v":"CZ.1.11/1.1.00/16.01272"}]
[null,{"$f":"'3.3'!I3105","v":0},{"$f":"'3.3'!L3105","v":0},0,0,1272,{"$f":"'poměry financování'!D3098","v":"CZ.1.11/1.1.00/16.01272"}]
[null,{"$f":"'3.3'!I3106","v":0},{"$f":"'3.3'!L3106","v":0},0,0,1272,{"$f":"'poměry financování'!D3099","v":"CZ.1.11/1.1.00/16.01272"}]
[null,{"$f":"'3.3'!I3107","v":0},{"$f":"'3.3'!L3107","v":0},0,0,1272,{"$f":"'poměry financování'!D3100","v":"CZ.1.11/1.1.00/16.01272"}]
[null,{"$f":"'3.3'!I3108","v":0},{"$f":"'3.3'!L3108","v":0},0,0,1273,{"$f":"'poměry financování'!D3101","v":"CZ.1.11/3.1.00/22.01273"}]
[null,{"$f":"'3.3'!I3109","v":0},{"$f":"'3.3'!L3109","v":0},0,0,1273,{"$f":"'poměry financování'!D3102","v":"CZ.1.11/3.1.00/22.01273"}]
[null,{"$f":"'3.3'!I3110","v":0},{"$f":"'3.3'!L3110","v":0},0,0,1273,{"$f":"'poměry financování'!D3103","v":"CZ.1.11/3.1.00/22.01273"}]
[null,{"$f":"'3.3'!I3111","v":0},{"$f":"'3.3'!L3111","v":0},0,0,1273,{"$f":"'poměry financování'!D3104","v":"CZ.1.11/3.1.00/22.01273"}]
[null,{"$f":"'3.3'!I3112","v":0},{"$f":"'3.3'!L3112","v":0},0,0,1274,{"$f":"'poměry financování'!D3105","v":"CZ.1.11/3.1.00/22.01274"}]
[null,{"$f":"'3.3'!I3113","v":0},{"$f":"'3.3'!L3113","v":0},0,0,1275,{"$f":"'poměry financování'!D3106","v":"CZ.1.11/3.1.00/22.01275"}]
[null,{"$f":"'3.3'!I3114","v":0},{"$f":"'3.3'!L3114","v":0},0,0,1275,{"$f":"'poměry financování'!D3107","v":"CZ.1.11/3.1.00/22.01275"}]
[null,{"$f":"'3.3'!I3115","v":0},{"$f":"'3.3'!L3115","v":0},0,0,1275,{"$f":"'poměry financování'!D3108","v":"CZ.1.11/3.1.00/22.01275"}]
[null,{"$f":"'3.3'!I3116","v":0},{"$f":"'3.3'!L3116","v":0},0,0,1275,{"$f":"'poměry financování'!D3109","v":"CZ.1.11/3.1.00/22.01275"}]
[null,{"$f":"'3.3'!I3117","v":0},{"$f":"'3.3'!L3117","v":0},0,0,1275,{"$f":"'poměry financování'!D3110","v":"CZ.1.11/3.1.00/22.01275"}]
[null,{"$f":"'3.3'!I3118","v":0},{"$f":"'3.3'!L3118","v":0},0,0,1275,{"$f":"'poměry financování'!D3111","v":"CZ.1.11/3.1.00/22.01275"}]
[null,{"$f":"'3.3'!I3119","v":0},{"$f":"'3.3'!L3119","v":0},0,0,1276,{"$f":"'poměry financování'!D3112","v":"CZ.1.11/1.1.00/21.01276"}]
[null,{"$f":"'3.3'!I3120","v":0},{"$f":"'3.3'!L3120","v":0},0,0,1276,{"$f":"'poměry financování'!D3113","v":"CZ.1.11/1.1.00/21.01276"}]
[null,{"$f":"'3.3'!I3121","v":0},{"$f":"'3.3'!L3121","v":0},0,0,1277,{"$f":"'poměry financování'!D3114","v":"CZ.1.11/3.1.00/22.01277"}]
[null,{"$f":"'3.3'!I3122","v":0},{"$f":"'3.3'!L3122","v":0},0,0,1278,{"$f":"'poměry financování'!D3115","v":"CZ.1.11/3.1.00/22.01278"}]
[null,{"$f":"'3.3'!I3123","v":0},{"$f":"'3.3'!L3123","v":0},0,0,1278,{"$f":"'poměry financování'!D3116","v":"CZ.1.11/3.1.00/22.01278"}]
[null,{"$f":"'3.3'!I3124","v":0},{"$f":"'3.3'!L3124","v":0},0,0,1279,{"$f":"'poměry financování'!D3117","v":"CZ.1.11/1.1.00/21.01279"}]
[null,{"$f":"'3.3'!I3125","v":0},{"$f":"'3.3'!L3125","v":0},0,0,1280,{"$f":"'poměry financování'!D3118","v":"CZ.1.11/3.1.00/22.01280"}]
[null,{"$f":"'3.3'!I3126","v":0},{"$f":"'3.3'!L3126","v":0},0,0,1281,{"$f":"'poměry financování'!D3119","v":"CZ.1.11/3.2.00/25.01281"}]
[null,{"$f":"'3.3'!I3127","v":0},{"$f":"'3.3'!L3127","v":0},0,0,1282,{"$f":"'poměry financování'!D3120","v":"CZ.1.11/3.2.00/19.01282"}]
[null,{"$f":"'3.3'!I3128","v":0},{"$f":"'3.3'!L3128","v":0},0,0,1283,{"$f":"'poměry financování'!D3121","v":"CZ.1.11/3.2.00/19.01283"}]
[null,{"$f":"'3.3'!I3129","v":0},{"$f":"'3.3'!L3129","v":0},0,0,1284,{"$f":"'poměry financování'!D3122","v":"CZ.1.11/3.2.00/25.01284"}]
[null,{"$f":"'3.3'!I3130","v":0},{"$f":"'3.3'!L3130","v":0},0,0,1285,{"$f":"'poměry financování'!D3123","v":"CZ.1.11/1.1.00/21.01285"}]
[null,{"$f":"'3.3'!I3131","v":0},{"$f":"'3.3'!L3131","v":0},0,0,1285,{"$f":"'poměry financování'!D3124","v":"CZ.1.11/1.1.00/21.01285"}]
[null,{"$f":"'3.3'!I3132","v":0},{"$f":"'3.3'!L3132","v":0},0,0,1286,{"$f":"'poměry financování'!D3125","v":"CZ.1.11/1.1.00/21.01286"}]
[null,{"$f":"'3.3'!I3133","v":0},{"$f":"'3.3'!L3133","v":0},0,0,1286,{"$f":"'poměry financování'!D3126","v":"CZ.1.11/1.1.00/21.01286"}]
[null,{"$f":"'3.3'!I3134","v":0},{"$f":"'3.3'!L3134","v":0},0,0,1287,{"$f":"'poměry financování'!D3127","v":"CZ.1.11/1.1.00/21.01287"}]
[null,{"$f":"'3.3'!I3135","v":0},{"$f":"'3.3'!L3135","v":0},0,0,1288,{"$f":"'poměry financování'!D3128","v":"CZ.1.11/3.2.00/19.01288"}]
[null,{"$f":"'3.3'!I3136","v":0},{"$f":"'3.3'!L3136","v":0},0,0,1288,{"$f":"'poměry financování'!D3129","v":"CZ.1.11/3.2.00/19.01288"}]
[null,{"$f":"'3.3'!I3137","v":0},{"$f":"'3.3'!L3137","v":0},0,0,1288,{"$f":"'poměry financování'!D3130","v":"CZ.1.11/3.2.00/19.01288"}]
[null,{"$f":"'3.3'!I3138","v":0},{"$f":"'3.3'!L3138","v":0},0,0,1288,{"$f":"'poměry financování'!D3131","v":"CZ.1.11/3.2.00/19.01288"}]
[null,{"$f":"'3.3'!I3139","v":0},{"$f":"'3.3'!L3139","v":0},0,0,1289,{"$f":"'poměry financování'!D3132","v":"CZ.1.11/3.2.00/25.01289"}]
[null,{"$f":"'3.3'!I3140","v":0},{"$f":"'3.3'!L3140","v":0},0,0,1289,{"$f":"'poměry financování'!D3133","v":"CZ.1.11/3.2.00/25.01289"}]
[null,{"$f":"'3.3'!I3141","v":0},{"$f":"'3.3'!L3141","v":0},0,0,1289,{"$f":"'poměry financování'!D3134","v":"CZ.1.11/3.2.00/25.01289"}]
[null,{"$f":"'3.3'!I3142","v":0},{"$f":"'3.3'!L3142","v":0},0,0,1290,{"$f":"'poměry financování'!D3135","v":"CZ.1.11/3.2.00/19.01290"}]
[null,{"$f":"'3.3'!I3143","v":0},{"$f":"'3.3'!L3143","v":0},{"$f":"IF(B3139=\"Investiční\",C3139,0)","v":0},{"$f":"IF(B3139=\"Neinvestiční\",C3139,0)","v":0},1290,{"$f":"'poměry financování'!D3136","v":"CZ.1.11/3.2.00/19.01290"}]
[null,{"$f":"'3.3'!I3144","v":0},{"$f":"'3.3'!L3144","v":0},0,0,1291,{"$f":"'poměry financování'!D3137","v":"CZ.1.11/3.1.00/22.01291"}]
[null,{"$f":"'3.3'!I3145","v":0},{"$f":"'3.3'!L3145","v":0},0,0,1291,{"$f":"'poměry financování'!D3138","v":"CZ.1.11/3.1.00/22.01291"}]
[null,{"$f":"'3.3'!I3146","v":0},{"$f":"'3.3'!L3146","v":0},0,0,{"$f":"VALUE((MID(G3142,20,4)))","v":1291},{"$f":"'poměry financování'!D3139","v":"CZ.1.11/3.1.00/22.01291"}]
[null,{"$f":"'3.3'!I3147","v":0},{"$f":"'3.3'!L3147","v":0},0,0,1291,{"$f":"'poměry financování'!D3140","v":"CZ.1.11/3.1.00/22.01291"}]
[null,{"$f":"'3.3'!I3148","v":0},{"$f":"'3.3'!L3148","v":0},0,0,1292,{"$f":"'poměry financování'!D3141","v":"CZ.1.11/3.1.00/22.01292"}]
[null,{"$f":"'3.3'!I3149","v":0},{"$f":"'3.3'!L3149","v":0},0,0,1293,{"$f":"'poměry financování'!D3142","v":"CZ.1.11/3.1.00/22.01293"}]
[null,{"$f":"'3.3'!I3150","v":0},{"$f":"'3.3'!L3150","v":0},0,0,1293,{"$f":"'poměry financování'!D3143","v":"CZ.1.11/3.1.00/22.01293"}]
[null,{"$f":"'3.3'!I3151","v":0},{"$f":"'3.3'!L3151","v":0},0,0,1293,{"$f":"'poměry financování'!D3144","v":"CZ.1.11/3.1.00/22.01293"}]
[null,{"$f":"'3.3'!I3152","v":0},{"$f":"'3.3'!L3152","v":0},0,0,1293,{"$f":"'poměry financování'!D3145","v":"CZ.1.11/3.1.00/22.01293"}]
[null,{"$f":"'3.3'!I3153","v":0},{"$f":"'3.3'!L3153","v":0},0,0,1294,{"$f":"'poměry financování'!D3146","v":"CZ.1.11/1.2.00/23.01294"}]
[null,{"$f":"'3.3'!I3154","v":0},{"$f":"'3.3'!L3154","v":0},0,0,1295,{"$f":"'poměry financování'!D3147","v":"CZ.1.11/1.1.00/21.01295"}]
[null,{"$f":"'3.3'!I3155","v":0},{"$f":"'3.3'!L3155","v":0},0,0,1296,{"$f":"'poměry financování'!D3148","v":"CZ.1.11/3.3.00/20.01296"}]
[null,{"$f":"'3.3'!I3156","v":0},{"$f":"'3.3'!L3156","v":0},0,0,1297,{"$f":"'poměry financování'!D3149","v":"CZ.1.11/3.3.00/20.01297"}]
[null,{"$f":"'3.3'!I3157","v":0},{"$f":"'3.3'!L3157","v":0},0,0,1297,{"$f":"'poměry financování'!D3150","v":"CZ.1.11/3.3.00/20.01297"}]
[null,{"$f":"'3.3'!I3158","v":0},{"$f":"'3.3'!L3158","v":0},0,0,1298,{"$f":"'poměry financování'!D3151","v":"CZ.1.11/3.3.00/26.01298"}]
[null,{"$f":"'3.3'!I3159","v":0},{"$f":"'3.3'!L3159","v":0},0,0,1299,{"$f":"'poměry financování'!D3152","v":"CZ.1.11/3.3.00/20.01299"}]
[null,{"$f":"'3.3'!I3160","v":0},{"$f":"'3.3'!L3160","v":0},0,0,1299,{"$f":"'poměry financování'!D3153","v":"CZ.1.11/3.3.00/20.01299"}]
[null,{"$f":"'3.3'!I3161","v":0},{"$f":"'3.3'!L3161","v":0},0,0,1299,{"$f":"'poměry financování'!D3154","v":"CZ.1.11/3.3.00/20.01299"}]
[null,{"$f":"'3.3'!I3162","v":0},{"$f":"'3.3'!L3162","v":0},0,0,1299,{"$f":"'poměry financování'!D3155","v":"CZ.1.11/3.3.00/20.01299"}]
[null,{"$f":"'3.3'!I3163","v":0},{"$f":"'3.3'!L3163","v":0},0,0,1300,{"$f":"'poměry financování'!D3156","v":"CZ.1.11/3.3.00/20.01300"}]
[null,{"$f":"'3.3'!I3164","v":0},{"$f":"'3.3'!L3164","v":0},0,0,1301,{"$f":"'poměry financování'!D3157","v":"CZ.1.11/3.3.00/20.01301"}]
[null,{"$f":"'3.3'!I3165","v":0},{"$f":"'3.3'!L3165","v":0},0,0,1301,{"$f":"'poměry financování'!D3158","v":"CZ.1.11/3.3.00/20.01301"}]
[null,{"$f":"'3.3'!I3166","v":0},{"$f":"'3.3'!L3166","v":0},0,0,1301,{"$f":"'poměry financování'!D3159","v":"CZ.1.11/3.3.00/20.01301"}]
[null,{"$f":"'3.3'!I3167","v":0},{"$f":"'3.3'!L3167","v":0},0,0,1301,{"$f":"'poměry financování'!D3160","v":"CZ.1.11/3.3.00/20.01301"}]
[null,{"$f":"'3.3'!I3168","v":0},{"$f":"'3.3'!L3168","v":0},0,0,1302,{"$f":"'poměry financování'!D3161","v":"CZ.1.11/3.3.00/20.01302"}]
[null,{"$f":"'3.3'!I3169","v":0},{"$f":"'3.3'!L3169","v":0},0,0,1302,{"$f":"'poměry financování'!D3162","v":"CZ.1.11/3.3.00/20.01302"}]
[null,{"$f":"'3.3'!I3170","v":0},{"$f":"'3.3'!L3170","v":0},0,0,1302,{"$f":"'poměry financování'!D3163","v":"CZ.1.11/3.3.00/20.01302"}]
[null,{"$f":"'3.3'!I3171","v":0},{"$f":"'3.3'!L3171","v":0},0,0,1302,{"$f":"'poměry financování'!D3164","v":"CZ.1.11/3.3.00/20.01302"}]
[null,{"$f":"'3.3'!I3172","v":0},{"$f":"'3.3'!L3172","v":0},0,0,1302,{"$f":"'poměry financování'!D3165","v":"CZ.1.11/3.3.00/20.01302"}]
[null,{"$f":"'3.3'!I3173","v":0},{"$f":"'3.3'!L3173","v":0},0,0,1303,{"$f":"'poměry financování'!D3166","v":"CZ.1.11/3.3.00/20.01303"}]
[null,{"$f":"'3.3'!I3174","v":0},{"$f":"'3.3'!L3174","v":0},0,0,1303,{"$f":"'poměry financování'!D3167","v":"CZ.1.11/3.3.00/20.01303"}]
[null,{"$f":"'3.3'!I3175","v":0},{"$f":"'3.3'!L3175","v":0},0,0,1303,{"$f":"'poměry financování'!D3168","v":"CZ.1.11/3.3.00/20.01303"}]
[null,{"$f":"'3.3'!I3176","v":0},{"$f":"'3.3'!L3176","v":0},0,0,1303,{"$f":"'poměry financování'!D3169","v":"CZ.1.11/3.3.00/20.01303"}]
[null,{"$f":"'3.3'!I3177","v":0},{"$f":"'3.3'!L3177","v":0},0,0,1303,{"$f":"'poměry financování'!D3170","v":"CZ.1.11/3.3.00/20.01303"}]
[null,{"$f":"'3.3'!I3178","v":0},{"$f":"'3.3'!L3178","v":0},0,0,1304,{"$f":"'poměry financování'!D3171","v":"CZ.1.11/3.3.00/26.01304"}]
[null,{"$f":"'3.3'!I3179","v":0},{"$f":"'3.3'!L3179","v":0},0,0,1304,{"$f":"'poměry financování'!D3172","v":"CZ.1.11/3.3.00/26.01304"}]
[null,{"$f":"'3.3'!I3180","v":0},{"$f":"'3.3'!L3180","v":0},0,0,1304,{"$f":"'poměry financování'!D3173","v":"CZ.1.11/3.3.00/26.01304"}]
[null,{"$f":"'3.3'!I3181","v":0},{"$f":"'3.3'!L3181","v":0},0,0,1304,{"$f":"'poměry financování'!D3174","v":"CZ.1.11/3.3.00/26.01304"}]
[null,{"$f":"'3.3'!I3182","v":0},{"$f":"'3.3'!L3182","v":0},0,0,1305,{"$f":"'poměry financování'!D3175","v":"CZ.1.11/3.3.00/26.01305"}]
[null,{"$f":"'3.3'!I3183","v":0},{"$f":"'3.3'!L3183","v":0},0,0,1305,{"$f":"'poměry financování'!D3176","v":"CZ.1.11/3.3.00/26.01305"}]
[null,{"$f":"'3.3'!I3184","v":0},{"$f":"'3.3'!L3184","v":0},0,0,1306,{"$f":"'poměry financování'!D3177","v":"CZ.1.11/3.3.00/20.01306"}]
[null,{"$f":"'3.3'!I3185","v":0},{"$f":"'3.3'!L3185","v":0},0,0,1306,{"$f":"'poměry financování'!D3178","v":"CZ.1.11/3.3.00/20.01306"}]
[null,{"$f":"'3.3'!I3186","v":0},{"$f":"'3.3'!L3186","v":0},0,0,1306,{"$f":"'poměry financování'!D3179","v":"CZ.1.11/3.3.00/20.01306"}]
[null,{"$f":"'3.3'!I3187","v":0},{"$f":"'3.3'!L3187","v":0},0,0,1307,{"$f":"'poměry financování'!D3180","v":"CZ.1.11/3.1.00/22.01307"}]
[null,{"$f":"'3.3'!I3188","v":0},{"$f":"'3.3'!L3188","v":0},0,0,1308,{"$f":"'poměry financování'!D3181","v":"CZ.1.11/3.1.00/22.01308"}]
[null,{"$f":"'3.3'!I3189","v":0},{"$f":"'3.3'!L3189","v":0},0,0,1309,{"$f":"'poměry financování'!D3182","v":"CZ.1.11/3.1.00/22.01309"}]
[null,{"$f":"'3.3'!I3190","v":0},{"$f":"'3.3'!L3190","v":0},0,0,1310,{"$f":"'poměry financování'!D3183","v":"CZ.1.11/1.2.00/23.01310"}]
[null,{"$f":"'3.3'!I3191","v":0},{"$f":"'3.3'!L3191","v":0},0,0,1311,{"$f":"'poměry financování'!D3184","v":"CZ.1.11/1.2.00/23.01311"}]
[null,{"$f":"'3.3'!I3192","v":0},{"$f":"'3.3'!L3192","v":0},0,0,1311,{"$f":"'poměry financování'!D3185","v":"CZ.1.11/1.2.00/23.01311"}]
[null,{"$f":"'3.3'!I3193","v":0},{"$f":"'3.3'!L3193","v":0},0,0,1311,{"$f":"'poměry financování'!D3186","v":"CZ.1.11/1.2.00/23.01311"}]
[null,{"$f":"'3.3'!I3194","v":0},{"$f":"'3.3'!L3194","v":0},0,0,1311,{"$f":"'poměry financování'!D3187","v":"CZ.1.11/1.2.00/23.01311"}]
[null,{"$f":"'3.3'!I3195","v":0},{"$f":"'3.3'!L3195","v":0},0,0,1312,{"$f":"'poměry financování'!D3188","v":"CZ.1.11/1.2.00/23.01312"}]
[null,{"$f":"'3.3'!I3196","v":0},{"$f":"'3.3'!L3196","v":0},0,0,1312,{"$f":"'poměry financování'!D3189","v":"CZ.1.11/1.2.00/23.01312"}]
[null,{"$f":"'3.3'!I3197","v":0},{"$f":"'3.3'!L3197","v":0},0,0,1312,{"$f":"'poměry financování'!D3190","v":"CZ.1.11/1.2.00/23.01312"}]
[null,{"$f":"'3.3'!I3198","v":0},{"$f":"'3.3'!L3198","v":0},0,0,1313,{"$f":"'poměry financování'!D3191","v":"CZ.1.11/1.2.00/23.01313"}]
[null,{"$f":"'3.3'!I3199","v":0},{"$f":"'3.3'!L3199","v":0},0,0,1313,{"$f":"'poměry financování'!D3192","v":"CZ.1.11/1.2.00/23.01313"}]
[null,{"$f":"'3.3'!I3200","v":0},{"$f":"'3.3'!L3200","v":0},0,0,1314,{"$f":"'poměry financování'!D3193","v":"CZ.1.11/1.2.00/23.01314"}]
[null,{"$f":"'3.3'!I3201","v":0},{"$f":"'3.3'!L3201","v":0},0,0,1314,{"$f":"'poměry financování'!D3194","v":"CZ.1.11/1.2.00/23.01314"}]
[null,{"$f":"'3.3'!I3202","v":0},{"$f":"'3.3'!L3202","v":0},0,0,1314,{"$f":"'poměry financování'!D3195","v":"CZ.1.11/1.2.00/23.01314"}]
[null,{"$f":"'3.3'!I3203","v":0},{"$f":"'3.3'!L3203","v":0},0,0,1314,{"$f":"'poměry financování'!D3196","v":"CZ.1.11/1.2.00/23.01314"}]
[null,{"$f":"'3.3'!I3204","v":0},{"$f":"'3.3'!L3204","v":0},0,0,1315,{"$f":"'poměry financování'!D3197","v":"CZ.1.11/1.2.00/23.01315"}]
[null,{"$f":"'3.3'!I3205","v":0},{"$f":"'3.3'!L3205","v":0},0,0,1315,{"$f":"'poměry financování'!D3198","v":"CZ.1.11/1.2.00/23.01315"}]
[null,{"$f":"'3.3'!I3206","v":0},{"$f":"'3.3'!L3206","v":0},0,0,1316,{"$f":"'poměry financování'!D3199","v":"CZ.1.11/1.2.00/23.01316"}]
[null,{"$f":"'3.3'!I3207","v":0},{"$f":"'3.3'!L3207","v":0},{"$f":"IF(B3203=\"Investiční\",C3203,0)","v":0},{"$f":"IF(B3203=\"Neinvestiční\",C3203,0)","v":0},1316,{"$f":"'poměry financování'!D3200","v":"CZ.1.11/1.2.00/23.01316"}]
[null,{"$f":"'3.3'!I3208","v":0},{"$f":"'3.3'!L3208","v":0},0,0,1317,{"$f":"'poměry financování'!D3201","v":"CZ.1.11/1.2.00/23.01317"}]
[null,{"$f":"'3.3'!I3209","v":0},{"$f":"'3.3'!L3209","v":0},0,0,1317,{"$f":"'poměry financování'!D3202","v":"CZ.1.11/1.2.00/23.01317"}]
[null,{"$f":"'3.3'!I3210","v":0},{"$f":"'3.3'!L3210","v":0},0,0,{"$f":"VALUE((MID(G3206,20,4)))","v":1318},{"$f":"'poměry financování'!D3203","v":"CZ.1.11/1.2.00/23.01318"}]
[null,{"$f":"'3.3'!I3211","v":0},{"$f":"'3.3'!L3211","v":0},0,0,1319,{"$f":"'poměry financování'!D3204","v":"CZ.1.11/1.2.00/23.01319"}]
[null,{"$f":"'3.3'!I3212","v":0},{"$f":"'3.3'!L3212","v":0},0,0,1320,{"$f":"'poměry financování'!D3205","v":"CZ.1.11/1.2.00/23.01320"}]
[null,{"$f":"'3.3'!I3213","v":0},{"$f":"'3.3'!L3213","v":0},0,0,1321,{"$f":"'poměry financování'!D3206","v":"CZ.1.11/1.2.00/23.01321"}]
[null,{"$f":"'3.3'!I3214","v":0},{"$f":"'3.3'!L3214","v":0},0,0,1321,{"$f":"'poměry financování'!D3207","v":"CZ.1.11/1.2.00/23.01321"}]
[null,{"$f":"'3.3'!I3215","v":0},{"$f":"'3.3'!L3215","v":0},0,0,1322,{"$f":"'poměry financování'!D3208","v":"CZ.1.11/1.2.00/23.01322"}]
[null,{"$f":"'3.3'!I3216","v":0},{"$f":"'3.3'!L3216","v":0},0,0,1322,{"$f":"'poměry financování'!D3209","v":"CZ.1.11/1.2.00/23.01322"}]
[null,{"$f":"'3.3'!I3217","v":0},{"$f":"'3.3'!L3217","v":0},0,0,1322,{"$f":"'poměry financování'!D3210","v":"CZ.1.11/1.2.00/23.01322"}]
[null,{"$f":"'3.3'!I3218","v":0},{"$f":"'3.3'!L3218","v":0},0,0,1322,{"$f":"'poměry financování'!D3211","v":"CZ.1.11/1.2.00/23.01322"}]
[null,{"$f":"'3.3'!I3219","v":0},{"$f":"'3.3'!L3219","v":0},0,0,1323,{"$f":"'poměry financování'!D3212","v":"CZ.1.11/3.1.00/22.01323"}]
[null,{"$f":"'3.3'!I3220","v":0},{"$f":"'3.3'!L3220","v":0},0,0,1324,{"$f":"'poměry financování'!D3213","v":"CZ.1.11/3.1.00/22.01324"}]
[null,{"$f":"'3.3'!I3221","v":0},{"$f":"'3.3'!L3221","v":0},0,0,1325,{"$f":"'poměry financování'!D3214","v":"CZ.1.11/1.1.00/21.01325"}]
[null,{"$f":"'3.3'!I3222","v":0},{"$f":"'3.3'!L3222","v":0},0,0,1325,{"$f":"'poměry financování'!D3215","v":"CZ.1.11/1.1.00/21.01325"}]
[null,{"$f":"'3.3'!I3223","v":0},{"$f":"'3.3'!L3223","v":0},0,0,1326,{"$f":"'poměry financování'!D3216","v":"CZ.1.11/3.1.00/22.01326"}]
[null,{"$f":"'3.3'!I3224","v":0},{"$f":"'3.3'!L3224","v":0},0,0,1327,{"$f":"'poměry financování'!D3217","v":"CZ.1.11/3.1.00/22.01327"}]
[null,{"$f":"'3.3'!I3225","v":0},{"$f":"'3.3'!L3225","v":0},0,0,1328,{"$f":"'poměry financování'!D3218","v":"CZ.1.11/3.1.00/22.01328"}]
[null,{"$f":"'3.3'!I3226","v":0},{"$f":"'3.3'!L3226","v":0},0,0,1329,{"$f":"'poměry financování'!D3219","v":"CZ.1.11/1.1.00/21.01329"}]
[null,{"$f":"'3.3'!I3227","v":0},{"$f":"'3.3'!L3227","v":0},0,0,1329,{"$f":"'poměry financování'!D3220","v":"CZ.1.11/1.1.00/21.01329"}]
[null,{"$f":"'3.3'!I3228","v":0},{"$f":"'3.3'!L3228","v":0},0,0,1329,{"$f":"'poměry financování'!D3221","v":"CZ.1.11/1.1.00/21.01329"}]
[null,{"$f":"'3.3'!I3229","v":0},{"$f":"'3.3'!L3229","v":0},0,0,1330,{"$f":"'poměry financování'!D3222","v":"CZ.1.11/1.1.00/21.01330"}]
[null,{"$f":"'3.3'!I3230","v":0},{"$f":"'3.3'!L3230","v":0},0,0,1330,{"$f":"'poměry financování'!D3223","v":"CZ.1.11/1.1.00/21.01330"}]
[null,{"$f":"'3.3'!I3231","v":0},{"$f":"'3.3'!L3231","v":0},0,0,1330,{"$f":"'poměry financování'!D3224","v":"CZ.1.11/1.1.00/21.01330"}]
[null,{"$f":"'3.3'!I3232","v":0},{"$f":"'3.3'!L3232","v":0},0,0,1331,{"$f":"'poměry financování'!D3225","v":"CZ.1.11/1.1.00/21.01331"}]
[null,{"$f":"'3.3'!I3233","v":0},{"$f":"'3.3'!L3233","v":0},0,0,1331,{"$f":"'poměry financování'!D3226","v":"CZ.1.11/1.1.00/21.01331"}]
[null,{"$f":"'3.3'!I3234","v":0},{"$f":"'3.3'!L3234","v":0},0,0,1332,{"$f":"'poměry financování'!D3227","v":"CZ.1.11/1.1.00/21.01332"}]
[null,{"$f":"'3.3'!I3235","v":0},{"$f":"'3.3'!L3235","v":0},0,0,1332,{"$f":"'poměry financování'!D3228","v":"CZ.1.11/1.1.00/21.01332"}]
[null,{"$f":"'3.3'!I3236","v":0},{"$f":"'3.3'!L3236","v":0},0,0,1332,{"$f":"'poměry financování'!D3229","v":"CZ.1.11/1.1.00/21.01332"}]
[null,{"$f":"'3.3'!I3237","v":0},{"$f":"'3.3'!L3237","v":0},0,0,1333,{"$f":"'poměry financování'!D3230","v":"CZ.1.11/1.1.00/30.01333"}]
[null,{"$f":"'3.3'!I3238","v":0},{"$f":"'3.3'!L3238","v":0},0,0,1333,{"$f":"'poměry financování'!D3231","v":"CZ.1.11/1.1.00/30.01333"}]
[null,{"$f":"'3.3'!I3239","v":0},{"$f":"'3.3'!L3239","v":0},0,0,1333,{"$f":"'poměry financování'!D3232","v":"CZ.1.11/1.1.00/30.01333"}]
[null,{"$f":"'3.3'!I3240","v":0},{"$f":"'3.3'!L3240","v":0},0,0,1333,{"$f":"'poměry financování'!D3233","v":"CZ.1.11/1.1.00/30.01333"}]
[null,{"$f":"'3.3'!I3241","v":0},{"$f":"'3.3'!L3241","v":0},0,0,1334,{"$f":"'poměry financování'!D3234","v":"CZ.1.11/3.1.00/22.01334"}]
[null,{"$f":"'3.3'!I3242","v":0},{"$f":"'3.3'!L3242","v":0},0,0,1335,{"$f":"'poměry financování'!D3235","v":"CZ.1.11/3.4.00/27.01335"}]
[null,{"$f":"'3.3'!I3243","v":0},{"$f":"'3.3'!L3243","v":0},0,0,1336,{"$f":"'poměry financování'!D3236","v":"CZ.1.11/3.4.00/27.01336"}]
[null,{"$f":"'3.3'!I3244","v":0},{"$f":"'3.3'!L3244","v":0},0,0,1337,{"$f":"'poměry financování'!D3237","v":"CZ.1.11/3.1.00/22.01337"}]
[null,{"$f":"'3.3'!I3245","v":0},{"$f":"'3.3'!L3245","v":0},0,0,1337,{"$f":"'poměry financování'!D3238","v":"CZ.1.11/3.1.00/22.01337"}]
[null,{"$f":"'3.3'!I3246","v":0},{"$f":"'3.3'!L3246","v":0},0,0,1338,{"$f":"'poměry financování'!D3239","v":"CZ.1.11/3.4.00/27.01338"}]
[null,{"$f":"'3.3'!I3247","v":0},{"$f":"'3.3'!L3247","v":0},0,0,1339,{"$f":"'poměry financování'!D3240","v":"CZ.1.11/3.4.00/27.01339"}]
[null,{"$f":"'3.3'!I3248","v":0},{"$f":"'3.3'!L3248","v":0},0,0,1340,{"$f":"'poměry financování'!D3241","v":"CZ.1.11/3.4.00/27.01340"}]
[null,{"$f":"'3.3'!I3249","v":0},{"$f":"'3.3'!L3249","v":0},0,0,1341,{"$f":"'poměry financování'!D3242","v":"CZ.1.11/3.4.00/27.01341"}]
[null,{"$f":"'3.3'!I3250","v":0},{"$f":"'3.3'!L3250","v":0},0,0,1342,{"$f":"'poměry financování'!D3243","v":"CZ.1.11/3.4.00/27.01342"}]
[null,{"$f":"'3.3'!I3251","v":0},{"$f":"'3.3'!L3251","v":0},0,0,1343,{"$f":"'poměry financování'!D3244","v":"CZ.1.11/3.4.00/27.01343"}]
[null,{"$f":"'3.3'!I3252","v":0},{"$f":"'3.3'!L3252","v":0},0,0,1344,{"$f":"'poměry financování'!D3245","v":"CZ.1.11/3.4.00/27.01344"}]
[null,{"$f":"'3.3'!I3253","v":0},{"$f":"'3.3'!L3253","v":0},0,0,1345,{"$f":"'poměry financování'!D3246","v":"CZ.1.11/3.4.00/27.01345"}]
[null,{"$f":"'3.3'!I3254","v":0},{"$f":"'3.3'!L3254","v":0},0,0,1345,{"$f":"'poměry financování'!D3247","v":"CZ.1.11/3.4.00/27.01345"}]
[null,{"$f":"'3.3'!I3255","v":0},{"$f":"'3.3'!L3255","v":0},0,0,1345,{"$f":"'poměry financování'!D3248","v":"CZ.1.11/3.4.00/27.01345"}]
[null,{"$f":"'3.3'!I3256","v":0},{"$f":"'3.3'!L3256","v":0},0,0,1346,{"$f":"'poměry financování'!D3249","v":"CZ.1.11/3.4.00/27.01346"}]
[null,{"$f":"'3.3'!I3257","v":0},{"$f":"'3.3'!L3257","v":0},0,0,1346,{"$f":"'poměry financování'!D3250","v":"CZ.1.11/3.4.00/27.01346"}]
[null,{"$f":"'3.3'!I3258","v":0},{"$f":"'3.3'!L3258","v":0},0,0,1347,{"$f":"'poměry financování'!D3251","v":"CZ.1.11/3.4.00/27.01347"}]
[null,{"$f":"'3.3'!I3259","v":0},{"$f":"'3.3'!L3259","v":0},0,0,1347,{"$f":"'poměry financování'!D3252","v":"CZ.1.11/3.4.00/27.01347"}]
[null,{"$f":"'3.3'!I3260","v":0},{"$f":"'3.3'!L3260","v":0},0,0,1347,{"$f":"'poměry financování'!D3253","v":"CZ.1.11/3.4.00/27.01347"}]
[null,{"$f":"'3.3'!I3261","v":0},{"$f":"'3.3'!L3261","v":0},0,0,1348,{"$f":"'poměry financování'!D3254","v":"CZ.1.11/1.1.00/30.01348"}]
[null,{"$f":"'3.3'!I3262","v":0},{"$f":"'3.3'!L3262","v":0},0,0,1348,{"$f":"'poměry financování'!D3255","v":"CZ.1.11/1.1.00/30.01348"}]
[null,{"$f":"'3.3'!I3263","v":0},{"$f":"'3.3'!L3263","v":0},0,0,1349,{"$f":"'poměry financování'!D3256","v":"CZ.1.11/1.1.00/30.01349"}]
[null,{"$f":"'3.3'!I3264","v":0},{"$f":"'3.3'!L3264","v":0},0,0,1349,{"$f":"'poměry financování'!D3257","v":"CZ.1.11/1.1.00/30.01349"}]
[null,{"$f":"'3.3'!I3265","v":0},{"$f":"'3.3'!L3265","v":0},0,0,1350,{"$f":"'poměry financování'!D3258","v":"CZ.1.11/1.1.00/30.01350"}]
[null,{"$f":"'3.3'!I3266","v":0},{"$f":"'3.3'!L3266","v":0},0,0,1350,{"$f":"'poměry financování'!D3259","v":"CZ.1.11/1.1.00/30.01350"}]
[null,{"$f":"'3.3'!I3267","v":0},{"$f":"'3.3'!L3267","v":0},0,0,1350,{"$f":"'poměry financování'!D3260","v":"CZ.1.11/1.1.00/30.01350"}]
[null,{"$f":"'3.3'!I3268","v":0},{"$f":"'3.3'!L3268","v":0},0,0,1350,{"$f":"'poměry financování'!D3261","v":"CZ.1.11/1.1.00/30.01350"}]
[null,{"$f":"'3.3'!I3269","v":0},{"$f":"'3.3'!L3269","v":0},0,0,1351,{"$f":"'poměry financování'!D3262","v":"CZ.1.11/1.1.00/30.01351"}]
[null,{"$f":"'3.3'!I3270","v":0},{"$f":"'3.3'!L3270","v":0},0,0,1351,{"$f":"'poměry financování'!D3263","v":"CZ.1.11/1.1.00/30.01351"}]
[null,{"$f":"'3.3'!I3271","v":0},{"$f":"'3.3'!L3271","v":0},{"$f":"IF(B3267=\"Investiční\",C3267,0)","v":0},{"$f":"IF(B3267=\"Neinvestiční\",C3267,0)","v":0},1351,{"$f":"'poměry financování'!D3264","v":"CZ.1.11/1.1.00/30.01351"}]
[null,{"$f":"'3.3'!I3272","v":0},{"$f":"'3.3'!L3272","v":0},0,0,1351,{"$f":"'poměry financování'!D3265","v":"CZ.1.11/1.1.00/30.01351"}]
[null,{"$f":"'3.3'!I3273","v":0},{"$f":"'3.3'!L3273","v":0},0,0,1352,{"$f":"'poměry financování'!D3266","v":"CZ.1.11/1.1.00/30.01352"}]
[null,{"$f":"'3.3'!I3274","v":0},{"$f":"'3.3'!L3274","v":0},0,0,{"$f":"VALUE((MID(G3270,20,4)))","v":1352},{"$f":"'poměry financování'!D3267","v":"CZ.1.11/1.1.00/30.01352"}]
[null,{"$f":"'3.3'!I3275","v":0},{"$f":"'3.3'!L3275","v":0},0,0,1352,{"$f":"'poměry financování'!D3268","v":"CZ.1.11/1.1.00/30.01352"}]
[null,{"$f":"'3.3'!I3276","v":0},{"$f":"'3.3'!L3276","v":0},0,0,1353,{"$f":"'poměry financování'!D3269","v":"CZ.1.11/3.3.00/29.01353"}]
[null,{"$f":"'3.3'!I3277","v":0},{"$f":"'3.3'!L3277","v":0},0,0,1353,{"$f":"'poměry financování'!D3270","v":"CZ.1.11/3.3.00/29.01353"}]
[null,{"$f":"'3.3'!I3278","v":0},{"$f":"'3.3'!L3278","v":0},0,0,1353,{"$f":"'poměry financování'!D3271","v":"CZ.1.11/3.3.00/29.01353"}]
[null,{"$f":"'3.3'!I3279","v":0},{"$f":"'3.3'!L3279","v":0},0,0,1353,{"$f":"'poměry financování'!D3272","v":"CZ.1.11/3.3.00/29.01353"}]
[null,{"$f":"'3.3'!I3280","v":0},{"$f":"'3.3'!L3280","v":0},0,0,1354,{"$f":"'poměry financování'!D3273","v":"CZ.1.11/3.3.00/29.01354"}]
[null,{"$f":"'3.3'!I3281","v":0},{"$f":"'3.3'!L3281","v":0},0,0,1354,{"$f":"'poměry financování'!D3274","v":"CZ.1.11/3.3.00/29.01354"}]
[null,{"$f":"'3.3'!I3282","v":0},{"$f":"'3.3'!L3282","v":0},0,0,1355,{"$f":"'poměry financování'!D3275","v":"CZ.1.11/3.1.00/22.01355"}]
[null,{"$f":"'3.3'!I3283","v":0},{"$f":"'3.3'!L3283","v":0},0,0,1356,{"$f":"'poměry financování'!D3276","v":"CZ.1.11/1.1.00/30.01356"}]
[null,{"$f":"'3.3'!I3284","v":0},{"$f":"'3.3'!L3284","v":0},0,0,1356,{"$f":"'poměry financování'!D3277","v":"CZ.1.11/1.1.00/30.01356"}]
[null,{"$f":"'3.3'!I3285","v":0},{"$f":"'3.3'!L3285","v":0},0,0,1357,{"$f":"'poměry financování'!D3278","v":"CZ.1.11/3.1.00/22.01357"}]
[null,{"$f":"'3.3'!I3286","v":0},{"$f":"'3.3'!L3286","v":0},0,0,1357,{"$f":"'poměry financování'!D3279","v":"CZ.1.11/3.1.00/22.01357"}]
[null,{"$f":"'3.3'!I3287","v":0},{"$f":"'3.3'!L3287","v":0},0,0,1358,{"$f":"'poměry financování'!D3280","v":"CZ.1.11/1.1.00/30.01358"}]
[null,{"$f":"'3.3'!I3288","v":0},{"$f":"'3.3'!L3288","v":0},0,0,1358,{"$f":"'poměry financování'!D3281","v":"CZ.1.11/1.1.00/30.01358"}]
[null,{"$f":"'3.3'!I3289","v":0},{"$f":"'3.3'!L3289","v":0},0,0,1358,{"$f":"'poměry financování'!D3282","v":"CZ.1.11/1.1.00/30.01358"}]
[null,{"$f":"'3.3'!I3290","v":0},{"$f":"'3.3'!L3290","v":0},0,0,1359,{"$f":"'poměry financování'!D3283","v":"CZ.1.11/1.1.00/30.01359"}]
[null,{"$f":"'3.3'!I3291","v":0},{"$f":"'3.3'!L3291","v":0},0,0,1360,{"$f":"'poměry financování'!D3284","v":"CZ.1.11/1.1.00/30.01360"}]
[null,{"$f":"'3.3'!I3292","v":0},{"$f":"'3.3'!L3292","v":0},0,0,1361,{"$f":"'poměry financování'!D3285","v":"CZ.1.11/3.1.00/22.01361"}]
[null,{"$f":"'3.3'!I3293","v":0},{"$f":"'3.3'!L3293","v":0},0,0,1362,{"$f":"'poměry financování'!D3286","v":"CZ.1.11/1.1.00/30.01362"}]
[null,{"$f":"'3.3'!I3294","v":0},{"$f":"'3.3'!L3294","v":0},0,0,1362,{"$f":"'poměry financování'!D3287","v":"CZ.1.11/1.1.00/30.01362"}]
[null,{"$f":"'3.3'!I3295","v":0},{"$f":"'3.3'!L3295","v":0},0,0,1362,{"$f":"'poměry financování'!D3288","v":"CZ.1.11/1.1.00/30.01362"}]
[null,{"$f":"'3.3'!I3296","v":0},{"$f":"'3.3'!L3296","v":0},0,0,1363,{"$f":"'poměry financování'!D3289","v":"CZ.1.11/1.1.00/30.01363"}]
[null,{"$f":"'3.3'!I3297","v":0},{"$f":"'3.3'!L3297","v":0},0,0,1363,{"$f":"'poměry financování'!D3290","v":"CZ.1.11/1.1.00/30.01363"}]
[null,{"$f":"'3.3'!I3298","v":0},{"$f":"'3.3'!L3298","v":0},0,0,1364,{"$f":"'poměry financování'!D3291","v":"CZ.1.11/1.2.00/31.01364"}]
[null,{"$f":"'3.3'!I3299","v":0},{"$f":"'3.3'!L3299","v":0},0,0,1364,{"$f":"'poměry financování'!D3292","v":"CZ.1.11/1.2.00/31.01364"}]
[null,{"$f":"'3.3'!I3300","v":0},{"$f":"'3.3'!L3300","v":0},0,0,1365,{"$f":"'poměry financování'!D3293","v":"CZ.1.11/1.2.00/32.01365"}]
[null,{"$f":"'3.3'!I3301","v":0},{"$f":"'3.3'!L3301","v":0},0,0,1365,{"$f":"'poměry financování'!D3294","v":"CZ.1.11/1.2.00/32.01365"}]
[null,{"$f":"'3.3'!I3302","v":0},{"$f":"'3.3'!L3302","v":0},0,0,1366,{"$f":"'poměry financování'!D3295","v":"CZ.1.11/1.2.00/31.01366"}]
[null,{"$f":"'3.3'!I3303","v":0},{"$f":"'3.3'!L3303","v":0},0,0,1366,{"$f":"'poměry financování'!D3296","v":"CZ.1.11/1.2.00/31.01366"}]
[null,{"$f":"'3.3'!I3304","v":0},{"$f":"'3.3'!L3304","v":0},0,0,1366,{"$f":"'poměry financování'!D3297","v":"CZ.1.11/1.2.00/31.01366"}]
[null,{"$f":"'3.3'!I3305","v":0},{"$f":"'3.3'!L3305","v":0},0,0,1367,{"$f":"'poměry financování'!D3298","v":"CZ.1.11/1.2.00/31.01367"}]
[null,{"$f":"'3.3'!I3306","v":0},{"$f":"'3.3'!L3306","v":0},0,0,1367,{"$f":"'poměry financování'!D3299","v":"CZ.1.11/1.2.00/31.01367"}]
[null,{"$f":"'3.3'!I3307","v":0},{"$f":"'3.3'!L3307","v":0},0,0,1367,{"$f":"'poměry financování'!D3300","v":"CZ.1.11/1.2.00/31.01367"}]
[null,{"$f":"'3.3'!I3308","v":0},{"$f":"'3.3'!L3308","v":0},0,0,1367,{"$f":"'poměry financování'!D3301","v":"CZ.1.11/1.2.00/31.01367"}]
[null,{"$f":"'3.3'!I3309","v":0},{"$f":"'3.3'!L3309","v":0},0,0,1368,{"$f":"'poměry financování'!D3302","v":"CZ.1.11/1.2.00/32.01368"}]
[null,{"$f":"'3.3'!I3310","v":0},{"$f":"'3.3'!L3310","v":0},0,0,1369,{"$f":"'poměry financování'!D3303","v":"CZ.1.11/1.2.00/32.01369"}]
[null,{"$f":"'3.3'!I3311","v":0},{"$f":"'3.3'!L3311","v":0},0,0,1370,{"$f":"'poměry financování'!D3304","v":"CZ.1.11/1.2.00/32.01370"}]
[null,{"$f":"'3.3'!I3312","v":0},{"$f":"'3.3'!L3312","v":0},0,0,1371,{"$f":"'poměry financování'!D3305","v":"CZ.1.11/1.2.00/32.01371"}]
[null,{"$f":"'3.3'!I3313","v":0},{"$f":"'3.3'!L3313","v":0},0,0,1372,{"$f":"'poměry financování'!D3306","v":"CZ.1.11/3.1.00/22.01372"}]
[null,{"$f":"'3.3'!I3314","v":0},{"$f":"'3.3'!L3314","v":0},0,0,1373,{"$f":"'poměry financování'!D3307","v":"CZ.1.11/1.4.00/33.01373"}]
[null,{"$f":"'3.3'!I3315","v":0},{"$f":"'3.3'!L3315","v":0},0,0,1374,{"$f":"'poměry financování'!D3308","v":"CZ.1.11/1.4.00/33.01374"}]
[null,{"$f":"'3.3'!I3316","v":0},{"$f":"'3.3'!L3316","v":0},0,0,1375,{"$f":"'poměry financování'!D3309","v":"CZ.1.11/1.4.00/33.01375"}]
[null,{"$f":"'3.3'!I3317","v":0},{"$f":"'3.3'!L3317","v":0},0,0,1376,{"$f":"'poměry financování'!D3310","v":"CZ.1.11/1.4.00/33.01376"}]
[null,{"$f":"'3.3'!I3318","v":0},{"$f":"'3.3'!L3318","v":0},0,0,1376,{"$f":"'poměry financování'!D3311","v":"CZ.1.11/1.4.00/33.01376"}]
[null,{"$f":"'3.3'!I3319","v":0},{"$f":"'3.3'!L3319","v":0},0,0,1377,{"$f":"'poměry financování'!D3312","v":"CZ.1.11/1.4.00/33.01377"}]
[null,{"$f":"'3.3'!I3320","v":0},{"$f":"'3.3'!L3320","v":0},0,0,1378,{"$f":"'poměry financování'!D3313","v":"CZ.1.11/1.4.00/33.01378"}]
[null,{"$f":"'3.3'!I3321","v":0},{"$f":"'3.3'!L3321","v":0},0,0,1379,{"$f":"'poměry financování'!D3314","v":"CZ.1.11/1.4.00/33.01379"}]
[null,{"$f":"'3.3'!I3322","v":0},{"$f":"'3.3'!L3322","v":0},0,0,1380,{"$f":"'poměry financování'!D3315","v":"CZ.1.11/1.4.00/33.01380"}]
[null,{"$f":"'3.3'!I3323","v":0},{"$f":"'3.3'!L3323","v":0},0,0,1381,{"$f":"'poměry financování'!D3316","v":"CZ.1.11/1.4.00/33.01381"}]
[null,{"$f":"'3.3'!I3324","v":0},{"$f":"'3.3'!L3324","v":0},0,0,1382,{"$f":"'poměry financování'!D3317","v":"CZ.1.11/1.4.00/33.01382"}]
[null,{"$f":"'3.3'!I3325","v":0},{"$f":"'3.3'!L3325","v":0},0,0,1383,{"$f":"'poměry financování'!D3318","v":"CZ.1.11/1.1.00/30.01383"}]
[null,{"$f":"'3.3'!I3326","v":0},{"$f":"'3.3'!L3326","v":0},0,0,1384,{"$f":"'poměry financování'!D3319","v":"CZ.1.11/1.1.00/30.01384"}]
[null,{"$f":"'3.3'!I3327","v":0},{"$f":"'3.3'!L3327","v":0},0,0,1384,{"$f":"'poměry financování'!D3320","v":"CZ.1.11/1.1.00/30.01384"}]
[null,{"$f":"'3.3'!I3328","v":0},{"$f":"'3.3'!L3328","v":0},0,0,1385,{"$f":"'poměry financování'!D3321","v":"CZ.1.11/1.1.00/30.01385"}]
[null,{"$f":"'3.3'!I3329","v":0},{"$f":"'3.3'!L3329","v":0},0,0,1385,{"$f":"'poměry financování'!D3322","v":"CZ.1.11/1.1.00/30.01385"}]
[null,{"$f":"'3.3'!I3330","v":0},{"$f":"'3.3'!L3330","v":0},0,0,1386,{"$f":"'poměry financování'!D3323","v":"CZ.1.11/1.1.00/30.01386"}]
[null,{"$f":"'3.3'!I3331","v":0},{"$f":"'3.3'!L3331","v":0},0,0,1387,{"$f":"'poměry financování'!D3324","v":"CZ.1.11/2.1.00/28.01387"}]
[null,{"$f":"'3.3'!I3332","v":0},{"$f":"'3.3'!L3332","v":0},0,0,1387,{"$f":"'poměry financování'!D3325","v":"CZ.1.11/2.1.00/28.01387"}]
[null,{"$f":"'3.3'!I3333","v":0},{"$f":"'3.3'!L3333","v":0},0,0,1388,{"$f":"'poměry financování'!D3326","v":"CZ.1.11/2.1.00/28.01388"}]
[null,{"$f":"'3.3'!I3334","v":0},{"$f":"'3.3'!L3334","v":0},0,0,1388,{"$f":"'poměry financování'!D3327","v":"CZ.1.11/2.1.00/28.01388"}]
[null,{"$f":"'3.3'!I3335","v":0},{"$f":"'3.3'!L3335","v":0},{"$f":"IF(B3331=\"Investiční\",C3331,0)","v":0},{"$f":"IF(B3331=\"Neinvestiční\",C3331,0)","v":0},1388,{"$f":"'poměry financování'!D3328","v":"CZ.1.11/2.1.00/28.01388"}]
[null,{"$f":"'3.3'!I3336","v":0},{"$f":"'3.3'!L3336","v":0},0,0,1389,{"$f":"'poměry financování'!D3329","v":"CZ.1.11/2.1.00/28.01389"}]
[null,{"$f":"'3.3'!I3337","v":0},{"$f":"'3.3'!L3337","v":0},0,0,1389,{"$f":"'poměry financování'!D3330","v":"CZ.1.11/2.1.00/28.01389"}]
[null,{"$f":"'3.3'!I3338","v":0},{"$f":"'3.3'!L3338","v":0},0,0,{"$f":"VALUE((MID(G3334,20,4)))","v":1390},{"$f":"'poměry financování'!D3331","v":"CZ.1.11/1.1.00/30.01390"}]
[null,{"$f":"'3.3'!I3339","v":0},{"$f":"'3.3'!L3339","v":0},0,0,1391,{"$f":"'poměry financování'!D3332","v":"CZ.1.11/1.1.00/30.01391"}]
[null,{"$f":"'3.3'!I3340","v":0},{"$f":"'3.3'!L3340","v":0},0,0,1391,{"$f":"'poměry financování'!D3333","v":"CZ.1.11/1.1.00/30.01391"}]
[null,{"$f":"'3.3'!I3341","v":0},{"$f":"'3.3'!L3341","v":0},0,0,1391,{"$f":"'poměry financování'!D3334","v":"CZ.1.11/1.1.00/30.01391"}]
[null,{"$f":"'3.3'!I3342","v":0},{"$f":"'3.3'!L3342","v":0},0,0,1392,{"$f":"'poměry financování'!D3335","v":"CZ.1.11/2.1.00/28.01392"}]
[null,{"$f":"'3.3'!I3343","v":0},{"$f":"'3.3'!L3343","v":0},0,0,1393,{"$f":"'poměry financování'!D3336","v":"CZ.1.11/2.1.00/28.01393"}]
[null,{"$f":"'3.3'!I3344","v":0},{"$f":"'3.3'!L3344","v":0},0,0,1393,{"$f":"'poměry financování'!D3337","v":"CZ.1.11/2.1.00/28.01393"}]
[null,{"$f":"'3.3'!I3345","v":0},{"$f":"'3.3'!L3345","v":0},0,0,1393,{"$f":"'poměry financování'!D3338","v":"CZ.1.11/2.1.00/28.01393"}]
[null,{"$f":"'3.3'!I3346","v":0},{"$f":"'3.3'!L3346","v":0},0,0,1394,{"$f":"'poměry financování'!D3339","v":"CZ.1.11/2.1.00/28.01394"}]
[null,{"$f":"'3.3'!I3347","v":0},{"$f":"'3.3'!L3347","v":0},0,0,1394,{"$f":"'poměry financování'!D3340","v":"CZ.1.11/2.1.00/28.01394"}]
[null,{"$f":"'3.3'!I3348","v":0},{"$f":"'3.3'!L3348","v":0},0,0,1395,{"$f":"'poměry financování'!D3341","v":"CZ.1.11/2.1.00/28.01395"}]
[null,{"$f":"'3.3'!I3349","v":0},{"$f":"'3.3'!L3349","v":0},0,0,1395,{"$f":"'poměry financování'!D3342","v":"CZ.1.11/2.1.00/28.01395"}]
[null,{"$f":"'3.3'!I3350","v":0},{"$f":"'3.3'!L3350","v":0},0,0,1396,{"$f":"'poměry financování'!D3343","v":"CZ.1.11/2.1.00/28.01396"}]
[null,{"$f":"'3.3'!I3351","v":0},{"$f":"'3.3'!L3351","v":0},0,0,1396,{"$f":"'poměry financování'!D3344","v":"CZ.1.11/2.1.00/28.01396"}]
[null,{"$f":"'3.3'!I3352","v":0},{"$f":"'3.3'!L3352","v":0},0,0,1396,{"$f":"'poměry financování'!D3345","v":"CZ.1.11/2.1.00/28.01396"}]
[null,{"$f":"'3.3'!I3353","v":0},{"$f":"'3.3'!L3353","v":0},0,0,1397,{"$f":"'poměry financování'!D3346","v":"CZ.1.11/2.1.00/28.01397"}]
[null,{"$f":"'3.3'!I3354","v":0},{"$f":"'3.3'!L3354","v":0},0,0,1397,{"$f":"'poměry financování'!D3347","v":"CZ.1.11/2.1.00/28.01397"}]
[null,{"$f":"'3.3'!I3355","v":0},{"$f":"'3.3'!L3355","v":0},0,0,1398,{"$f":"'poměry financování'!D3348","v":"CZ.1.11/2.1.00/28.01398"}]
[null,{"$f":"'3.3'!I3356","v":0},{"$f":"'3.3'!L3356","v":0},0,0,1399,{"$f":"'poměry financování'!D3349","v":"CZ.1.11/2.1.00/28.01399"}]
[null,{"$f":"'3.3'!I3357","v":0},{"$f":"'3.3'!L3357","v":0},0,0,1399,{"$f":"'poměry financování'!D3350","v":"CZ.1.11/2.1.00/28.01399"}]
[null,{"$f":"'3.3'!I3358","v":0},{"$f":"'3.3'!L3358","v":0},0,0,1400,{"$f":"'poměry financování'!D3351","v":"CZ.1.11/3.1.00/22.01400"}]
[null,{"$f":"'3.3'!I3359","v":0},{"$f":"'3.3'!L3359","v":0},0,0,1400,{"$f":"'poměry financování'!D3352","v":"CZ.1.11/3.1.00/22.01400"}]
[null,{"$f":"'3.3'!I3360","v":0},{"$f":"'3.3'!L3360","v":0},0,0,1400,{"$f":"'poměry financování'!D3353","v":"CZ.1.11/3.1.00/22.01400"}]
[null,{"$f":"'3.3'!I3361","v":0},{"$f":"'3.3'!L3361","v":0},0,0,1401,{"$f":"'poměry financování'!D3354","v":"CZ.1.11/2.1.00/28.01401"}]
[null,{"$f":"'3.3'!I3362","v":0},{"$f":"'3.3'!L3362","v":0},0,0,1401,{"$f":"'poměry financování'!D3355","v":"CZ.1.11/2.1.00/28.01401"}]
[null,{"$f":"'3.3'!I3363","v":0},{"$f":"'3.3'!L3363","v":0},0,0,1402,{"$f":"'poměry financování'!D3356","v":"CZ.1.11/2.1.00/28.01402"}]
[null,{"$f":"'3.3'!I3364","v":0},{"$f":"'3.3'!L3364","v":0},0,0,1402,{"$f":"'poměry financování'!D3357","v":"CZ.1.11/2.1.00/28.01402"}]
[null,{"$f":"'3.3'!I3365","v":0},{"$f":"'3.3'!L3365","v":0},0,0,1402,{"$f":"'poměry financování'!D3358","v":"CZ.1.11/2.1.00/28.01402"}]
[null,{"$f":"'3.3'!I3366","v":0},{"$f":"'3.3'!L3366","v":0},0,0,1402,{"$f":"'poměry financování'!D3359","v":"CZ.1.11/2.1.00/28.01402"}]
[null,{"$f":"'3.3'!I3367","v":0},{"$f":"'3.3'!L3367","v":0},0,0,1403,{"$f":"'poměry financování'!D3360","v":"CZ.1.11/2.1.00/28.01403"}]
[null,{"$f":"'3.3'!I3368","v":0},{"$f":"'3.3'!L3368","v":0},0,0,1403,{"$f":"'poměry financování'!D3361","v":"CZ.1.11/2.1.00/28.01403"}]
[null,{"$f":"'3.3'!I3369","v":0},{"$f":"'3.3'!L3369","v":0},0,0,1403,{"$f":"'poměry financování'!D3362","v":"CZ.1.11/2.1.00/28.01403"}]
[null,{"$f":"'3.3'!I3370","v":0},{"$f":"'3.3'!L3370","v":0},0,0,1404,{"$f":"'poměry financování'!D3363","v":"CZ.1.11/2.1.00/28.01404"}]
[null,{"$f":"'3.3'!I3371","v":0},{"$f":"'3.3'!L3371","v":0},0,0,1404,{"$f":"'poměry financování'!D3364","v":"CZ.1.11/2.1.00/28.01404"}]
[null,{"$f":"'3.3'!I3372","v":0},{"$f":"'3.3'!L3372","v":0},0,0,1405,{"$f":"'poměry financování'!D3365","v":"CZ.1.11/2.1.00/28.01405"}]
[null,{"$f":"'3.3'!I3373","v":0},{"$f":"'3.3'!L3373","v":0},0,0,1406,{"$f":"'poměry financování'!D3366","v":"CZ.1.11/2.1.00/28.01406"}]
[null,{"$f":"'3.3'!I3374","v":0},{"$f":"'3.3'!L3374","v":0},0,0,1407,{"$f":"'poměry financování'!D3367","v":"CZ.1.11/2.1.00/28.01407"}]
[null,{"$f":"'3.3'!I3375","v":0},{"$f":"'3.3'!L3375","v":0},0,0,1407,{"$f":"'poměry financování'!D3368","v":"CZ.1.11/2.1.00/28.01407"}]
[null,{"$f":"'3.3'!I3376","v":0},{"$f":"'3.3'!L3376","v":0},0,0,1408,{"$f":"'poměry financování'!D3369","v":"CZ.1.11/2.1.00/28.01408"}]
[null,{"$f":"'3.3'!I3377","v":0},{"$f":"'3.3'!L3377","v":0},0,0,1408,{"$f":"'poměry financování'!D3370","v":"CZ.1.11/2.1.00/28.01408"}]
[null,{"$f":"'3.3'!I3378","v":0},{"$f":"'3.3'!L3378","v":0},0,0,1408,{"$f":"'poměry financování'!D3371","v":"CZ.1.11/2.1.00/28.01408"}]
[null,{"$f":"'3.3'!I3379","v":0},{"$f":"'3.3'!L3379","v":0},0,0,1409,{"$f":"'poměry financování'!D3372","v":"CZ.1.11/2.1.00/28.01409"}]
[null,{"$f":"'3.3'!I3380","v":0},{"$f":"'3.3'!L3380","v":0},0,0,1410,{"$f":"'poměry financování'!D3373","v":"CZ.1.11/2.1.00/28.01410"}]
[null,{"$f":"'3.3'!I3381","v":0},{"$f":"'3.3'!L3381","v":0},0,0,1411,{"$f":"'poměry financování'!D3374","v":"CZ.1.11/2.1.00/28.01411"}]
[null,{"$f":"'3.3'!I3382","v":0},{"$f":"'3.3'!L3382","v":0},0,0,1412,{"$f":"'poměry financování'!D3375","v":"CZ.1.11/2.1.00/28.01412"}]
[null,{"$f":"'3.3'!I3383","v":0},{"$f":"'3.3'!L3383","v":0},0,0,1413,{"$f":"'poměry financování'!D3376","v":"CZ.1.11/2.1.00/28.01413"}]
[null,{"$f":"'3.3'!I3384","v":0},{"$f":"'3.3'!L3384","v":0},0,0,1414,{"$f":"'poměry financování'!D3377","v":"CZ.1.11/2.1.00/28.01414"}]
[null,{"$f":"'3.3'!I3385","v":0},{"$f":"'3.3'!L3385","v":0},0,0,1414,{"$f":"'poměry financování'!D3378","v":"CZ.1.11/2.1.00/28.01414"}]
[null,{"$f":"'3.3'!I3386","v":0},{"$f":"'3.3'!L3386","v":0},0,0,1415,{"$f":"'poměry financování'!D3379","v":"CZ.1.11/2.1.00/28.01415"}]
[null,{"$f":"'3.3'!I3387","v":0},{"$f":"'3.3'!L3387","v":0},0,0,1415,{"$f":"'poměry financování'!D3380","v":"CZ.1.11/2.1.00/28.01415"}]
[null,{"$f":"'3.3'!I3388","v":0},{"$f":"'3.3'!L3388","v":0},0,0,1415,{"$f":"'poměry financování'!D3381","v":"CZ.1.11/2.1.00/28.01415"}]
[null,{"$f":"'3.3'!I3389","v":0},{"$f":"'3.3'!L3389","v":0},0,0,1415,{"$f":"'poměry financování'!D3382","v":"CZ.1.11/2.1.00/28.01415"}]
[null,{"$f":"'3.3'!I3390","v":0},{"$f":"'3.3'!L3390","v":0},0,0,1416,{"$f":"'poměry financování'!D3383","v":"CZ.1.11/2.1.00/28.01416"}]
[null,{"$f":"'3.3'!I3391","v":0},{"$f":"'3.3'!L3391","v":0},0,0,1416,{"$f":"'poměry financování'!D3384","v":"CZ.1.11/2.1.00/28.01416"}]
[null,{"$f":"'3.3'!I3392","v":0},{"$f":"'3.3'!L3392","v":0},0,0,1416,{"$f":"'poměry financování'!D3385","v":"CZ.1.11/2.1.00/28.01416"}]
[null,{"$f":"'3.3'!I3393","v":0},{"$f":"'3.3'!L3393","v":0},0,0,1416,{"$f":"'poměry financování'!D3386","v":"CZ.1.11/2.1.00/28.01416"}]
[null,{"$f":"'3.3'!I3394","v":0},{"$f":"'3.3'!L3394","v":0},0,0,1416,{"$f":"'poměry financování'!D3387","v":"CZ.1.11/2.1.00/28.01416"}]
[null,{"$f":"'3.3'!I3395","v":0},{"$f":"'3.3'!L3395","v":0},0,0,1416,{"$f":"'poměry financování'!D3388","v":"CZ.1.11/2.1.00/28.01416"}]
[null,{"$f":"'3.3'!I3396","v":0},{"$f":"'3.3'!L3396","v":0},0,0,1417,{"$f":"'poměry financování'!D3389","v":"CZ.1.11/2.1.00/28.01417"}]
[null,{"$f":"'3.3'!I3397","v":0},{"$f":"'3.3'!L3397","v":0},0,0,1418,{"$f":"'poměry financování'!D3390","v":"CZ.1.11/2.1.00/28.01418"}]
[null,{"$f":"'3.3'!I3398","v":0},{"$f":"'3.3'!L3398","v":0},0,0,1418,{"$f":"'poměry financování'!D3391","v":"CZ.1.11/2.1.00/28.01418"}]
[null,{"$f":"'3.3'!I3399","v":0},{"$f":"'3.3'!L3399","v":0},{"$f":"IF(B3395=\"Investiční\",C3395,0)","v":0},{"$f":"IF(B3395=\"Neinvestiční\",C3395,0)","v":0},1419,{"$f":"'poměry financování'!D3392","v":"CZ.1.11/2.1.00/28.01419"}]
[null,{"$f":"'3.3'!I3400","v":0},{"$f":"'3.3'!L3400","v":0},0,0,1419,{"$f":"'poměry financování'!D3393","v":"CZ.1.11/2.1.00/28.01419"}]
[null,{"$f":"'3.3'!I3401","v":0},{"$f":"'3.3'!L3401","v":0},0,0,1420,{"$f":"'poměry financování'!D3394","v":"CZ.1.11/2.1.00/28.01420"}]
[null,{"$f":"'3.3'!I3402","v":0},{"$f":"'3.3'!L3402","v":0},0,0,{"$f":"VALUE((MID(G3398,20,4)))","v":1420},{"$f":"'poměry financování'!D3395","v":"CZ.1.11/2.1.00/28.01420"}]
[null,{"$f":"'3.3'!I3403","v":0},{"$f":"'3.3'!L3403","v":0},0,0,1421,{"$f":"'poměry financování'!D3396","v":"CZ.1.11/1.1.00/30.01421"}]
[null,{"$f":"'3.3'!I3404","v":0},{"$f":"'3.3'!L3404","v":0},0,0,1421,{"$f":"'poměry financování'!D3397","v":"CZ.1.11/1.1.00/30.01421"}]
[null,{"$f":"'3.3'!I3405","v":0},{"$f":"'3.3'!L3405","v":0},0,0,1422,{"$f":"'poměry financování'!D3398","v":"CZ.1.11/1.1.00/30.01422"}]
[null,{"$f":"'3.3'!I3406","v":0},{"$f":"'3.3'!L3406","v":0},0,0,1423,{"$f":"'poměry financování'!D3399","v":"CZ.1.11/3.3.00/36.01423"}]
[null,{"$f":"'3.3'!I3407","v":0},{"$f":"'3.3'!L3407","v":0},0,0,1424,{"$f":"'poměry financování'!D3400","v":"CZ.1.11/3.3.00/36.01424"}]
[null,{"$f":"'3.3'!I3408","v":0},{"$f":"'3.3'!L3408","v":0},0,0,1425,{"$f":"'poměry financování'!D3401","v":"CZ.1.11/3.2.00/35.01425"}]
[null,{"$f":"'3.3'!I3409","v":0},{"$f":"'3.3'!L3409","v":0},0,0,1426,{"$f":"'poměry financování'!D3402","v":"CZ.1.11/3.2.00/35.01426"}]
[null,{"$f":"'3.3'!I3410","v":0},{"$f":"'3.3'!L3410","v":0},0,0,1426,{"$f":"'poměry financování'!D3403","v":"CZ.1.11/3.2.00/35.01426"}]
[null,{"$f":"'3.3'!I3411","v":0},{"$f":"'3.3'!L3411","v":0},0,0,1427,{"$f":"'poměry financování'!D3404","v":"CZ.1.11/3.2.00/35.01427"}]
[null,{"$f":"'3.3'!I3412","v":0},{"$f":"'3.3'!L3412","v":0},0,0,1428,{"$f":"'poměry financování'!D3405","v":"CZ.1.11/3.2.00/35.01428"}]
[null,{"$f":"'3.3'!I3413","v":0},{"$f":"'3.3'!L3413","v":0},0,0,1429,{"$f":"'poměry financování'!D3406","v":"CZ.1.11/3.2.00/35.01429"}]
[null,{"$f":"'3.3'!I3414","v":0},{"$f":"'3.3'!L3414","v":0},0,0,1429,{"$f":"'poměry financování'!D3407","v":"CZ.1.11/3.2.00/35.01429"}]
[null,{"$f":"'3.3'!I3415","v":0},{"$f":"'3.3'!L3415","v":0},0,0,1430,{"$f":"'poměry financování'!D3408","v":"CZ.1.11/3.2.00/35.01430"}]
[null,{"$f":"'3.3'!I3416","v":0},{"$f":"'3.3'!L3416","v":0},0,0,1431,{"$f":"'poměry financování'!D3409","v":"CZ.1.11/3.2.00/35.01431"}]
[null,{"$f":"'3.3'!I3417","v":0},{"$f":"'3.3'!L3417","v":0},0,0,1431,{"$f":"'poměry financování'!D3410","v":"CZ.1.11/3.2.00/35.01431"}]
[null,{"$f":"'3.3'!I3418","v":0},{"$f":"'3.3'!L3418","v":0},0,0,1432,{"$f":"'poměry financování'!D3411","v":"CZ.1.11/3.2.00/35.01432"}]
[null,{"$f":"'3.3'!I3419","v":0},{"$f":"'3.3'!L3419","v":0},0,0,1433,{"$f":"'poměry financování'!D3412","v":"CZ.1.11/3.2.00/35.01433"}]
[null,{"$f":"'3.3'!I3420","v":0},{"$f":"'3.3'!L3420","v":0},0,0,1434,{"$f":"'poměry financování'!D3413","v":"CZ.1.11/3.2.00/35.01434"}]
[null,{"$f":"'3.3'!I3421","v":0},{"$f":"'3.3'!L3421","v":0},0,0,1434,{"$f":"'poměry financování'!D3414","v":"CZ.1.11/3.2.00/35.01434"}]
[null,{"$f":"'3.3'!I3422","v":0},{"$f":"'3.3'!L3422","v":0},0,0,1435,{"$f":"'poměry financování'!D3415","v":"CZ.1.11/3.2.00/35.01435"}]
[null,{"$f":"'3.3'!I3423","v":0},{"$f":"'3.3'!L3423","v":0},0,0,1435,{"$f":"'poměry financování'!D3416","v":"CZ.1.11/3.2.00/35.01435"}]
[null,{"$f":"'3.3'!I3424","v":0},{"$f":"'3.3'!L3424","v":0},0,0,1436,{"$f":"'poměry financování'!D3417","v":"CZ.1.11/3.2.00/35.01436"}]
[null,{"$f":"'3.3'!I3425","v":0},{"$f":"'3.3'!L3425","v":0},0,0,1436,{"$f":"'poměry financování'!D3418","v":"CZ.1.11/3.2.00/35.01436"}]
[null,{"$f":"'3.3'!I3426","v":0},{"$f":"'3.3'!L3426","v":0},0,0,1437,{"$f":"'poměry financování'!D3419","v":"CZ.1.11/3.2.00/35.01437"}]
[null,{"$f":"'3.3'!I3427","v":0},{"$f":"'3.3'!L3427","v":0},0,0,1438,{"$f":"'poměry financování'!D3420","v":"CZ.1.11/3.2.00/35.01438"}]
[null,{"$f":"'3.3'!I3428","v":0},{"$f":"'3.3'!L3428","v":0},0,0,1438,{"$f":"'poměry financování'!D3421","v":"CZ.1.11/3.2.00/35.01438"}]
[null,{"$f":"'3.3'!I3429","v":0},{"$f":"'3.3'!L3429","v":0},0,0,1439,{"$f":"'poměry financování'!D3422","v":"CZ.1.11/3.2.00/35.01439"}]
[null,{"$f":"'3.3'!I3430","v":0},{"$f":"'3.3'!L3430","v":0},0,0,1439,{"$f":"'poměry financování'!D3423","v":"CZ.1.11/3.2.00/35.01439"}]
[null,{"$f":"'3.3'!I3431","v":0},{"$f":"'3.3'!L3431","v":0},0,0,1440,{"$f":"'poměry financování'!D3424","v":"CZ.1.11/3.2.00/35.01440"}]
[null,{"$f":"'3.3'!I3432","v":0},{"$f":"'3.3'!L3432","v":0},0,0,1441,{"$f":"'poměry financování'!D3425","v":"CZ.1.11/3.2.00/35.01441"}]
[null,{"$f":"'3.3'!I3433","v":0},{"$f":"'3.3'!L3433","v":0},0,0,1442,{"$f":"'poměry financování'!D3426","v":"CZ.1.11/3.2.00/35.01442"}]
[null,{"$f":"'3.3'!I3434","v":0},{"$f":"'3.3'!L3434","v":0},0,0,1442,{"$f":"'poměry financování'!D3427","v":"CZ.1.11/3.2.00/35.01442"}]
[null,{"$f":"'3.3'!I3435","v":0},{"$f":"'3.3'!L3435","v":0},0,0,1443,{"$f":"'poměry financování'!D3428","v":"CZ.1.11/3.2.00/35.01443"}]
[null,{"$f":"'3.3'!I3436","v":0},{"$f":"'3.3'!L3436","v":0},0,0,1443,{"$f":"'poměry financování'!D3429","v":"CZ.1.11/3.2.00/35.01443"}]
[null,{"$f":"'3.3'!I3437","v":0},{"$f":"'3.3'!L3437","v":0},0,0,1444,{"$f":"'poměry financování'!D3430","v":"CZ.1.11/3.2.00/35.01444"}]
[null,{"$f":"'3.3'!I3438","v":0},{"$f":"'3.3'!L3438","v":0},0,0,1445,{"$f":"'poměry financování'!D3431","v":"CZ.1.11/3.2.00/35.01445"}]
[null,{"$f":"'3.3'!I3439","v":0},{"$f":"'3.3'!L3439","v":0},0,0,1446,{"$f":"'poměry financování'!D3432","v":"CZ.1.11/3.2.00/35.01446"}]
[null,{"$f":"'3.3'!I3440","v":0},{"$f":"'3.3'!L3440","v":0},0,0,1446,{"$f":"'poměry financování'!D3433","v":"CZ.1.11/3.2.00/35.01446"}]
[null,{"$f":"'3.3'!I3441","v":0},{"$f":"'3.3'!L3441","v":0},0,0,1447,{"$f":"'poměry financování'!D3434","v":"CZ.1.11/3.2.00/35.01447"}]
[null,{"$f":"'3.3'!I3442","v":0},{"$f":"'3.3'!L3442","v":0},0,0,1447,{"$f":"'poměry financování'!D3435","v":"CZ.1.11/3.2.00/35.01447"}]
[null,{"$f":"'3.3'!I3443","v":0},{"$f":"'3.3'!L3443","v":0},0,0,1448,{"$f":"'poměry financování'!D3436","v":"CZ.1.11/3.2.00/35.01448"}]
[null,{"$f":"'3.3'!I3444","v":0},{"$f":"'3.3'!L3444","v":0},0,0,1448,{"$f":"'poměry financování'!D3437","v":"CZ.1.11/3.2.00/35.01448"}]
[null,{"$f":"'3.3'!I3445","v":0},{"$f":"'3.3'!L3445","v":0},0,0,1448,{"$f":"'poměry financování'!D3438","v":"CZ.1.11/3.2.00/35.01448"}]
[null,{"$f":"'3.3'!I3446","v":0},{"$f":"'3.3'!L3446","v":0},0,0,1449,{"$f":"'poměry financování'!D3439","v":"CZ.1.11/3.2.00/35.01449"}]
[null,{"$f":"'3.3'!I3447","v":0},{"$f":"'3.3'!L3447","v":0},0,0,1450,{"$f":"'poměry financování'!D3440","v":"CZ.1.11/1.1.00/30.01450"}]
[null,{"$f":"'3.3'!I3448","v":0},{"$f":"'3.3'!L3448","v":0},0,0,1451,{"$f":"'poměry financování'!D3441","v":"CZ.1.11/3.2.00/35.01451"}]
[null,{"$f":"'3.3'!I3449","v":0},{"$f":"'3.3'!L3449","v":0},0,0,1451,{"$f":"'poměry financování'!D3442","v":"CZ.1.11/3.2.00/35.01451"}]
[null,{"$f":"'3.3'!I3450","v":0},{"$f":"'3.3'!L3450","v":0},0,0,1452,{"$f":"'poměry financování'!D3443","v":"CZ.1.11/3.3.00/36.01452"}]
[null,{"$f":"'3.3'!I3451","v":0},{"$f":"'3.3'!L3451","v":0},0,0,1453,{"$f":"'poměry financování'!D3444","v":"CZ.1.11/3.3.00/36.01453"}]
[null,{"$f":"'3.3'!I3452","v":0},{"$f":"'3.3'!L3452","v":0},0,0,1454,{"$f":"'poměry financování'!D3445","v":"CZ.1.11/3.3.00/36.01454"}]
[null,{"$f":"'3.3'!I3453","v":0},{"$f":"'3.3'!L3453","v":0},0,0,1455,{"$f":"'poměry financování'!D3446","v":"CZ.1.11/3.3.00/36.01455"}]
[null,{"$f":"'3.3'!I3454","v":0},{"$f":"'3.3'!L3454","v":0},0,0,1456,{"$f":"'poměry financování'!D3447","v":"CZ.1.11/3.3.00/36.01456"}]
[null,{"$f":"'3.3'!I3455","v":0},{"$f":"'3.3'!L3455","v":0},0,0,1457,{"$f":"'poměry financování'!D3448","v":"CZ.1.11/1.1.00/30.01457"}]
[null,{"$f":"'3.3'!I3456","v":0},{"$f":"'3.3'!L3456","v":0},0,0,1457,{"$f":"'poměry financování'!D3449","v":"CZ.1.11/1.1.00/30.01457"}]
[null,{"$f":"'3.3'!I3457","v":0},{"$f":"'3.3'!L3457","v":0},0,0,1458,{"$f":"'poměry financování'!D3450","v":"CZ.1.11/3.3.00/36.01458"}]
[null,{"$f":"'3.3'!I3458","v":0},{"$f":"'3.3'!L3458","v":0},0,0,1459,{"$f":"'poměry financování'!D3451","v":"CZ.1.11/3.3.00/36.01459"}]
[null,{"$f":"'3.3'!I3459","v":0},{"$f":"'3.3'!L3459","v":0},0,0,1460,{"$f":"'poměry financování'!D3452","v":"CZ.1.11/3.3.00/36.01460"}]
[null,{"$f":"'3.3'!I3460","v":0},{"$f":"'3.3'!L3460","v":0},0,0,1461,{"$f":"'poměry financování'!D3453","v":"CZ.1.11/3.3.00/36.01461"}]
[null,{"$f":"'3.3'!I3461","v":0},{"$f":"'3.3'!L3461","v":0},0,0,1462,{"$f":"'poměry financování'!D3454","v":"CZ.1.11/3.3.00/36.01462"}]
[null,{"$f":"'3.3'!I3462","v":0},{"$f":"'3.3'!L3462","v":0},0,0,1462,{"$f":"'poměry financování'!D3455","v":"CZ.1.11/3.3.00/36.01462"}]
[null,{"$f":"'3.3'!I3463","v":0},{"$f":"'3.3'!L3463","v":0},{"$f":"IF(B3459=\"Investiční\",C3459,0)","v":0},{"$f":"IF(B3459=\"Neinvestiční\",C3459,0)","v":0},1463,{"$f":"'poměry financování'!D3456","v":"CZ.1.11/3.3.00/36.01463"}]
[null,{"$f":"'3.3'!I3464","v":0},{"$f":"'3.3'!L3464","v":0},0,0,1463,{"$f":"'poměry financování'!D3457","v":"CZ.1.11/3.3.00/36.01463"}]
[null,{"$f":"'3.3'!I3465","v":0},{"$f":"'3.3'!L3465","v":0},0,0,1464,{"$f":"'poměry financování'!D3458","v":"CZ.1.11/1.1.00/30.01464"}]
[null,{"$f":"'3.3'!I3466","v":0},{"$f":"'3.3'!L3466","v":0},0,0,{"$f":"VALUE((MID(G3462,20,4)))","v":1464},{"$f":"'poměry financování'!D3459","v":"CZ.1.11/1.1.00/30.01464"}]
[null,{"$f":"'3.3'!I3467","v":0},{"$f":"'3.3'!L3467","v":0},0,0,1464,{"$f":"'poměry financování'!D3460","v":"CZ.1.11/1.1.00/30.01464"}]
[null,{"$f":"'3.3'!I3468","v":0},{"$f":"'3.3'!L3468","v":0},0,0,1464,{"$f":"'poměry financování'!D3461","v":"CZ.1.11/1.1.00/30.01464"}]
[null,{"$f":"'3.3'!I3469","v":0},{"$f":"'3.3'!L3469","v":0},0,0,1465,{"$f":"'poměry financování'!D3462","v":"CZ.1.11/3.3.00/36.01465"}]
[null,{"$f":"'3.3'!I3470","v":0},{"$f":"'3.3'!L3470","v":0},0,0,1466,{"$f":"'poměry financování'!D3463","v":"CZ.1.11/3.3.00/36.01466"}]
[null,{"$f":"'3.3'!I3471","v":0},{"$f":"'3.3'!L3471","v":0},0,0,1467,{"$f":"'poměry financování'!D3464","v":"CZ.1.11/3.3.00/36.01467"}]
[null,{"$f":"'3.3'!I3472","v":0},{"$f":"'3.3'!L3472","v":0},0,0,1467,{"$f":"'poměry financování'!D3465","v":"CZ.1.11/3.3.00/36.01467"}]
[null,{"$f":"'3.3'!I3473","v":0},{"$f":"'3.3'!L3473","v":0},0,0,1468,{"$f":"'poměry financování'!D3466","v":"CZ.1.11/3.3.00/36.01468"}]
[null,{"$f":"'3.3'!I3474","v":0},{"$f":"'3.3'!L3474","v":0},0,0,1469,{"$f":"'poměry financování'!D3467","v":"CZ.1.11/3.3.00/36.01469"}]
[null,{"$f":"'3.3'!I3475","v":0},{"$f":"'3.3'!L3475","v":0},0,0,1469,{"$f":"'poměry financování'!D3468","v":"CZ.1.11/3.3.00/36.01469"}]
[null,{"$f":"'3.3'!I3476","v":0},{"$f":"'3.3'!L3476","v":0},0,0,1469,{"$f":"'poměry financování'!D3469","v":"CZ.1.11/3.3.00/36.01469"}]
[null,{"$f":"'3.3'!I3477","v":0},{"$f":"'3.3'!L3477","v":0},0,0,1470,{"$f":"'poměry financování'!D3470","v":"CZ.1.11/3.3.00/36.01470"}]
[null,{"$f":"'3.3'!I3478","v":0},{"$f":"'3.3'!L3478","v":0},0,0,1471,{"$f":"'poměry financování'!D3471","v":"CZ.1.11/3.3.00/36.01471"}]
[null,{"$f":"'3.3'!I3479","v":0},{"$f":"'3.3'!L3479","v":0},0,0,1471,{"$f":"'poměry financování'!D3472","v":"CZ.1.11/3.3.00/36.01471"}]
[null,{"$f":"'3.3'!I3480","v":0},{"$f":"'3.3'!L3480","v":0},0,0,1472,{"$f":"'poměry financování'!D3473","v":"CZ.1.11/3.3.00/36.01472"}]
[null,{"$f":"'3.3'!I3481","v":0},{"$f":"'3.3'!L3481","v":0},0,0,1473,{"$f":"'poměry financování'!D3474","v":"CZ.1.11/3.3.00/36.01473"}]
[null,{"$f":"'3.3'!I3482","v":0},{"$f":"'3.3'!L3482","v":0},0,0,1474,{"$f":"'poměry financování'!D3475","v":"CZ.1.11/3.3.00/36.01474"}]
[null,{"$f":"'3.3'!I3483","v":0},{"$f":"'3.3'!L3483","v":0},0,0,1475,{"$f":"'poměry financování'!D3476","v":"CZ.1.11/3.3.00/36.01475"}]
[null,{"$f":"'3.3'!I3484","v":0},{"$f":"'3.3'!L3484","v":0},0,0,1475,{"$f":"'poměry financování'!D3477","v":"CZ.1.11/3.3.00/36.01475"}]
[null,{"$f":"'3.3'!I3485","v":0},{"$f":"'3.3'!L3485","v":0},0,0,1476,{"$f":"'poměry financování'!D3478","v":"CZ.1.11/3.3.00/36.01476"}]
[null,{"$f":"'3.3'!I3486","v":0},{"$f":"'3.3'!L3486","v":0},0,0,1477,{"$f":"'poměry financování'!D3479","v":"CZ.1.11/3.3.00/36.01477"}]
[null,{"$f":"'3.3'!I3487","v":0},{"$f":"'3.3'!L3487","v":0},0,0,1478,{"$f":"'poměry financování'!D3480","v":"CZ.1.11/3.3.00/36.01478"}]
[null,{"$f":"'3.3'!I3488","v":0},{"$f":"'3.3'!L3488","v":0},0,0,1479,{"$f":"'poměry financování'!D3481","v":"CZ.1.11/3.3.00/36.01479"}]
[null,{"$f":"'3.3'!I3489","v":0},{"$f":"'3.3'!L3489","v":0},0,0,1480,{"$f":"'poměry financování'!D3482","v":"CZ.1.11/3.3.00/36.01480"}]
[null,{"$f":"'3.3'!I3490","v":0},{"$f":"'3.3'!L3490","v":0},0,0,1481,{"$f":"'poměry financování'!D3483","v":"CZ.1.11/3.3.00/36.01481"}]
[null,{"$f":"'3.3'!I3491","v":0},{"$f":"'3.3'!L3491","v":0},0,0,1482,{"$f":"'poměry financování'!D3484","v":"CZ.1.11/3.3.00/36.01482"}]
[null,{"$f":"'3.3'!I3492","v":0},{"$f":"'3.3'!L3492","v":0},0,0,1483,{"$f":"'poměry financování'!D3485","v":"CZ.1.11/3.3.00/36.01483"}]
[null,{"$f":"'3.3'!I3493","v":0},{"$f":"'3.3'!L3493","v":0},0,0,1484,{"$f":"'poměry financování'!D3486","v":"CZ.1.11/3.3.00/36.01484"}]
[null,{"$f":"'3.3'!I3494","v":0},{"$f":"'3.3'!L3494","v":0},0,0,1484,{"$f":"'poměry financování'!D3487","v":"CZ.1.11/3.3.00/36.01484"}]
[null,{"$f":"'3.3'!I3495","v":0},{"$f":"'3.3'!L3495","v":0},0,0,1484,{"$f":"'poměry financování'!D3488","v":"CZ.1.11/3.3.00/36.01484"}]
[null,{"$f":"'3.3'!I3496","v":0},{"$f":"'3.3'!L3496","v":0},0,0,1485,{"$f":"'poměry financování'!D3489","v":"CZ.1.11/3.3.00/36.01485"}]
[null,{"$f":"'3.3'!I3497","v":0},{"$f":"'3.3'!L3497","v":0},0,0,1486,{"$f":"'poměry financování'!D3490","v":"CZ.1.11/3.3.00/36.01486"}]
[null,{"$f":"'3.3'!I3498","v":0},{"$f":"'3.3'!L3498","v":0},0,0,1487,{"$f":"'poměry financování'!D3491","v":"CZ.1.11/3.3.00/36.01487"}]
[null,{"$f":"'3.3'!I3499","v":0},{"$f":"'3.3'!L3499","v":0},0,0,1487,{"$f":"'poměry financování'!D3492","v":"CZ.1.11/3.3.00/36.01487"}]
[null,{"$f":"'3.3'!I3500","v":0},{"$f":"'3.3'!L3500","v":0},0,0,1488,{"$f":"'poměry financování'!D3493","v":"CZ.1.11/3.3.00/36.01488"}]
[null,{"$f":"'3.3'!I3501","v":0},{"$f":"'3.3'!L3501","v":0},0,0,1489,{"$f":"'poměry financování'!D3494","v":"CZ.1.11/3.3.00/36.01489"}]
[null,{"$f":"'3.3'!I3502","v":0},{"$f":"'3.3'!L3502","v":0},0,0,1490,{"$f":"'poměry financování'!D3495","v":"CZ.1.11/3.3.00/36.01490"}]
[null,{"$f":"'3.3'!I3503","v":0},{"$f":"'3.3'!L3503","v":0},0,0,1491,{"$f":"'poměry financování'!D3496","v":"CZ.1.11/3.3.00/36.01491"}]
[null,{"$f":"'3.3'!I3504","v":0},{"$f":"'3.3'!L3504","v":0},0,0,1492,{"$f":"'poměry financování'!D3497","v":"CZ.1.11/3.3.00/36.01492"}]
[null,{"$f":"'3.3'!I3505","v":0},{"$f":"'3.3'!L3505","v":0},0,0,1493,{"$f":"'poměry financování'!D3498","v":"CZ.1.11/3.3.00/36.01493"}]
[null,{"$f":"'3.3'!I3506","v":0},{"$f":"'3.3'!L3506","v":0},0,0,1493,{"$f":"'poměry financování'!D3499","v":"CZ.1.11/3.3.00/36.01493"}]
[null,{"$f":"'3.3'!I3507","v":0},{"$f":"'3.3'!L3507","v":0},0,0,1493,{"$f":"'poměry financování'!D3500","v":"CZ.1.11/3.3.00/36.01493"}]
[null,{"$f":"'3.3'!I3508","v":0},{"$f":"'3.3'!L3508","v":0},0,0,1494,{"$f":"'poměry financování'!D3501","v":"CZ.1.11/3.3.00/36.01494"}]
[null,{"$f":"'3.3'!I3509","v":0},{"$f":"'3.3'!L3509","v":0},0,0,1495,{"$f":"'poměry financování'!D3502","v":"CZ.1.11/3.3.00/36.01495"}]
[null,{"$f":"'3.3'!I3510","v":0},{"$f":"'3.3'!L3510","v":0},0,0,1496,{"$f":"'poměry financování'!D3503","v":"CZ.1.11/3.3.00/36.01496"}]
[null,{"$f":"'3.3'!I3511","v":0},{"$f":"'3.3'!L3511","v":0},0,0,1497,{"$f":"'poměry financování'!D3504","v":"CZ.1.11/3.3.00/36.01497"}]
[null,{"$f":"'3.3'!I3512","v":0},{"$f":"'3.3'!L3512","v":0},0,0,1497,{"$f":"'poměry financování'!D3505","v":"CZ.1.11/3.3.00/36.01497"}]
[null,{"$f":"'3.3'!I3513","v":0},{"$f":"'3.3'!L3513","v":0},0,0,1498,{"$f":"'poměry financování'!D3506","v":"CZ.1.11/3.3.00/36.01498"}]
[null,{"$f":"'3.3'!I3514","v":0},{"$f":"'3.3'!L3514","v":0},0,0,1499,{"$f":"'poměry financování'!D3507","v":"CZ.1.11/3.3.00/36.01499"}]
[null,{"$f":"'3.3'!I3515","v":0},{"$f":"'3.3'!L3515","v":0},0,0,1500,{"$f":"'poměry financování'!D3508","v":"CZ.1.11/3.3.00/36.01500"}]
[null,{"$f":"'3.3'!I3516","v":0},{"$f":"'3.3'!L3516","v":0},0,0,1500,{"$f":"'poměry financování'!D3509","v":"CZ.1.11/3.3.00/36.01500"}]
[null,{"$f":"'3.3'!I3517","v":0},{"$f":"'3.3'!L3517","v":0},0,0,1501,{"$f":"'poměry financování'!D3510","v":"CZ.1.11/3.3.00/36.01501"}]
[null,{"$f":"'3.3'!I3518","v":0},{"$f":"'3.3'!L3518","v":0},0,0,1502,{"$f":"'poměry financování'!D3511","v":"CZ.1.11/3.3.00/36.01502"}]
[null,{"$f":"'3.3'!I3519","v":0},{"$f":"'3.3'!L3519","v":0},0,0,1502,{"$f":"'poměry financování'!D3512","v":"CZ.1.11/3.3.00/36.01502"}]
[null,{"$f":"'3.3'!I3520","v":0},{"$f":"'3.3'!L3520","v":0},0,0,1502,{"$f":"'poměry financování'!D3513","v":"CZ.1.11/3.3.00/36.01502"}]
[null,{"$f":"'3.3'!I3521","v":0},{"$f":"'3.3'!L3521","v":0},0,0,1503,{"$f":"'poměry financování'!D3514","v":"CZ.1.11/3.3.00/36.01503"}]
[null,{"$f":"'3.3'!I3522","v":0},{"$f":"'3.3'!L3522","v":0},0,0,1504,{"$f":"'poměry financování'!D3515","v":"CZ.1.11/3.3.00/36.01504"}]
[null,{"$f":"'3.3'!I3523","v":0},{"$f":"'3.3'!L3523","v":0},0,0,1505,{"$f":"'poměry financování'!D3516","v":"CZ.1.11/3.3.00/36.01505"}]
[null,{"$f":"'3.3'!I3524","v":0},{"$f":"'3.3'!L3524","v":0},0,0,1506,{"$f":"'poměry financování'!D3517","v":"CZ.1.11/3.3.00/36.01506"}]
[null,{"$f":"'3.3'!I3525","v":0},{"$f":"'3.3'!L3525","v":0},0,0,1507,{"$f":"'poměry financování'!D3518","v":"CZ.1.11/3.3.00/36.01507"}]
[null,{"$f":"'3.3'!I3526","v":0},{"$f":"'3.3'!L3526","v":0},0,0,1507,{"$f":"'poměry financování'!D3519","v":"CZ.1.11/3.3.00/36.01507"}]
[null,{"$f":"'3.3'!I3527","v":0},{"$f":"'3.3'!L3527","v":0},{"$f":"IF(B3523=\"Investiční\",C3523,0)","v":0},{"$f":"IF(B3523=\"Neinvestiční\",C3523,0)","v":0},1508,{"$f":"'poměry financování'!D3520","v":"CZ.1.11/3.3.00/36.01508"}]
[null,{"$f":"'3.3'!I3528","v":0},{"$f":"'3.3'!L3528","v":0},0,0,1509,{"$f":"'poměry financování'!D3521","v":"CZ.1.11/3.3.00/36.01509"}]
[null,{"$f":"'3.3'!I3529","v":0},{"$f":"'3.3'!L3529","v":0},0,0,1509,{"$f":"'poměry financování'!D3522","v":"CZ.1.11/3.3.00/36.01509"}]
[null,{"$f":"'3.3'!I3530","v":0},{"$f":"'3.3'!L3530","v":0},0,0,{"$f":"VALUE((MID(G3526,20,4)))","v":1510},{"$f":"'poměry financování'!D3523","v":"CZ.1.11/3.3.00/36.01510"}]
[null,{"$f":"'3.3'!I3531","v":0},{"$f":"'3.3'!L3531","v":0},0,0,1511,{"$f":"'poměry financování'!D3524","v":"CZ.1.11/3.3.00/36.01511"}]
[null,{"$f":"'3.3'!I3532","v":0},{"$f":"'3.3'!L3532","v":0},0,0,1511,{"$f":"'poměry financování'!D3525","v":"CZ.1.11/3.3.00/36.01511"}]
[null,{"$f":"'3.3'!I3533","v":0},{"$f":"'3.3'!L3533","v":0},0,0,1511,{"$f":"'poměry financování'!D3526","v":"CZ.1.11/3.3.00/36.01511"}]
[null,{"$f":"'3.3'!I3534","v":0},{"$f":"'3.3'!L3534","v":0},0,0,1512,{"$f":"'poměry financování'!D3527","v":"CZ.1.11/3.3.00/36.01512"}]
[null,{"$f":"'3.3'!I3535","v":0},{"$f":"'3.3'!L3535","v":0},0,0,1513,{"$f":"'poměry financování'!D3528","v":"CZ.1.11/3.3.00/36.01513"}]
[null,{"$f":"'3.3'!I3536","v":0},{"$f":"'3.3'!L3536","v":0},0,0,1514,{"$f":"'poměry financování'!D3529","v":"CZ.1.11/3.3.00/36.01514"}]
[null,{"$f":"'3.3'!I3537","v":0},{"$f":"'3.3'!L3537","v":0},0,0,1515,{"$f":"'poměry financování'!D3530","v":"CZ.1.11/3.3.00/36.01515"}]
[null,{"$f":"'3.3'!I3538","v":0},{"$f":"'3.3'!L3538","v":0},0,0,1515,{"$f":"'poměry financování'!D3531","v":"CZ.1.11/3.3.00/36.01515"}]
[null,{"$f":"'3.3'!I3539","v":0},{"$f":"'3.3'!L3539","v":0},0,0,1516,{"$f":"'poměry financování'!D3532","v":"CZ.1.11/3.3.00/36.01516"}]
[null,{"$f":"'3.3'!I3540","v":0},{"$f":"'3.3'!L3540","v":0},0,0,1517,{"$f":"'poměry financování'!D3533","v":"CZ.1.11/3.3.00/36.01517"}]
[null,{"$f":"'3.3'!I3541","v":0},{"$f":"'3.3'!L3541","v":0},0,0,1518,{"$f":"'poměry financování'!D3534","v":"CZ.1.11/3.3.00/36.01518"}]
[null,{"$f":"'3.3'!I3542","v":0},{"$f":"'3.3'!L3542","v":0},0,0,1519,{"$f":"'poměry financování'!D3535","v":"CZ.1.11/3.3.00/36.01519"}]
[null,{"$f":"'3.3'!I3543","v":0},{"$f":"'3.3'!L3543","v":0},0,0,1520,{"$f":"'poměry financování'!D3536","v":"CZ.1.11/3.3.00/36.01520"}]
[null,{"$f":"'3.3'!I3544","v":0},{"$f":"'3.3'!L3544","v":0},0,0,1521,{"$f":"'poměry financování'!D3537","v":"CZ.1.11/3.3.00/36.01521"}]
[null,{"$f":"'3.3'!I3545","v":0},{"$f":"'3.3'!L3545","v":0},0,0,1521,{"$f":"'poměry financování'!D3538","v":"CZ.1.11/3.3.00/36.01521"}]
[null,{"$f":"'3.3'!I3546","v":0},{"$f":"'3.3'!L3546","v":0},0,0,1522,{"$f":"'poměry financování'!D3539","v":"CZ.1.11/3.3.00/36.01522"}]
[null,{"$f":"'3.3'!I3547","v":0},{"$f":"'3.3'!L3547","v":0},0,0,1523,{"$f":"'poměry financování'!D3540","v":"CZ.1.11/3.3.00/36.01523"}]
[null,{"$f":"'3.3'!I3548","v":0},{"$f":"'3.3'!L3548","v":0},0,0,1524,{"$f":"'poměry financování'!D3541","v":"CZ.1.11/3.3.00/36.01524"}]
[null,{"$f":"'3.3'!I3549","v":0},{"$f":"'3.3'!L3549","v":0},0,0,1525,{"$f":"'poměry financování'!D3542","v":"CZ.1.11/3.3.00/36.01525"}]
[null,{"$f":"'3.3'!I3550","v":0},{"$f":"'3.3'!L3550","v":0},0,0,1526,{"$f":"'poměry financování'!D3543","v":"CZ.1.11/3.3.00/36.01526"}]
[null,{"$f":"'3.3'!I3551","v":0},{"$f":"'3.3'!L3551","v":0},0,0,1526,{"$f":"'poměry financování'!D3544","v":"CZ.1.11/3.3.00/36.01526"}]
[null,{"$f":"'3.3'!I3552","v":0},{"$f":"'3.3'!L3552","v":0},0,0,1526,{"$f":"'poměry financování'!D3545","v":"CZ.1.11/3.3.00/36.01526"}]
[null,{"$f":"'3.3'!I3553","v":0},{"$f":"'3.3'!L3553","v":0},0,0,1527,{"$f":"'poměry financování'!D3546","v":"CZ.1.11/3.3.00/36.01527"}]
[null,{"$f":"'3.3'!I3554","v":0},{"$f":"'3.3'!L3554","v":0},0,0,1528,{"$f":"'poměry financování'!D3547","v":"CZ.1.11/3.3.00/36.01528"}]
[null,{"$f":"'3.3'!I3555","v":0},{"$f":"'3.3'!L3555","v":0},0,0,1528,{"$f":"'poměry financování'!D3548","v":"CZ.1.11/3.3.00/36.01528"}]
[null,{"$f":"'3.3'!I3556","v":0},{"$f":"'3.3'!L3556","v":0},0,0,1528,{"$f":"'poměry financování'!D3549","v":"CZ.1.11/3.3.00/36.01528"}]
[null,{"$f":"'3.3'!I3557","v":0},{"$f":"'3.3'!L3557","v":0},0,0,1528,{"$f":"'poměry financování'!D3550","v":"CZ.1.11/3.3.00/36.01528"}]
[null,{"$f":"'3.3'!I3558","v":0},{"$f":"'3.3'!L3558","v":0},0,0,1529,{"$f":"'poměry financování'!D3551","v":"CZ.1.11/3.3.00/36.01529"}]
[null,{"$f":"'3.3'!I3559","v":0},{"$f":"'3.3'!L3559","v":0},0,0,1530,{"$f":"'poměry financování'!D3552","v":"CZ.1.11/3.3.00/36.01530"}]
[null,{"$f":"'3.3'!I3560","v":0},{"$f":"'3.3'!L3560","v":0},0,0,1531,{"$f":"'poměry financování'!D3553","v":"CZ.1.11/3.3.00/36.01531"}]
[null,{"$f":"'3.3'!I3561","v":0},{"$f":"'3.3'!L3561","v":0},0,0,1532,{"$f":"'poměry financování'!D3554","v":"CZ.1.11/3.3.00/36.01532"}]
[null,{"$f":"'3.3'!I3562","v":0},{"$f":"'3.3'!L3562","v":0},0,0,1533,{"$f":"'poměry financování'!D3555","v":"CZ.1.11/3.3.00/36.01533"}]
[null,{"$f":"'3.3'!I3563","v":0},{"$f":"'3.3'!L3563","v":0},0,0,1534,{"$f":"'poměry financování'!D3556","v":"CZ.1.11/3.3.00/36.01534"}]
[null,{"$f":"'3.3'!I3564","v":0},{"$f":"'3.3'!L3564","v":0},0,0,1535,{"$f":"'poměry financování'!D3557","v":"CZ.1.11/3.3.00/36.01535"}]
[null,{"$f":"'3.3'!I3565","v":0},{"$f":"'3.3'!L3565","v":0},0,0,1536,{"$f":"'poměry financování'!D3558","v":"CZ.1.11/3.3.00/36.01536"}]
[null,{"$f":"'3.3'!I3566","v":0},{"$f":"'3.3'!L3566","v":0},0,0,1537,{"$f":"'poměry financování'!D3559","v":"CZ.1.11/3.3.00/36.01537"}]
[null,{"$f":"'3.3'!I3567","v":0},{"$f":"'3.3'!L3567","v":0},0,0,1537,{"$f":"'poměry financování'!D3560","v":"CZ.1.11/3.3.00/36.01537"}]
[null,{"$f":"'3.3'!I3568","v":0},{"$f":"'3.3'!L3568","v":0},0,0,1538,{"$f":"'poměry financování'!D3561","v":"CZ.1.11/3.3.00/36.01538"}]
[null,{"$f":"'3.3'!I3569","v":0},{"$f":"'3.3'!L3569","v":0},0,0,1539,{"$f":"'poměry financování'!D3562","v":"CZ.1.11/3.3.00/36.01539"}]
[null,{"$f":"'3.3'!I3570","v":0},{"$f":"'3.3'!L3570","v":0},0,0,1540,{"$f":"'poměry financování'!D3563","v":"CZ.1.11/3.3.00/36.01540"}]
[null,{"$f":"'3.3'!I3571","v":0},{"$f":"'3.3'!L3571","v":0},0,0,1541,{"$f":"'poměry financování'!D3564","v":"CZ.1.11/3.3.00/36.01541"}]
[null,{"$f":"'3.3'!I3572","v":0},{"$f":"'3.3'!L3572","v":0},0,0,1542,{"$f":"'poměry financování'!D3565","v":"CZ.1.11/3.3.00/36.01542"}]
[null,{"$f":"'3.3'!I3573","v":0},{"$f":"'3.3'!L3573","v":0},0,0,1542,{"$f":"'poměry financování'!D3566","v":"CZ.1.11/3.3.00/36.01542"}]
[null,{"$f":"'3.3'!I3574","v":0},{"$f":"'3.3'!L3574","v":0},0,0,1543,{"$f":"'poměry financování'!D3567","v":"CZ.1.11/3.3.00/36.01543"}]
[null,{"$f":"'3.3'!I3575","v":0},{"$f":"'3.3'!L3575","v":0},0,0,1544,{"$f":"'poměry financování'!D3568","v":"CZ.1.11/3.3.00/36.01544"}]
[null,{"$f":"'3.3'!I3576","v":0},{"$f":"'3.3'!L3576","v":0},0,0,1545,{"$f":"'poměry financování'!D3569","v":"CZ.1.11/3.3.00/36.01545"}]
[null,{"$f":"'3.3'!I3577","v":0},{"$f":"'3.3'!L3577","v":0},0,0,1546,{"$f":"'poměry financování'!D3570","v":"CZ.1.11/3.3.00/36.01546"}]
[null,{"$f":"'3.3'!I3578","v":0},{"$f":"'3.3'!L3578","v":0},0,0,1546,{"$f":"'poměry financování'!D3571","v":"CZ.1.11/3.3.00/36.01546"}]
[null,{"$f":"'3.3'!I3579","v":0},{"$f":"'3.3'!L3579","v":0},0,0,1547,{"$f":"'poměry financování'!D3572","v":"CZ.1.11/3.3.00/36.01547"}]
[null,{"$f":"'3.3'!I3580","v":0},{"$f":"'3.3'!L3580","v":0},0,0,1548,{"$f":"'poměry financování'!D3573","v":"CZ.1.11/3.3.00/36.01548"}]
[null,{"$f":"'3.3'!I3581","v":0},{"$f":"'3.3'!L3581","v":0},0,0,1549,{"$f":"'poměry financování'!D3574","v":"CZ.1.11/3.3.00/36.01549"}]
[null,{"$f":"'3.3'!I3582","v":0},{"$f":"'3.3'!L3582","v":0},0,0,1550,{"$f":"'poměry financování'!D3575","v":"CZ.1.11/3.3.00/36.01550"}]
[null,{"$f":"'3.3'!I3583","v":0},{"$f":"'3.3'!L3583","v":0},0,0,1551,{"$f":"'poměry financování'!D3576","v":"CZ.1.11/3.3.00/36.01551"}]
[null,{"$f":"'3.3'!I3584","v":0},{"$f":"'3.3'!L3584","v":0},0,0,1551,{"$f":"'poměry financování'!D3577","v":"CZ.1.11/3.3.00/36.01551"}]
[null,{"$f":"'3.3'!I3585","v":0},{"$f":"'3.3'!L3585","v":0},0,0,1552,{"$f":"'poměry financování'!D3578","v":"CZ.1.11/3.3.00/36.01552"}]
[null,{"$f":"'3.3'!I3586","v":0},{"$f":"'3.3'!L3586","v":0},0,0,1553,{"$f":"'poměry financování'!D3579","v":"CZ.1.11/3.3.00/36.01553"}]
[null,{"$f":"'3.3'!I3587","v":0},{"$f":"'3.3'!L3587","v":0},0,0,1554,{"$f":"'poměry financování'!D3580","v":"CZ.1.11/3.3.00/36.01554"}]
[null,{"$f":"'3.3'!I3588","v":0},{"$f":"'3.3'!L3588","v":0},0,0,1555,{"$f":"'poměry financování'!D3581","v":"CZ.1.11/3.3.00/36.01555"}]
[null,{"$f":"'3.3'!I3589","v":0},{"$f":"'3.3'!L3589","v":0},0,0,1556,{"$f":"'poměry financování'!D3582","v":"CZ.1.11/3.3.00/36.01556"}]
[null,{"$f":"'3.3'!I3590","v":0},{"$f":"'3.3'!L3590","v":0},0,0,1557,{"$f":"'poměry financování'!D3583","v":"CZ.1.11/3.3.00/36.01557"}]
[null,{"$f":"'3.3'!I3591","v":0},{"$f":"'3.3'!L3591","v":0},{"$f":"IF(B3587=\"Investiční\",C3587,0)","v":0},{"$f":"IF(B3587=\"Neinvestiční\",C3587,0)","v":0},1558,{"$f":"'poměry financování'!D3584","v":"CZ.1.11/3.3.00/36.01558"}]
[null,{"$f":"'3.3'!I3592","v":0},{"$f":"'3.3'!L3592","v":0},0,0,1559,{"$f":"'poměry financování'!D3585","v":"CZ.1.11/3.3.00/36.01559"}]
[null,{"$f":"'3.3'!I3593","v":0},{"$f":"'3.3'!L3593","v":0},0,0,1560,{"$f":"'poměry financování'!D3586","v":"CZ.1.11/3.3.00/36.01560"}]
[null,{"$f":"'3.3'!I3594","v":0},{"$f":"'3.3'!L3594","v":0},0,0,{"$f":"VALUE((MID(G3590,20,4)))","v":1561},{"$f":"'poměry financování'!D3587","v":"CZ.1.11/3.3.00/36.01561"}]
[null,{"$f":"'3.3'!I3595","v":0},{"$f":"'3.3'!L3595","v":0},0,0,1562,{"$f":"'poměry financování'!D3588","v":"CZ.1.11/3.3.00/36.01562"}]
[null,{"$f":"'3.3'!I3596","v":0},{"$f":"'3.3'!L3596","v":0},0,0,1563,{"$f":"'poměry financování'!D3589","v":"CZ.1.11/3.3.00/36.01563"}]
[null,{"$f":"'3.3'!I3597","v":0},{"$f":"'3.3'!L3597","v":0},0,0,1564,{"$f":"'poměry financování'!D3590","v":"CZ.1.11/3.3.00/36.01564"}]
[null,{"$f":"'3.3'!I3598","v":0},{"$f":"'3.3'!L3598","v":0},0,0,1565,{"$f":"'poměry financování'!D3591","v":"CZ.1.11/3.3.00/36.01565"}]
[null,{"$f":"'3.3'!I3599","v":0},{"$f":"'3.3'!L3599","v":0},0,0,1566,{"$f":"'poměry financování'!D3592","v":"CZ.1.11/3.3.00/36.01566"}]
[null,{"$f":"'3.3'!I3600","v":0},{"$f":"'3.3'!L3600","v":0},0,0,1567,{"$f":"'poměry financování'!D3593","v":"CZ.1.11/3.3.00/36.01567"}]
[null,{"$f":"'3.3'!I3601","v":0},{"$f":"'3.3'!L3601","v":0},0,0,1568,{"$f":"'poměry financování'!D3594","v":"CZ.1.11/3.3.00/36.01568"}]
[null,{"$f":"'3.3'!I3602","v":0},{"$f":"'3.3'!L3602","v":0},0,0,1569,{"$f":"'poměry financování'!D3595","v":"CZ.1.11/3.3.00/36.01569"}]
[null,{"$f":"'3.3'!I3603","v":0},{"$f":"'3.3'!L3603","v":0},0,0,1570,{"$f":"'poměry financování'!D3596","v":"CZ.1.11/3.3.00/36.01570"}]
[null,{"$f":"'3.3'!I3604","v":0},{"$f":"'3.3'!L3604","v":0},0,0,1570,{"$f":"'poměry financování'!D3597","v":"CZ.1.11/3.3.00/36.01570"}]
[null,{"$f":"'3.3'!I3605","v":0},{"$f":"'3.3'!L3605","v":0},0,0,1571,{"$f":"'poměry financování'!D3598","v":"CZ.1.11/3.3.00/36.01571"}]
[null,{"$f":"'3.3'!I3606","v":0},{"$f":"'3.3'!L3606","v":0},0,0,1572,{"$f":"'poměry financování'!D3599","v":"CZ.1.11/3.3.00/36.01572"}]
[null,{"$f":"'3.3'!I3607","v":0},{"$f":"'3.3'!L3607","v":0},0,0,1573,{"$f":"'poměry financování'!D3600","v":"CZ.1.11/3.3.00/36.01573"}]
[null,{"$f":"'3.3'!I3608","v":0},{"$f":"'3.3'!L3608","v":0},0,0,1574,{"$f":"'poměry financování'!D3601","v":"CZ.1.11/3.1.00/22.01574"}]
[null,{"$f":"'3.3'!I3609","v":0},{"$f":"'3.3'!L3609","v":0},0,0,1575,{"$f":"'poměry financování'!D3602","v":"CZ.1.11/3.1.00/22.01575"}]
[null,{"$f":"'3.3'!I3610","v":0},{"$f":"'3.3'!L3610","v":0},0,0,1575,{"$f":"'poměry financování'!D3603","v":"CZ.1.11/3.1.00/22.01575"}]
[null,{"$f":"'3.3'!I3611","v":0},{"$f":"'3.3'!L3611","v":0},0,0,1575,{"$f":"'poměry financování'!D3604","v":"CZ.1.11/3.1.00/22.01575"}]
[null,{"$f":"'3.3'!I3612","v":0},{"$f":"'3.3'!L3612","v":0},0,0,1575,{"$f":"'poměry financování'!D3605","v":"CZ.1.11/3.1.00/22.01575"}]
[null,{"$f":"'3.3'!I3613","v":0},{"$f":"'3.3'!L3613","v":0},0,0,1576,{"$f":"'poměry financování'!D3606","v":"CZ.1.11/3.1.00/22.01576"}]
[null,{"$f":"'3.3'!I3614","v":0},{"$f":"'3.3'!L3614","v":0},0,0,1577,{"$f":"'poměry financování'!D3607","v":"CZ.1.11/1.3.00/37.01577"}]
[null,{"$f":"'3.3'!I3615","v":0},{"$f":"'3.3'!L3615","v":0},0,0,1577,{"$f":"'poměry financování'!D3608","v":"CZ.1.11/1.3.00/37.01577"}]
[null,{"$f":"'3.3'!I3616","v":0},{"$f":"'3.3'!L3616","v":0},0,0,1578,{"$f":"'poměry financování'!D3609","v":"CZ.1.11/1.3.00/37.01578"}]
[null,{"$f":"'3.3'!I3617","v":0},{"$f":"'3.3'!L3617","v":0},0,0,1579,{"$f":"'poměry financování'!D3610","v":"CZ.1.11/1.3.00/37.01579"}]
[null,{"$f":"'3.3'!I3618","v":0},{"$f":"'3.3'!L3618","v":0},0,0,1580,{"$f":"'poměry financování'!D3611","v":"CZ.1.11/1.2.00/34.01580"}]
[null,{"$f":"'3.3'!I3619","v":0},{"$f":"'3.3'!L3619","v":0},0,0,1581,{"$f":"'poměry financování'!D3612","v":"CZ.1.11/1.2.00/34.01581"}]
[null,{"$f":"'3.3'!I3620","v":0},{"$f":"'3.3'!L3620","v":0},0,0,1582,{"$f":"'poměry financování'!D3613","v":"CZ.1.11/1.2.00/34.01582"}]
[null,{"$f":"'3.3'!I3621","v":0},{"$f":"'3.3'!L3621","v":0},0,0,1582,{"$f":"'poměry financování'!D3614","v":"CZ.1.11/1.2.00/34.01582"}]
[null,{"$f":"'3.3'!I3622","v":0},{"$f":"'3.3'!L3622","v":0},0,0,1583,{"$f":"'poměry financování'!D3615","v":"CZ.1.11/1.2.00/34.01583"}]
[null,{"$f":"'3.3'!I3623","v":0},{"$f":"'3.3'!L3623","v":0},0,0,1584,{"$f":"'poměry financování'!D3616","v":"CZ.1.11/1.1.00/30.01584"}]
[null,{"$f":"'3.3'!I3624","v":0},{"$f":"'3.3'!L3624","v":0},0,0,1584,{"$f":"'poměry financování'!D3617","v":"CZ.1.11/1.1.00/30.01584"}]
[null,{"$f":"'3.3'!I3625","v":0},{"$f":"'3.3'!L3625","v":0},0,0,1584,{"$f":"'poměry financování'!D3618","v":"CZ.1.11/1.1.00/30.01584"}]
[null,{"$f":"'3.3'!I3626","v":0},{"$f":"'3.3'!L3626","v":0},0,0,1585,{"$f":"'poměry financování'!D3619","v":"CZ.1.11/1.1.00/30.01585"}]
[null,{"$f":"'3.3'!I3627","v":0},{"$f":"'3.3'!L3627","v":0},0,0,1586,{"$f":"'poměry financování'!D3620","v":"CZ.1.11/1.1.00/30.01586"}]
[null,{"$f":"'3.3'!I3628","v":0},{"$f":"'3.3'!L3628","v":0},0,0,1587,{"$f":"'poměry financování'!D3621","v":"CZ.1.11/1.1.00/30.01587"}]
[null,{"$f":"'3.3'!I3629","v":0},{"$f":"'3.3'!L3629","v":0},0,0,1588,{"$f":"'poměry financování'!D3622","v":"CZ.1.11/2.2.00/38.01588"}]
[null,{"$f":"'3.3'!I3630","v":0},{"$f":"'3.3'!L3630","v":0},0,0,1588,{"$f":"'poměry financování'!D3623","v":"CZ.1.11/2.2.00/38.01588"}]
[null,{"$f":"'3.3'!I3631","v":0},{"$f":"'3.3'!L3631","v":0},0,0,1589,{"$f":"'poměry financování'!D3624","v":"CZ.1.11/2.2.00/38.01589"}]
[null,{"$f":"'3.3'!I3632","v":0},{"$f":"'3.3'!L3632","v":0},0,0,1589,{"$f":"'poměry financování'!D3625","v":"CZ.1.11/2.2.00/38.01589"}]
[null,{"$f":"'3.3'!I3633","v":0},{"$f":"'3.3'!L3633","v":0},0,0,1589,{"$f":"'poměry financování'!D3626","v":"CZ.1.11/2.2.00/38.01589"}]
[null,{"$f":"'3.3'!I3634","v":0},{"$f":"'3.3'!L3634","v":0},0,0,1590,{"$f":"'poměry financování'!D3627","v":"CZ.1.11/2.2.00/38.01590"}]
[null,{"$f":"'3.3'!I3635","v":0},{"$f":"'3.3'!L3635","v":0},0,0,1591,{"$f":"'poměry financování'!D3628","v":"CZ.1.11/2.2.00/38.01591"}]
[null,{"$f":"'3.3'!I3636","v":0},{"$f":"'3.3'!L3636","v":0},0,0,1591,{"$f":"'poměry financování'!D3629","v":"CZ.1.11/2.2.00/38.01591"}]
[null,{"$f":"'3.3'!I3637","v":0},{"$f":"'3.3'!L3637","v":0},0,0,1592,{"$f":"'poměry financování'!D3630","v":"CZ.1.11/2.2.00/38.01592"}]
[null,{"$f":"'3.3'!I3638","v":0},{"$f":"'3.3'!L3638","v":0},0,0,1592,{"$f":"'poměry financování'!D3631","v":"CZ.1.11/2.2.00/38.01592"}]
[null,{"$f":"'3.3'!I3639","v":0},{"$f":"'3.3'!L3639","v":0},0,0,1593,{"$f":"'poměry financování'!D3632","v":"CZ.1.11/2.2.00/38.01593"}]
[null,{"$f":"'3.3'!I3640","v":0},{"$f":"'3.3'!L3640","v":0},0,0,1593,{"$f":"'poměry financování'!D3633","v":"CZ.1.11/2.2.00/38.01593"}]
[null,{"$f":"'3.3'!I3641","v":0},{"$f":"'3.3'!L3641","v":0},0,0,1594,{"$f":"'poměry financování'!D3634","v":"CZ.1.11/2.2.00/38.01594"}]
[null,{"$f":"'3.3'!I3642","v":0},{"$f":"'3.3'!L3642","v":0},0,0,1595,{"$f":"'poměry financování'!D3635","v":"CZ.1.11/2.2.00/38.01595"}]
[null,{"$f":"'3.3'!I3643","v":0},{"$f":"'3.3'!L3643","v":0},0,0,1595,{"$f":"'poměry financování'!D3636","v":"CZ.1.11/2.2.00/38.01595"}]
[null,{"$f":"'3.3'!I3644","v":0},{"$f":"'3.3'!L3644","v":0},0,0,1596,{"$f":"'poměry financování'!D3637","v":"CZ.1.11/2.2.00/38.01596"}]
[null,{"$f":"'3.3'!I3645","v":0},{"$f":"'3.3'!L3645","v":0},0,0,1597,{"$f":"'poměry financování'!D3638","v":"CZ.1.11/2.2.00/38.01597"}]
[null,{"$f":"'3.3'!I3646","v":0},{"$f":"'3.3'!L3646","v":0},0,0,1598,{"$f":"'poměry financování'!D3639","v":"CZ.1.11/2.2.00/38.01598"}]
[null,{"$f":"'3.3'!I3647","v":0},{"$f":"'3.3'!L3647","v":0},0,0,1598,{"$f":"'poměry financování'!D3640","v":"CZ.1.11/2.2.00/38.01598"}]
[null,{"$f":"'3.3'!I3648","v":0},{"$f":"'3.3'!L3648","v":0},0,0,1598,{"$f":"'poměry financování'!D3641","v":"CZ.1.11/2.2.00/38.01598"}]
[null,{"$f":"'3.3'!I3649","v":0},{"$f":"'3.3'!L3649","v":0},0,0,1599,{"$f":"'poměry financování'!D3642","v":"CZ.1.11/2.2.00/38.01599"}]
[null,{"$f":"'3.3'!I3650","v":0},{"$f":"'3.3'!L3650","v":0},0,0,1599,{"$f":"'poměry financování'!D3643","v":"CZ.1.11/2.2.00/38.01599"}]
[null,{"$f":"'3.3'!I3651","v":0},{"$f":"'3.3'!L3651","v":0},0,0,1600,{"$f":"'poměry financování'!D3644","v":"CZ.1.11/2.2.00/38.01600"}]
[null,{"$f":"'3.3'!I3652","v":0},{"$f":"'3.3'!L3652","v":0},0,0,1600,{"$f":"'poměry financování'!D3645","v":"CZ.1.11/2.2.00/38.01600"}]
[null,{"$f":"'3.3'!I3653","v":0},{"$f":"'3.3'!L3653","v":0},0,0,1600,{"$f":"'poměry financování'!D3646","v":"CZ.1.11/2.2.00/38.01600"}]
[null,{"$f":"'3.3'!I3654","v":0},{"$f":"'3.3'!L3654","v":0},0,0,1601,{"$f":"'poměry financování'!D3647","v":"CZ.1.11/2.2.00/38.01601"}]
[null,{"$f":"'3.3'!I3655","v":0},{"$f":"'3.3'!L3655","v":0},{"$f":"IF(B3651=\"Investiční\",C3651,0)","v":0},{"$f":"IF(B3651=\"Neinvestiční\",C3651,0)","v":0},1602,{"$f":"'poměry financování'!D3648","v":"CZ.1.11/2.2.00/38.01602"}]
[null,{"$f":"'3.3'!I3656","v":0},{"$f":"'3.3'!L3656","v":0},0,0,1603,{"$f":"'poměry financování'!D3649","v":"CZ.1.11/2.2.00/38.01603"}]
[null,{"$f":"'3.3'!I3657","v":0},{"$f":"'3.3'!L3657","v":0},0,0,1603,{"$f":"'poměry financování'!D3650","v":"CZ.1.11/2.2.00/38.01603"}]
[null,{"$f":"'3.3'!I3658","v":0},{"$f":"'3.3'!L3658","v":0},0,0,{"$f":"VALUE((MID(G3654,20,4)))","v":1603},{"$f":"'poměry financování'!D3651","v":"CZ.1.11/2.2.00/38.01603"}]
[null,{"$f":"'3.3'!I3659","v":0},{"$f":"'3.3'!L3659","v":0},0,0,1603,{"$f":"'poměry financování'!D3652","v":"CZ.1.11/2.2.00/38.01603"}]
[null,{"$f":"'3.3'!I3660","v":0},{"$f":"'3.3'!L3660","v":0},0,0,1604,{"$f":"'poměry financování'!D3653","v":"CZ.1.11/2.2.00/38.01604"}]
[null,{"$f":"'3.3'!I3661","v":0},{"$f":"'3.3'!L3661","v":0},0,0,1604,{"$f":"'poměry financování'!D3654","v":"CZ.1.11/2.2.00/38.01604"}]
[null,{"$f":"'3.3'!I3662","v":0},{"$f":"'3.3'!L3662","v":0},0,0,1604,{"$f":"'poměry financování'!D3655","v":"CZ.1.11/2.2.00/38.01604"}]
[null,{"$f":"'3.3'!I3663","v":0},{"$f":"'3.3'!L3663","v":0},0,0,1604,{"$f":"'poměry financování'!D3656","v":"CZ.1.11/2.2.00/38.01604"}]
[null,{"$f":"'3.3'!I3664","v":0},{"$f":"'3.3'!L3664","v":0},0,0,1604,{"$f":"'poměry financování'!D3657","v":"CZ.1.11/2.2.00/38.01604"}]
[null,{"$f":"'3.3'!I3665","v":0},{"$f":"'3.3'!L3665","v":0},0,0,1605,{"$f":"'poměry financování'!D3658","v":"CZ.1.11/2.2.00/38.01605"}]
[null,{"$f":"'3.3'!I3666","v":0},{"$f":"'3.3'!L3666","v":0},0,0,1606,{"$f":"'poměry financování'!D3659","v":"CZ.1.11/2.2.00/38.01606"}]
[null,{"$f":"'3.3'!I3667","v":0},{"$f":"'3.3'!L3667","v":0},0,0,1606,{"$f":"'poměry financování'!D3660","v":"CZ.1.11/2.2.00/38.01606"}]
[null,{"$f":"'3.3'!I3668","v":0},{"$f":"'3.3'!L3668","v":0},0,0,1606,{"$f":"'poměry financování'!D3661","v":"CZ.1.11/2.2.00/38.01606"}]
[null,{"$f":"'3.3'!I3669","v":0},{"$f":"'3.3'!L3669","v":0},0,0,1606,{"$f":"'poměry financování'!D3662","v":"CZ.1.11/2.2.00/38.01606"}]
[null,{"$f":"'3.3'!I3670","v":0},{"$f":"'3.3'!L3670","v":0},0,0,1607,{"$f":"'poměry financování'!D3663","v":"CZ.1.11/3.1.00/22.01607"}]
[null,{"$f":"'3.3'!I3671","v":0},{"$f":"'3.3'!L3671","v":0},0,0,1607,{"$f":"'poměry financování'!D3664","v":"CZ.1.11/3.1.00/22.01607"}]
[null,{"$f":"'3.3'!I3672","v":0},{"$f":"'3.3'!L3672","v":0},0,0,1607,{"$f":"'poměry financování'!D3665","v":"CZ.1.11/3.1.00/22.01607"}]
[null,{"$f":"'3.3'!I3673","v":0},{"$f":"'3.3'!L3673","v":0},0,0,1607,{"$f":"'poměry financování'!D3666","v":"CZ.1.11/3.1.00/22.01607"}]
[null,{"$f":"'3.3'!I3674","v":0},{"$f":"'3.3'!L3674","v":0},0,0,1608,{"$f":"'poměry financování'!D3667","v":"CZ.1.11/3.1.00/22.01608"}]
[null,{"$f":"'3.3'!I3675","v":0},{"$f":"'3.3'!L3675","v":0},0,0,1609,{"$f":"'poměry financování'!D3668","v":"CZ.1.11/3.1.00/22.01609"}]
[null,{"$f":"'3.3'!I3676","v":0},{"$f":"'3.3'!L3676","v":0},0,0,1610,{"$f":"'poměry financování'!D3669","v":"CZ.1.11/1.1.00/40.01610"}]
[null,{"$f":"'3.3'!I3677","v":0},{"$f":"'3.3'!L3677","v":0},0,0,1611,{"$f":"'poměry financování'!D3670","v":"CZ.1.11/3.1.00/41.01611"}]
[null,{"$f":"'3.3'!I3678","v":0},{"$f":"'3.3'!L3678","v":0},0,0,1612,{"$f":"'poměry financování'!D3671","v":"CZ.1.11/1.1.00/40.01612"}]
[null,{"$f":"'3.3'!I3679","v":0},{"$f":"'3.3'!L3679","v":0},0,0,1612,{"$f":"'poměry financování'!D3672","v":"CZ.1.11/1.1.00/40.01612"}]
[null,{"$f":"'3.3'!I3680","v":0},{"$f":"'3.3'!L3680","v":0},0,0,1612,{"$f":"'poměry financování'!D3673","v":"CZ.1.11/1.1.00/40.01612"}]
[null,{"$f":"'3.3'!I3681","v":0},{"$f":"'3.3'!L3681","v":0},0,0,1612,{"$f":"'poměry financování'!D3674","v":"CZ.1.11/1.1.00/40.01612"}]
[null,{"$f":"'3.3'!I3682","v":0},{"$f":"'3.3'!L3682","v":0},0,0,1613,{"$f":"'poměry financování'!D3675","v":"CZ.1.11/1.1.00/40.01613"}]
[null,{"$f":"'3.3'!I3683","v":0},{"$f":"'3.3'!L3683","v":0},0,0,1613,{"$f":"'poměry financování'!D3676","v":"CZ.1.11/1.1.00/40.01613"}]
[null,{"$f":"'3.3'!I3684","v":0},{"$f":"'3.3'!L3684","v":0},0,0,1614,{"$f":"'poměry financování'!D3677","v":"CZ.1.11/1.1.00/40.01614"}]
[null,{"$f":"'3.3'!I3685","v":0},{"$f":"'3.3'!L3685","v":0},0,0,1614,{"$f":"'poměry financování'!D3678","v":"CZ.1.11/1.1.00/40.01614"}]
[null,{"$f":"'3.3'!I3686","v":0},{"$f":"'3.3'!L3686","v":0},0,0,1615,{"$f":"'poměry financování'!D3679","v":"CZ.1.11/1.1.00/40.01615"}]
[null,{"$f":"'3.3'!I3687","v":0},{"$f":"'3.3'!L3687","v":0},0,0,1615,{"$f":"'poměry financování'!D3680","v":"CZ.1.11/1.1.00/40.01615"}]
[null,{"$f":"'3.3'!I3688","v":0},{"$f":"'3.3'!L3688","v":0},0,0,1616,{"$f":"'poměry financování'!D3681","v":"CZ.1.11/1.1.00/40.01616"}]
[null,{"$f":"'3.3'!I3689","v":0},{"$f":"'3.3'!L3689","v":0},0,0,1616,{"$f":"'poměry financování'!D3682","v":"CZ.1.11/1.1.00/40.01616"}]
[null,{"$f":"'3.3'!I3690","v":0},{"$f":"'3.3'!L3690","v":0},0,0,1617,{"$f":"'poměry financování'!D3683","v":"CZ.1.11/3.1.00/22.01617"}]
[null,{"$f":"'3.3'!I3691","v":0},{"$f":"'3.3'!L3691","v":0},0,0,1618,{"$f":"'poměry financování'!D3684","v":"CZ.1.11/4.2.00/39.01618"}]
[null,{"$f":"'3.3'!I3692","v":0},{"$f":"'3.3'!L3692","v":0},0,0,1619,{"$f":"'poměry financování'!D3685","v":"CZ.1.11/3.4.00/42.01619"}]
[null,{"$f":"'3.3'!I3693","v":0},{"$f":"'3.3'!L3693","v":0},0,0,1620,{"$f":"'poměry financování'!D3686","v":"CZ.1.11/3.4.00/42.01620"}]
[null,{"$f":"'3.3'!I3694","v":0},{"$f":"'3.3'!L3694","v":0},0,0,1621,{"$f":"'poměry financování'!D3687","v":"CZ.1.11/3.4.00/42.01621"}]
[null,{"$f":"'3.3'!I3695","v":0},{"$f":"'3.3'!L3695","v":0},0,0,1621,{"$f":"'poměry financování'!D3688","v":"CZ.1.11/3.4.00/42.01621"}]
[null,{"$f":"'3.3'!I3696","v":0},{"$f":"'3.3'!L3696","v":0},0,0,1622,{"$f":"'poměry financování'!D3689","v":"CZ.1.11/3.4.00/42.01622"}]
[null,{"$f":"'3.3'!I3697","v":0},{"$f":"'3.3'!L3697","v":0},0,0,1623,{"$f":"'poměry financování'!D3690","v":"CZ.1.11/3.4.00/42.01623"}]
[null,{"$f":"'3.3'!I3698","v":0},{"$f":"'3.3'!L3698","v":0},0,0,1624,{"$f":"'poměry financování'!D3691","v":"CZ.1.11/3.4.00/42.01624"}]
[null,{"$f":"'3.3'!I3699","v":0},{"$f":"'3.3'!L3699","v":0},0,0,1625,{"$f":"'poměry financování'!D3692","v":"CZ.1.11/3.4.00/42.01625"}]
[null,{"$f":"'3.3'!I3700","v":0},{"$f":"'3.3'!L3700","v":0},0,0,1626,{"$f":"'poměry financování'!D3693","v":"CZ.1.11/3.4.00/42.01626"}]
[null,{"$f":"'3.3'!I3701","v":0},{"$f":"'3.3'!L3701","v":0},0,0,1626,{"$f":"'poměry financování'!D3694","v":"CZ.1.11/3.4.00/42.01626"}]
[null,{"$f":"'3.3'!I3702","v":0},{"$f":"'3.3'!L3702","v":0},0,0,1627,{"$f":"'poměry financování'!D3695","v":"CZ.1.11/3.4.00/42.01627"}]
[null,{"$f":"'3.3'!I3703","v":0},{"$f":"'3.3'!L3703","v":0},0,0,1628,{"$f":"'poměry financování'!D3696","v":"CZ.1.11/3.4.00/42.01628"}]
[null,{"$f":"'3.3'!I3704","v":0},{"$f":"'3.3'!L3704","v":0},0,0,1628,{"$f":"'poměry financování'!D3697","v":"CZ.1.11/3.4.00/42.01628"}]
[null,{"$f":"'3.3'!I3705","v":0},{"$f":"'3.3'!L3705","v":0},0,0,1629,{"$f":"'poměry financování'!D3698","v":"CZ.1.11/3.1.00/22.01629"}]
[null,{"$f":"'3.3'!I3706","v":0},{"$f":"'3.3'!L3706","v":0},0,0,1629,{"$f":"'poměry financování'!D3699","v":"CZ.1.11/3.1.00/22.01629"}]
[null,{"$f":"'3.3'!I3707","v":0},{"$f":"'3.3'!L3707","v":0},0,0,1629,{"$f":"'poměry financování'!D3700","v":"CZ.1.11/3.1.00/22.01629"}]
[null,{"$f":"'3.3'!I3708","v":0},{"$f":"'3.3'!L3708","v":0},0,0,1630,{"$f":"'poměry financování'!D3701","v":"CZ.1.11/3.4.00/42.01630"}]
[null,{"$f":"'3.3'!I3709","v":0},{"$f":"'3.3'!L3709","v":0},0,0,1631,{"$f":"'poměry financování'!D3702","v":"CZ.1.11/3.4.00/42.01631"}]
[null,{"$f":"'3.3'!I3710","v":0},{"$f":"'3.3'!L3710","v":0},0,0,1632,{"$f":"'poměry financování'!D3703","v":"CZ.1.11/3.1.00/41.01632"}]
[null,{"$f":"'3.3'!I3711","v":0},{"$f":"'3.3'!L3711","v":0},0,0,1633,{"$f":"'poměry financování'!D3704","v":"CZ.1.11/3.1.00/41.01633"}]
[null,{"$f":"'3.3'!I3712","v":0},{"$f":"'3.3'!L3712","v":0},0,0,1634,{"$f":"'poměry financování'!D3705","v":"CZ.1.11/3.1.00/41.01634"}]
[null,{"$f":"'3.3'!I3713","v":0},{"$f":"'3.3'!L3713","v":0},0,0,1635,{"$f":"'poměry financování'!D3706","v":"CZ.1.11/3.4.00/42.01635"}]
[null,{"$f":"'3.3'!I3714","v":0},{"$f":"'3.3'!L3714","v":0},0,0,1635,{"$f":"'poměry financování'!D3707","v":"CZ.1.11/3.4.00/42.01635"}]
[null,{"$f":"'3.3'!I3715","v":0},{"$f":"'3.3'!L3715","v":0},0,0,1636,{"$f":"'poměry financování'!D3708","v":"CZ.1.11/3.1.00/41.01636"}]
[null,{"$f":"'3.3'!I3716","v":0},{"$f":"'3.3'!L3716","v":0},0,0,1636,{"$f":"'poměry financování'!D3709","v":"CZ.1.11/3.1.00/41.01636"}]
[null,{"$f":"'3.3'!I3717","v":0},{"$f":"'3.3'!L3717","v":0},0,0,1636,{"$f":"'poměry financování'!D3710","v":"CZ.1.11/3.1.00/41.01636"}]
[null,{"$f":"'3.3'!I3718","v":0},{"$f":"'3.3'!L3718","v":0},0,0,1637,{"$f":"'poměry financování'!D3711","v":"CZ.1.11/3.1.00/41.01637"}]
[null,{"$f":"'3.3'!I3719","v":0},{"$f":"'3.3'!L3719","v":0},{"$f":"IF(B3715=\"Investiční\",C3715,0)","v":0},{"$f":"IF(B3715=\"Neinvestiční\",C3715,0)","v":0},1637,{"$f":"'poměry financování'!D3712","v":"CZ.1.11/3.1.00/41.01637"}]
[null,{"$f":"'3.3'!I3720","v":0},{"$f":"'3.3'!L3720","v":0},0,0,1637,{"$f":"'poměry financování'!D3713","v":"CZ.1.11/3.1.00/41.01637"}]
[null,{"$f":"'3.3'!I3721","v":0},{"$f":"'3.3'!L3721","v":0},0,0,1637,{"$f":"'poměry financování'!D3714","v":"CZ.1.11/3.1.00/41.01637"}]
[null,{"$f":"'3.3'!I3722","v":0},{"$f":"'3.3'!L3722","v":0},0,0,{"$f":"VALUE((MID(G3718,20,4)))","v":1638},{"$f":"'poměry financování'!D3715","v":"CZ.1.11/3.1.00/22.01638"}]
[null,{"$f":"'3.3'!I3723","v":0},{"$f":"'3.3'!L3723","v":0},0,0,1639,{"$f":"'poměry financování'!D3716","v":"CZ.1.11/3.1.00/41.01639"}]
[null,{"$f":"'3.3'!I3724","v":0},{"$f":"'3.3'!L3724","v":0},0,0,1640,{"$f":"'poměry financování'!D3717","v":"CZ.1.11/3.1.00/41.01640"}]
[null,{"$f":"'3.3'!I3725","v":0},{"$f":"'3.3'!L3725","v":0},0,0,1640,{"$f":"'poměry financování'!D3718","v":"CZ.1.11/3.1.00/41.01640"}]
[null,{"$f":"'3.3'!I3726","v":0},{"$f":"'3.3'!L3726","v":0},0,0,1640,{"$f":"'poměry financování'!D3719","v":"CZ.1.11/3.1.00/41.01640"}]
[null,{"$f":"'3.3'!I3727","v":0},{"$f":"'3.3'!L3727","v":0},0,0,1641,{"$f":"'poměry financování'!D3720","v":"CZ.1.11/3.1.00/41.01641"}]
[null,{"$f":"'3.3'!I3728","v":0},{"$f":"'3.3'!L3728","v":0},0,0,1642,{"$f":"'poměry financování'!D3721","v":"CZ.1.11/3.4.00/42.01642"}]
[null,{"$f":"'3.3'!I3729","v":0},{"$f":"'3.3'!L3729","v":0},0,0,1643,{"$f":"'poměry financování'!D3722","v":"CZ.1.11/3.1.00/41.01643"}]
[null,{"$f":"'3.3'!I3730","v":0},{"$f":"'3.3'!L3730","v":0},0,0,1643,{"$f":"'poměry financování'!D3723","v":"CZ.1.11/3.1.00/41.01643"}]
[null,{"$f":"'3.3'!I3731","v":0},{"$f":"'3.3'!L3731","v":0},0,0,1644,{"$f":"'poměry financování'!D3724","v":"CZ.1.11/3.1.00/41.01644"}]
[null,{"$f":"'3.3'!I3732","v":0},{"$f":"'3.3'!L3732","v":0},0,0,1645,{"$f":"'poměry financování'!D3725","v":"CZ.1.11/1.1.00/40.01645"}]
[null,{"$f":"'3.3'!I3733","v":0},{"$f":"'3.3'!L3733","v":0},0,0,1645,{"$f":"'poměry financování'!D3726","v":"CZ.1.11/1.1.00/40.01645"}]
[null,{"$f":"'3.3'!I3734","v":0},{"$f":"'3.3'!L3734","v":0},0,0,1646,{"$f":"'poměry financování'!D3727","v":"CZ.1.11/1.1.00/40.01646"}]
[null,{"$f":"'3.3'!I3735","v":0},{"$f":"'3.3'!L3735","v":0},0,0,1647,{"$f":"'poměry financování'!D3728","v":"CZ.1.11/1.1.00/40.01647"}]
[null,{"$f":"'3.3'!I3736","v":0},{"$f":"'3.3'!L3736","v":0},0,0,1647,{"$f":"'poměry financování'!D3729","v":"CZ.1.11/1.1.00/40.01647"}]
[null,{"$f":"'3.3'!I3737","v":0},{"$f":"'3.3'!L3737","v":0},0,0,1648,{"$f":"'poměry financování'!D3730","v":"CZ.1.11/1.1.00/40.01648"}]
[null,{"$f":"'3.3'!I3738","v":0},{"$f":"'3.3'!L3738","v":0},0,0,1648,{"$f":"'poměry financování'!D3731","v":"CZ.1.11/1.1.00/40.01648"}]
[null,{"$f":"'3.3'!I3739","v":0},{"$f":"'3.3'!L3739","v":0},0,0,1649,{"$f":"'poměry financování'!D3732","v":"CZ.1.11/1.1.00/40.01649"}]
[null,{"$f":"'3.3'!I3740","v":0},{"$f":"'3.3'!L3740","v":0},0,0,1649,{"$f":"'poměry financování'!D3733","v":"CZ.1.11/1.1.00/40.01649"}]
[null,{"$f":"'3.3'!I3741","v":0},{"$f":"'3.3'!L3741","v":0},0,0,1650,{"$f":"'poměry financování'!D3734","v":"CZ.1.11/1.1.00/40.01650"}]
[null,{"$f":"'3.3'!I3742","v":0},{"$f":"'3.3'!L3742","v":0},0,0,1650,{"$f":"'poměry financování'!D3735","v":"CZ.1.11/1.1.00/40.01650"}]
[null,{"$f":"'3.3'!I3743","v":0},{"$f":"'3.3'!L3743","v":0},0,0,1651,{"$f":"'poměry financování'!D3736","v":"CZ.1.11/3.1.00/41.01651"}]
[null,{"$f":"'3.3'!I3744","v":0},{"$f":"'3.3'!L3744","v":0},0,0,1652,{"$f":"'poměry financování'!D3737","v":"CZ.1.11/1.1.00/40.01652"}]
[null,{"$f":"'3.3'!I3745","v":0},{"$f":"'3.3'!L3745","v":0},0,0,1652,{"$f":"'poměry financování'!D3738","v":"CZ.1.11/1.1.00/40.01652"}]
[null,{"$f":"'3.3'!I3746","v":0},{"$f":"'3.3'!L3746","v":0},0,0,1653,{"$f":"'poměry financování'!D3739","v":"CZ.1.11/3.4.00/42.01653"}]
[null,{"$f":"'3.3'!I3747","v":0},{"$f":"'3.3'!L3747","v":0},0,0,1653,{"$f":"'poměry financování'!D3740","v":"CZ.1.11/3.4.00/42.01653"}]
[null,{"$f":"'3.3'!I3748","v":0},{"$f":"'3.3'!L3748","v":0},0,0,1654,{"$f":"'poměry financování'!D3741","v":"CZ.1.11/1.1.00/40.01654"}]
[null,{"$f":"'3.3'!I3749","v":0},{"$f":"'3.3'!L3749","v":0},0,0,1654,{"$f":"'poměry financování'!D3742","v":"CZ.1.11/1.1.00/40.01654"}]
[null,{"$f":"'3.3'!I3750","v":0},{"$f":"'3.3'!L3750","v":0},0,0,1654,{"$f":"'poměry financování'!D3743","v":"CZ.1.11/1.1.00/40.01654"}]
[null,{"$f":"'3.3'!I3751","v":0},{"$f":"'3.3'!L3751","v":0},0,0,1655,{"$f":"'poměry financování'!D3744","v":"CZ.1.11/1.1.00/40.01655"}]
[null,{"$f":"'3.3'!I3752","v":0},{"$f":"'3.3'!L3752","v":0},0,0,1655,{"$f":"'poměry financování'!D3745","v":"CZ.1.11/1.1.00/40.01655"}]
[null,{"$f":"'3.3'!I3753","v":0},{"$f":"'3.3'!L3753","v":0},0,0,1656,{"$f":"'poměry financování'!D3746","v":"CZ.1.11/3.4.00/42.01656"}]
[null,{"$f":"'3.3'!I3754","v":0},{"$f":"'3.3'!L3754","v":0},0,0,1657,{"$f":"'poměry financování'!D3747","v":"CZ.1.11/3.1.00/41.01657"}]
[null,{"$f":"'3.3'!I3755","v":0},{"$f":"'3.3'!L3755","v":0},0,0,1658,{"$f":"'poměry financování'!D3748","v":"CZ.1.11/3.1.00/41.01658"}]
[null,{"$f":"'3.3'!I3756","v":0},{"$f":"'3.3'!L3756","v":0},0,0,1658,{"$f":"'poměry financování'!D3749","v":"CZ.1.11/3.1.00/41.01658"}]
[null,{"$f":"'3.3'!I3757","v":0},{"$f":"'3.3'!L3757","v":0},0,0,1659,{"$f":"'poměry financování'!D3750","v":"CZ.1.11/4.2.00/39.01659"}]
[null,{"$f":"'3.3'!I3758","v":0},{"$f":"'3.3'!L3758","v":0},0,0,1660,{"$f":"'poměry financování'!D3751","v":"CZ.1.11/1.1.00/40.01660"}]
[null,{"$f":"'3.3'!I3759","v":0},{"$f":"'3.3'!L3759","v":0},0,0,1660,{"$f":"'poměry financování'!D3752","v":"CZ.1.11/1.1.00/40.01660"}]
[null,{"$f":"'3.3'!I3760","v":0},{"$f":"'3.3'!L3760","v":0},0,0,1661,{"$f":"'poměry financování'!D3753","v":"CZ.1.11/1.1.00/40.01661"}]
[null,{"$f":"'3.3'!I3761","v":0},{"$f":"'3.3'!L3761","v":0},0,0,1661,{"$f":"'poměry financování'!D3754","v":"CZ.1.11/1.1.00/40.01661"}]
[null,{"$f":"'3.3'!I3762","v":0},{"$f":"'3.3'!L3762","v":0},0,0,1662,{"$f":"'poměry financování'!D3755","v":"CZ.1.11/1.1.00/40.01662"}]
[null,{"$f":"'3.3'!I3763","v":0},{"$f":"'3.3'!L3763","v":0},0,0,1663,{"$f":"'poměry financování'!D3756","v":"CZ.1.11/3.1.00/41.01663"}]
[null,{"$f":"'3.3'!I3764","v":0},{"$f":"'3.3'!L3764","v":0},0,0,1664,{"$f":"'poměry financování'!D3757","v":"CZ.1.11/1.1.00/40.01664"}]
[null,{"$f":"'3.3'!I3765","v":0},{"$f":"'3.3'!L3765","v":0},0,0,1664,{"$f":"'poměry financování'!D3758","v":"CZ.1.11/1.1.00/40.01664"}]
[null,{"$f":"'3.3'!I3766","v":0},{"$f":"'3.3'!L3766","v":0},0,0,1665,{"$f":"'poměry financování'!D3759","v":"CZ.1.11/1.1.00/40.01665"}]
[null,{"$f":"'3.3'!I3767","v":0},{"$f":"'3.3'!L3767","v":0},0,0,1665,{"$f":"'poměry financování'!D3760","v":"CZ.1.11/1.1.00/40.01665"}]
[null,{"$f":"'3.3'!I3768","v":0},{"$f":"'3.3'!L3768","v":0},0,0,1666,{"$f":"'poměry financování'!D3761","v":"CZ.1.11/3.1.00/41.01666"}]
[null,{"$f":"'3.3'!I3769","v":0},{"$f":"'3.3'!L3769","v":0},0,0,1667,{"$f":"'poměry financování'!D3762","v":"CZ.1.11/3.1.00/41.01667"}]
[null,{"$f":"'3.3'!I3770","v":0},{"$f":"'3.3'!L3770","v":0},0,0,1668,{"$f":"'poměry financování'!D3763","v":"CZ.1.11/3.1.00/41.01668"}]
[null,{"$f":"'3.3'!I3771","v":0},{"$f":"'3.3'!L3771","v":0},0,0,1669,{"$f":"'poměry financování'!D3764","v":"CZ.1.11/3.1.00/41.01669"}]
[null,{"$f":"'3.3'!I3772","v":0},{"$f":"'3.3'!L3772","v":0},0,0,1670,{"$f":"'poměry financování'!D3765","v":"CZ.1.11/3.1.00/41.01670"}]
[null,{"$f":"'3.3'!I3773","v":0},{"$f":"'3.3'!L3773","v":0},0,0,1671,{"$f":"'poměry financování'!D3766","v":"CZ.1.11/3.1.00/41.01671"}]
[null,{"$f":"'3.3'!I3774","v":0},{"$f":"'3.3'!L3774","v":0},0,0,1672,{"$f":"'poměry financování'!D3767","v":"CZ.1.11/1.1.00/40.01672"}]
[null,{"$f":"'3.3'!I3775","v":0},{"$f":"'3.3'!L3775","v":0},0,0,1672,{"$f":"'poměry financování'!D3768","v":"CZ.1.11/1.1.00/40.01672"}]
[null,{"$f":"'3.3'!I3776","v":0},{"$f":"'3.3'!L3776","v":0},0,0,1673,{"$f":"'poměry financování'!D3769","v":"CZ.1.11/3.1.00/41.01673"}]
[null,{"$f":"'3.3'!I3777","v":0},{"$f":"'3.3'!L3777","v":0},0,0,1674,{"$f":"'poměry financování'!D3770","v":"CZ.1.11/3.1.00/41.01674"}]
[null,{"$f":"'3.3'!I3778","v":0},{"$f":"'3.3'!L3778","v":0},0,0,1675,{"$f":"'poměry financování'!D3771","v":"CZ.1.11/3.1.00/41.01675"}]
[null,{"$f":"'3.3'!I3779","v":0},{"$f":"'3.3'!L3779","v":0},0,0,1675,{"$f":"'poměry financování'!D3772","v":"CZ.1.11/3.1.00/41.01675"}]
[null,{"$f":"'3.3'!I3780","v":0},{"$f":"'3.3'!L3780","v":0},0,0,1676,{"$f":"'poměry financování'!D3773","v":"CZ.1.11/1.1.00/40.01676"}]
[null,{"$f":"'3.3'!I3781","v":0},{"$f":"'3.3'!L3781","v":0},0,0,1677,{"$f":"'poměry financování'!D3774","v":"CZ.1.11/1.1.00/40.01677"}]
[null,{"$f":"'3.3'!I3782","v":0},{"$f":"'3.3'!L3782","v":0},0,0,1678,{"$f":"'poměry financování'!D3775","v":"CZ.1.11/1.1.00/40.01678"}]
[null,{"$f":"'3.3'!I3783","v":0},{"$f":"'3.3'!L3783","v":0},{"$f":"IF(B3779=\"Investiční\",C3779,0)","v":0},{"$f":"IF(B3779=\"Neinvestiční\",C3779,0)","v":0},1679,{"$f":"'poměry financování'!D3776","v":"CZ.1.11/3.1.00/41.01679"}]
[null,{"$f":"'3.3'!I3784","v":0},{"$f":"'3.3'!L3784","v":0},0,0,1679,{"$f":"'poměry financování'!D3777","v":"CZ.1.11/3.1.00/41.01679"}]
[null,{"$f":"'3.3'!I3785","v":0},{"$f":"'3.3'!L3785","v":0},0,0,1680,{"$f":"'poměry financování'!D3778","v":"CZ.1.11/3.1.00/41.01680"}]
[null,{"$f":"'3.3'!I3786","v":0},{"$f":"'3.3'!L3786","v":0},0,0,{"$f":"VALUE((MID(G3782,20,4)))","v":1681},{"$f":"'poměry financování'!D3779","v":"CZ.1.11/3.1.00/41.01681"}]
[null,{"$f":"'3.3'!I3787","v":0},{"$f":"'3.3'!L3787","v":0},0,0,1681,{"$f":"'poměry financování'!D3780","v":"CZ.1.11/3.1.00/41.01681"}]
[null,{"$f":"'3.3'!I3788","v":0},{"$f":"'3.3'!L3788","v":0},0,0,1681,{"$f":"'poměry financování'!D3781","v":"CZ.1.11/3.1.00/41.01681"}]
[null,{"$f":"'3.3'!I3789","v":0},{"$f":"'3.3'!L3789","v":0},0,0,1682,{"$f":"'poměry financování'!D3782","v":"CZ.1.11/1.1.00/40.01682"}]
[null,{"$f":"'3.3'!I3790","v":0},{"$f":"'3.3'!L3790","v":0},0,0,1683,{"$f":"'poměry financování'!D3783","v":"CZ.1.11/1.1.00/40.01683"}]
[null,{"$f":"'3.3'!I3791","v":0},{"$f":"'3.3'!L3791","v":0},0,0,1683,{"$f":"'poměry financování'!D3784","v":"CZ.1.11/1.1.00/40.01683"}]
[null,{"$f":"'3.3'!I3792","v":0},{"$f":"'3.3'!L3792","v":0},0,0,1684,{"$f":"'poměry financování'!D3785","v":"CZ.1.11/1.1.00/40.01684"}]
[null,{"$f":"'3.3'!I3793","v":0},{"$f":"'3.3'!L3793","v":0},0,0,1685,{"$f":"'poměry financování'!D3786","v":"CZ.1.11/3.1.00/41.01685"}]
[null,{"$f":"'3.3'!I3794","v":0},{"$f":"'3.3'!L3794","v":0},0,0,1686,{"$f":"'poměry financování'!D3787","v":"CZ.1.11/3.1.00/41.01686"}]
[null,{"$f":"'3.3'!I3795","v":0},{"$f":"'3.3'!L3795","v":0},0,0,1687,{"$f":"'poměry financování'!D3788","v":"CZ.1.11/3.1.00/41.01687"}]
[null,{"$f":"'3.3'!I3796","v":0},{"$f":"'3.3'!L3796","v":0},0,0,1688,{"$f":"'poměry financování'!D3789","v":"CZ.1.11/3.1.00/41.01688"}]
[null,{"$f":"'3.3'!I3797","v":0},{"$f":"'3.3'!L3797","v":0},0,0,1689,{"$f":"'poměry financování'!D3790","v":"CZ.1.11/3.1.00/41.01689"}]
[null,{"$f":"'3.3'!I3798","v":0},{"$f":"'3.3'!L3798","v":0},0,0,1690,{"$f":"'poměry financování'!D3791","v":"CZ.1.11/3.1.00/41.01690"}]
[null,{"$f":"'3.3'!I3799","v":0},{"$f":"'3.3'!L3799","v":0},0,0,1691,{"$f":"'poměry financování'!D3792","v":"CZ.1.11/3.1.00/41.01691"}]
[null,{"$f":"'3.3'!I3800","v":0},{"$f":"'3.3'!L3800","v":0},0,0,1692,{"$f":"'poměry financování'!D3793","v":"CZ.1.11/3.1.00/41.01692"}]
[null,{"$f":"'3.3'!I3801","v":0},{"$f":"'3.3'!L3801","v":0},0,0,1693,{"$f":"'poměry financování'!D3794","v":"CZ.1.11/3.1.00/41.01693"}]
[null,{"$f":"'3.3'!I3802","v":0},{"$f":"'3.3'!L3802","v":0},0,0,1694,{"$f":"'poměry financování'!D3795","v":"CZ.1.11/3.1.00/41.01694"}]
[null,{"$f":"'3.3'!I3803","v":0},{"$f":"'3.3'!L3803","v":0},0,0,1695,{"$f":"'poměry financování'!D3796","v":"CZ.1.11/3.1.00/41.01695"}]
[null,{"$f":"'3.3'!I3804","v":0},{"$f":"'3.3'!L3804","v":0},0,0,1696,{"$f":"'poměry financování'!D3797","v":"CZ.1.11/3.1.00/41.01696"}]
[null,{"$f":"'3.3'!I3805","v":0},{"$f":"'3.3'!L3805","v":0},0,0,1697,{"$f":"'poměry financování'!D3798","v":"CZ.1.11/3.1.00/41.01697"}]
[null,{"$f":"'3.3'!I3806","v":0},{"$f":"'3.3'!L3806","v":0},0,0,1698,{"$f":"'poměry financování'!D3799","v":"CZ.1.11/3.1.00/41.01698"}]
[null,{"$f":"'3.3'!I3807","v":0},{"$f":"'3.3'!L3807","v":0},0,0,1699,{"$f":"'poměry financování'!D3800","v":"CZ.1.11/1.1.00/40.01699"}]
[null,{"$f":"'3.3'!I3808","v":0},{"$f":"'3.3'!L3808","v":0},0,0,1699,{"$f":"'poměry financování'!D3801","v":"CZ.1.11/1.1.00/40.01699"}]
[null,{"$f":"'3.3'!I3809","v":0},{"$f":"'3.3'!L3809","v":0},0,0,1700,{"$f":"'poměry financování'!D3802","v":"CZ.1.11/1.1.00/40.01700"}]
[null,{"$f":"'3.3'!I3810","v":0},{"$f":"'3.3'!L3810","v":0},0,0,1701,{"$f":"'poměry financování'!D3803","v":"CZ.1.11/1.1.00/40.01701"}]
[null,{"$f":"'3.3'!I3811","v":0},{"$f":"'3.3'!L3811","v":0},0,0,1702,{"$f":"'poměry financování'!D3804","v":"CZ.1.11/1.1.00/40.01702"}]
[null,{"$f":"'3.3'!I3812","v":0},{"$f":"'3.3'!L3812","v":0},0,0,1703,{"$f":"'poměry financování'!D3805","v":"CZ.1.11/1.1.00/40.01703"}]
[null,{"$f":"'3.3'!I3813","v":0},{"$f":"'3.3'!L3813","v":0},0,0,1704,{"$f":"'poměry financování'!D3806","v":"CZ.1.11/1.1.00/40.01704"}]
[null,{"$f":"'3.3'!I3814","v":0},{"$f":"'3.3'!L3814","v":0},0,0,1705,{"$f":"'poměry financování'!D3807","v":"CZ.1.11/3.1.00/41.01705"}]
[null,{"$f":"'3.3'!I3815","v":0},{"$f":"'3.3'!L3815","v":0},0,0,1706,{"$f":"'poměry financování'!D3808","v":"CZ.1.11/1.1.00/40.01706"}]
[null,{"$f":"'3.3'!I3816","v":0},{"$f":"'3.3'!L3816","v":0},0,0,{"$error":"#VALUE!"},{"$f":"'poměry financování'!D3809","v":0}]
[null,{"$f":"'3.3'!I3817","v":0},{"$f":"'3.3'!L3817","v":0},0,0,{"$error":"#VALUE!"},{"$f":"'poměry financování'!D3810","v":0}]
[null,{"$f":"'3.3'!I3818","v":0},{"$f":"'3.3'!L3818","v":0},0,0,{"$error":"#VALUE!"},{"$f":"'poměry financování'!D3811","v":0}]
[null,{"$f":"'3.3'!I3819","v":0},{"$f":"'3.3'!L3819","v":0},0,0,{"$error":"#VALUE!"},{"$f":"'poměry financování'!D3812","v":0}]
[null,{"$f":"'3.3'!I3820","v":0},{"$f":"'3.3'!L3820","v":0},0,0,{"$error":"#VALUE!"},{"$f":"'poměry financování'!D3813","v":0}]
[null,{"$f":"'3.3'!I3821","v":0},{"$f":"'3.3'!L3821","v":0},0,0,{"$error":"#VALUE!"},{"$f":"'poměry financování'!D3814","v":0}]
[null,{"$f":"'3.3'!I3822","v":0},{"$f":"'3.3'!L3822","v":0},0,0,{"$error":"#VALUE!"},{"$f":"'poměry financování'!D3815","v":0}]
[null,{"$f":"'3.3'!I3823","v":0},{"$f":"'3.3'!L3823","v":0},0,0,{"$error":"#VALUE!"},{"$f":"'poměry financování'!D3816","v":0}]
[null,{"$f":"'3.3'!I3824","v":0},{"$f":"'3.3'!L3824","v":0},0,0,{"$error":"#VALUE!"},{"$f":"'poměry financování'!D3817","v":0}]
[null,{"$f":"'3.3'!I3825","v":0},{"$f":"'3.3'!L3825","v":0},0,0,{"$error":"#VALUE!"},{"$f":"'poměry financování'!D3818","v":0}]
[null,{"$f":"'3.3'!I3826","v":0},{"$f":"'3.3'!L3826","v":0},0,0,{"$error":"#VALUE!"},{"$f":"'poměry financování'!D3819","v":0}]
[null,{"$f":"'3.3'!I3827","v":0},{"$f":"'3.3'!L3827","v":0},0,0,{"$error":"#VALUE!"},{"$f":"'poměry financování'!D3820","v":0}]
[null,{"$f":"'3.3'!I3828","v":0},{"$f":"'3.3'!L3828","v":0},0,0,{"$error":"#VALUE!"},{"$f":"'poměry financování'!D3821","v":0}]
[null,{"$f":"'3.3'!I3829","v":0},{"$f":"'3.3'!L3829","v":0},0,0,{"$error":"#VALUE!"},{"$f":"'poměry financování'!D3822","v":0}]
[null,{"$f":"'3.3'!I3830","v":0},{"$f":"'3.3'!L3830","v":0},0,0,{"$error":"#VALUE!"},{"$f":"'poměry financování'!D3823","v":0}]
[null,{"$f":"'3.3'!I3831","v":0},{"$f":"'3.3'!L3831","v":0},0,0,{"$error":"#VALUE!"},{"$f":"'poměry financování'!D3824","v":0}]
[null,{"$f":"'3.3'!I3832","v":0},{"$f":"'3.3'!L3832","v":0},0,0,{"$error":"#VALUE!"},{"$f":"'poměry financování'!D3825","v":0}]
[null,{"$f":"'3.3'!I3833","v":0},{"$f":"'3.3'!L3833","v":0},0,0,{"$error":"#VALUE!"},{"$f":"'poměry financování'!D3826","v":0}]
[null,{"$f":"'3.3'!I3834","v":0},{"$f":"'3.3'!L3834","v":0},0,0,{"$error":"#VALUE!"},{"$f":"'poměry financování'!D3827","v":0}]
[null,{"$f":"'3.3'!I3835","v":0},{"$f":"'3.3'!L3835","v":0},0,0,{"$error":"#VALUE!"},{"$f":"'poměry financování'!D3828","v":0}]
[null,{"$f":"'3.3'!I3836","v":0},{"$f":"'3.3'!L3836","v":0},0,0,{"$error":"#VALUE!"},{"$f":"'poměry financování'!D3829","v":0}]
[null,{"$f":"'3.3'!I3837","v":0},{"$f":"'3.3'!L3837","v":0},0,0,{"$error":"#VALUE!"},{"$f":"'poměry financování'!D3830","v":0}]
[null,{"$f":"'3.3'!I3838","v":0},{"$f":"'3.3'!L3838","v":0},0,0,{"$error":"#VALUE!"},{"$f":"'poměry financování'!D3831","v":0}]
[null,{"$f":"'3.3'!I3839","v":0},{"$f":"'3.3'!L3839","v":0},0,0,{"$error":"#VALUE!"},{"$f":"'poměry financování'!D3832","v":0}]
[null,{"$f":"'3.3'!I3840","v":0},{"$f":"'3.3'!L3840","v":0},0,0,{"$error":"#VALUE!"},{"$f":"'poměry financování'!D3833","v":0}]
[null,{"$f":"'3.3'!I3841","v":0},{"$f":"'3.3'!L3841","v":0},0,0,{"$error":"#VALUE!"},{"$f":"'poměry financování'!D3834","v":0}]
[null,{"$f":"'3.3'!I3842","v":0},{"$f":"'3.3'!L3842","v":0},0,0,{"$error":"#VALUE!"},{"$f":"'poměry financování'!D3835","v":0}]
[null,{"$f":"'3.3'!I3843","v":0},{"$f":"'3.3'!L3843","v":0},0,0,{"$error":"#VALUE!"},{"$f":"'poměry financování'!D3836","v":0}]
[null,{"$f":"'3.3'!I3844","v":0},{"$f":"'3.3'!L3844","v":0},0,0,{"$error":"#VALUE!"},{"$f":"'poměry financování'!D3837","v":0}]
[null,{"$f":"'3.3'!I3845","v":0},{"$f":"'3.3'!L3845","v":0},0,0,{"$error":"#VALUE!"},{"$f":"'poměry financování'!D3838","v":0}]
[null,{"$f":"'3.3'!I3846","v":0},{"$f":"'3.3'!L3846","v":0},0,0,{"$error":"#VALUE!"},{"$f":"'poměry financování'!D3839","v":0}]
[null,{"$f":"'3.3'!I3847","v":0},{"$f":"'3.3'!L3847","v":0},{"$f":"IF(B3843=\"Investiční\",C3843,0)","v":0},{"$f":"IF(B3843=\"Neinvestiční\",C3843,0)","v":0},{"$error":"#VALUE!"},{"$f":"'poměry financování'!D3840","v":0}]
[null,{"$f":"'3.3'!I3848","v":0},{"$f":"'3.3'!L3848","v":0},0,0,{"$error":"#VALUE!"},{"$f":"'poměry financování'!D3841","v":0}]
[null,{"$f":"'3.3'!I3849","v":0},{"$f":"'3.3'!L3849","v":0},0,0,{"$error":"#VALUE!"},{"$f":"'poměry financování'!D3842","v":0}]
[null,{"$f":"'3.3'!I3850","v":0},{"$f":"'3.3'!L3850","v":0},0,0,{"$f":"VALUE((MID(G3846,20,4)))","v":{"$error":"#VALUE!"}},{"$f":"'poměry financování'!D3843","v":0}]
[null,{"$f":"'3.3'!I3851","v":0},{"$f":"'3.3'!L3851","v":0},0,0,{"$error":"#VALUE!"},{"$f":"'poměry financování'!D3844","v":0}]
[null,{"$f":"'3.3'!I3852","v":0},{"$f":"'3.3'!L3852","v":0},0,0,{"$error":"#VALUE!"},{"$f":"'poměry financování'!D3845","v":0}]
[null,{"$f":"'3.3'!I3853","v":0},{"$f":"'3.3'!L3853","v":0},0,0,{"$error":"#VALUE!"},{"$f":"'poměry financování'!D3846","v":0}]
[null,{"$f":"'3.3'!I3854","v":0},{"$f":"'3.3'!L3854","v":0},0,0,{"$error":"#VALUE!"},{"$f":"'poměry financování'!D3847","v":0}]
[null,{"$f":"'3.3'!I3855","v":0},{"$f":"'3.3'!L3855","v":0},0,0,{"$error":"#VALUE!"},{"$f":"'poměry financování'!D3848","v":0}]
[null,{"$f":"'3.3'!I3856","v":0},{"$f":"'3.3'!L3856","v":0},0,0,{"$error":"#VALUE!"},{"$f":"'poměry financování'!D3849","v":0}]
[null,{"$f":"'3.3'!I3857","v":0},{"$f":"'3.3'!L3857","v":0},0,0,{"$error":"#VALUE!"},{"$f":"'poměry financování'!D3850","v":0}]
[null,{"$f":"'3.3'!I3858","v":0},{"$f":"'3.3'!L3858","v":0},0,0,{"$error":"#VALUE!"},{"$f":"'poměry financování'!D3851","v":0}]
[null,{"$f":"'3.3'!I3859","v":0},{"$f":"'3.3'!L3859","v":0},0,0,{"$error":"#VALUE!"},{"$f":"'poměry financování'!D3852","v":0}]
[null,{"$f":"'3.3'!I3860","v":0},{"$f":"'3.3'!L3860","v":0},0,0,{"$error":"#VALUE!"},{"$f":"'poměry financování'!D3853","v":0}]
[null,{"$f":"'3.3'!I3861","v":0},{"$f":"'3.3'!L3861","v":0},0,0,{"$error":"#VALUE!"},{"$f":"'poměry financování'!D3854","v":0}]
[null,{"$f":"'3.3'!I3862","v":0},{"$f":"'3.3'!L3862","v":0},0,0,{"$error":"#VALUE!"},{"$f":"'poměry financování'!D3855","v":0}]
[null,{"$f":"'3.3'!I3863","v":0},{"$f":"'3.3'!L3863","v":0},0,0,{"$error":"#VALUE!"},{"$f":"'poměry financování'!D3856","v":0}]
[null,{"$f":"'3.3'!I3864","v":0},{"$f":"'3.3'!L3864","v":0},0,0,{"$error":"#VALUE!"},{"$f":"'poměry financování'!D3857","v":0}]
[null,{"$f":"'3.3'!I3865","v":0},{"$f":"'3.3'!L3865","v":0},0,0,{"$error":"#VALUE!"},{"$f":"'poměry financování'!D3858","v":0}]
[null,{"$f":"'3.3'!I3866","v":0},{"$f":"'3.3'!L3866","v":0},0,0,{"$error":"#VALUE!"},{"$f":"'poměry financování'!D3859","v":0}]
[null,{"$f":"'3.3'!I3867","v":0},{"$f":"'3.3'!L3867","v":0},0,0,{"$error":"#VALUE!"},{"$f":"'poměry financování'!D3860","v":0}]
[null,{"$f":"'3.3'!I3868","v":0},{"$f":"'3.3'!L3868","v":0},0,0,{"$error":"#VALUE!"},{"$f":"'poměry financování'!D3861","v":0}]
[null,{"$f":"'3.3'!I3869","v":0},{"$f":"'3.3'!L3869","v":0},0,0,{"$error":"#VALUE!"},{"$f":"'poměry financování'!D3862","v":0}]
[null,{"$f":"'3.3'!I3870","v":0},{"$f":"'3.3'!L3870","v":0},0,0,{"$error":"#VALUE!"},{"$f":"'poměry financování'!D3863","v":0}]
[null,{"$f":"'3.3'!I3871","v":0},{"$f":"'3.3'!L3871","v":0},0,0,{"$error":"#VALUE!"},{"$f":"'poměry financování'!D3864","v":0}]
[null,{"$f":"'3.3'!I3872","v":0},{"$f":"'3.3'!L3872","v":0},0,0,{"$error":"#VALUE!"},{"$f":"'poměry financování'!D3865","v":0}]
[null,{"$f":"'3.3'!I3873","v":0},{"$f":"'3.3'!L3873","v":0},0,0,{"$error":"#VALUE!"},{"$f":"'poměry financování'!D3866","v":0}]
[null,{"$f":"'3.3'!I3874","v":0},{"$f":"'3.3'!L3874","v":0},0,0,{"$error":"#VALUE!"},{"$f":"'poměry financování'!D3867","v":0}]
[null,{"$f":"'3.3'!I3875","v":0},{"$f":"'3.3'!L3875","v":0},0,0,{"$error":"#VALUE!"},{"$f":"'poměry financování'!D3868","v":0}]
[null,{"$f":"'3.3'!I3876","v":0},{"$f":"'3.3'!L3876","v":0},0,0,{"$error":"#VALUE!"},{"$f":"'poměry financování'!D3869","v":0}]
[null,{"$f":"'3.3'!I3877","v":0},{"$f":"'3.3'!L3877","v":0},0,0,{"$error":"#VALUE!"},{"$f":"'poměry financování'!D3870","v":0}]
[null,{"$f":"'3.3'!I3878","v":0},{"$f":"'3.3'!L3878","v":0},0,0,{"$error":"#VALUE!"},{"$f":"'poměry financování'!D3871","v":0}]
[null,{"$f":"'3.3'!I3879","v":0},{"$f":"'3.3'!L3879","v":0},0,0,{"$error":"#VALUE!"},{"$f":"'poměry financování'!D3872","v":0}]
[null,{"$f":"'3.3'!I3880","v":0},{"$f":"'3.3'!L3880","v":0},0,0,{"$error":"#VALUE!"},{"$f":"'poměry financování'!D3873","v":0}]
[null,{"$f":"'3.3'!I3881","v":0},{"$f":"'3.3'!L3881","v":0},0,0,{"$error":"#VALUE!"},{"$f":"'poměry financování'!D3874","v":0}]
[null,{"$f":"'3.3'!I3882","v":0},{"$f":"'3.3'!L3882","v":0},0,0,{"$error":"#VALUE!"},{"$f":"'poměry financování'!D3875","v":0}]
[null,{"$f":"'3.3'!I3883","v":0},{"$f":"'3.3'!L3883","v":0},0,0,{"$error":"#VALUE!"},{"$f":"'poměry financování'!D3876","v":0}]
[null,{"$f":"'3.3'!I3884","v":0},{"$f":"'3.3'!L3884","v":0},0,0,{"$error":"#VALUE!"},{"$f":"'poměry financování'!D3877","v":0}]
[null,{"$f":"'3.3'!I3885","v":0},{"$f":"'3.3'!L3885","v":0},0,0,{"$error":"#VALUE!"},{"$f":"'poměry financování'!D3878","v":0}]
[null,{"$f":"'3.3'!I3886","v":0},{"$f":"'3.3'!L3886","v":0},0,0,{"$error":"#VALUE!"},{"$f":"'poměry financování'!D3879","v":0}]
[null,{"$f":"'3.3'!I3887","v":0},{"$f":"'3.3'!L3887","v":0},0,0,{"$error":"#VALUE!"},{"$f":"'poměry financování'!D3880","v":0}]
[null,{"$f":"'3.3'!I3888","v":0},{"$f":"'3.3'!L3888","v":0},0,0,{"$error":"#VALUE!"},{"$f":"'poměry financování'!D3881","v":0}]
[null,{"$f":"'3.3'!I3889","v":0},{"$f":"'3.3'!L3889","v":0},0,0,{"$error":"#VALUE!"},{"$f":"'poměry financování'!D3882","v":0}]
[null,{"$f":"'3.3'!I3890","v":0},{"$f":"'3.3'!L3890","v":0},0,0,{"$error":"#VALUE!"},{"$f":"'poměry financování'!D3883","v":0}]
[null,{"$f":"'3.3'!I3891","v":0},{"$f":"'3.3'!L3891","v":0},0,0,{"$error":"#VALUE!"},{"$f":"'poměry financování'!D3884","v":0}]
[null,{"$f":"'3.3'!I3892","v":0},{"$f":"'3.3'!L3892","v":0},0,0,{"$error":"#VALUE!"},{"$f":"'poměry financování'!D3885","v":0}]
[null,{"$f":"'3.3'!I3893","v":0},{"$f":"'3.3'!L3893","v":0},0,0,{"$error":"#VALUE!"},{"$f":"'poměry financování'!D3886","v":0}]
[null,{"$f":"'3.3'!I3894","v":0},{"$f":"'3.3'!L3894","v":0},0,0,{"$error":"#VALUE!"},{"$f":"'poměry financování'!D3887","v":0}]
[null,{"$f":"'3.3'!I3895","v":0},{"$f":"'3.3'!L3895","v":0},0,0,{"$error":"#VALUE!"},{"$f":"'poměry financování'!D3888","v":0}]
[null,{"$f":"'3.3'!I3896","v":0},{"$f":"'3.3'!L3896","v":0},0,0,{"$error":"#VALUE!"},{"$f":"'poměry financování'!D3889","v":0}]
[null,{"$f":"'3.3'!I3897","v":0},{"$f":"'3.3'!L3897","v":0},0,0,{"$error":"#VALUE!"},{"$f":"'poměry financování'!D3890","v":0}]
[null,{"$f":"'3.3'!I3898","v":0},{"$f":"'3.3'!L3898","v":0},0,0,{"$error":"#VALUE!"},{"$f":"'poměry financování'!D3891","v":0}]
[null,{"$f":"'3.3'!I3899","v":0},{"$f":"'3.3'!L3899","v":0},0,0,{"$error":"#VALUE!"},{"$f":"'poměry financování'!D3892","v":0}]
[null,{"$f":"'3.3'!I3900","v":0},{"$f":"'3.3'!L3900","v":0},0,0,{"$error":"#VALUE!"},{"$f":"'poměry financování'!D3893","v":0}]
[null,{"$f":"'3.3'!I3901","v":0},{"$f":"'3.3'!L3901","v":0},0,0,{"$error":"#VALUE!"},{"$f":"'poměry financování'!D3894","v":0}]
[null,{"$f":"'3.3'!I3902","v":0},{"$f":"'3.3'!L3902","v":0},0,0,{"$error":"#VALUE!"},{"$f":"'poměry financování'!D3895","v":0}]
[null,{"$f":"'3.3'!I3903","v":0},{"$f":"'3.3'!L3903","v":0},0,0,{"$error":"#VALUE!"},{"$f":"'poměry financování'!D3896","v":0}]
[null,{"$f":"'3.3'!I3904","v":0},{"$f":"'3.3'!L3904","v":0},0,0,{"$error":"#VALUE!"},{"$f":"'poměry financování'!D3897","v":0}]
[null,{"$f":"'3.3'!I3905","v":0},{"$f":"'3.3'!L3905","v":0},0,0,{"$error":"#VALUE!"},{"$f":"'poměry financování'!D3898","v":0}]
[null,{"$f":"'3.3'!I3906","v":0},{"$f":"'3.3'!L3906","v":0},0,0,{"$error":"#VALUE!"},{"$f":"'poměry financování'!D3899","v":0}]
[null,{"$f":"'3.3'!I3907","v":0},{"$f":"'3.3'!L3907","v":0},0,0,{"$error":"#VALUE!"},{"$f":"'poměry financování'!D3900","v":0}]
[null,{"$f":"'3.3'!I3908","v":0},{"$f":"'3.3'!L3908","v":0},0,0,{"$error":"#VALUE!"},{"$f":"'poměry financování'!D3901","v":0}]
[null,{"$f":"'3.3'!I3909","v":0},{"$f":"'3.3'!L3909","v":0},0,0,{"$error":"#VALUE!"},{"$f":"'poměry financování'!D3902","v":0}]
[null,{"$f":"'3.3'!I3910","v":0},{"$f":"'3.3'!L3910","v":0},0,0,{"$error":"#VALUE!"},{"$f":"'poměry financování'!D3903","v":0}]
[null,{"$f":"'3.3'!I3911","v":0},{"$f":"'3.3'!L3911","v":0},{"$f":"IF(B3907=\"Investiční\",C3907,0)","v":0},{"$f":"IF(B3907=\"Neinvestiční\",C3907,0)","v":0},{"$error":"#VALUE!"},{"$f":"'poměry financování'!D3904","v":0}]
[null,{"$f":"'3.3'!I3912","v":0},{"$f":"'3.3'!L3912","v":0},0,0,{"$error":"#VALUE!"},{"$f":"'poměry financování'!D3905","v":0}]
[null,{"$f":"'3.3'!I3913","v":0},{"$f":"'3.3'!L3913","v":0},0,0,{"$error":"#VALUE!"},{"$f":"'poměry financování'!D3906","v":0}]
[null,{"$f":"'3.3'!I3914","v":0},{"$f":"'3.3'!L3914","v":0},0,0,{"$f":"VALUE((MID(G3910,20,4)))","v":{"$error":"#VALUE!"}},{"$f":"'poměry financování'!D3907","v":0}]
[null,{"$f":"'3.3'!I3915","v":0},{"$f":"'3.3'!L3915","v":0},0,0,{"$error":"#VALUE!"},{"$f":"'poměry financování'!D3908","v":0}]
[null,{"$f":"'3.3'!I3916","v":0},{"$f":"'3.3'!L3916","v":0},0,0,{"$error":"#VALUE!"},{"$f":"'poměry financování'!D3909","v":0}]
[null,{"$f":"'3.3'!I3917","v":0},{"$f":"'3.3'!L3917","v":0},0,0,{"$error":"#VALUE!"},{"$f":"'poměry financování'!D3910","v":0}]
[null,{"$f":"'3.3'!I3918","v":0},{"$f":"'3.3'!L3918","v":0},0,0,{"$error":"#VALUE!"},{"$f":"'poměry financování'!D3911","v":0}]
[null,{"$f":"'3.3'!I3919","v":0},{"$f":"'3.3'!L3919","v":0},0,0,{"$error":"#VALUE!"},{"$f":"'poměry financování'!D3912","v":0}]
[null,{"$f":"'3.3'!I3920","v":0},{"$f":"'3.3'!L3920","v":0},0,0,{"$error":"#VALUE!"},{"$f":"'poměry financování'!D3913","v":0}]
[null,{"$f":"'3.3'!I3921","v":0},{"$f":"'3.3'!L3921","v":0},0,0,{"$error":"#VALUE!"},{"$f":"'poměry financování'!D3914","v":0}]
[null,{"$f":"'3.3'!I3922","v":0},{"$f":"'3.3'!L3922","v":0},0,0,{"$error":"#VALUE!"},{"$f":"'poměry financování'!D3915","v":0}]
[null,{"$f":"'3.3'!I3923","v":0},{"$f":"'3.3'!L3923","v":0},0,0,{"$error":"#VALUE!"},{"$f":"'poměry financování'!D3916","v":0}]
[null,{"$f":"'3.3'!I3924","v":0},{"$f":"'3.3'!L3924","v":0},0,0,{"$error":"#VALUE!"},{"$f":"'poměry financování'!D3917","v":0}]
[null,{"$f":"'3.3'!I3925","v":0},{"$f":"'3.3'!L3925","v":0},0,0,{"$error":"#VALUE!"},{"$f":"'poměry financování'!D3918","v":0}]
[null,{"$f":"'3.3'!I3926","v":0},{"$f":"'3.3'!L3926","v":0},0,0,{"$error":"#VALUE!"},{"$f":"'poměry financování'!D3919","v":0}]
[null,{"$f":"'3.3'!I3927","v":0},{"$f":"'3.3'!L3927","v":0},0,0,{"$error":"#VALUE!"},{"$f":"'poměry financování'!D3920","v":0}]
[null,{"$f":"'3.3'!I3928","v":0},{"$f":"'3.3'!L3928","v":0},0,0,{"$error":"#VALUE!"},{"$f":"'poměry financování'!D3921","v":0}]
[null,{"$f":"'3.3'!I3929","v":0},{"$f":"'3.3'!L3929","v":0},0,0,{"$error":"#VALUE!"},{"$f":"'poměry financování'!D3922","v":0}]
[null,{"$f":"'3.3'!I3930","v":0},{"$f":"'3.3'!L3930","v":0},0,0,{"$error":"#VALUE!"},{"$f":"'poměry financování'!D3923","v":0}]
[null,{"$f":"'3.3'!I3931","v":0},{"$f":"'3.3'!L3931","v":0},0,0,{"$error":"#VALUE!"},{"$f":"'poměry financování'!D3924","v":0}]
[null,{"$f":"'3.3'!I3932","v":0},{"$f":"'3.3'!L3932","v":0},0,0,{"$error":"#VALUE!"},{"$f":"'poměry financování'!D3925","v":0}]
[null,{"$f":"'3.3'!I3933","v":0},{"$f":"'3.3'!L3933","v":0},0,0,{"$error":"#VALUE!"},{"$f":"'poměry financování'!D3926","v":0}]
[null,{"$f":"'3.3'!I3934","v":0},{"$f":"'3.3'!L3934","v":0},0,0,{"$error":"#VALUE!"},{"$f":"'poměry financování'!D3927","v":0}]
[null,{"$f":"'3.3'!I3935","v":0},{"$f":"'3.3'!L3935","v":0},0,0,{"$error":"#VALUE!"},{"$f":"'poměry financování'!D3928","v":0}]
[null,{"$f":"'3.3'!I3936","v":0},{"$f":"'3.3'!L3936","v":0},0,0,{"$error":"#VALUE!"},{"$f":"'poměry financování'!D3929","v":0}]
[null,{"$f":"'3.3'!I3937","v":0},{"$f":"'3.3'!L3937","v":0},0,0,{"$error":"#VALUE!"},{"$f":"'poměry financování'!D3930","v":0}]
[null,{"$f":"'3.3'!I3938","v":0},{"$f":"'3.3'!L3938","v":0},0,0,{"$error":"#VALUE!"},{"$f":"'poměry financování'!D3931","v":0}]
[null,{"$f":"'3.3'!I3939","v":0},{"$f":"'3.3'!L3939","v":0},0,0,{"$error":"#VALUE!"},{"$f":"'poměry financování'!D3932","v":0}]
[null,{"$f":"'3.3'!I3940","v":0},{"$f":"'3.3'!L3940","v":0},0,0,{"$error":"#VALUE!"},{"$f":"'poměry financování'!D3933","v":0}]
[null,{"$f":"'3.3'!I3941","v":0},{"$f":"'3.3'!L3941","v":0},0,0,{"$error":"#VALUE!"},{"$f":"'poměry financování'!D3934","v":0}]
[null,{"$f":"'3.3'!I3942","v":0},{"$f":"'3.3'!L3942","v":0},0,0,{"$error":"#VALUE!"},{"$f":"'poměry financování'!D3935","v":0}]
[null,{"$f":"'3.3'!I3943","v":0},{"$f":"'3.3'!L3943","v":0},0,0,{"$error":"#VALUE!"},{"$f":"'poměry financování'!D3936","v":0}]
[null,{"$f":"'3.3'!I3944","v":0},{"$f":"'3.3'!L3944","v":0},0,0,{"$error":"#VALUE!"},{"$f":"'poměry financování'!D3937","v":0}]
[null,{"$f":"'3.3'!I3945","v":0},{"$f":"'3.3'!L3945","v":0},0,0,{"$error":"#VALUE!"},{"$f":"'poměry financování'!D3938","v":0}]
[null,{"$f":"'3.3'!I3946","v":0},{"$f":"'3.3'!L3946","v":0},0,0,{"$error":"#VALUE!"},{"$f":"'poměry financování'!D3939","v":0}]
[null,{"$f":"'3.3'!I3947","v":0},{"$f":"'3.3'!L3947","v":0},0,0,{"$error":"#VALUE!"},{"$f":"'poměry financování'!D3940","v":0}]
[null,{"$f":"'3.3'!I3948","v":0},{"$f":"'3.3'!L3948","v":0},0,0,{"$error":"#VALUE!"},{"$f":"'poměry financování'!D3941","v":0}]
[null,{"$f":"'3.3'!I3949","v":0},{"$f":"'3.3'!L3949","v":0},0,0,{"$error":"#VALUE!"},{"$f":"'poměry financování'!D3942","v":0}]
[null,{"$f":"'3.3'!I3950","v":0},{"$f":"'3.3'!L3950","v":0},0,0,{"$error":"#VALUE!"},{"$f":"'poměry financování'!D3943","v":0}]
[null,{"$f":"'3.3'!I3951","v":0},{"$f":"'3.3'!L3951","v":0},0,0,{"$error":"#VALUE!"},{"$f":"'poměry financování'!D3944","v":0}]
[null,{"$f":"'3.3'!I3952","v":0},{"$f":"'3.3'!L3952","v":0},0,0,{"$error":"#VALUE!"},{"$f":"'poměry financování'!D3945","v":0}]
[null,{"$f":"'3.3'!I3953","v":0},{"$f":"'3.3'!L3953","v":0},0,0,{"$error":"#VALUE!"},{"$f":"'poměry financování'!D3946","v":0}]
[null,{"$f":"'3.3'!I3954","v":0},{"$f":"'3.3'!L3954","v":0},0,0,{"$error":"#VALUE!"},{"$f":"'poměry financování'!D3947","v":0}]
[null,{"$f":"'3.3'!I3955","v":0},{"$f":"'3.3'!L3955","v":0},0,0,{"$error":"#VALUE!"},{"$f":"'poměry financování'!D3948","v":0}]
[null,{"$f":"'3.3'!I3956","v":0},{"$f":"'3.3'!L3956","v":0},0,0,{"$error":"#VALUE!"},{"$f":"'poměry financování'!D3949","v":0}]
[null,{"$f":"'3.3'!I3957","v":0},{"$f":"'3.3'!L3957","v":0},0,0,{"$error":"#VALUE!"},{"$f":"'poměry financování'!D3950","v":0}]
[null,{"$f":"'3.3'!I3958","v":0},{"$f":"'3.3'!L3958","v":0},0,0,{"$error":"#VALUE!"},{"$f":"'poměry financování'!D3951","v":0}]
[null,{"$f":"'3.3'!I3959","v":0},{"$f":"'3.3'!L3959","v":0},0,0,{"$error":"#VALUE!"},{"$f":"'poměry financování'!D3952","v":0}]
[null,{"$f":"'3.3'!I3960","v":0},{"$f":"'3.3'!L3960","v":0},0,0,{"$error":"#VALUE!"},{"$f":"'poměry financování'!D3953","v":0}]
[null,{"$f":"'3.3'!I3961","v":0},{"$f":"'3.3'!L3961","v":0},0,0,{"$error":"#VALUE!"},{"$f":"'poměry financování'!D3954","v":0}]
[null,{"$f":"'3.3'!I3962","v":0},{"$f":"'3.3'!L3962","v":0},0,0,{"$error":"#VALUE!"},{"$f":"'poměry financování'!D3955","v":0}]
[null,{"$f":"'3.3'!I3963","v":0},{"$f":"'3.3'!L3963","v":0},0,0,{"$error":"#VALUE!"},{"$f":"'poměry financování'!D3956","v":0}]
[null,{"$f":"'3.3'!I3964","v":0},{"$f":"'3.3'!L3964","v":0},0,0,{"$error":"#VALUE!"},{"$f":"'poměry financování'!D3957","v":0}]
[null,{"$f":"'3.3'!I3965","v":0},{"$f":"'3.3'!L3965","v":0},0,0,{"$error":"#VALUE!"},{"$f":"'poměry financování'!D3958","v":0}]
[null,{"$f":"'3.3'!I3966","v":0},{"$f":"'3.3'!L3966","v":0},0,0,{"$error":"#VALUE!"},{"$f":"'poměry financování'!D3959","v":0}]
[null,{"$f":"'3.3'!I3967","v":0},{"$f":"'3.3'!L3967","v":0},0,0,{"$error":"#VALUE!"},{"$f":"'poměry financování'!D3960","v":0}]
[null,{"$f":"'3.3'!I3968","v":0},{"$f":"'3.3'!L3968","v":0},0,0,{"$error":"#VALUE!"},{"$f":"'poměry financování'!D3961","v":0}]
[null,{"$f":"'3.3'!I3969","v":0},{"$f":"'3.3'!L3969","v":0},0,0,{"$error":"#VALUE!"},{"$f":"'poměry financování'!D3962","v":0}]
[null,{"$f":"'3.3'!I3970","v":0},{"$f":"'3.3'!L3970","v":0},0,0,{"$error":"#VALUE!"},{"$f":"'poměry financování'!D3963","v":0}]
[null,{"$f":"'3.3'!I3971","v":0},{"$f":"'3.3'!L3971","v":0},0,0,{"$error":"#VALUE!"},{"$f":"'poměry financování'!D3964","v":0}]
[null,{"$f":"'3.3'!I3972","v":0},{"$f":"'3.3'!L3972","v":0},0,0,{"$error":"#VALUE!"},{"$f":"'poměry financování'!D3965","v":0}]
[null,{"$f":"'3.3'!I3973","v":0},{"$f":"'3.3'!L3973","v":0},0,0,{"$error":"#VALUE!"},{"$f":"'poměry financování'!D3966","v":0}]
[null,{"$f":"'3.3'!I3974","v":0},{"$f":"'3.3'!L3974","v":0},0,0,{"$error":"#VALUE!"},{"$f":"'poměry financování'!D3967","v":0}]
[null,{"$f":"'3.3'!I3975","v":0},{"$f":"'3.3'!L3975","v":0},{"$f":"IF(B3971=\"Investiční\",C3971,0)","v":0},{"$f":"IF(B3971=\"Neinvestiční\",C3971,0)","v":0},{"$error":"#VALUE!"},{"$f":"'poměry financování'!D3968","v":0}]
[null,{"$f":"'3.3'!I3976","v":0},{"$f":"'3.3'!L3976","v":0},0,0,{"$error":"#VALUE!"},{"$f":"'poměry financování'!D3969","v":0}]
[null,{"$f":"'3.3'!I3977","v":0},{"$f":"'3.3'!L3977","v":0},0,0,{"$error":"#VALUE!"},{"$f":"'poměry financování'!D3970","v":0}]
[null,{"$f":"'3.3'!I3978","v":0},{"$f":"'3.3'!L3978","v":0},0,0,{"$f":"VALUE((MID(G3974,20,4)))","v":{"$error":"#VALUE!"}},{"$f":"'poměry financování'!D3971","v":0}]
[null,{"$f":"'3.3'!I3979","v":0},{"$f":"'3.3'!L3979","v":0},0,0,{"$error":"#VALUE!"},{"$f":"'poměry financování'!D3972","v":0}]
[null,{"$f":"'3.3'!I3980","v":0},{"$f":"'3.3'!L3980","v":0},0,0,{"$error":"#VALUE!"},{"$f":"'poměry financování'!D3973","v":0}]
[null,{"$f":"'3.3'!I3981","v":0},{"$f":"'3.3'!L3981","v":0},0,0,{"$error":"#VALUE!"},{"$f":"'poměry financování'!D3974","v":0}]
[null,{"$f":"'3.3'!I3982","v":0},{"$f":"'3.3'!L3982","v":0},0,0,{"$error":"#VALUE!"},{"$f":"'poměry financování'!D3975","v":0}]
[null,{"$f":"'3.3'!I3983","v":0},{"$f":"'3.3'!L3983","v":0},0,0,{"$error":"#VALUE!"},{"$f":"'poměry financování'!D3976","v":0}]
[null,{"$f":"'3.3'!I3984","v":0},{"$f":"'3.3'!L3984","v":0},0,0,{"$error":"#VALUE!"},{"$f":"'poměry financování'!D3977","v":0}]
[null,{"$f":"'3.3'!I3985","v":0},{"$f":"'3.3'!L3985","v":0},0,0,{"$error":"#VALUE!"},{"$f":"'poměry financování'!D3978","v":0}]
[null,{"$f":"'3.3'!I3986","v":0},{"$f":"'3.3'!L3986","v":0},0,0,{"$error":"#VALUE!"},{"$f":"'poměry financování'!D3979","v":0}]
[null,{"$f":"'3.3'!I3987","v":0},{"$f":"'3.3'!L3987","v":0},0,0,{"$error":"#VALUE!"},{"$f":"'poměry financování'!D3980","v":0}]
[null,{"$f":"'3.3'!I3988","v":0},{"$f":"'3.3'!L3988","v":0},0,0,{"$error":"#VALUE!"},{"$f":"'poměry financování'!D3981","v":0}]
[null,{"$f":"'3.3'!I3989","v":0},{"$f":"'3.3'!L3989","v":0},0,0,{"$error":"#VALUE!"},{"$f":"'poměry financování'!D3982","v":0}]
[null,{"$f":"'3.3'!I3990","v":0},{"$f":"'3.3'!L3990","v":0},0,0,{"$error":"#VALUE!"},{"$f":"'poměry financování'!D3983","v":0}]
[null,{"$f":"'3.3'!I3991","v":0},{"$f":"'3.3'!L3991","v":0},0,0,{"$error":"#VALUE!"},{"$f":"'poměry financování'!D3984","v":0}]
[null,{"$f":"'3.3'!I3992","v":0},{"$f":"'3.3'!L3992","v":0},0,0,{"$error":"#VALUE!"},{"$f":"'poměry financování'!D3985","v":0}]
[null,{"$f":"'3.3'!I3993","v":0},{"$f":"'3.3'!L3993","v":0},0,0,{"$error":"#VALUE!"},{"$f":"'poměry financování'!D3986","v":0}]
[null,{"$f":"'3.3'!I3994","v":0},{"$f":"'3.3'!L3994","v":0},0,0,{"$error":"#VALUE!"},{"$f":"'poměry financování'!D3987","v":0}]
[null,{"$f":"'3.3'!I3995","v":0},{"$f":"'3.3'!L3995","v":0},0,0,{"$error":"#VALUE!"},{"$f":"'poměry financování'!D3988","v":0}]
[null,{"$f":"'3.3'!I3996","v":0},{"$f":"'3.3'!L3996","v":0},0,0,{"$error":"#VALUE!"},{"$f":"'poměry financování'!D3989","v":0}]
[null,{"$f":"'3.3'!I3997","v":0},{"$f":"'3.3'!L3997","v":0},0,0,{"$error":"#VALUE!"},{"$f":"'poměry financování'!D3990","v":0}]
[null,{"$f":"'3.3'!I3998","v":0},{"$f":"'3.3'!L3998","v":0},0,0,{"$error":"#VALUE!"},{"$f":"'poměry financování'!D3991","v":0}]
[null,{"$f":"'3.3'!I3999","v":0},{"$f":"'3.3'!L3999","v":0},0,0,{"$error":"#VALUE!"},{"$f":"'poměry financování'!D3992","v":0}]
[null,{"$f":"'3.3'!I4000","v":0},{"$f":"'3.3'!L4000","v":0},0,0,{"$error":"#VALUE!"},{"$f":"'poměry financování'!D3993","v":0}]
[null,{"$f":"'3.3'!I4001","v":0},{"$f":"'3.3'!L4001","v":0},0,0,{"$error":"#VALUE!"},{"$f":"'poměry financování'!D3994","v":0}]
[null,{"$f":"'3.3'!I4002","v":0},{"$f":"'3.3'!L4002","v":0},0,0,{"$error":"#VALUE!"},{"$f":"'poměry financování'!D3995","v":0}]
[null,{"$f":"'3.3'!I4003","v":0},{"$f":"'3.3'!L4003","v":0},0,0,{"$error":"#VALUE!"},{"$f":"'poměry financování'!D3996","v":0}]
[null,{"$f":"'3.3'!I4004","v":0},{"$f":"'3.3'!L4004","v":0},0,0,{"$error":"#VALUE!"},{"$f":"'poměry financování'!D3997","v":0}]

{"sheet":"List2","index":2,"n_rows":38,"n_cols":6,"rows_kept":38,"cut":false,"hidden":true,"merged":[]}
[null,"Rozpad financování CZV"]
[]
[null,"CZV na FM investice","CZV na FM neinvestice","CZV na FM celkem"]
[null,{"$f":"'3.3'!Y2","v":0},{"$f":"'3.3'!Y5","v":0},{"$f":"B4+C4","v":0}]
[]
[null,"Poměry financování","Zdroj financování","Investice","Neinvestice","Celkem"]
[null,{"$f":"'Pomůcka pro vyplnění ŽoP'!D7","v":70},"EU",{"$f":"ROUNDDOWN($B$4/100*B7,2)","v":0},{"$f":"F7-D7","v":0},{"$f":"ROUNDDOWN($D$4/100*B7,2)","v":0}]
[null,{"$f":"'Pomůcka pro vyplnění ŽoP'!D8","v":0},"SR",{"$f":"ROUNDDOWN($B$4/100*B8,2)","v":0},{"$f":"F8-D8","v":0},{"$f":"ROUNDDOWN($D$4/100*B8,2)","v":0}]
[null,{"$f":"'Pomůcka pro vyplnění ŽoP'!D9","v":0},"KR",{"$f":"IF(B9=0,0,B4-D7-D8-D10)","v":0},{"$f":"F9-D9","v":0},{"$f":"IF(B9=0,0,D4-F7-F8-F10)","v":0}]
[null,{"$f":"'Pomůcka pro vyplnění ŽoP'!D10","v":30},"vlastní",{"$f":"ROUNDUP($B$4/100*B10,2)","v":0},{"$f":"F10-D10","v":0},{"$f":"ROUNDUP($D$4/100*B10,2)","v":0}]
[null,null,null,{"$f":"B4-D7-D8-D9-D10","v":0},{"$f":"F11-D11","v":0},{"$f":"D4-F7-F8-F9-F10","v":0}]
[null,null,"dotace",{"$f":"D7+D8+D9+D11","v":0},{"$f":"E7+E8+E9+E11","v":0}]
[]
[null,"Rozpad financování CZV bez JPP"]
[]
[null,"CZV na FM investice","CZV na FM neinvestice","CZV na FM celkem"]
[null,{"$f":"'Pomůcka pro vyplnění ŽoP'!D28","v":0},{"$f":"'Pomůcka pro vyplnění ŽoP'!D29","v":0},{"$f":"B17+C17","v":0}]
[]
[null,"Poměry financování","Zdroj financování","Investice","Neinvestice","Celkem"]
[null,{"$f":"B7","v":70},"EU",{"$f":"ROUNDDOWN($B$17/100*B20,2)","v":0},{"$f":"F20-D20","v":0},{"$f":"ROUNDDOWN($D$17/100*B20,2)","v":0}]
[null,{"$f":"B8","v":0},"SR",{"$f":"ROUNDDOWN($B$17/100*B21,2)","v":0},{"$f":"F21-D21","v":0},{"$f":"ROUNDDOWN($D$17/100*B21,2)","v":0}]
[null,{"$f":"B9","v":0},"KR",{"$f":"IF(B22=0,0,B17-D20-D21-D23)","v":0},{"$f":"F22-D22","v":0},{"$f":"IF(B22=0,0,D17-F20-F21-F23)","v":0}]
[null,{"$f":"B10","v":30},"vlastní",{"$f":"ROUNDUP($B$17/100*B23,2)","v":0},{"$f":"F23-D23","v":0},{"$f":"ROUNDUP($D$17/100*B23,2)","v":0}]
[null,null,null,{"$f":"B17-D20-D21-D22-D23","v":0},{"$f":"F24-D24","v":0},{"$f":"D17-F20-F21-F22-F23","v":0}]
[null,null,"dotace",{"$f":"D20+D21+D22+D24","v":0},{"$f":"E20+E21+E22+E24","v":0}]
[]
[null,"Rozpad JPP"]
[]
[null,null,null,"JPP"]
[null,null,null,{"$f":"'Pomůcka pro vyplnění ŽoP'!D23","v":0}]
[]
[null,"Poměry financování","Zdroj financování",null,null,"Celkem"]
[null,{"$f":"B7","v":70},"EU",null,null,{"$f":"ROUNDDOWN($D$30/100*B33,2)","v":0}]
[null,{"$f":"B8","v":0},"SR",null,null,{"$f":"ROUNDDOWN($D$30/100*B34,2)","v":0}]
[null,{"$f":"B9","v":0},"KR",null,null,{"$f":"IF(B35=0,0,D30-F33-F34-F36)","v":0}]
[null,{"$f":"B10","v":30},"vlastní",null,null,{"$f":"ROUNDUP($D$30/100*B36,2)","v":0}]
[null,null,null,null,null,{"$f":"D30-F33-F34-F35-F36","v":0}]
[null,null,null,null,null,{"$f":"F33+F34+F35+F37","v":0}]

{"sheet":"poměry financování","index":3,"n_rows":3808,"n_cols":135,"rows_kept":562,"cut":true,"hidden":true,"merged":[[1,27,3,27],[1,0,3,0],[1,1,3,1],[1,2,3,2],[1,3,3,3],[1,4,3,4],[1,5,3,5],[1,6,3,6],[1,7,3,7],[1,8,2,24],[1,25,3,25],[1,26,3,26],[1,89,3,89],[1,29,3,29],[1,30,2,34],[1,35,2,40],[1,41,2,45],[1,46,2,74],[1,75,3,75],[1,76,3,76],[1,77,3,77],[1,78,3,78],[1,79,2,79],[1,80,2,80],[1,105,2,114],[1,90,2,90],[1,100,3,100],[1,101,3,101],[1,102,3,102],[1,103,3,103],[1,104,3,104],[1,122,2,131],[1,118,3,118],[1,119,3,119],[1,120,3,120],[1,121,3,121]],"bounds":{"rows_first":250,"rows_last":62,"rows_between":250,"halvings":3}}
["Finanční data - rozšířená"]
["Číslo a název výzvy","Oblast podpory","Číslo prioritní osy","Reg. číslo projektu","Název projektu","Stav projektu","Žadatel","Typ žadatele","Smlouva nebo poslední dodatek",null,null,null,null,null,null,null,null,null,null,null,null,null,null,null,null,"Identifikátor plánu na Platebním kalendáři","Číslo ŽoP","Stav ŽoP",null,"Datum změny stavu ŽoP","Předfinancování – žádost",null,null,null,null,"Předfinancování – skutečnost",null,null,null,null,null,"Refundace předfinancování / Standard - žádost ",null,null,null,null,"Refundace předfinancování / Standard - skutečnost ",null,null,null,null,null,null,null,null,null,null,null,null,null,null,null,null,null,null,null,null,null,null,null,null,null,null,null,null,"Certifikováno Příspěvek Společenství","ŽoP\nDatum předložení žádosti","ŽoP Požadované  CZV připadající na FM/očištěné o příjmy dle čl.55 – celkem","ŽoP Požadované  CZV připadající na FM/očištěné o příjmy dle čl.55 – investiční",null,null,null,null,null,null,null,null,null,null,"ŽoP Požadované  CZV připadající na FM/očištěné o příjmy dle čl.55 – neinvestiční",null,null,null,null,null,null,null,null,null,null,"ŽoP\nPožadovaná částka dotace – celkem","FP\nDatum předpokládaného předložení ŽoP","FP\nPředpokládaná požadovaná částka dotace","FP\nZ toho neinvestiční","FP\nZ toho investiční","Poměr financování",null,null,null,null,null,null,null,null,null,null,null,null,"FP\nDatum předpokládaného předložení ŽoP","FP\nPředpokládaná požadovaná částka dotace","FP\nZ toho neinvestiční","FP\nZ toho investiční","Poměr financování"]
[null,null,null,null,null,null,null,null,null,null,null,null,null,null,null,null,null,null,null,null,null,null,null,null,null,null,null,null,null,null,null,null,null,null,null,null,null,null,null,null,null,null,null,null,null,null,null,null,null,null,null,null,null,null,null,null,null,null,null,null,null,null,null,null,null,null,null,null,null,null,null,null,null,null,null,null,null,null,"ŽoP Požadované celkové ZV – investiční"]
[null,null,null,null,null,null,null,null,"Příspěvek Společenství","Finanční prostředky z rozpočtu Regionální rady","Finanční prostředky z rozpočtu RR-SR","Finanční prostředky z rozpočtu RR-KR","Finanční prostředky z rozpočtu RR-Vysočina","Finanční prostředky z rozpočtu RR-JMK","Finanční prostředky z rozpočtu RR-KR3","Finanční prostředky z rozpočtu krajů/kraje","Finanční prostředky z rozpočtu obcí/obce","Jiné národní veřejné finanční prostředky","Soukromé financování","CZV připadající na FM/očištěné o příjmy dle čl.55","CZV připadající na příjmy dle čl.55","Jiné peněžní příjmy připadající na ZV","Celkové zdroje připadající na ZV","Celkové zdroje připadající na nezpůsobilé výdaje","Celkové zdroje",null,null,null,"Typ financování projektu",null,"Příspěvek Společenství","Finanční prostředky z rozpočtu RR-SR","Finanční prostředky z rozpočtu RR-Vysočina","Finanční prostředky z rozpočtu RR-JMK","Finanční prostředky z rozpočtu RR-KR3","Příspěvek Společenství","Příspěvek Společenství datum platby","Finanční prostředky z rozpočtu RR-SR","Finanční prostředky z rozpočtu RR-Vysočina","Finanční prostředky z rozpočtu RR-JMK","Finanční prostředky z rozpočtu RR-KR3","Příspěvek Společenství","Finanční prostředky z rozpočtu RR-SR","Finanční prostředky z rozpočtu RR-Vysočina","Finanční prostředky z rozpočtu RR-JMK","Finanční prostředky z rozpočtu RR-KR3","Příspěvek Společenství","Příspěvek Společenství datum platby","Příspěvek Společenství investice","Příspěvek Společenství neinvestice","Číslo SŽ","Datum vystavení SŽ","Částka certifikace v EUR","Kurz","Datum certifikace","Finanční prostředky z rozpočtu RR-SR","Finanční prostředky z rozpočtu RR-SR datum platby","Finanční prostředky z rozpočtu RR-SR investice","Finanční prostředky z rozpočtu RR-SR neinvestice","Finanční prostředky z rozpočtu RR-Vysočina","Finanční prostředky z rozpočtu RR-Vysočina datum platby","Finanční prostředky z rozpočtu RR-Vysočina  investice","Finanční prostředky z rozpočtu RR-Vysočina neinvestice","Finanční prostředky z rozpočtu RR-JMK","Finanční prostředky z rozpočtu RR-JMK datum platby","Finanční prostředky z rozpočtu RR-JMK  investice","Finanční prostředky z rozpočtu RR-JMK neinvestice","Finanční prostředky z rozpočtu RR-KR3","Finanční prostředky z rozpočtu RR-KR3 datum platby","Finanční prostředky z rozpočtu RR-KR3 investice","Finanční prostředky z rozpočtu RR-KR3 neinvestice","Finanční prostředky z rozpočtu krajů/kraje","Finanční prostředky z rozpočtu obcí/obce","Jiné národní veřejné finanční prostředky","Soukromé financování",null,null,null,null,"ŽoP Požadované CZV - investiční - Příspěvek Společenství","ŽoP Požadované CZV - investiční -Finanční prostředky z rozpočtu RR-SR","ŽoP Požadované CZV - investiční -Finanční prostředky z rozpočtu RR-Vysočina","ŽoP Požadované CZV - investiční -Finanční prostředky z rozpočtu RR-JMK","ŽoP Požadované CZV - investiční -Finanční prostředky z rozpočtu RR-KR3","ŽoP Požadované CZV - investiční -Finanční prostředky z rozpočtu RR-ostatní","ŽoP Požadované CZV - investiční -Finanční prostředky z rozpočtu kraje","ŽoP Požadované CZV - investiční -Finanční prostředky z rozpočtu obce","ŽoP Požadované CZV - investiční -Jiné národní veřejné fin. prostředky","ŽoP Požadované CZV - investiční -Soukromé financování",null,"ŽoP Požadované CZV - neinvestiční - Příspěvek Společenství","ŽoP Požadované CZV - neinvestiční -Finanční prostředky z rozpočtu RR-SR","ŽoP Požadované CZV - neinvestiční -Finanční prostředky z rozpočtu RR-Vysočina","ŽoP Požadované CZV - neinvestiční -Finanční prostředky z rozpočtu RR-JMK","ŽoP Požadované CZV - neinvestiční -Finanční prostředky z rozpočtu RR-KR3","ŽoP Požadované CZV - neinvestiční -Finanční prostředky z rozpočtu RR-ostatní","ŽoP Požadované CZV - neinvestiční -Finanční prostředky z rozpočtu kraje","ŽoP Požadované CZV - neinvestiční -Finanční prostředky z rozpočtu obce","ŽoP Požadované CZV - neinvestiční -Jiné národní veřejné fin. prostředky","ŽoP Požadované CZV - neinvestiční -Soukromé financování",null,null,null,null,null,"Příspěvek Společenství","Finanční prostředky z rozpočtu RR – SR","Kraj 1","Kraj 2","Kraj 3","Fin. prostředky z rozpočtu RR - ostatní","Fin. prostředky z rozpočtu kraje","Fin. prostředky z rozpočtu obce","Jiné národní veřejné prostředky","Soukromé financování","Stav etapy","Existuje na ŽoP nefinalizovaná klasifikace?",null,null,null,null,null,"Příspěvek Společenství","Finanční prostředky z rozpočtu RR – SR","Kraj 1","Kraj 2","Kraj 3","Fin. prostředky z rozpočtu RR - ostatní","Fin. prostředky z rozpočtu kraje","Fin. prostředky z rozpočtu obce","Jiné národní veřejné prostředky","Soukromé financování","Stav etapy","Existuje na ŽoP nefinalizovaná klasifikace?"]
["01 První výzva - silnice","11.1.1","11.1","CZ.1.11/1.1.00/01.00001","Silnice II/408 Suchohrdly u Znojma - Dyjákovice","P8 Projekt finálně uzavřen","Správa a údržba silnic Jihomoravského kraje, příspěvková organizace kraje","Organizace zřízena krajem",40940832.299999997,3612426.38,3612426.38,0,0,0,0,3612426.4,0,0,0,48165685.079999998,0,0,48165685.079999998,766110.1,48931795.18,1,"1/00001","P4 Proplacena příjemci","POST","2009-01-26",40940832.299999997,null,null,null,null,40940832.299999997,"2008-07-30",null,null,null,null,40940832.299999997,3612426.38,null,null,null,40940832.299999997,"2010-09-15",40873311.530000001,67520.77,"CZ.1.11/2010/08","2010-09-02",1650307.65,24.808,"2010-11-08",3612426.38,"2008-07-30",3606468.67,5957.71,null,null,null,null,null,null,null,null,null,null,null,null,3612426.4,null,null,null,40940832.299999997,"2008-07-30",null,null,0,0,0,0,0,0,0,0,0,0,null,0,0,0,0,0,0,0,0,0,0,44553258.68,"2008-07-30",44553258.700000003,69075,44484183.700000003,85,7.5,null,null,null,null,7.5,null,null,null,"P2 Ukončena","Ne",{"$error":"#N/A"},"2008-07-30",44553258.700000003,69075,44484183.700000003,85,7.5,null,null,null,null,7.5,null,null,null,"P2 Ukončena","Ne",{"$error":"#N/A"}]
["01 První výzva - silnice","11.1.1","11.1","CZ.1.11/1.1.00/01.00002","Zvýšení dopravní dostupnosti města Ivančice","P8 Projekt finálně uzavřen","Správa a údržba silnic Jihomoravského kraje, příspěvková organizace kraje","Organizace zřízena krajem",31193985.879999999,2752410.55,2752410.55,0,0,0,0,2752410.55,0,0,0,36698806.979999997,0,0,36698806.979999997,1472984.38,38171791.359999999,1,"1/00002","P4 Proplacena příjemci","POST","2009-05-26",17439171.34,null,null,null,null,17439171.34,"2008-08-01",null,null,null,null,17439171.34,1538750.42,null,null,null,17439171.34,"2009-07-20",17382794.050000001,56377.29,"CZ.1.11/2009/05","2009-07-08",670221.80000000005,26.02,"2009-10-29",1538750.42,"2008-08-01",1533775.96,4974.46,null,null,null,null,null,null,null,null,null,null,null,null,1538750.44,null,null,null,17439171.34,"2008-08-01",null,null,0,0,0,0,0,0,0,0,0,0,null,0,0,0,0,0,0,0,0,0,0,18977921.780000001,"2008-08-01",18977921.780000001,61351.76,18916570.02,84.999999863699998,7.5000000682000003,null,null,null,null,7.5000000681000003,null,null,null,"P2 Ukončena","Ne",{"$error":"#N/A"},"2008-08-01",18977921.780000001,61351.76,18916570.02,84.999999863699998,7.5000000682000003,null,null,null,null,7.5000000681000003,null,null,null,"P2 Ukončena","Ne",{"$error":"#N/A"}]
["01 První výzva - silnice","11.1.1","11.1","CZ.1.11/1.1.00/01.00002","Zvýšení dopravní dostupnosti města Ivančice","P8 Projekt finálně uzavřen","Správa a údržba silnic Jihomoravského kraje, příspěvková organizace kraje","Organizace zřízena krajem",31193985.879999999,2752410.55,2752410.55,0,0,0,0,2752410.55,0,0,0,36698806.979999997,0,0,36698806.979999997,1472984.38,38171791.359999999,2,"02/00002","P4 Proplacena příjemci","POST","2009-07-07",13754814.529999999,null,null,null,null,13754814.529999999,"2008-11-28",null,null,null,null,13754814.529999999,1213660.1200000001,null,null,null,13754814.529999999,"2009-08-06",13717681.210000001,37133.32,"CZ.1.11/2009/06","2009-07-30",537696.52,25.581,"2010-04-23",1213660.1200000001,"2008-11-28",1210383.6499999999,3276.47,null,null,null,null,null,null,null,null,null,null,null,null,1213660.1299999999,null,null,null,13754814.529999999,"2008-11-28",16182134.779999999,16138448.51,13717681.211503295,1210383.649256422,0,0,0,0,1210383.6492402835,0,0,0,43686.27,37133.329440455615,3276.4702797940363,0,0,0,0,3276.4702797503501,0,0,0,14968474.67,"2008-11-30",14968474.67,48398.239999999998,14920076.43,84.999999863699998,7.5000000682000003,null,null,null,null,7.5000000681000003,null,null,null,"P2 Ukončena","Ne",{"$error":"#N/A"},"2008-11-30",14968474.67,48398.239999999998,14920076.43,84.999999863699998,7.5000000682000003,null,null,null,null,7.5000000681000003,null,null,null,"P2 Ukončena","Ne",{"$error":"#N/A"}]
["01 První výzva - silnice","11.1.1","11.1","CZ.1.11/1.1.00/01.00003","Silnice II/422 - Lednice, přeložka silnice","P8 Projekt finálně uzavřen","Správa a údržba silnic Jihomoravského kraje, příspěvková organizace kraje","Organizace zřízena krajem",67800262.680000007,5982376.1100000003,5982376.1100000003,0,0,0,0,5982376.1299999999,0,0,0,79765014.920000002,0,0,79765014.920000002,11186414.119999999,90951429.040000007,1,"1/00003","P4 Proplacena příjemci","POST","2008-11-12",67800262.680000007,null,null,null,null,67800262.680000007,"2008-05-28",null,null,null,null,67800262.680000007,5982376.1200000001,null,null,null,67800262.680000007,"2009-05-21",67571729.150000006,228533.53,"CZ.1.11/2009/03","2009-05-13",2540287.1,26.69,"2009-10-29",5982376.1200000001,"2008-05-28",5962211.4000000004,20164.72,null,null,null,null,null,null,null,null,null,null,null,null,5982376.1200000001,null,null,null,67800262.680000007,"2008-05-28",null,null,0,0,0,0,0,0,0,0,0,0,null,0,0,0,0,0,0,0,0,0,0,73782638.799999997,"2008-05-30",73782638.799999997,244750,73537888.799999997,84.999999997499998,7.5000000012000001,null,null,null,null,7.5000000013000001,null,null,null,"P2 Ukončena","Ne",{"$error":"#N/A"},"2008-05-30",73782638.799999997,244750,73537888.799999997,84.999999997499998,7.5000000012000001,null,null,null,null,7.5000000013000001,null,null,null,"P2 Ukončena","Ne",{"$error":"#N/A"}]
["01 První výzva - silnice","11.1.1","11.1","CZ.1.11/1.1.00/01.00004","Újezd u Brna, most 418-005","P8 Projekt finálně uzavřen","Správa a údržba silnic Jihomoravského kraje, příspěvková organizace kraje","Organizace zřízena krajem",20992600.93,1852288.32,1852288.32,0,0,0,0,1852288.33,0,0,0,24697177.579999998,0,0,24697177.579999998,747320,25444497.579999998,1,"1/00004","P4 Proplacena příjemci","POST","2009-01-26",20188410.09,null,null,null,null,20188410.09,"2008-09-10",null,null,null,null,20188410.09,1781330.31,null,null,null,20188410.09,"2009-06-03",20133914.460000001,54495.63,"CZ.1.11/2009/04","2009-05-27",754396.7,26.761000000000003,"2009-10-29",1781330.31,"2008-09-10",1776521.87,4808.4399999999996,null,null,null,null,null,null,null,null,null,null,null,null,1781330.3,null,null,null,20188410.09,"2008-09-10",21969740.399999999,21910436.329999998,18623870.877826925,1643282.7260646261,0,0,0,0,1643282.726108447,0,0,0,59304.07,50408.459492764901,4447.8052535582437,0,0,0,0,4447.8052536768528,0,0,0,21969740.399999999,"2008-08-30",22844889.260000002,55750,22789139.260000002,84.999999987799995,7.5000000059999996,null,null,null,null,7.5000000061999996,null,null,null,"P2 Ukončena","Ne",{"$error":"#N/A"},"2008-08-30",22844889.260000002,55750,22789139.260000002,84.999999987799995,7.5000000059999996,null,null,null,null,7.5000000061999996,null,null,null,"P2 Ukončena","Ne",{"$error":"#N/A"}]
["01 První výzva - TP","11.4.1","11.4","CZ.1.11/4.1.00/01.00005","Podpora řízení ROP JV","P7 Výdaje projektu certifikovány","Regionální rada regionu soudržnosti Jihovýchod","Regionální rada",26889750,4745250,2372625,2372625,1067681.25,1304943.75,0,0,0,0,0,31635000,0,0,31635000,450000,32085000,1,"1/00005","P4 Proplacena příjemci","ANTE","2008-06-26",21872504.18,1929926.83,868467.09,1061459.77,null,21872504.18,"2007-12-17",1929926.83,868467.09,1061459.77,null,null,null,null,null,null,null,null,null,null,null,null,null,null,null,null,null,null,null,null,null,null,null,null,null,null,null,null,null,null,null,null,null,null,null,null,"2007-12-17",null,null,0,0,0,0,0,0,0,0,0,0,null,0,0,0,0,0,0,0,0,0,0,12389000,"2007-12-17",23802431,21352496,2449935,85,7.5,3.375,4.125,null,null,null,null,null,null,"P2 Ukončena","Ne",{"$error":"#N/A"},"2007-12-17",23802431,21352496,2449935,85,7.5,3.375,4.125,null,null,null,null,null,null,"P2 Ukončena","Ne",{"$error":"#N/A"}]
["01 První výzva - TP","11.4.1","11.4","CZ.1.11/4.1.00/01.00005","Podpora řízení ROP JV","P7 Výdaje projektu certifikovány","Regionální rada regionu soudržnosti Jihovýchod","Regionální rada",26889750,4745250,2372625,2372625,1067681.25,1304943.75,0,0,0,0,0,31635000,0,0,31635000,450000,32085000,2,"02/00005","P4 Proplacena příjemci","ANTE","2010-05-14",4623487.7,407954.62,183583.2,224371.93,null,4623487.7,"2008-02-29",407954.62,183583.2,224371.93,null,21872504.18,1929926.83,868467.09,1061459.77,null,21872504.18,"2010-01-19",2251289.4500000002,19621214.73,"CZ.1.11/2009/12","2009-12-30",828503.95,26.4,"2010-04-23",1929926.83,"2010-01-19",198643.18,1731283.65,868467.09,"2010-01-19",89389.440000000002,779077.65,1061459.77,"2010-01-19",109253.75999999999,952206.01,null,null,null,null,null,null,null,null,21872504.18,"2008-02-29",25732357.870000001,2648575.83,2251289.4555000002,198643.18724999999,89389.434262499999,109253.7529875,0,0,0,0,0,0,23083782.039999999,19621214.734000001,1731283.6529999999,779077.64384999999,952206.00915000006,0,0,0,0,0,0,null,"2008-01-31",5459944,4299857,1160087,85,7.5,3.375,4.125,null,null,null,null,null,null,"P2 Ukončena","Ne",{"$error":"#N/A"},"2008-01-31",5459944,4299857,1160087,85,7.5,3.375,4.125,null,null,null,null,null,null,"P2 Ukončena","Ne",{"$error":"#N/A"}]
["01 První výzva - TP","11.4.1","11.4","CZ.1.11/4.1.00/01.00005","Podpora řízení ROP JV","P7 Výdaje projektu certifikovány","Regionální rada regionu soudržnosti Jihovýchod","Regionální rada",26889750,4745250,2372625,2372625,1067681.25,1304943.75,0,0,0,0,0,31635000,0,0,31635000,450000,32085000,3,"03/00005","P4 Proplacena příjemci","ANTE","2010-05-14",null,null,null,null,null,null,null,null,null,null,null,4623487.7,407954.62,183583.2,224371.93,null,4623487.7,"2010-01-19",869149.29,3754338.41,"CZ.1.11/2009/12","2009-12-30",175132.11,26.4,"2010-04-23",407954.62,"2010-01-19",76689.63,331264.99,183583.2,"2010-01-19",34510.400000000001,149072.79999999999,224371.93,"2010-01-19",42179.26,182192.67,null,null,null,null,null,null,null,null,4623487.7,"2008-02-28",5439397.4500000002,1022528.58,869149.29299999995,76689.643500000006,34510.339574999998,42179.303925,0,0,0,0,0,0,4416868.87,3754338.5395,331265.16525000002,149069.32436249999,182195.8408875,0,0,0,0,0,0,null,"2008-01-31",0,0,0,85,7.5,3.375,4.125,null,null,null,null,null,null,"P2 Ukončena","Ne",{"$error":"#N/A"},"2008-01-31",0,0,0,85,7.5,3.375,4.125,null,null,null,null,null,null,"P2 Ukončena","Ne",{"$error":"#N/A"}]
["01 První výzva - TP","11.4.2","11.4","CZ.1.11/4.2.00/01.00006","TP ROP JV - Publicita a absorpční kapacita","P7 Výdaje projektu certifikovány","Regionální rada regionu soudržnosti Jihovýchod","Regionální rada",6260250,1104750,552375,552375,248568.75,303806.25,0,0,0,0,0,7365000,0,0,7365000,0,7365000,1,"1/00006","P4 Proplacena příjemci","ANTE","2008-06-26",1988837.8,175485.69,78968.56,96517.14,null,1988837.8,"2007-12-17",175485.69,78968.56,96517.14,null,null,null,null,null,null,null,null,null,null,null,null,null,null,null,null,null,null,null,null,null,null,null,null,null,null,null,null,null,null,null,null,null,null,null,null,"2007-12-17",null,null,0,0,0,0,0,0,0,0,0,0,null,0,0,0,0,0,0,0,0,0,0,2339809.19,"2007-12-17",2164323.5,1999210.98,165112.51999999999,85,7.5,3.375,4.125,null,null,null,null,null,null,"P2 Ukončena","Ne",{"$error":"#N/A"},"2007-12-17",2164323.5,1999210.98,165112.51999999999,85,7.5,3.375,4.125,null,null,null,null,null,null,"P2 Ukončena","Ne",{"$error":"#N/A"}]
["01 První výzva - TP","11.4.2","11.4","CZ.1.11/4.2.00/01.00006","TP ROP JV - Publicita a absorpční kapacita","P7 Výdaje projektu certifikovány","Regionální rada regionu soudržnosti Jihovýchod","Regionální rada",6260250,1104750,552375,552375,248568.75,303806.25,0,0,0,0,0,7365000,0,0,7365000,0,7365000,2,"2/00006","P4 Proplacena příjemci","ANTE","2009-12-23",3792483,334630.78000000003,150584.10999999999,184046.88,null,3792483,"2008-02-29",334630.78000000003,150584.10999999999,184046.88,null,1988837.8,175485.69,78968.56,96517.14,null,1988837.8,"2010-01-19",151725,1837112.8,"CZ.1.11/2009/12","2009-12-30",75334.77,26.4,"2010-04-23",175485.69,"2010-01-19",13387.5,162098.19,78968.56,"2010-01-19",6024.37,72944.19,96517.14,"2010-01-19",7363.13,89154.01,null,null,null,null,null,null,null,null,1988837.8,"2008-02-29",2339809.19,178500,151725,13387.5,6024.375,7363.125,0,0,0,0,0,0,2161309.19,1837112.8115000001,162098.18925,72944.185162499998,89154.004087499998,0,0,0,0,0,0,4461744.7699999996,"2008-01-31",4648301.5,4648301.5,0,85,7.5,3.375,4.125,null,null,null,null,null,null,"P2 Ukončena","Ne",{"$error":"#N/A"},"2008-01-31",4648301.5,4648301.5,0,85,7.5,3.375,4.125,null,null,null,null,null,null,"P2 Ukončena","Ne",{"$error":"#N/A"}]
["01 První výzva - TP","11.4.2","11.4","CZ.1.11/4.2.00/01.00006","TP ROP JV - Publicita a absorpční kapacita","P7 Výdaje projektu certifikovány","Regionální rada regionu soudržnosti Jihovýchod","Regionální rada",6260250,1104750,552375,552375,248568.75,303806.25,0,0,0,0,0,7365000,0,0,7365000,0,7365000,3,"3/00006","P4 Proplacena příjemci","ANTE","2009-12-23",null,null,null,null,null,null,null,null,null,null,null,3792483,334630.78000000003,150584.10999999999,184046.88,null,3792483,"2010-01-19",null,3792483,"CZ.1.11/2009/12","2009-12-30",143654.66,26.4,"2010-04-23",334630.78000000003,"2010-01-19",null,334630.78000000003,150584.10999999999,"2010-01-19",null,150584.10999999999,184046.88,"2010-01-19",null,184046.88,null,null,null,null,null,null,null,null,3792483,"2008-02-28",4461744.7699999996,null,0,0,0,0,0,0,0,0,0,0,4461744.7699999996,3792483.0545000001,334630.85775000002,150583.88598749999,184046.9717625,0,0,0,0,0,0,null,"2008-01-31",0,0,0,85,7.5,3.375,4.125,null,null,null,null,null,null,"P2 Ukončena","Ne",{"$error":"#N/A"},"2008-01-31",0,0,0,85,7.5,3.375,4.125,null,null,null,null,null,null,"P2 Ukončena","Ne",{"$error":"#N/A"}]
["01 První výzva - TP","11.4.1","11.4","CZ.1.11/4.1.00/01.00007","Řízení a implementace ROP JV 2008","P7 Výdaje projektu certifikovány","Regionální rada regionu soudržnosti Jihovýchod","Regionální rada",52653250,9291750,4645875,4645875,2090643.75,2555231.25,0,0,0,0,0,61945000,0,0,61945000,800000,62745000,1,"01/00007","P4 Proplacena příjemci","ANTE","2009-11-13",10530649.98,929174.97,418128.76,511046.29,null,10530649.98,"2008-01-11",929174.97,418128.76,511046.29,null,null,null,null,null,null,null,null,null,null,null,null,null,null,null,null,null,null,null,null,null,null,null,null,null,null,null,null,null,null,null,null,null,null,null,null,"2008-01-11",null,null,0,0,0,0,0,0,0,0,0,0,null,0,0,0,0,0,0,0,0,0,0,12389000,"2008-01-11",11459825,4941300,6518525,85,7.5,3.375,4.125,null,null,null,null,null,null,"P2 Ukončena","Ne",{"$error":"#N/A"},"2008-01-11",11459825,4941300,6518525,85,7.5,3.375,4.125,null,null,null,null,null,null,"P2 Ukončena","Ne",{"$error":"#N/A"}]
["01 První výzva - TP","11.4.1","11.4","CZ.1.11/4.1.00/01.00007","Řízení a implementace ROP JV 2008","P7 Výdaje projektu certifikovány","Regionální rada regionu soudržnosti Jihovýchod","Regionální rada",52653250,9291750,4645875,4645875,2090643.75,2555231.25,0,0,0,0,0,61945000,0,0,61945000,800000,62745000,2,"2/00007","P4 Proplacena příjemci","ANTE","2008-04-07",32704645.98,2885704.04,1298566.82,1587137.26,null,32704645.98,"2008-03-31",2885704.04,1298566.82,1587137.26,null,9006158.25,794660.63,357599.62,437065.76,null,9006158.25,"2010-01-19",5137928.7,3868229.55,"CZ.1.11/2009/12","2009-12-30",341142.36,26.4,"2010-04-23",794660.63,"2010-01-19",453346.63,341314,357599.62,"2010-01-19",204006.01,153593.60999999999,437065.76,"2010-01-19",249340.68,187725.08,null,null,null,null,null,null,null,null,9006158.25,"2008-03-31",10595484.26,6044622.0199999996,5137928.7170000002,453346.65149999998,204005.99317500001,249340.658325,0,0,0,0,0,0,4550862.24,3868232.9040000001,341314.66800000001,153591.60060000001,187723.0674,0,0,0,0,0,0,null,"2008-04-04",37244431.25,35590000,1654431.25,85,7.5,3.375,4.125,null,null,null,null,null,null,"P2 Ukončena","Ne",{"$error":"#N/A"},"2008-04-04",37244431.25,35590000,1654431.25,85,7.5,3.375,4.125,null,null,null,null,null,null,"P2 Ukončena","Ne",{"$error":"#N/A"}]
["01 První výzva - TP","11.4.1","11.4","CZ.1.11/4.1.00/01.00007","Řízení a implementace ROP JV 2008","P7 Výdaje projektu certifikovány","Regionální rada regionu soudržnosti Jihovýchod","Regionální rada",52653250,9291750,4645875,4645875,2090643.75,2555231.25,0,0,0,0,0,61945000,0,0,61945000,800000,62745000,3,"03/00007","P4 Proplacena příjemci","ANTE","2009-12-21",9417954.0099999998,830995.93,373948.17,457047.79,null,9417954.0099999998,"2008-12-19",830995.93,373948.17,457047.79,null,23388471.440000001,2063585.82,928706.16,1135085.3400000001,null,23388471.440000001,"2010-01-19",1677668.2,21710803.239999998,"CZ.1.11/2009/12","2009-12-30",885926.95,26.4,"2010-04-23",2063585.82,"2010-01-19",148029.53,1915556.29,928706.16,"2010-01-19",66613.3,862092.86,1135085.3400000001,"2010-01-19",81416.27,1053669.07,null,null,null,null,null,null,null,null,23388471.440000001,"2008-12-19",27515848.760000002,1973727.3,1677668.2050000001,148029.54749999999,66613.296375000005,81416.251124999995,0,0,0,0,0,0,25542121.460000001,21710803.241,1915659.1095,862046.59927500004,1053612.5102250001,0,0,0,0,0,0,11079945.9,"2009-02-28",8594868.75,7072224,1522644.75,85,7.5,3.375,4.125,null,null,null,null,null,null,"P2 Ukončena","Ne",{"$error":"#N/A"},"2009-02-28",8594868.75,7072224,1522644.75,85,7.5,3.375,4.125,null,null,null,null,null,null,"P2 Ukončena","Ne",{"$error":"#N/A"}]
["01 První výzva - TP","11.4.1","11.4","CZ.1.11/4.1.00/01.00007","Řízení a implementace ROP JV 2008","P7 Výdaje projektu certifikovány","Regionální rada regionu soudržnosti Jihovýchod","Regionální rada",52653250,9291750,4645875,4645875,2090643.75,2555231.25,0,0,0,0,0,61945000,0,0,61945000,800000,62745000,4,"4/00007","P4 Proplacena příjemci","ANTE","2010-02-10",-9071173.9600000009,-800530.36,-360117.27,-440143.83,null,-9071173.9600000009,"2009-02-27",-800530.36,-360117.27,-440143.83,null,11187446.32,987098.13,444220.7,542936.41,null,11187446.32,"2010-09-15",1438468.6,9748977.7200000007,"CZ.1.11/2010/08","2010-09-02",450961.23,24.808,"2010-11-08",987098.13,"2010-09-15",126923.69,860174.44,444220.7,"2010-09-15",57115.67,387105.03,542936.41,"2010-09-15",69808.039999999994,473128.37,null,null,null,null,null,null,null,null,11187446.32,"2009-02-27",13161701.560000001,1692316,1438468.6,126923.7,57115.665000000001,69808.035000000003,0,0,0,0,0,0,11469385.560000001,9748977.7259999998,860203.91700000002,387091.76264999999,473112.15435000003,0,0,0,0,0,0,-10671965.42,"2008-12-04",0.01,0,0.01,85,7.5,3.375,4.125,null,null,null,null,null,null,"P2 Ukončena","Ne",{"$error":"#N/A"},"2008-12-04",0.01,0,0.01,85,7.5,3.375,4.125,null,null,null,null,null,null,"P2 Ukončena","Ne",{"$error":"#N/A"}]
["01 První výzva - TP","11.4.1","11.4","CZ.1.11/4.1.00/01.00008","Monitoring a evaluace 2008","P7 Výdaje projektu certifikovány","Regionální rada regionu soudržnosti Jihovýchod","Regionální rada",4437000,783000,391500,391500,176175,215325,0,0,0,0,0,5220000,0,0,5220000,0,5220000,1,"01/00008","P4 Proplacena příjemci","ANTE","2008-04-24",887400,78300,35235,43065,null,887400,"2008-01-11",78300,35235,43065,null,null,null,null,null,null,null,null,null,null,null,null,null,null,null,null,null,null,null,null,null,null,null,null,null,null,null,null,null,null,null,null,null,null,null,null,"2008-01-11",null,null,0,0,0,0,0,0,0,0,0,0,null,0,0,0,0,0,0,0,0,0,0,1044000,"2008-01-11",965700,965700,0,85,7.5,3.375,4.125,null,null,null,null,null,null,"P2 Ukončena","Ne",{"$error":"#N/A"},"2008-01-11",965700,965700,0,85,7.5,3.375,4.125,null,null,null,null,null,null,"P2 Ukončena","Ne",{"$error":"#N/A"}]
["01 První výzva - TP","11.4.1","11.4","CZ.1.11/4.1.00/01.00008","Monitoring a evaluace 2008","P7 Výdaje projektu certifikovány","Regionální rada regionu soudržnosti Jihovýchod","Regionální rada",4437000,783000,391500,391500,176175,215325,0,0,0,0,0,5220000,0,0,5220000,0,5220000,2,"02/00008","P4 Proplacena příjemci","ANTE","2009-07-09",3524066.59,310947.05,139926.17000000001,171020.89,null,3524066.59,"2009-06-17",310947.05,139926.17000000001,171020.89,null,206291.51,18202.189999999999,8190.99,10011.209999999999,null,206291.51,"2010-01-19",null,206291.51,"CZ.1.11/2009/12","2009-12-30",7814.07,26.4,"2010-04-23",18202.189999999999,"2010-01-19",null,18202.189999999999,8190.99,"2010-01-19",null,8190.99,10011.209999999999,"2010-01-19",null,10011.209999999999,null,null,null,null,null,null,null,null,206291.51,"2009-06-17",242695.9,null,0,0,0,0,0,0,0,0,0,0,242695.9,206291.51500000001,18202.192500000001,8190.9866249999995,10011.205875,0,0,0,0,0,0,4947264.8,"2009-06-17",3862800,3862800,0,85,7.5,3.375,4.125,null,null,null,null,null,null,"P2 Ukončena","Ne",{"$error":"#N/A"},"2009-06-17",3862800,3862800,0,85,7.5,3.375,4.125,null,null,null,null,null,null,"P2 Ukončena","Ne",{"$error":"#N/A"}]
["01 První výzva - TP","11.4.1","11.4","CZ.1.11/4.1.00/01.00008","Monitoring a evaluace 2008","P7 Výdaje projektu certifikovány","Regionální rada regionu soudržnosti Jihovýchod","Regionální rada",4437000,783000,391500,391500,176175,215325,0,0,0,0,0,5220000,0,0,5220000,0,5220000,3,"03/00008","P4 Proplacena příjemci","ANTE","2009-12-21",-1779844.58,-157045.10999999999,-70670.3,-86374.81,null,-1779844.58,"2009-12-09",-157045.10999999999,-70670.3,-86374.81,null,2425330.5,213999.75,96299.88,117699.87,null,2425330.5,"2010-01-19",null,2425330.5,"CZ.1.11/2009/12","2009-12-30",91868.58,26.4,"2010-04-23",213999.75,"2010-01-19",null,213999.75,96299.88,"2010-01-19",null,96299.88,117699.87,"2010-01-19",null,117699.87,null,null,null,null,null,null,null,null,2425330.5,"2009-12-09",2853330,null,0,0,0,0,0,0,0,0,0,0,2853330,2425330.5,213999.75,96299.887499999997,117699.8625,0,0,0,0,0,0,null,"2009-08-31",30039.3,30039.3,0,85,7.5,3.375,4.125,null,null,null,null,null,null,"P2 Ukončena","Ne",{"$error":"#N/A"},"2009-08-31",30039.3,30039.3,0,85,7.5,3.375,4.125,null,null,null,null,null,null,"P2 Ukončena","Ne",{"$error":"#N/A"}]
["01 První výzva - TP","11.4.2","11.4","CZ.1.11/4.2.00/01.00009","Publicita, vzdělávání a absorpční kapacita 2008","P7 Výdaje projektu certifikovány","Regionální rada regionu soudržnosti Jihovýchod","Regionální rada",14365000,2535000,1267500,1267500,570375,697125,0,0,0,0,0,16900000,0,0,16900000,0,16900000,1,"01/00009","P4 Proplacena příjemci","ANTE","2009-10-23",2873000,253500,114075,139425,null,2873000,"2008-01-11",253500,114075,139425,null,null,null,null,null,null,null,null,null,null,null,null,null,null,null,null,null,null,null,null,null,null,null,null,null,null,null,null,null,null,null,null,null,null,null,null,"2008-01-11",null,null,0,0,0,0,0,0,0,0,0,0,null,0,0,0,0,0,0,0,0,0,0,3380000,"2008-01-11",3126500,3034000,92500,85,7.5,3.375,4.125,null,null,null,null,null,null,"P2 Ukončena","Ne",{"$error":"#N/A"},"2008-01-11",3126500,3034000,92500,85,7.5,3.375,4.125,null,null,null,null,null,null,"P2 Ukončena","Ne",{"$error":"#N/A"}]
["01 První výzva - TP","11.4.2","11.4","CZ.1.11/4.2.00/01.00009","Publicita, vzdělávání a absorpční kapacita 2008","P7 Výdaje projektu certifikovány","Regionální rada regionu soudržnosti Jihovýchod","Regionální rada",14365000,2535000,1267500,1267500,570375,697125,0,0,0,0,0,16900000,0,0,16900000,0,16900000,2,"02/00009","P4 Proplacena příjemci","ANTE","2009-10-23",8006495.4900000002,706455.5,317904.96000000002,388550.54,null,8006495.4900000002,"2008-03-31",706455.5,317904.96000000002,388550.54,null,1542424.83,136096.21,61243.4,74853.05,null,1542424.83,"2009-11-18",null,1542424.83,"CZ.1.11/2009/10","2009-11-05",58215.69,26.495000000000001,"2010-04-23",136096.21,"2009-11-18",null,136096.21,61243.4,"2009-11-18",null,61243.4,74853.05,"2009-11-18",null,74853.05,null,null,null,null,null,null,null,null,1542424.83,"2008-03-31",1828897.49,null,0,0,0,0,0,0,0,0,0,0,1828897.49,1554562.8665,137167.31174999999,61725.2902875,75442.021462499994,0,0,0,0,0,0,10970509,"2008-04-04",10161125,9860500,300625,85,7.5,3.375,4.125,null,null,null,null,null,null,"P2 Ukončena","Ne",{"$error":"#N/A"},"2008-04-04",10161125,9860500,300625,85,7.5,3.375,4.125,null,null,null,null,null,null,"P2 Ukončena","Ne",{"$error":"#N/A"}]
["01 První výzva - TP","11.4.2","11.4","CZ.1.11/4.2.00/01.00009","Publicita, vzdělávání a absorpční kapacita 2008","P7 Výdaje projektu certifikovány","Regionální rada regionu soudržnosti Jihovýchod","Regionální rada",14365000,2535000,1267500,1267500,570375,697125,0,0,0,0,0,16900000,0,0,16900000,0,16900000,3,"03/00009","P4 Proplacena příjemci","ANTE","2009-12-07",3485504.48,307544.51,138395.03,169149.49,null,3485504.48,"2008-12-19",307544.51,138395.03,169149.49,null,6181065.2800000003,545401.64,245418.56,299956.03000000003,null,6181065.2800000003,"2010-01-19",101150,6079915.2800000003,"CZ.1.11/2009/12","2009-12-30",234131.26,26.4,"2010-04-23",545401.64,"2010-01-19",8925,536476.64,245418.56,"2010-01-19",4016.25,241402.31,299956.03000000003,"2010-01-19",4908.75,295047.28000000003,null,null,null,null,null,null,null,null,6181065.2800000003,"2008-12-19",7271841.5099999998,119000,101150,8925,4016.25,4908.75,0,0,0,0,0,0,7152841.5099999998,6079915.2834999999,536463.11325000005,241408.40096249999,295054.71228749998,0,0,0,0,0,0,4100593.53,"2008-12-04",0.01,0,0.01,85,7.5,3.375,4.125,null,null,null,null,null,null,"P2 Ukončena","Ne",{"$error":"#N/A"},"2008-12-04",0.01,0,0.01,85,7.5,3.375,4.125,null,null,null,null,null,null,"P2 Ukončena","Ne",{"$error":"#N/A"}]
["01 První výzva - TP","11.4.2","11.4","CZ.1.11/4.2.00/01.00009","Publicita, vzdělávání a absorpční kapacita 2008","P7 Výdaje projektu certifikovány","Regionální rada regionu soudržnosti Jihovýchod","Regionální rada",14365000,2535000,1267500,1267500,570375,697125,0,0,0,0,0,16900000,0,0,16900000,0,16900000,4,"04/00009","P4 Proplacena příjemci","ANTE","2009-12-22",-3540271.83,-312340.94,-140585.79999999999,-171827.1,null,-3540271.83,"2009-02-27",-312340.94,-140585.79999999999,-171827.1,null,3101238.03,273661.21999999997,123127.23,150488.85,null,3101238.03,"2010-01-19",null,3101238.03,"CZ.1.11/2009/12","2009-12-30",117471.14,26.4,"2010-04-23",273661.21999999997,"2010-01-19",null,273661.21999999997,123127.23,"2010-01-19",null,123127.23,150488.85,"2010-01-19",null,150488.85,null,null,null,null,null,null,null,null,3101238.03,"2009-02-27",3648515.33,null,0,0,0,0,0,0,0,0,0,0,3648515.33,3101238.0304999999,273638.64974999998,123137.3923875,150501.25736250001,0,0,0,0,0,0,-4165025.67,"2009-02-28",2344875,2275500,69375,85,7.5,3.375,4.125,null,null,null,null,null,null,"P2 Ukončena","Ne",{"$error":"#N/A"},"2009-02-28",2344875,2275500,69375,85,7.5,3.375,4.125,null,null,null,null,null,null,"P2 Ukončena","Ne",{"$error":"#N/A"}]
["01 První výzva - silnice","11.1.1","11.1","CZ.1.11/1.1.00/01.00010","II/602 hr.kraje - Pelhřimov, 2.stavba","P8 Projekt finálně uzavřen","Kraj Vysočina","Kraj",69475606.819999993,6130200.5999999996,6130200.5999999996,0,0,0,0,6130200.6100000003,0,0,0,81736008.030000001,0,0,81736008.030000001,4136663.97,85872672,1,"1/00010","P4 Proplacena příjemci","POST","2008-12-02",26236501.02,null,null,null,null,26236501.02,"2008-12-02",null,null,null,null,26236501.02,2314985.39,null,null,null,26236501.02,"2009-07-20",26236501.02,null,"CZ.1.11/2009/05","2009-07-08",1008320.56,26.02,"2009-10-29",2314985.39,"2008-12-02",2314985.39,null,null,null,null,null,null,null,null,null,null,null,null,null,2314985.39,null,null,null,26236501.02,"2008-09-26",30866471.800000001,30866471.800000001,26236501.030000001,2314985.3849999998,0,0,0,0,2314985.3849999998,0,0,0,null,0,0,0,0,0,0,0,0,0,0,28551486.41,"2008-09-28",31450000,0,31450000,85,7.5,null,null,null,null,7.5,null,null,null,"P2 Ukončena","Ne",{"$error":"#N/A"},"2008-09-28",31450000,0,31450000,85,7.5,null,null,null,null,7.5,null,null,null,"P2 Ukončena","Ne",{"$error":"#N/A"}]
["01 První výzva - silnice","11.1.1","11.1","CZ.1.11/1.1.00/01.00010","II/602 hr.kraje - Pelhřimov, 2.stavba","P8 Projekt finálně uzavřen","Kraj Vysočina","Kraj",69475606.819999993,6130200.5999999996,6130200.5999999996,0,0,0,0,6130200.6100000003,0,0,0,81736008.030000001,0,0,81736008.030000001,4136663.97,85872672,2,"2/00010","P4 Proplacena příjemci","POST","2009-06-10",43239105.789999999,null,null,null,null,43239105.789999999,"2009-06-10",null,null,null,null,43239105.789999999,3815215.22,null,null,null,43239105.789999999,"2009-11-10",43239105.789999999,null,"CZ.1.11/2009/09","2009-10-30",1631972.29,26.495000000000001,"2010-04-23",3815215.22,"2009-06-10",3815215.22,null,null,null,null,null,null,null,null,null,null,null,null,null,3815215.22,null,null,null,43239105.789999999,"2008-12-12",50869536.229999997,50869536.229999997,43239105.795500003,3815215.2172500002,0,0,0,0,3815215.2172500002,0,0,0,null,0,0,0,0,0,0,0,0,0,0,47054321.020000003,"2008-12-14",44155807.43,0,44155807.43,85,7.5,null,null,null,null,7.5,null,null,null,"P2 Ukončena","Ne",{"$error":"#N/A"},"2008-12-14",44155807.43,0,44155807.43,85,7.5,null,null,null,null,7.5,null,null,null,"P2 Ukončena","Ne",{"$error":"#N/A"}]
["01 První výzva - silnice","11.1.1","11.1","CZ.1.11/1.1.00/01.00011","II/353 Bohdalov - obchvat","P7 Výdaje projektu certifikovány","Kraj Vysočina","Kraj",83692847.049999997,7384662.96,7384662.96,0,0,0,0,7384662.9900000002,0,0,0,98462173,0,0,98462173,13756818.460000001,112218991.45999999,1,"1/00011","P4 Proplacena příjemci","POST","2009-07-02",46129709.82,null,null,null,null,46129709.82,"2009-07-02",null,null,null,null,46129709.82,4070268.52,null,null,null,46129709.82,"2010-01-19",45830555.299999997,299154.52,"CZ.1.11/2009/12","2009-12-30",1747337.49,26.4,"2010-04-23",4070268.52,"2009-07-02",4043872.53,26395.99,null,null,null,null,null,null,null,null,null,null,null,null,4070268.52,null,null,null,46129709.82,"2009-02-27",54270246.859999999,53918300.359999999,45830555.306000002,4043872.5242501665,0,0,0,0,4043872.5297498335,0,0,0,351946.5,299154.52500000002,26395.987482050728,0,0,0,0,26395.98751794927,0,0,0,50199978.340000004,"2009-02-28",50875000,333000,50542000,85,7.4999999949000005,null,null,null,null,7.5000000051000004,null,null,null,"P2 Ukončena","Ne",{"$error":"#N/A"},"2009-02-28",50875000,333000,50542000,85,7.4999999949000005,null,null,null,null,7.5000000051000004,null,null,null,"P2 Ukončena","Ne",{"$error":"#N/A"}]
["01 První výzva - silnice","11.1.1","11.1","CZ.1.11/1.1.00/01.00011","II/353 Bohdalov - obchvat","P7 Výdaje projektu certifikovány","Kraj Vysočina","Kraj",83692847.049999997,7384662.96,7384662.96,0,0,0,0,7384662.9900000002,0,0,0,98462173,0,0,98462173,13756818.460000001,112218991.45999999,2,"02/00011","P4 Proplacena příjemci","POST","2009-12-18",37121584.079999998,null,null,null,null,37121584.079999998,"2009-12-18",null,null,null,null,37121584.079999998,3275433.89,null,null,null,37121584.079999998,"2010-01-19",37121584.079999998,null,"CZ.1.11/2009/12","2009-12-30",1406120.61,26.4,"2010-04-23",3275433.89,"2009-12-18",3275433.89,null,null,null,null,null,null,null,null,null,null,null,null,null,3275433.9,null,null,null,37121584.079999998,"2009-10-22",44191926.140000001,44191926.140000001,37563137.218999997,3314394.458246212,0,0,0,0,3314394.4627537881,0,0,0,null,0,0,0,0,0,0,0,0,0,0,40877531.670000002,"2009-10-30",40877531.670000002,0,40877531.670000002,85,7.4999999949000005,null,null,null,null,7.5000000051000004,null,null,null,"P2 Ukončena","Ne",{"$error":"#N/A"},"2009-10-30",40877531.670000002,0,40877531.670000002,85,7.4999999949000005,null,null,null,null,7.5000000051000004,null,null,null,"P2 Ukončena","Ne",{"$error":"#N/A"}]
["01 První výzva - silnice","11.1.1","11.1","CZ.1.11/1.1.00/01.00012","II/602 hr.kraje - Pelhřimov, 1.stavba","P8 Projekt finálně uzavřen","Kraj Vysočina","Kraj",139985595.11000001,12351670.15,12351670.15,0,0,0,0,12351670.17,0,0,0,164688935.43000001,0,0,164688935.43000001,8424607.0600000005,173113542.49000001,1,"1/00012","P4 Proplacena příjemci","POST","2008-11-28",49503051.189999998,null,null,null,null,49503051.189999998,"2008-11-28",null,null,null,null,49503051.189999998,4367916.29,null,null,null,49503051.189999998,"2010-09-15",49503051.189999998,null,"CZ.1.11/2010/08","2010-09-02",1995447.08,24.808,"2010-11-08",4367916.29,"2008-11-28",4367916.29,null,null,null,null,null,null,null,null,null,null,null,null,null,4367916.29,null,null,null,49503051.189999998,"2008-09-26",58238883.770000003,58238883.770000003,49503051.204499997,4367916.2817599392,0,0,0,0,4367916.2837400613,0,0,0,null,0,0,0,0,0,0,0,0,0,0,53870967.479999997,"2008-09-28",50875000,0,50875000,85,7.4999999982999999,null,null,null,null,7.5000000017000001,null,null,null,"P2 Ukončena","Ne",{"$error":"#N/A"},"2008-09-28",50875000,0,50875000,85,7.4999999982999999,null,null,null,null,7.5000000017000001,null,null,null,"P2 Ukončena","Ne",{"$error":"#N/A"}]
["01 První výzva - silnice","11.1.1","11.1","CZ.1.11/1.1.00/01.00012","II/602 hr.kraje - Pelhřimov, 1.stavba","P8 Projekt finálně uzavřen","Kraj Vysočina","Kraj",139985595.11000001,12351670.15,12351670.15,0,0,0,0,12351670.17,0,0,0,164688935.43000001,0,0,164688935.43000001,8424607.0600000005,173113542.49000001,2,"2/00012","P4 Proplacena příjemci","POST","2009-06-09",90482543.909999996,null,null,null,null,90482543.909999996,"2009-06-09",null,null,null,null,90482543.909999996,7983753.8700000001,null,null,null,90482543.909999996,"2010-09-15",90482543.909999996,null,"CZ.1.11/2010/08","2010-09-02",3647313.12,24.808,"2010-11-08",7983753.8700000001,"2009-06-09",7983753.8700000001,null,null,null,null,null,null,null,null,null,null,null,null,null,7983753.8799999999,null,null,null,90482543.909999996,"2008-12-12",106450051.66,106450051.66,90482543.910999998,7983753.8726903489,0,0,0,0,7983753.876309651,0,0,0,null,0,0,0,0,0,0,0,0,0,0,98466297.780000001,"2009-01-11",101462265.27,0,101462265.27,85,7.4999999982999999,null,null,null,null,7.5000000017000001,null,null,null,"P2 Ukončena","Ne",{"$error":"#N/A"},"2009-01-11",101462265.27,0,101462265.27,85,7.4999999982999999,null,null,null,null,7.5000000017000001,null,null,null,"P2 Ukončena","Ne",{"$error":"#N/A"}]
["01 První výzva - silnice","11.1.1","11.1","CZ.1.11/1.1.00/01.00013","II/360 Oslavička - obchvat, 2.stavba","P8 Projekt finálně uzavřen","Kraj Vysočina","Kraj",120225344.56999999,10608118.65,10608118.65,0,0,0,0,10608118.65,0,0,0,141441581.87,0,0,141441581.87,0,141441581.87,1,"1/00013","P4 Proplacena příjemci","POST","2009-06-24",15143441.67,null,null,null,null,15143441.67,"2009-06-24",null,null,null,null,15143441.67,1336186.03,null,null,null,15143441.67,"2009-10-21",15044342.68,99098.99,"CZ.1.11/2009/08","2009-10-01",601407.53,25.18,"2010-04-23",1336186.03,"2009-06-24",1327442,8744.0300000000007,null,null,null,null,null,null,null,null,null,null,null,null,1336186.04,null,null,null,15143441.67,"2009-04-29",17815813.739999998,17699226.690000001,15044342.685296452,1327442.0029535475,0,0,0,0,1327442.0017500001,0,0,0,116587.05,99098.99249207208,8744.0287579279193,0,0,0,0,8744.0287499999995,0,0,0,16479627.699999999,"2009-04-29",14337500,107843.02,14229656.98,84.999999993199992,7.5000000067999997,null,null,null,null,7.5,null,null,null,"P2 Ukončena","Ne",{"$error":"#N/A"},"2009-04-29",14337500,107843.02,14229656.98,84.999999993199992,7.5000000067999997,null,null,null,null,7.5,null,null,null,"P2 Ukončena","Ne",{"$error":"#N/A"}]
["01 První výzva - silnice","11.1.1","11.1","CZ.1.11/1.1.00/01.00013","II/360 Oslavička - obchvat, 2.stavba","P8 Projekt finálně uzavřen","Kraj Vysočina","Kraj",120225344.56999999,10608118.65,10608118.65,0,0,0,0,10608118.65,0,0,0,141441581.87,0,0,141441581.87,0,141441581.87,2,"2/00013","P4 Proplacena příjemci","POST","2009-09-09",33691297.710000001,null,null,null,null,33691297.710000001,"2009-09-09",null,null,null,null,33691297.710000001,2972761.57,null,null,null,33691297.710000001,"2009-10-21",33691297.710000001,null,"CZ.1.11/2009/08","2009-10-01",1338018.18,25.18,"2010-04-23",2972761.57,"2009-09-09",2972761.57,null,null,null,null,null,null,null,null,null,null,null,null,null,2972761.57,null,null,null,33691297.710000001,"2009-07-14",39636820.850000001,39636820.850000001,33691297.719804697,2972761.5664453036,0,0,0,0,2972761.5637500002,0,0,0,null,0,0,0,0,0,0,0,0,0,0,36664059.280000001,"2009-07-30",33762500,0,33762500,84.999999993199992,7.5000000067999997,null,null,null,null,7.5,null,null,null,"P2 Ukončena","Ne",{"$error":"#N/A"},"2009-07-30",33762500,0,33762500,84.999999993199992,7.5000000067999997,null,null,null,null,7.5,null,null,null,"P2 Ukončena","Ne",{"$error":"#N/A"}]
["01 První výzva - silnice","11.1.1","11.1","CZ.1.11/1.1.00/01.00013","II/360 Oslavička - obchvat, 2.stavba","P8 Projekt finálně uzavřen","Kraj Vysočina","Kraj",120225344.56999999,10608118.65,10608118.65,0,0,0,0,10608118.65,0,0,0,141441581.87,0,0,141441581.87,0,141441581.87,3,"03/00013","P4 Proplacena příjemci","POST","2009-12-18",19109050.75,null,null,null,null,19109050.75,"2009-12-18",null,null,null,null,19109050.75,1686092.72,null,null,null,19109050.75,"2010-08-16",19109050.75,null,"CZ.1.11/2010/02","2010-02-26",736805.5,25.934999999999999,"2010-07-23",1686092.72,"2009-12-18",1686092.72,null,null,null,null,null,null,null,null,null,null,null,null,null,1686092.72,null,null,null,19109050.75,"2009-10-27",22481236.190000001,22481236.190000001,19109050.759971276,1686092.7157787241,0,0,0,0,1686092.71425,0,0,0,null,0,0,0,0,0,0,0,0,0,0,20795143.469999999,"2009-10-30",20795143.469999999,0,20795143.469999999,84.999999993199992,7.5000000067999997,null,null,null,null,7.5,null,null,null,"P2 Ukončena","Ne",{"$error":"#N/A"},"2009-10-30",20795143.469999999,0,20795143.469999999,84.999999993199992,7.5000000067999997,null,null,null,null,7.5,null,null,null,"P2 Ukončena","Ne",{"$error":"#N/A"}]
["01 První výzva - silnice","11.1.1","11.1","CZ.1.11/1.1.00/01.00013","II/360 Oslavička - obchvat, 2.stavba","P8 Projekt finálně uzavřen","Kraj Vysočina","Kraj",120225344.56999999,10608118.65,10608118.65,0,0,0,0,10608118.65,0,0,0,141441581.87,0,0,141441581.87,0,141441581.87,4,"04/00013","P4 Proplacena příjemci","POST","2010-05-25",17960614.899999999,null,null,null,null,17960614.899999999,"2010-05-25",null,null,null,null,17960614.899999999,1584760.14,null,null,null,17960614.899999999,"2010-07-16",17960614.899999999,null,"CZ.1.11/2010/06","2010-07-02",697418.36,25.753,"2010-11-08",1584760.14,"2010-05-25",1584760.14,null,null,null,null,null,null,null,null,null,null,null,null,null,1584760.14,null,null,null,17960614.899999999,"2010-02-18",21130135.18,21130135.18,17960614.901563149,1584760.1399368492,0,0,0,0,1584760.1384999999,0,0,0,null,0,0,0,0,0,0,0,0,0,0,19545375.059999999,"2010-03-17",19545375.059999999,0,19545375.059999999,84.999999993199992,7.5000000067999997,null,null,null,null,7.5,null,null,null,"P2 Ukončena","Ne",{"$error":"#N/A"},"2010-03-17",19545375.059999999,0,19545375.059999999,84.999999993199992,7.5000000067999997,null,null,null,null,7.5,null,null,null,"P2 Ukončena","Ne",{"$error":"#N/A"}]
["01 První výzva - silnice","11.1.1","11.1","CZ.1.11/1.1.00/01.00014","II/405 Brtnice - Zašovice","P8 Projekt finálně uzavřen","Kraj Vysočina","Kraj",176762791,15596716.859999999,15596716.859999999,0,0,0,0,15596716.859999999,0,0,0,207956224.72,0,0,207956224.72,311465.94,208267690.66,1,"1/00014","P4 Proplacena příjemci","POST","2009-06-29",54471578.75,null,null,null,null,54471578.75,"2009-06-29",null,null,null,null,54471578.75,4806315.78,null,null,null,54471578.75,"2009-07-20",53923746.960000001,547831.79,"CZ.1.11/2009/05","2009-07-08",2093450.38,26.02,"2009-10-29",4806315.78,"2009-06-29",4757977.68,48338.1,null,null,null,null,null,null,null,null,null,null,null,null,4806315.79,null,null,null,54471578.75,"2009-02-27",64084210.32,63439702.32,53923746.969969928,4757977.6750150351,0,0,0,0,4757977.6750150351,0,0,0,644508,547831.79997937579,48338.100010312126,0,0,0,0,48338.100010312126,0,0,0,59277894.539999999,"2009-02-28",60125000,601250,59523750,84.9999999968,7.5000000016000001,null,null,null,null,7.5000000016000001,null,null,null,"P2 Ukončena","Ne",{"$error":"#N/A"},"2009-02-28",60125000,601250,59523750,84.9999999968,7.5000000016000001,null,null,null,null,7.5000000016000001,null,null,null,"P2 Ukončena","Ne",{"$error":"#N/A"}]
["01 První výzva - silnice","11.1.1","11.1","CZ.1.11/1.1.00/01.00014","II/405 Brtnice - Zašovice","P8 Projekt finálně uzavřen","Kraj Vysočina","Kraj",176762791,15596716.859999999,15596716.859999999,0,0,0,0,15596716.859999999,0,0,0,207956224.72,0,0,207956224.72,311465.94,208267690.66,2,"02/00014","P4 Proplacena příjemci","POST","2010-02-26",75730188.430000007,null,null,null,null,75730188.430000007,"2010-02-01",null,null,null,null,75730188.430000007,6682075.4500000002,null,null,null,75730188.430000007,"2010-08-16",75702124.840000004,28063.59,"CZ.1.11/2010/05","2010-06-02",2937555.8,25.78,"2010-11-08",6682075.4500000002,"2010-02-01",6679599.25,2476.1999999999998,null,null,null,null,null,null,null,null,null,null,null,null,6682075.4699999997,null,null,null,75730188.430000007,"2009-10-27",89094339.349999994,89061323.349999994,75702124.844650045,6679599.252674981,0,0,0,0,6679599.252674981,0,0,0,33016,28063.599998943489,2476.2000005282562,0,0,0,0,2476.2000005282562,0,0,0,82412263.890000001,"2009-10-30",82412263.890000001,30539.8,82381724.090000004,84.9999999968,7.5000000016000001,null,null,null,null,7.5000000016000001,null,null,null,"P2 Ukončena","Ne",{"$error":"#N/A"},"2009-10-30",82412263.890000001,30539.8,82381724.090000004,84.9999999968,7.5000000016000001,null,null,null,null,7.5000000016000001,null,null,null,"P2 Ukončena","Ne",{"$error":"#N/A"}]
["01 První výzva - silnice","11.1.1","11.1","CZ.1.11/1.1.00/01.00014","II/405 Brtnice - Zašovice","P8 Projekt finálně uzavřen","Kraj Vysočina","Kraj",176762791,15596716.859999999,15596716.859999999,0,0,0,0,15596716.859999999,0,0,0,207956224.72,0,0,207956224.72,311465.94,208267690.66,3,"03/00014","P4 Proplacena příjemci","POST","2010-05-21",46561003.049999997,null,null,null,null,46561003.049999997,"2010-05-21",null,null,null,null,46561003.049999997,4108323.8,null,null,null,46561003.049999997,"2010-08-16",46561003.049999997,null,"CZ.1.11/2010/05","2010-06-02",1806090.11,25.78,"2010-11-08",4108323.8,"2010-05-21",4108323.8,null,null,null,null,null,null,null,null,null,null,null,null,null,4108323.8,null,null,null,46561003.049999997,"2010-02-05",54777675.049999997,54777675.049999997,46561023.790747114,4108325.6296264427,0,0,0,0,4108325.6296264427,0,0,0,null,0,0,0,0,0,0,0,0,0,0,50669349.450000003,"2010-02-17",50669349.450000003,0,50669349.450000003,84.9999999968,7.5000000016000001,null,null,null,null,7.5000000016000001,null,null,null,"P2 Ukončena","Ne",{"$error":"#N/A"},"2010-02-17",50669349.450000003,0,50669349.450000003,84.9999999968,7.5000000016000001,null,null,null,null,7.5000000016000001,null,null,null,"P2 Ukončena","Ne",{"$error":"#N/A"}]
["01 2.1 - Infrastruktura pro cestovní ruch","11.2.1","11.2","CZ.1.11/2.1.00/01.00015","Zkvalitnění a rozšíření služeb Hotelu Iris","N11 Projektová žádost nesplnila podmínky přijatelnosti","VAŠSTAV, s.r.o.","Soukromá firma_MSP",null,null,null,null,null,null,null,null,null,null,null,null,null,null,null,null,null,1,null," ",null,null,null,null,null,null,null,null,null,null,null,null,null,null,null,null,null,null,null,null,null,null,null,null,null,null,null,null,null,null,null,null,null,null,null,null,null,null,null,null,null,null,null,null,null,null,null,null,null,null,null,0,0,0,0,0,0,0,0,0,0,null,0,0,0,0,0,0,0,0,0,0,null,"2008-06-02",14609596,54000,14555596,50.999997207300005,4.4999997536,null,4.4999997536,null,null,null,null,null,40.0000032855,"P1 Zahájena","Ne",{"$error":"#N/A"},"2008-06-02",14609596,54000,14555596,50.999997207300005,4.4999997536,null,4.4999997536,null,null,null,null,null,40.0000032855,"P1 Zahájena","Ne",{"$error":"#N/A"}]
["01 První výzva - silnice","11.1.1","11.1","CZ.1.11/1.1.00/01.00016","Silnice II/374 - Rájec - Blansko, III. stavba","P8 Projekt finálně uzavřen","Správa a údržba silnic Jihomoravského kraje, příspěvková organizace kraje","Organizace zřízena krajem",102586997.37,9051793.8900000006,9051793.8900000006,0,0,0,0,9051793.8900000006,0,0,0,120690585.15000001,0,0,120690585.15000001,2216654,122907239.15000001,2,"1/00016","P4 Proplacena příjemci","POST","2009-07-03",31536304.989999998,null,null,null,null,31536304.989999998,"2009-01-30",null,null,null,null,31536304.989999998,2782615.15,null,null,null,31536304.989999998,"2009-07-20",31513625.989999998,22679,"CZ.1.11/2009/05","2009-07-08",1212002.5,26.02,"2009-10-29",2782615.15,"2009-01-30",2780614.06,2001.09,null,null,null,null,null,null,null,null,null,null,null,null,2782615.15,null,null,null,31536304.989999998,"2009-01-30",38035445.93,38008764.75,32307450.035599563,2850657.3571622102,0,0,0,0,2850657.357238228,0,0,0,26681.18,22679.002998665939,2001.0885006403482,0,0,0,0,2001.0885006937108,0,0,0,35182787.469999999,"2009-01-30",35156646.289999999,26141.18,35130505.109999999,84.999999994999996,7.5000000024000002,null,null,null,null,7.5000000026000002,null,null,null,"P2 Ukončena","Ne",{"$error":"#N/A"},"2009-01-30",35156646.289999999,26141.18,35130505.109999999,84.999999994999996,7.5000000024000002,null,null,null,null,7.5000000026000002,null,null,null,"P2 Ukončena","Ne",{"$error":"#N/A"}]
["01 První výzva - silnice","11.1.1","11.1","CZ.1.11/1.1.00/01.00016","Silnice II/374 - Rájec - Blansko, III. stavba","P8 Projekt finálně uzavřen","Správa a údržba silnic Jihomoravského kraje, příspěvková organizace kraje","Organizace zřízena krajem",102586997.37,9051793.8900000006,9051793.8900000006,0,0,0,0,9051793.8900000006,0,0,0,120690585.15000001,0,0,120690585.15000001,2216654,122907239.15000001,3,"02/00016","P4 Proplacena příjemci","POST","2009-12-16",14035510.98,null,null,null,null,14035510.98,"2009-12-16",null,null,null,null,14035510.98,1238427.44,null,null,null,14035510.98,"2010-08-16",13970832.15,64678.83,"CZ.1.11/2010/02","2010-02-26",541180.29,25.934999999999999,"2010-07-23",1238427.44,"2009-12-16",1232720.48,5706.96,null,null,null,null,null,null,null,null,null,null,null,null,1238427.45,null,null,null,14035510.98,"2009-12-02",16846900.23,16770807.48,14255186.35716146,1257810.5614024994,0,0,0,0,1257810.561436041,0,0,0,76092.75,64678.83749619536,5706.9562518262264,0,0,0,0,5706.9562519784113,0,0,0,15583382.710000001,"2009-07-30",24767713,15000,24752713,84.999999994999996,7.5000000024000002,null,null,null,null,7.5000000026000002,null,null,null,"P2 Ukončena","Ne",{"$error":"#N/A"},"2009-07-30",24767713,15000,24752713,84.999999994999996,7.5000000024000002,null,null,null,null,7.5000000026000002,null,null,null,"P2 Ukončena","Ne",{"$error":"#N/A"}]
["01 První výzva - silnice","11.1.1","11.1","CZ.1.11/1.1.00/01.00016","Silnice II/374 - Rájec - Blansko, III. stavba","P8 Projekt finálně uzavřen","Správa a údržba silnic Jihomoravského kraje, příspěvková organizace kraje","Organizace zřízena krajem",102586997.37,9051793.8900000006,9051793.8900000006,0,0,0,0,9051793.8900000006,0,0,0,120690585.15000001,0,0,120690585.15000001,2216654,122907239.15000001,4,"03/00016","P4 Proplacena příjemci","POST","2010-08-13",42644182.119999997,null,null,null,null,42644182.119999997,"2010-08-13",null,null,null,null,42644182.119999997,3762721.95,null,null,null,42644182.119999997,"2010-09-15",42555059.369999997,89122.75,"CZ.1.11/2010/08","2010-09-02",1718968.97,24.808,"2010-11-08",3762721.95,"2010-08-13",3754858.18,7863.77,null,null,null,null,null,null,null,null,null,null,null,null,3762721.97,null,null,null,42644182.119999997,"2010-01-04",64482422.030000001,64377571.729999997,54720935.967281118,4828317.8812950617,0,0,0,0,4828317.881423817,0,0,0,104850.3,89122.754994757488,7863.7725025164073,0,0,0,0,7863.7725027261076,0,0,0,59646240.380000003,"2009-12-30",62045932.700000003,33313.94,62012618.759999998,84.999999994999996,7.5000000024000002,null,null,null,null,7.5000000026000002,null,null,null,"P2 Ukončena","Ne",{"$error":"#N/A"},"2009-12-30",62045932.700000003,33313.94,62012618.759999998,84.999999994999996,7.5000000024000002,null,null,null,null,7.5000000026000002,null,null,null,"P2 Ukončena","Ne",{"$error":"#N/A"}]
["01 První výzva - silnice","11.1.1","11.1","CZ.1.11/1.1.00/01.00017","Rekonstrukce sil. III/4301 Bukovany - průtah","P8 Projekt finálně uzavřen","Správa a údržba silnic Jihomoravského kraje, příspěvková organizace kraje","Organizace zřízena krajem",28220906.300000001,2490079.9700000002,2490079.9700000002,0,0,0,0,2490079.98,0,0,0,33201066.25,0,0,33201066.25,2415105.6,35616171.850000001,1,"01/00017","P4 Proplacena příjemci","POST","2009-12-09",27899287.870000001,null,null,null,null,27899287.870000001,"2009-06-30",null,null,null,null,27899287.870000001,2461701.87,null,null,null,27899287.870000001,"2010-08-16",27865825.539999999,33462.33,"CZ.1.11/2010/02","2010-02-26",1075738.8799999999,25.934999999999999,"2010-07-23",2461701.87,"2009-06-30",2458749.31,2952.56,null,null,null,null,null,null,null,null,null,null,null,null,2461701.88,null,null,null,27899287.870000001,"2009-06-30",32941078.77,32901711.32,27966454.619499471,2467628.3502173633,0,0,0,0,2467628.3502831669,0,0,0,39367.449999999997,33462.332497008072,2952.5587514565955,0,0,0,0,2952.5587515353304,0,0,0,30470497.859999999,"2009-06-30",30470497.859999999,35751.25,30434746.609999999,84.999999992399992,7.5000000037000003,null,null,null,null,7.5000000039000003,null,null,null,"P2 Ukončena","Ne",{"$error":"#N/A"},"2009-06-30",30470497.859999999,35751.25,30434746.609999999,84.999999992399992,7.5000000037000003,null,null,null,null,7.5000000039000003,null,null,null,"P2 Ukončena","Ne",{"$error":"#N/A"}]
["01 První výzva - silnice","11.1.1","11.1","CZ.1.11/1.1.00/01.00018","III/41619 Hrušovany u Brna obchvat","N5 Projektová žádost stažena žadatelem/ukončena ŘO/ZS","Správa a údržba silnic Jihomoravského kraje, příspěvková organizace kraje","Organizace zřízena krajem",null,null,null,null,null,null,null,null,null,null,null,null,null,null,null,null,null,1,null," ",null,null,null,null,null,null,null,null,null,null,null,null,null,null,null,null,null,null,null,null,null,null,null,null,null,null,null,null,null,null,null,null,null,null,null,null,null,null,null,null,null,null,null,null,null,null,null,null,null,null,null,0,0,0,0,0,0,0,0,0,0,null,0,0,0,0,0,0,0,0,0,0,null,"2009-08-29",74708739.239999995,86621.62,74622117.620000005,84.999999985799988,7.5000000070999997,null,null,null,null,7.5000000070999997,null,null,null,"P1 Zahájena","Ne",{"$error":"#N/A"},"2009-08-29",74708739.239999995,86621.62,74622117.620000005,84.999999985799988,7.5000000070999997,null,null,null,null,7.5000000070999997,null,null,null,"P1 Zahájena","Ne",{"$error":"#N/A"}]
["01 První výzva - silnice","11.1.1","11.1","CZ.1.11/1.1.00/01.00019","II/425 Rajhrad - Židlochovice","P7 Výdaje projektu certifikovány","Správa a údržba silnic Jihomoravského kraje, příspěvková organizace kraje","Organizace zřízena krajem",129154187.52,11395957.720000001,11395957.720000001,0,0,0,0,11395957.73,0,0,0,151946102.97,0,0,151946102.97,4832178.25,156778281.22,1,"1/00019","P4 Proplacena příjemci","POST","2009-07-03",29036390.66,null,null,null,null,29036390.66,"2009-01-30",null,null,null,null,29036390.66,2562034.48,null,null,null,29036390.66,"2009-09-15",28993546.98,42843.68,"CZ.1.11/2009/07","2009-09-03",1142265.56,25.42,"2010-04-23",2562034.48,"2009-01-30",2558254.15,3780.33,null,null,null,null,null,null,null,null,null,null,null,null,2562034.48,null,null,null,29036390.66,"2009-01-30",35001671.32,34951266.979999997,29708576.932999998,2621345.0235000001,0,0,0,0,2621345.0235000001,0,0,0,50404.34,42843.688999999998,3780.3254999999999,0,0,0,0,3780.3254999999999,0,0,0,32376545.969999999,"2009-01-30",32376545.969999999,69490.62,32307055.350000001,85,7.5,null,null,null,null,7.5,null,null,null,"P2 Ukončena","Ne",{"$error":"#N/A"},"2009-01-30",32376545.969999999,69490.62,32307055.350000001,85,7.5,null,null,null,null,7.5,null,null,null,"P2 Ukončena","Ne",{"$error":"#N/A"}]
["01 První výzva - silnice","11.1.1","11.1","CZ.1.11/1.1.00/01.00019","II/425 Rajhrad - Židlochovice","P7 Výdaje projektu certifikovány","Správa a údržba silnic Jihomoravského kraje, příspěvková organizace kraje","Organizace zřízena krajem",129154187.52,11395957.720000001,11395957.720000001,0,0,0,0,11395957.73,0,0,0,151946102.97,0,0,151946102.97,4832178.25,156778281.22,2,"02/00019","P4 Proplacena příjemci","POST","2010-05-11",17775386.399999999,null,null,null,null,17775386.399999999,"2010-05-11",null,null,null,null,17775386.399999999,1568416.45,null,null,null,17775386.399999999,"2010-08-16",17775386.399999999,null,"CZ.1.11/2010/05","2010-06-02",689502.96,25.78,"2010-11-08",1568416.45,"2010-05-11",1568416.45,null,null,null,null,null,null,null,null,null,null,null,null,null,1568416.45,null,null,null,17775386.399999999,"2009-07-30",23411107.41,23411107.41,19899441.298500001,1755833.0557500001,0,0,0,0,1755833.0557500001,0,0,0,null,0,0,0,0,0,0,0,0,0,0,21655274.350000001,"2009-07-30",45316205.119999997,60000,45256205.119999997,85,7.5,null,null,null,null,7.5,null,null,null,"P2 Ukončena","Ne",{"$error":"#N/A"},"2009-07-30",45316205.119999997,60000,45256205.119999997,85,7.5,null,null,null,null,7.5,null,null,null,"P2 Ukončena","Ne",{"$error":"#N/A"}]
["01 První výzva - silnice","11.1.1","11.1","CZ.1.11/1.1.00/01.00019","II/425 Rajhrad - Židlochovice","P7 Výdaje projektu certifikovány","Správa a údržba silnic Jihomoravského kraje, příspěvková organizace kraje","Organizace zřízena krajem",129154187.52,11395957.720000001,11395957.720000001,0,0,0,0,11395957.73,0,0,0,151946102.97,0,0,151946102.97,4832178.25,156778281.22,3,"03/00019","P4 Proplacena příjemci","POST","2010-12-14",46745653.390000001,null,null,null,null,46745653.390000001,"2010-12-14",null,null,null,null,46745653.390000001,4124616.48,null,null,null,46745653.390000001,"2011-02-02",46745653.390000001,null,"CZ.1.11/2011/01","2011-01-20",1852046.49,25.24,"2011-03-24",4124616.48,"2010-12-14",4124616.48,null,null,null,null,null,null,null,null,null,null,null,null,null,4124616.48,null,null,null,46745653.390000001,"2010-05-31",57542279.399999999,57542279.399999999,48910937.490000002,4315670.9550000001,0,0,0,0,4315670.9550000001,0,0,0,null,0,0,0,0,0,0,0,0,0,0,53226608.450000003,"2010-05-30",54001812.100000001,50000,53951812.100000001,85,7.5,null,null,null,null,7.5,null,null,null,"P2 Ukončena","Ne",{"$error":"#N/A"},"2010-05-30",54001812.100000001,50000,53951812.100000001,85,7.5,null,null,null,null,7.5,null,null,null,"P2 Ukončena","Ne",{"$error":"#N/A"}]
["01 První výzva - silnice","11.1.1","11.1","CZ.1.11/1.1.00/01.00019","II/425 Rajhrad - Židlochovice","P7 Výdaje projektu certifikovány","Správa a údržba silnic Jihomoravského kraje, příspěvková organizace kraje","Organizace zřízena krajem",129154187.52,11395957.720000001,11395957.720000001,0,0,0,0,11395957.73,0,0,0,151946102.97,0,0,151946102.97,4832178.25,156778281.22,4,"04/00019","P4 Proplacena příjemci","POST","2011-03-17",30009742.57,null,null,null,null,30009742.57,"2011-03-17",null,null,null,null,30009742.57,2647918.46,null,null,null,30009742.57,"2011-04-11",30009742.57,null,"CZ.1.11/2011/03","2011-03-31",1223489.18,24.528000000000002,"2011-07-28",2647918.46,"2011-03-17",2647918.46,null,null,null,null,null,null,null,null,null,null,null,null,null,2647918.4700000002,null,null,null,30009742.57,"2010-12-22",35990502.840000004,35990502.840000004,30591927.414000001,2699287.713,0,0,0,0,2699287.713,0,0,0,null,0,0,0,0,0,0,0,0,0,0,33291215.120000001,"2010-11-30",38737647.380000003,143029.1,38594618.280000001,85,7.5,null,null,null,null,7.5,null,null,null,"P2 Ukončena","Ne",{"$error":"#N/A"},"2010-11-30",38737647.380000003,143029.1,38594618.280000001,85,7.5,null,null,null,null,7.5,null,null,null,"P2 Ukončena","Ne",{"$error":"#N/A"}]
["01 2.1 - Infrastruktura pro cestovní ruch","11.2.1","11.2","CZ.1.11/2.1.00/01.00020","Hotel Vinopa","N13 Projekt ohodnocen, nedosáhl minimální bodové hranice","Karel Hurta","Soukromá firma_MSP",null,null,null,null,null,null,null,null,null,null,null,null,null,null,null,null,null,1,null," ",null,null,null,null,null,null,null,null,null,null,null,null,null,null,null,null,null,null,null,null,null,null,null,null,null,null,null,null,null,null,null,null,null,null,null,null,null,null,null,null,null,null,null,null,null,null,null,null,null,null,null,0,0,0,0,0,0,0,0,0,0,null,0,0,0,0,0,0,0,0,0,0,null,"2008-07-01",3707320,0,3707320,50.999999240400001,4.4999999329999998,null,4.4999999329999998,null,null,null,null,null,40.000000893600003,"P1 Zahájena","Ne",{"$error":"#N/A"},"2008-07-01",3707320,0,3707320,50.999999240400001,4.4999999329999998,null,4.4999999329999998,null,null,null,null,null,40.000000893600003,"P1 Zahájena","Ne",{"$error":"#N/A"}]
["01 2.1 - Infrastruktura pro cestovní ruch","11.2.1","11.2","CZ.1.11/2.1.00/01.00020","Hotel Vinopa","N13 Projekt ohodnocen, nedosáhl minimální bodové hranice","Karel Hurta","Soukromá firma_MSP",null,null,null,null,null,null,null,null,null,null,null,null,null,null,null,null,null,2,null," ",null,null,null,null,null,null,null,null,null,null,null,null,null,null,null,null,null,null,null,null,null,null,null,null,null,null,null,null,null,null,null,null,null,null,null,null,null,null,null,null,null,null,null,null,null,null,null,null,null,null,null,0,0,0,0,0,0,0,0,0,0,null,0,0,0,0,0,0,0,0,0,0,null,"2008-10-01",3500000,0,3500000,50.999999240400001,4.4999999329999998,null,4.4999999329999998,null,null,null,null,null,40.000000893600003,"P1 Zahájena","Ne",{"$error":"#N/A"},"2008-10-01",3500000,0,3500000,50.999999240400001,4.4999999329999998,null,4.4999999329999998,null,null,null,null,null,40.000000893600003,"P1 Zahájena","Ne",{"$error":"#N/A"}]
["01 2.1 - Infrastruktura pro cestovní ruch","11.2.1","11.2","CZ.1.11/2.1.00/01.00020","Hotel Vinopa","N13 Projekt ohodnocen, nedosáhl minimální bodové hranice","Karel Hurta","Soukromá firma_MSP",null,null,null,null,null,null,null,null,null,null,null,null,null,null,null,null,null,3,null," ",null,null,null,null,null,null,null,null,null,null,null,null,null,null,null,null,null,null,null,null,null,null,null,null,null,null,null,null,null,null,null,null,null,null,null,null,null,null,null,null,null,null,null,null,null,null,null,null,null,null,null,0,0,0,0,0,0,0,0,0,0,null,0,0,0,0,0,0,0,0,0,0,null,"2009-01-02",2500000,0,2500000,50.999999240400001,4.4999999329999998,null,4.4999999329999998,null,null,null,null,null,40.000000893600003,"P1 Zahájena","Ne",{"$error":"#N/A"},"2009-01-02",2500000,0,2500000,50.999999240400001,4.4999999329999998,null,4.4999999329999998,null,null,null,null,null,40.000000893600003,"P1 Zahájena","Ne",{"$error":"#N/A"}]
["01 2.1 - Infrastruktura pro cestovní ruch","11.2.1","11.2","CZ.1.11/2.1.00/01.00020","Hotel Vinopa","N13 Projekt ohodnocen, nedosáhl minimální bodové hranice","Karel Hurta","Soukromá firma_MSP",null,null,null,null,null,null,null,null,null,null,null,null,null,null,null,null,null,4,null," ",null,null,null,null,null,null,null,null,null,null,null,null,null,null,null,null,null,null,null,null,null,null,null,null,null,null,null,null,null,null,null,null,null,null,null,null,null,null,null,null,null,null,null,null,null,null,null,null,null,null,null,0,0,0,0,0,0,0,0,0,0,null,0,0,0,0,0,0,0,0,0,0,null,"2009-04-03",2500000,0,2500000,50.999999240400001,4.4999999329999998,null,4.4999999329999998,null,null,null,null,null,40.000000893600003,"P1 Zahájena","Ne",{"$error":"#N/A"},"2009-04-03",2500000,0,2500000,50.999999240400001,4.4999999329999998,null,4.4999999329999998,null,null,null,null,null,40.000000893600003,"P1 Zahájena","Ne",{"$error":"#N/A"}]
["01 2.1 - Infrastruktura pro cestovní ruch","11.2.1","11.2","CZ.1.11/2.1.00/01.00020","Hotel Vinopa","N13 Projekt ohodnocen, nedosáhl minimální bodové hranice","Karel Hurta","Soukromá firma_MSP",null,null,null,null,null,null,null,null,null,null,null,null,null,null,null,null,null,5,null," ",null,null,null,null,null,null,null,null,null,null,null,null,null,null,null,null,null,null,null,null,null,null,null,null,null,null,null,null,null,null,null,null,null,null,null,null,null,null,null,null,null,null,null,null,null,null,null,null,null,null,null,0,0,0,0,0,0,0,0,0,0,null,0,0,0,0,0,0,0,0,0,0,null,"2009-08-02",1221377,0,1221377,50.999999240400001,4.4999999329999998,null,4.4999999329999998,null,null,null,null,null,40.000000893600003,"P1 Zahájena","Ne",{"$error":"#N/A"},"2009-08-02",1221377,0,1221377,50.999999240400001,4.4999999329999998,null,4.4999999329999998,null,null,null,null,null,40.000000893600003,"P1 Zahájena","Ne",{"$error":"#N/A"}]
["01 2.1 - Infrastruktura pro cestovní ruch","11.2.1","11.2","CZ.1.11/2.1.00/01.00021","Hotel Lipka ve Bzenci","N2 Projekt nedoporučen / neschválen","MG CENTRUM s.r.o.","Soukromá firma_MSP",null,null,null,null,null,null,null,null,null,null,null,null,null,null,null,null,null,1,null," ",null,null,null,null,null,null,null,null,null,null,null,null,null,null,null,null,null,null,null,null,null,null,null,null,null,null,null,null,null,null,null,null,null,null,null,null,null,null,null,null,null,null,null,null,null,null,null,null,null,null,null,0,0,0,0,0,0,0,0,0,0,null,0,0,0,0,0,0,0,0,0,0,null,"2008-08-29",4559182.8,0,4559182.8,51,4.5,null,4.5,null,null,null,null,null,40,"P1 Zahájena","Ne",{"$error":"#N/A"},"2008-08-29",4559182.8,0,4559182.8,51,4.5,null,4.5,null,null,null,null,null,40,"P1 Zahájena","Ne",{"$error":"#N/A"}]
["01 2.1 - Infrastruktura pro cestovní ruch","11.2.1","11.2","CZ.1.11/2.1.00/01.00021","Hotel Lipka ve Bzenci","N2 Projekt nedoporučen / neschválen","MG CENTRUM s.r.o.","Soukromá firma_MSP",null,null,null,null,null,null,null,null,null,null,null,null,null,null,null,null,null,2,null," ",null,null,null,null,null,null,null,null,null,null,null,null,null,null,null,null,null,null,null,null,null,null,null,null,null,null,null,null,null,null,null,null,null,null,null,null,null,null,null,null,null,null,null,null,null,null,null,null,null,null,null,0,0,0,0,0,0,0,0,0,0,null,0,0,0,0,0,0,0,0,0,0,null,"2009-06-26",8137944.5999999996,12000,8125944.5999999996,51,4.5,null,4.5,null,null,null,null,null,40,"P1 Zahájena","Ne",{"$error":"#N/A"},"2009-06-26",8137944.5999999996,12000,8125944.5999999996,51,4.5,null,4.5,null,null,null,null,null,40,"P1 Zahájena","Ne",{"$error":"#N/A"}]
["01 2.1 - Infrastruktura pro cestovní ruch","11.2.1","11.2","CZ.1.11/2.1.00/01.00022","Modernizace interiérů a certifikace služeb - MY HOTEL Lednice","N8 Rozhodnutí/Smlouva ukončena ze strany ŘO/ZS","MY HOTEL s.r.o.","Soukromá firma_MSP",3124560.9,551393.1,275696.55,275696.55,0,275696.55,0,0,0,0,2450636,6126590,0,0,6126590,1182996,7309586,1,"1/00022","N1 Neschválena","POST","2010-05-07",null,null,null,null,null,null,null,null,null,null,null,null,null,null,null,null,null,null,null,null,null,null,null,null,null,null,null,null,null,null,null,null,null,null,null,null,null,null,null,null,null,null,null,null,null,null,"2008-12-15",null,null,0,0,0,0,0,0,0,0,0,0,null,0,0,0,0,0,0,0,0,0,0,null,"2008-11-30",3675954,0,3675954,51,4.5,null,4.5,null,null,null,null,null,40,"P1 Zahájena","Ne",{"$error":"#N/A"},"2008-11-30",3675954,0,3675954,51,4.5,null,4.5,null,null,null,null,null,40,"P1 Zahájena","Ne",{"$error":"#N/A"}]
["01 3.2 - Rozvoj regionálních středisek","11.3.2","11.3","CZ.1.11/3.2.00/01.00023","Rekonstrukce areálu letního koupaliště - II. etapa","P8 Projekt finálně uzavřen","Město HODONÍN","Obec",53307624.68,4707097.09,4707097.09,0,0,0,0,0,26003702.23,0,0,84018424,0,0,84018424,0,84018424,1,"01/00023","P4 Proplacena příjemci","POST","2009-01-26",53307624.68,null,null,null,null,53307624.68,"2008-10-31",null,null,null,null,53307624.68,4707097.09,null,null,null,53307624.68,"2010-06-02",53294934.68,12690,"CZ.1.11/2010/03","2010-04-02",2095178.42,25.443000000000001,"2010-07-23",4707097.09,"2008-10-31",4705977.09,1120,null,null,null,null,null,null,null,null,null,null,null,null,null,26003702.23,null,null,53307624.68,"2008-10-31",null,null,0,0,0,0,0,0,0,0,0,0,null,0,0,0,0,0,0,0,0,0,0,58014721.770000003,"2008-10-31",84018424,20000,83998424,63.447541791500008,5.6024582061000006,null,null,null,null,null,30.950000002399999,null,null,"P2 Ukončena","Ne",{"$error":"#N/A"},"2008-10-31",84018424,20000,83998424,63.447541791500008,5.6024582061000006,null,null,null,null,null,30.950000002399999,null,null,"P2 Ukončena","Ne",{"$error":"#N/A"}]
["01 2.2 - Služby pro cestovní ruch","11.2.2","11.2","CZ.1.11/2.2.00/01.00024","EL ĎOĎO - marketing 2008","P8 Projekt finálně uzavřen","Westernové městečko Boskovice s.r.o.","Soukromá firma_MSP",1096895.8600000001,193614.14,96807.06,96807.08,0,96807.08,0,0,0,0,860340,2150850,0,0,2150850,408661.5,2559511.5,1,"1/00024","P4 Proplacena příjemci","POST","2008-12-23",854389.16,null,null,null,null,854389.16,"2008-12-23",null,null,null,null,854389.16,75404.53,null,75404.53,null,854389.16,"2009-05-21",null,854389.16,"CZ.1.11/2009/03","2009-05-13",32011.58,26.69,"2009-10-29",75404.53,"2008-12-23",null,75404.53,null,null,null,null,75404.53,"2008-12-23",null,75404.53,null,null,null,null,null,null,null,670132.15,854389.16,"2008-08-29",2150850,null,0,0,0,0,0,0,0,0,0,0,2150850,1096895.8600002506,96807.069999874657,0,96807.069999874657,0,0,0,0,0,860340,1290510,"2008-07-31",1290510,1290510,0,50.998249994200002,4.5008750029,null,4.5008750029,null,null,null,null,null,40,"P2 Ukončena","Ne",{"$error":"#N/A"},"2008-07-31",1290510,1290510,0,50.998249994200002,4.5008750029,null,4.5008750029,null,null,null,null,null,40,"P2 Ukončena","Ne",{"$error":"#N/A"}]
["01 2.1 - Infrastruktura pro cestovní ruch","11.2.1","11.2","CZ.1.11/2.1.00/01.00025","Výstavba rodinného ubytovacího zařízení - CAMP RELAX MORAVEC","N13 Projekt ohodnocen, nedosáhl minimální bodové hranice","Jindřich Vodička","Soukromá firma_MSP",null,null,null,null,null,null,null,null,null,null,null,null,null,null,null,null,null,1,null," ",null,null,null,null,null,null,null,null,null,null,null,null,null,null,null,null,null,null,null,null,null,null,null,null,null,null,null,null,null,null,null,null,null,null,null,null,null,null,null,null,null,null,null,null,null,null,null,null,null,null,null,0,0,0,0,0,0,0,0,0,0,null,0,0,0,0,0,0,0,0,0,0,null,"2008-12-30",3442699,0,3442699,50.999995552100003,4.4999996075000004,4.4999996075000004,null,null,null,null,null,null,40.000005232900001,"P1 Zahájena","Ne",{"$error":"#N/A"},"2008-12-30",3442699,0,3442699,50.999995552100003,4.4999996075000004,4.4999996075000004,null,null,null,null,null,null,40.000005232900001,"P1 Zahájena","Ne",{"$error":"#N/A"}]
["01 2.1 - Infrastruktura pro cestovní ruch","11.2.1","11.2","CZ.1.11/2.1.00/01.00025","Výstavba rodinného ubytovacího zařízení - CAMP RELAX MORAVEC","N13 Projekt ohodnocen, nedosáhl minimální bodové hranice","Jindřich Vodička","Soukromá firma_MSP",null,null,null,null,null,null,null,null,null,null,null,null,null,null,null,null,null,2,null," ",null,null,null,null,null,null,null,null,null,null,null,null,null,null,null,null,null,null,null,null,null,null,null,null,null,null,null,null,null,null,null,null,null,null,null,null,null,null,null,null,null,null,null,null,null,null,null,null,null,null,null,0,0,0,0,0,0,0,0,0,0,null,0,0,0,0,0,0,0,0,0,0,null,"2009-06-30",3351923,0,3351923,50.999995552100003,4.4999996075000004,4.4999996075000004,null,null,null,null,null,null,40.000005232900001,"P1 Zahájena","Ne",{"$error":"#N/A"},"2009-06-30",3351923,0,3351923,50.999995552100003,4.4999996075000004,4.4999996075000004,null,null,null,null,null,null,40.000005232900001,"P1 Zahájena","Ne",{"$error":"#N/A"}]
["01 2.1 - Infrastruktura pro cestovní ruch","11.2.1","11.2","CZ.1.11/2.1.00/01.00025","Výstavba rodinného ubytovacího zařízení - CAMP RELAX MORAVEC","N13 Projekt ohodnocen, nedosáhl minimální bodové hranice","Jindřich Vodička","Soukromá firma_MSP",null,null,null,null,null,null,null,null,null,null,null,null,null,null,null,null,null,3,null," ",null,null,null,null,null,null,null,null,null,null,null,null,null,null,null,null,null,null,null,null,null,null,null,null,null,null,null,null,null,null,null,null,null,null,null,null,null,null,null,null,null,null,null,null,null,null,null,null,null,null,null,0,0,0,0,0,0,0,0,0,0,null,0,0,0,0,0,0,0,0,0,0,null,"2009-12-30",2378152,127799.99,2250352.0099999998,50.999995552100003,4.4999996075000004,4.4999996075000004,null,null,null,null,null,null,40.000005232900001,"P1 Zahájena","Ne",{"$error":"#N/A"},"2009-12-30",2378152,127799.99,2250352.0099999998,50.999995552100003,4.4999996075000004,4.4999996075000004,null,null,null,null,null,null,40.000005232900001,"P1 Zahájena","Ne",{"$error":"#N/A"}]
["01 2.1 - Infrastruktura pro cestovní ruch","11.2.1","11.2","CZ.1.11/2.1.00/01.00026","Sportovně rekreační areál Hájek","N13 Projekt ohodnocen, nedosáhl minimální bodové hranice","MĚSTO NÁMĚŠŤ NAD OSLAVOU","Obec",null,null,null,null,null,null,null,null,null,null,null,null,null,null,null,null,null,1,null," ",null,null,null,null,null,null,null,null,null,null,null,null,null,null,null,null,null,null,null,null,null,null,null,null,null,null,null,null,null,null,null,null,null,null,null,null,null,null,null,null,null,null,null,null,null,null,null,null,null,null,null,0,0,0,0,0,0,0,0,0,0,null,0,0,0,0,0,0,0,0,0,0,null,"2008-12-01",3330490,25708.799999999999,3304781.2,36.759996940400001,3.2399997243000001,null,null,null,null,null,60.000003335300001,null,null,"P1 Zahájena","Ne",{"$error":"#N/A"},"2008-12-01",3330490,25708.799999999999,3304781.2,36.759996940400001,3.2399997243000001,null,null,null,null,null,60.000003335300001,null,null,"P1 Zahájena","Ne",{"$error":"#N/A"}]
["01 2.1 - Infrastruktura pro cestovní ruch","11.2.1","11.2","CZ.1.11/2.1.00/01.00026","Sportovně rekreační areál Hájek","N13 Projekt ohodnocen, nedosáhl minimální bodové hranice","MĚSTO NÁMĚŠŤ NAD OSLAVOU","Obec",null,null,null,null,null,null,null,null,null,null,null,null,null,null,null,null,null,2,null," ",null,null,null,null,null,null,null,null,null,null,null,null,null,null,null,null,null,null,null,null,null,null,null,null,null,null,null,null,null,null,null,null,null,null,null,null,null,null,null,null,null,null,null,null,null,null,null,null,null,null,null,0,0,0,0,0,0,0,0,0,0,null,0,0,0,0,0,0,0,0,0,0,null,"2009-08-31",3023996,4000,3019996,36.759996940400001,3.2399997243000001,null,null,null,null,null,60.000003335300001,null,null,"P1 Zahájena","Ne",{"$error":"#N/A"},"2009-08-31",3023996,4000,3019996,36.759996940400001,3.2399997243000001,null,null,null,null,null,60.000003335300001,null,null,"P1 Zahájena","Ne",{"$error":"#N/A"}]
["01 2.1 - Infrastruktura pro cestovní ruch","11.2.1","11.2","CZ.1.11/2.1.00/01.00026","Sportovně rekreační areál Hájek","N13 Projekt ohodnocen, nedosáhl minimální bodové hranice","MĚSTO NÁMĚŠŤ NAD OSLAVOU","Obec",null,null,null,null,null,null,null,null,null,null,null,null,null,null,null,null,null,3,null," ",null,null,null,null,null,null,null,null,null,null,null,null,null,null,null,null,null,null,null,null,null,null,null,null,null,null,null,null,null,null,null,null,null,null,null,null,null,null,null,null,null,null,null,null,null,null,null,null,null,null,null,0,0,0,0,0,0,0,0,0,0,null,0,0,0,0,0,0,0,0,0,0,null,"2010-05-30",841325,4000,837325,36.759996940400001,3.2399997243000001,null,null,null,null,null,60.000003335300001,null,null,"P1 Zahájena","Ne",{"$error":"#N/A"},"2010-05-30",841325,4000,837325,36.759996940400001,3.2399997243000001,null,null,null,null,null,60.000003335300001,null,null,"P1 Zahájena","Ne",{"$error":"#N/A"}]
["01 1.4 - Rozvoj infrastruktury pro bezmotorovou dopravu","11.1.4","11.1","CZ.1.11/1.4.00/01.00027","Cyklistické stezky a pěší komunikace podél řeky Svitavy - úsek \"B\"","P8 Projekt finálně uzavřen","MĚSTO BLANSKO","Obec",1179443.99,104069,104069,0,0,0,0,0,104069.01,0,0,1387582,0,0,1387582,100000,1487582,1,"1/00027","P4 Proplacena příjemci","POST","2009-08-19",901408.25,null,null,null,null,901408.25,"2008-12-19",null,null,null,null,901408.25,79536.34,null,null,null,901408.25,"2009-09-15",877198.57,24209.68,"CZ.1.11/2009/07","2009-09-03",35460.589999999997,25.42,"2010-04-23",79536.34,"2008-12-19",77400.179999999993,2136.16,null,null,null,null,null,null,null,null,null,null,null,null,null,79536.350000000006,null,null,901408.25,"2008-12-19",1060480.94,1031998.94,877198.57838233479,77400.180808316625,0,0,0,0,0,77400.180809348632,0,0,28482,24209.685631543049,2136.1571842142339,0,0,0,0,0,2136.1571842427161,0,0,980944.87,"2008-12-30",1283513,69375,1214138,84.999949552499999,7.5000252236999998,null,null,null,null,null,7.5000252237999998,null,null,"P2 Ukončena","Ne",{"$error":"#N/A"},"2008-12-30",1283513,69375,1214138,84.999949552499999,7.5000252236999998,null,null,null,null,null,7.5000252237999998,null,null,"P2 Ukončena","Ne",{"$error":"#N/A"}]
["01 3.3 - Rozvoj a stabilizace venkovských sídel","11.3.3","11.3","CZ.1.11/3.3.00/01.00028","Víceúčelové hřiště","N13 Projekt ohodnocen, nedosáhl minimální bodové hranice","OBEC NĚMČIČKY","Obec",null,null,null,null,null,null,null,null,null,null,null,null,null,null,null,null,null,1,null," ",null,null,null,null,null,null,null,null,null,null,null,null,null,null,null,null,null,null,null,null,null,null,null,null,null,null,null,null,null,null,null,null,null,null,null,null,null,null,null,null,null,null,null,null,null,null,null,null,null,null,null,0,0,0,0,0,0,0,0,0,0,null,0,0,0,0,0,0,0,0,0,0,null,"2009-09-01",5588350,0,5588350,84.999992385900001,7.4999993380000003,null,null,null,null,null,7.5000082761,null,null,"P1 Zahájena","Ne",{"$error":"#N/A"},"2009-09-01",5588350,0,5588350,84.999992385900001,7.4999993380000003,null,null,null,null,null,7.5000082761,null,null,"P1 Zahájena","Ne",{"$error":"#N/A"}]
["01 2.1 - Infrastruktura pro cestovní ruch","11.2.1","11.2","CZ.1.11/2.1.00/01.00029","Cyklotrasa Větřák","N13 Projekt ohodnocen, nedosáhl minimální bodové hranice","OBEC NĚMČIČKY","Obec",null,null,null,null,null,null,null,null,null,null,null,null,null,null,null,null,null,1,null," ",null,null,null,null,null,null,null,null,null,null,null,null,null,null,null,null,null,null,null,null,null,null,null,null,null,null,null,null,null,null,null,null,null,null,null,null,null,null,null,null,null,null,null,null,null,null,null,null,null,null,null,0,0,0,0,0,0,0,0,0,0,null,0,0,0,0,0,0,0,0,0,0,null,"2009-06-25",2931571.56,0,2931571.56,84.999973306099989,7.4999972549000002,null,null,null,null,null,7.5000294390000004,null,null,"P1 Zahájena","Ne",{"$error":"#N/A"},"2009-06-25",2931571.56,0,2931571.56,84.999973306099989,7.4999972549000002,null,null,null,null,null,7.5000294390000004,null,null,"P1 Zahájena","Ne",{"$error":"#N/A"}]
["01 3.4 - Veřejné služby regionálního významu","11.3.4","11.3","CZ.1.11/3.4.00/01.00030","VYBAVENÍ REGIONÁLNÍHO CENTRA VÝUKY STROJÍRENSKÝCH OBORŮ -1. ETAPA","P8 Projekt finálně uzavřen","Střední odborná škola a Střední odborné učiliště André Citroëna,Boskovice, nám. 9. května 2a","Organizace zřízena krajem",12961420,1143655,1143655,0,0,0,0,1143655,0,0,0,15248730,0,0,15248730,0,15248730,1,"1/00030","P4 Proplacena příjemci","POST","2009-09-30",12946385.199999999,null,null,null,null,12946385.199999999,"2009-06-03",null,null,null,null,12946385.199999999,1142328.3899999999,null,null,null,12946385.199999999,"2010-02-12",12729727.01,216658.19,"CZ.1.11/2010/01","2010-01-29",493534.05,26.232000000000003,"2010-07-23",1142328.3899999999,"2009-06-03",1123211.49,19116.900000000001,null,null,null,null,null,null,null,null,null,null,null,null,1142328.4099999999,null,null,null,12946385.199999999,"2009-06-03",15248730,14976150,12729727.018531753,1123211.4907266351,0,0,0,0,1123211.4907416112,0,0,0,272580,231692.99123682559,20443.504381450919,0,0,0,0,20443.504381723498,0,0,0,14105074,"2009-06-15",14105075,11007.5,14094067.5,84.999996785099995,7.5000016073999998,null,null,null,null,7.5000016074999998,null,null,null,"P2 Ukončena","Ne",{"$error":"#N/A"},"2009-06-15",14105075,11007.5,14094067.5,84.999996785099995,7.5000016073999998,null,null,null,null,7.5000016074999998,null,null,null,"P2 Ukončena","Ne",{"$error":"#N/A"}]
["01 2.1 - Infrastruktura pro cestovní ruch","11.2.1","11.2","CZ.1.11/2.1.00/01.00031","Stavební úpravy komunikace na Křemešník","N13 Projekt ohodnocen, nedosáhl minimální bodové hranice","Město Pelhřimov","Obec",null,null,null,null,null,null,null,null,null,null,null,null,null,null,null,null,null,1,null," ",null,null,null,null,null,null,null,null,null,null,null,null,null,null,null,null,null,null,null,null,null,null,null,null,null,null,null,null,null,null,null,null,null,null,null,null,null,null,null,null,null,null,null,null,null,null,null,null,null,null,null,0,0,0,0,0,0,0,0,0,0,null,0,0,0,0,0,0,0,0,0,0,null,"2008-12-15",14369433,0,14369433,84.997549721699997,7.4997837138000003,null,null,null,null,null,7.5026665645000001,null,null,"P1 Zahájena","Ne",{"$error":"#N/A"},"2008-12-15",14369433,0,14369433,84.997549721699997,7.4997837138000003,null,null,null,null,null,7.5026665645000001,null,null,"P1 Zahájena","Ne",{"$error":"#N/A"}]
["01 2.1 - Infrastruktura pro cestovní ruch","11.2.1","11.2","CZ.1.11/2.1.00/01.00032","Lyžařské trasy mikroregionu Boskovicko","P8 Projekt finálně uzavřen","svazek obcí Boskovicko","Sdružení obcí",6504149,573895.5,573895.5,0,0,0,0,0,0,573895.5,0,7651940,0,0,7651940,670312,8322252,1,"1/00032","P4 Proplacena příjemci","POST","2009-06-05",1313255.1000000001,null,null,null,null,1313255.1000000001,"2009-06-05",null,null,null,null,1313255.1000000001,115875.45,null,null,null,1313255.1000000001,"2009-07-20",1262680.1000000001,50575,"CZ.1.11/2009/05","2009-07-08",50470.99,26.02,"2009-10-29",115875.45,"2009-06-05",111412.95,4462.5,null,null,null,null,null,null,null,null,null,null,null,null,null,null,115875.45,null,1313255.1000000001,"2009-02-23",1545006,1485506,1262680.1000000001,111412.95,0,0,0,0,0,0,111412.95,0,59500,50575,4462.5,0,0,0,0,0,0,4462.5,0,1429130.55,"2009-02-28",1464598.5,59440.5,1405158,85,7.5,null,null,null,null,null,null,7.5,null,"P2 Ukončena","Ne",{"$error":"#N/A"},"2009-02-28",1464598.5,59440.5,1405158,85,7.5,null,null,null,null,null,null,7.5,null,"P2 Ukončena","Ne",{"$error":"#N/A"}]
["01 2.1 - Infrastruktura pro cestovní ruch","11.2.1","11.2","CZ.1.11/2.1.00/01.00032","Lyžařské trasy mikroregionu Boskovicko","P8 Projekt finálně uzavřen","svazek obcí Boskovicko","Sdružení obcí",6504149,573895.5,573895.5,0,0,0,0,0,0,573895.5,0,7651940,0,0,7651940,670312,8322252,2,"02/00032","P4 Proplacena příjemci","POST","2010-01-27",5190891.6900000004,null,null,null,null,5190891.6900000004,"2010-01-27",null,null,null,null,5190891.6900000004,458019.85,null,null,null,5190891.6900000004,"2010-08-16",5100897.9400000004,89993.75,"CZ.1.11/2010/02","2010-02-26",200150.05,25.934999999999999,"2010-07-23",458019.85,"2010-01-27",450079.23,7940.62,null,null,null,null,null,null,null,null,null,null,null,null,null,null,458019.86,null,5190891.6900000004,"2009-09-22",6106933,6001058,5100899.3,450079.35,0,0,0,0,0,0,450079.35,0,105875,89993.75,7940.625,0,0,0,0,0,0,7940.625,0,5648913.0199999996,"2009-09-30",5648913.0199999996,97934.37,5550978.6500000004,85,7.5,null,null,null,null,null,null,7.5,null,"P2 Ukončena","Ne",{"$error":"#N/A"},"2009-09-30",5648913.0199999996,97934.37,5550978.6500000004,85,7.5,null,null,null,null,null,null,7.5,null,"P2 Ukončena","Ne",{"$error":"#N/A"}]
["01 2.1 - Infrastruktura pro cestovní ruch","11.2.1","11.2","CZ.1.11/2.1.00/01.00033","Hotel Na Plovárně, Humpolec, II. etapa","P8 Projekt finálně uzavřen","Jaroslav Rychecký","Soukromá firma_MSP",3678470.9,649141.93000000005,324570.96000000002,324570.96999999997,324570.96999999997,0,0,0,0,0,4468348.17,8795961,0,0,8795961,1681232.59,10477193.59,1,"1/00033","P4 Proplacena příjemci","POST","2009-03-26",1138101.53,null,null,null,null,1138101.53,"2008-12-30",null,null,null,null,1138101.53,100420.74,100420.73,null,null,1138101.53,"2009-06-03",1138101.53,null,"CZ.1.11/2009/04","2009-05-27",42528.36,26.761000000000003,"2009-10-29",100420.74,"2008-12-30",100420.74,null,100420.73,"2008-12-30",100420.73,null,null,null,null,null,null,null,null,null,null,null,null,1382486.06,1138101.53,"2008-12-30",2721429.06,2721429.06,1138101.6381198652,100420.73277392151,100420.73277664294,0,0,0,0,0,0,1382485.9563295704,null,0,0,0,0,0,0,0,0,0,0,1338943,"2009-01-09",1344714,0,1344714,41.820000192100004,3.6900000169,3.690000017,null,null,null,null,null,null,50.799999774,"P2 Ukončena","Ne",{"$error":"#N/A"},"2009-01-09",1344714,0,1344714,41.820000192100004,3.6900000169,3.690000017,null,null,null,null,null,null,50.799999774,"P2 Ukončena","Ne",{"$error":"#N/A"}]
["01 2.1 - Infrastruktura pro cestovní ruch","11.2.1","11.2","CZ.1.11/2.1.00/01.00033","Hotel Na Plovárně, Humpolec, II. etapa","P8 Projekt finálně uzavřen","Jaroslav Rychecký","Soukromá firma_MSP",3678470.9,649141.93000000005,324570.96000000002,324570.96999999997,324570.96999999997,0,0,0,0,0,4468348.17,8795961,0,0,8795961,1681232.59,10477193.59,2,"2/00033","P4 Proplacena příjemci","POST","2009-07-14",854305.73,null,null,null,null,854305.73,"2009-07-14",null,null,null,null,854305.73,75379.91,75379.929999999993,null,null,854305.73,"2009-08-06",854305.73,null,"CZ.1.11/2009/06","2009-07-30",33396.1,25.581,"2010-04-23",75379.91,"2009-07-14",75379.91,null,75379.929999999993,"2009-07-14",75379.929999999993,null,null,null,null,null,null,null,null,null,null,null,null,1037750.63,854305.73,"2009-05-21",2042816.2,2042816.2,854305.73876424995,75379.918125235941,75379.918127278754,0,0,0,0,0,0,1037750.6249832354,null,0,0,0,0,0,0,0,0,0,0,1005065.57,"2009-05-15",1042163,0,1042163,41.820000192100004,3.6900000169,3.690000017,null,null,null,null,null,null,50.799999774,"P2 Ukončena","Ne",{"$error":"#N/A"},"2009-05-15",1042163,0,1042163,41.820000192100004,3.6900000169,3.690000017,null,null,null,null,null,null,50.799999774,"P2 Ukončena","Ne",{"$error":"#N/A"}]
["01 2.1 - Infrastruktura pro cestovní ruch","11.2.1","11.2","CZ.1.11/2.1.00/01.00033","Hotel Na Plovárně, Humpolec, II. etapa","P8 Projekt finálně uzavřen","Jaroslav Rychecký","Soukromá firma_MSP",3678470.9,649141.93000000005,324570.96000000002,324570.96999999997,324570.96999999997,0,0,0,0,0,4468348.17,8795961,0,0,8795961,1681232.59,10477193.59,3,"03/00033","P4 Proplacena příjemci","POST","2009-10-26",938136.04,null,null,null,null,938136.04,"2009-10-26",null,null,null,null,938136.04,82776.7,82776.72,null,null,938136.04,"2009-12-21",938136.04,null,"CZ.1.11/2009/11","2009-12-08",35825.86,26.186,"2010-04-23",82776.7,"2009-10-26",82776.7,null,82776.72,"2009-10-26",82776.72,null,null,null,null,null,null,null,null,null,null,null,null,1139581.8,938136.04,"2009-09-17",2243271.2599999998,2243271.2599999998,938136.04524132411,82776.70987311285,82776.709875356115,0,0,0,0,0,0,1139581.795010207,null,0,0,0,0,0,0,0,0,0,0,1103689.46,"2009-09-11",1103689.6299999999,0,1103689.6299999999,41.820000192100004,3.6900000169,3.690000017,null,null,null,null,null,null,50.799999774,"P2 Ukončena","Ne",{"$error":"#N/A"},"2009-09-11",1103689.6299999999,0,1103689.6299999999,41.820000192100004,3.6900000169,3.690000017,null,null,null,null,null,null,50.799999774,"P2 Ukončena","Ne",{"$error":"#N/A"}]
["01 2.1 - Infrastruktura pro cestovní ruch","11.2.1","11.2","CZ.1.11/2.1.00/01.00033","Hotel Na Plovárně, Humpolec, II. etapa","P8 Projekt finálně uzavřen","Jaroslav Rychecký","Soukromá firma_MSP",3678470.9,649141.93000000005,324570.96000000002,324570.96999999997,324570.96999999997,0,0,0,0,0,4468348.17,8795961,0,0,8795961,1681232.59,10477193.59,4,"04/00033","P4 Proplacena příjemci","POST","2010-03-05",724089.82,null,null,null,null,724089.82,"2010-03-05",null,null,null,null,724089.82,63890.27,63890.28,null,null,724089.82,"2010-06-02",724089.82,null,"CZ.1.11/2010/03","2010-04-02",28459.29,25.443000000000001,"2010-07-23",63890.27,"2010-03-05",63890.27,null,63890.28,"2010-03-05",63890.28,null,null,null,null,null,null,null,null,null,null,null,null,879573.48,724089.82,"2010-01-11",1731443.85,1731443.85,724089.82139610359,63890.278357614014,63890.278359345451,0,0,0,0,0,0,879573.47188693692,null,0,0,0,0,0,0,0,0,0,0,851870.49,"2009-12-18",851870.49,0,851870.49,41.820000192100004,3.6900000169,3.690000017,null,null,null,null,null,null,50.799999774,"P2 Ukončena","Ne",{"$error":"#N/A"},"2009-12-18",851870.49,0,851870.49,41.820000192100004,3.6900000169,3.690000017,null,null,null,null,null,null,50.799999774,"P2 Ukončena","Ne",{"$error":"#N/A"}]
["01 2.1 - Infrastruktura pro cestovní ruch","11.2.1","11.2","CZ.1.11/2.1.00/01.00034","Rekonstrukce hostince na rekreační a ubytovací zařízení","N12 Projektová žádost nesplnila formální náležitosti","FERROCOM a.s.","Soukromá firma_MSP",null,null,null,null,null,null,null,null,null,null,null,null,null,null,null,null,null,1,null," ",null,null,null,null,null,null,null,null,null,null,null,null,null,null,null,null,null,null,null,null,null,null,null,null,null,null,null,null,null,null,null,null,null,null,null,null,null,null,null,null,null,null,null,null,null,null,null,null,null,null,null,0,0,0,0,0,0,0,0,0,0,null,0,0,0,0,0,0,0,0,0,0,null,"2008-06-30",6342584,0,6342584,50.999995588000004,4.4999996107000007,null,4.4999996107000007,null,null,null,null,null,40.0000051906,"P1 Zahájena","Ne",{"$error":"#N/A"},"2008-06-30",6342584,0,6342584,50.999995588000004,4.4999996107000007,null,4.4999996107000007,null,null,null,null,null,40.0000051906,"P1 Zahájena","Ne",{"$error":"#N/A"}]
["01 2.1 - Infrastruktura pro cestovní ruch","11.2.1","11.2","CZ.1.11/2.1.00/01.00034","Rekonstrukce hostince na rekreační a ubytovací zařízení","N12 Projektová žádost nesplnila formální náležitosti","FERROCOM a.s.","Soukromá firma_MSP",null,null,null,null,null,null,null,null,null,null,null,null,null,null,null,null,null,2,null," ",null,null,null,null,null,null,null,null,null,null,null,null,null,null,null,null,null,null,null,null,null,null,null,null,null,null,null,null,null,null,null,null,null,null,null,null,null,null,null,null,null,null,null,null,null,null,null,null,null,null,null,0,0,0,0,0,0,0,0,0,0,null,0,0,0,0,0,0,0,0,0,0,null,"2009-05-31",7528645,0,7528645,50.999995588000004,4.4999996107000007,null,4.4999996107000007,null,null,null,null,null,40.0000051906,"P1 Zahájena","Ne",{"$error":"#N/A"},"2009-05-31",7528645,0,7528645,50.999995588000004,4.4999996107000007,null,4.4999996107000007,null,null,null,null,null,40.0000051906,"P1 Zahájena","Ne",{"$error":"#N/A"}]
["01 2.1 - Infrastruktura pro cestovní ruch","11.2.1","11.2","CZ.1.11/2.1.00/01.00035","Alexandrova rozhledna u Adamova","P8 Projekt finálně uzavřen","MĚSTO ADAMOV","Obec",2849545.1,251430.45,251430.45,0,0,0,0,0,251430.45,0,0,3352406,0,16634,3369040,0,3369040,1,"01/00035","P4 Proplacena příjemci","POST","2009-11-13",2626316.2799999998,null,null,null,null,2626316.2799999998,"2009-09-03",null,null,null,null,2626316.2799999998,231733.78,null,null,null,2626316.2799999998,"2010-08-16",2484074.73,142241.54999999999,"CZ.1.11/2010/02","2010-02-26",101265.33,25.934999999999999,"2010-07-23",231733.78,"2009-09-03",219183.06,12550.72,null,null,null,null,null,null,null,null,null,null,null,null,null,231733.8,null,null,2626316.2799999998,"2009-07-17",3137383.86,2970040.86,2524534.7310000001,222753.06450000001,0,0,0,0,0,222753.06450000001,0,0,167343,142241.54999999999,12550.725,0,0,0,0,0,12550.725,0,0,2902080.07,"2009-07-17",2902080.07,154792.26999999999,2747287.8,85,7.5,null,null,null,null,null,7.5,null,null,"P2 Ukončena","Ne",{"$error":"#N/A"},"2009-07-17",2902080.07,154792.26999999999,2747287.8,85,7.5,null,null,null,null,null,7.5,null,null,"P2 Ukončena","Ne",{"$error":"#N/A"}]
["01 2.1 - Infrastruktura pro cestovní ruch","11.2.1","11.2","CZ.1.11/2.1.00/01.00036","Centrum moravských tradic","N12 Projektová žádost nesplnila formální náležitosti","MĚSTO VELKÉ PAVLOVICE","Obec",null,null,null,null,null,null,null,null,null,null,null,null,null,null,null,null,null,1,null," ",null,null,null,null,null,null,null,null,null,null,null,null,null,null,null,null,null,null,null,null,null,null,null,null,null,null,null,null,null,null,null,null,null,null,null,null,null,null,null,null,null,null,null,null,null,null,null,null,null,null,null,0,0,0,0,0,0,0,0,0,0,null,0,0,0,0,0,0,0,0,0,0,null,"2008-09-15",12693990,185000,12508990,84.999999128499994,7.4999999198000005,null,null,null,null,null,7.5000009516999997,null,null,"P1 Zahájena","Ne",{"$error":"#N/A"},"2008-09-15",12693990,185000,12508990,84.999999128499994,7.4999999198000005,null,null,null,null,null,7.5000009516999997,null,null,"P1 Zahájena","Ne",{"$error":"#N/A"}]
["01 2.1 - Infrastruktura pro cestovní ruch","11.2.1","11.2","CZ.1.11/2.1.00/01.00036","Centrum moravských tradic","N12 Projektová žádost nesplnila formální náležitosti","MĚSTO VELKÉ PAVLOVICE","Obec",null,null,null,null,null,null,null,null,null,null,null,null,null,null,null,null,null,2,null," ",null,null,null,null,null,null,null,null,null,null,null,null,null,null,null,null,null,null,null,null,null,null,null,null,null,null,null,null,null,null,null,null,null,null,null,null,null,null,null,null,null,null,null,null,null,null,null,null,null,null,null,0,0,0,0,0,0,0,0,0,0,null,0,0,0,0,0,0,0,0,0,0,null,"2009-02-15",25904290,0,25904290,84.999999128499994,7.4999999198000005,null,null,null,null,null,7.5000009516999997,null,null,"P1 Zahájena","Ne",{"$error":"#N/A"},"2009-02-15",25904290,0,25904290,84.999999128499994,7.4999999198000005,null,null,null,null,null,7.5000009516999997,null,null,"P1 Zahájena","Ne",{"$error":"#N/A"}]
["01 2.1 - Infrastruktura pro cestovní ruch","11.2.1","11.2","CZ.1.11/2.1.00/01.00036","Centrum moravských tradic","N12 Projektová žádost nesplnila formální náležitosti","MĚSTO VELKÉ PAVLOVICE","Obec",null,null,null,null,null,null,null,null,null,null,null,null,null,null,null,null,null,3,null," ",null,null,null,null,null,null,null,null,null,null,null,null,null,null,null,null,null,null,null,null,null,null,null,null,null,null,null,null,null,null,null,null,null,null,null,null,null,null,null,null,null,null,null,null,null,null,null,null,null,null,null,0,0,0,0,0,0,0,0,0,0,null,0,0,0,0,0,0,0,0,0,0,null,"2009-05-16",27268259,0,27268259,84.999999128499994,7.4999999198000005,null,null,null,null,null,7.5000009516999997,null,null,"P1 Zahájena","Ne",{"$error":"#N/A"},"2009-05-16",27268259,0,27268259,84.999999128499994,7.4999999198000005,null,null,null,null,null,7.5000009516999997,null,null,"P1 Zahájena","Ne",{"$error":"#N/A"}]
["01 2.1 - Infrastruktura pro cestovní ruch","11.2.1","11.2","CZ.1.11/2.1.00/01.00036","Centrum moravských tradic","N12 Projektová žádost nesplnila formální náležitosti","MĚSTO VELKÉ PAVLOVICE","Obec",null,null,null,null,null,null,null,null,null,null,null,null,null,null,null,null,null,4,null," ",null,null,null,null,null,null,null,null,null,null,null,null,null,null,null,null,null,null,null,null,null,null,null,null,null,null,null,null,null,null,null,null,null,null,null,null,null,null,null,null,null,null,null,null,null,null,null,null,null,null,null,0,0,0,0,0,0,0,0,0,0,null,0,0,0,0,0,0,0,0,0,0,null,"2009-09-15",22411514,0,22411514,84.999999128499994,7.4999999198000005,null,null,null,null,null,7.5000009516999997,null,null,"P1 Zahájena","Ne",{"$error":"#N/A"},"2009-09-15",22411514,0,22411514,84.999999128499994,7.4999999198000005,null,null,null,null,null,7.5000009516999997,null,null,"P1 Zahájena","Ne",{"$error":"#N/A"}]
["01 2.1 - Infrastruktura pro cestovní ruch","11.2.1","11.2","CZ.1.11/2.1.00/01.00036","Centrum moravských tradic","N12 Projektová žádost nesplnila formální náležitosti","MĚSTO VELKÉ PAVLOVICE","Obec",null,null,null,null,null,null,null,null,null,null,null,null,null,null,null,null,null,5,null," ",null,null,null,null,null,null,null,null,null,null,null,null,null,null,null,null,null,null,null,null,null,null,null,null,null,null,null,null,null,null,null,null,null,null,null,null,null,null,null,null,null,null,null,null,null,null,null,null,null,null,null,0,0,0,0,0,0,0,0,0,0,null,0,0,0,0,0,0,0,0,0,0,null,"2010-06-30",4058752,0,4058752,84.999999128499994,7.4999999198000005,null,null,null,null,null,7.5000009516999997,null,null,"P1 Zahájena","Ne",{"$error":"#N/A"},"2010-06-30",4058752,0,4058752,84.999999128499994,7.4999999198000005,null,null,null,null,null,7.5000009516999997,null,null,"P1 Zahájena","Ne",{"$error":"#N/A"}]
["01 2.2 - Služby pro cestovní ruch","11.2.2","11.2","CZ.1.11/2.2.00/01.00037","Podpora cestovního ruchu v Mikroregionu Rajhradsko","P8 Projekt finálně uzavřen","Mikroregion Rajhradsko","Sdružení obcí",846646.75,74704.12,74704.12,0,0,0,0,0,0,74704.13,0,996055,0,0,996055,0,996055,1,"01/00037","P4 Proplacena příjemci","POST","2009-12-01",846646.75,null,null,null,null,846646.75,"2009-12-01",null,null,null,null,846646.75,74704.11,null,null,null,846646.75,"2010-02-12",154576.75,692070,"CZ.1.11/2010/01","2010-01-29",32275.34,26.232000000000003,"2010-07-23",74704.11,"2009-12-01",13639.12,61064.99,null,null,null,null,null,null,null,null,null,null,null,null,null,null,74704.14,null,846646.75,"2009-07-16",996055,181855,154576.75,13639.12423548158,0,0,0,0,0,0,13639.12576451842,0,814200,692070,61064.9965771032,0,0,0,0,0,0,61065.0034228968,0,921350.87,"2009-07-15",921350.87,753135,168215.87,85,7.4999995795999999,null,null,null,null,null,null,7.5000004204000001,null,"P2 Ukončena","Ne",{"$error":"#N/A"},"2009-07-15",921350.87,753135,168215.87,85,7.4999995795999999,null,null,null,null,null,null,7.5000004204000001,null,"P2 Ukončena","Ne",{"$error":"#N/A"}]
["01 2.1 - Infrastruktura pro cestovní ruch","11.2.1","11.2","CZ.1.11/2.1.00/01.00038","Penzion Černý sklep","N11 Projektová žádost nesplnila podmínky přijatelnosti","HAMIDO s.r.o.","Soukromá firma_MSP",null,null,null,null,null,null,null,null,null,null,null,null,null,null,null,null,null,1,null," ",null,null,null,null,null,null,null,null,null,null,null,null,null,null,null,null,null,null,null,null,null,null,null,null,null,null,null,null,null,null,null,null,null,null,null,null,null,null,null,null,null,null,null,null,null,null,null,null,null,null,null,0,0,0,0,0,0,0,0,0,0,null,0,0,0,0,0,0,0,0,0,0,null,"2009-01-15",4962414,100000,4862414,51,4.5,null,4.5,null,null,null,null,null,40,"P1 Zahájena","Ne",{"$error":"#N/A"},"2009-01-15",4962414,100000,4862414,51,4.5,null,4.5,null,null,null,null,null,40,"P1 Zahájena","Ne",{"$error":"#N/A"}]
["01 2.1 - Infrastruktura pro cestovní ruch","11.2.1","11.2","CZ.1.11/2.1.00/01.00038","Penzion Černý sklep","N11 Projektová žádost nesplnila podmínky přijatelnosti","HAMIDO s.r.o.","Soukromá firma_MSP",null,null,null,null,null,null,null,null,null,null,null,null,null,null,null,null,null,2,null," ",null,null,null,null,null,null,null,null,null,null,null,null,null,null,null,null,null,null,null,null,null,null,null,null,null,null,null,null,null,null,null,null,null,null,null,null,null,null,null,null,null,null,null,null,null,null,null,null,null,null,null,0,0,0,0,0,0,0,0,0,0,null,0,0,0,0,0,0,0,0,0,0,null,"2009-07-15",2380535,100000,2280535,51,4.5,null,4.5,null,null,null,null,null,40,"P1 Zahájena","Ne",{"$error":"#N/A"},"2009-07-15",2380535,100000,2280535,51,4.5,null,4.5,null,null,null,null,null,40,"P1 Zahájena","Ne",{"$error":"#N/A"}]
["01 2.1 - Infrastruktura pro cestovní ruch","11.2.1","11.2","CZ.1.11/2.1.00/01.00038","Penzion Černý sklep","N11 Projektová žádost nesplnila podmínky přijatelnosti","HAMIDO s.r.o.","Soukromá firma_MSP",null,null,null,null,null,null,null,null,null,null,null,null,null,null,null,null,null,3,null," ",null,null,null,null,null,null,null,null,null,null,null,null,null,null,null,null,null,null,null,null,null,null,null,null,null,null,null,null,null,null,null,null,null,null,null,null,null,null,null,null,null,null,null,null,null,null,null,null,null,null,null,0,0,0,0,0,0,0,0,0,0,null,0,0,0,0,0,0,0,0,0,0,null,"2010-12-31",998758,951931,46827,51,4.5,null,4.5,null,null,null,null,null,40,"P1 Zahájena","Ne",{"$error":"#N/A"},"2010-12-31",998758,951931,46827,51,4.5,null,4.5,null,null,null,null,null,40,"P1 Zahájena","Ne",{"$error":"#N/A"}]
["01 1.2 - Rozvoj dopravní obslužnosti a veřejné dopravy","11.1.2","11.1","CZ.1.11/1.2.00/01.00039","Přestupní uzel Bučovice, žel. st.","P8 Projekt finálně uzavřen","Správa a údržba silnic Jihomoravského kraje, příspěvková organizace kraje","Organizace zřízena krajem",13433353.439999999,1185295.8899999999,1185295.8899999999,0,0,0,0,1185295.8999999999,0,0,0,15803945.23,0,0,15803945.23,171360,15975305.23,1,"01/00039","P4 Proplacena příjemci","POST","2009-01-26",13275572.58,null,null,null,null,13275572.58,"2008-10-30",null,null,null,null,13275572.58,1171374.06,null,null,null,13275572.58,"2009-06-03",13204336.210000001,71236.37,"CZ.1.11/2009/04","2009-05-27",496079.09,26.761000000000003,"2009-10-29",1171374.06,"2008-10-30",1165088.5,6285.56,null,null,null,null,null,null,null,null,null,null,null,null,1171374.0800000001,null,null,null,13275572.58,"2008-10-30",null,null,0,0,0,0,0,0,0,0,0,0,null,0,0,0,0,0,0,0,0,0,0,15618320.720000001,"2008-10-30",14618649.34,82602.5,14536046.84,85,7.5,null,null,null,null,7.5,null,null,null,"P2 Ukončena","Ne",{"$error":"#N/A"},"2008-10-30",14618649.34,82602.5,14536046.84,85,7.5,null,null,null,null,7.5,null,null,null,"P2 Ukončena","Ne",{"$error":"#N/A"}]
["01 1.2 - Rozvoj dopravní obslužnosti a veřejné dopravy","11.1.2","11.1","CZ.1.11/1.2.00/01.00040","Přestupní uzel Otnice","P8 Projekt finálně uzavřen","Správa a údržba silnic Jihomoravského kraje, příspěvková organizace kraje","Organizace zřízena krajem",5244542.93,462753.58,462753.58,0,0,0,0,462754,0,0,0,6170050.5099999998,0,0,6170050.5099999998,64260,6234310.5099999998,1,"01/00040","P4 Proplacena příjemci","POST","2010-06-25",4052739.66,null,null,null,null,4052739.66,"2010-06-25",null,null,null,null,4052739.66,357594.52,null,null,null,4052739.66,"2010-08-16",3994699.54,58040.12,"CZ.1.11/2010/07","2010-07-23",163661.09,24.763000000000002,"2010-11-08",357594.52,"2010-06-25",352473.33,5121.1899999999996,null,null,null,null,null,null,null,null,null,null,null,null,357594.85,null,null,null,4052739.66,"2008-10-30",6044576.5,5976294,5079849.8966114409,448221.84828812489,0,0,0,0,448222.25510043377,0,0,0,68282.5,58040.124961283822,5121.1851953290598,0,0,0,0,5121.1898433871174,0,0,0,5591232.5999999996,"2008-10-30",5707296.5099999998,70115,5637181.5099999998,84.999999943299997,7.4999966248000005,null,null,null,null,7.5000034318999997,null,null,null,"P2 Ukončena","Ne",{"$error":"#N/A"},"2008-10-30",5707296.5099999998,70115,5637181.5099999998,84.999999943299997,7.4999966248000005,null,null,null,null,7.5000034318999997,null,null,null,"P2 Ukončena","Ne",{"$error":"#N/A"}]
["01 2.2 - Služby pro cestovní ruch","11.2.2","11.2","CZ.1.11/2.2.00/01.00041","Hustopeče - turistická brána jihu Moravy","P8 Projekt finálně uzavřen","MĚSTO HUSTOPEČE","Obec",576340.80000000005,50853.599999999999,50853.599999999999,0,0,0,0,0,50853.599999999999,0,0,678048,0,0,678048,68180.7,746228.7,1,"1/00041","P4 Proplacena příjemci","POST","2009-05-13",154250.99,null,null,null,null,154250.99,"2009-05-13",null,null,null,null,154250.99,13610.38,null,null,null,154250.99,"2009-06-03",null,154250.99,"CZ.1.11/2009/04","2009-05-27",5764.02,26.761000000000003,"2009-10-29",13610.38,"2009-05-13",null,13610.38,null,null,null,null,null,null,null,null,null,null,null,null,null,13610.39,null,null,154250.99,"2009-03-31",181471.76,null,0,0,0,0,0,0,0,0,0,0,181471.76,154250.99600000001,13610.382,0,0,0,0,0,13610.382,0,0,167861.38,"2009-03-30",172753.92000000001,172753.93,-0.01,85,7.5,null,null,null,null,null,7.5,null,null,"P2 Ukončena","Ne",{"$error":"#N/A"},"2009-03-30",172753.92000000001,172753.93,-0.01,85,7.5,null,null,null,null,null,7.5,null,null,"P2 Ukončena","Ne",{"$error":"#N/A"}]
["01 2.2 - Služby pro cestovní ruch","11.2.2","11.2","CZ.1.11/2.2.00/01.00041","Hustopeče - turistická brána jihu Moravy","P8 Projekt finálně uzavřen","MĚSTO HUSTOPEČE","Obec",576340.80000000005,50853.599999999999,50853.599999999999,0,0,0,0,0,50853.599999999999,0,0,678048,0,0,678048,68180.7,746228.7,2,"02/00041","P4 Proplacena příjemci","POST","2009-11-23",130832.76,null,null,null,null,130832.76,"2009-11-20",null,null,null,null,130832.76,11544.07,null,null,null,130832.76,"2010-01-19",null,130832.76,"CZ.1.11/2009/12","2009-12-30",4955.79,26.4,"2010-04-23",11544.07,"2009-11-20",null,11544.07,null,null,null,null,null,null,null,null,null,null,null,null,null,11544.07,null,null,130832.76,"2009-09-30",153920.9,null,0,0,0,0,0,0,0,0,0,0,153920.9,130832.765,11544.067499999999,0,0,0,0,0,11544.067499999999,0,0,142376.82999999999,"2009-09-30",142376.82999999999,142376.82999999999,0,85,7.5,null,null,null,null,null,7.5,null,null,"P2 Ukončena","Ne",{"$error":"#N/A"},"2009-09-30",142376.82999999999,142376.82999999999,0,85,7.5,null,null,null,null,null,7.5,null,null,"P2 Ukončena","Ne",{"$error":"#N/A"}]
["01 2.2 - Služby pro cestovní ruch","11.2.2","11.2","CZ.1.11/2.2.00/01.00041","Hustopeče - turistická brána jihu Moravy","P8 Projekt finálně uzavřen","MĚSTO HUSTOPEČE","Obec",576340.80000000005,50853.599999999999,50853.599999999999,0,0,0,0,0,50853.599999999999,0,0,678048,0,0,678048,68180.7,746228.7,3,"03/00041","P4 Proplacena příjemci","POST","2010-04-12",278538.2,null,null,null,null,278538.2,"2010-04-12",null,null,null,null,278538.2,24576.9,null,null,null,278538.2,"2010-08-16",null,278538.2,"CZ.1.11/2010/04","2010-04-30",10905.96,25.54,"2010-07-23",24576.9,"2010-04-12",null,24576.9,null,null,null,null,null,null,null,null,null,null,null,null,null,24576.9,null,null,278538.2,"2010-02-26",327692,null,0,0,0,0,0,0,0,0,0,0,327692,278538.2,24576.9,0,0,0,0,0,24576.9,0,0,303115.11,"2010-02-28",303115.11,303115.11,0,85,7.5,null,null,null,null,null,7.5,null,null,"P2 Ukončena","Ne",{"$error":"#N/A"},"2010-02-28",303115.11,303115.11,0,85,7.5,null,null,null,null,null,7.5,null,null,"P2 Ukončena","Ne",{"$error":"#N/A"}]
["01 2.1 - Infrastruktura pro cestovní ruch","11.2.1","11.2","CZ.1.11/2.1.00/01.00042","Aktivní Kyjov - blíž turistům i obyvatelům","P8 Projekt finálně uzavřen","Město KYJOV","Obec",3880330.58,342382.11,342382.11,0,0,0,0,0,342382.11,0,0,4565094.8,0,0,4565094.8,707572,5272666.8,1,"1/00042","P4 Proplacena příjemci","POST","2009-09-30",3880330.58,null,null,null,null,3880330.58,"2009-08-18",null,null,null,null,3880330.58,342382.1,null,null,null,3880330.58,"2009-11-10",3690517.25,189813.33,"CZ.1.11/2009/09","2009-10-30",146455.20000000001,26.495000000000001,"2010-04-23",342382.1,"2009-08-18",325633.87,16748.23,null,null,null,null,null,null,null,null,null,null,null,null,null,342382.12,null,null,3880330.58,"2008-12-18",4597331.3499999996,4373997.3499999996,3717897.7475000001,328049.80125000002,0,0,0,0,0,328049.80125000002,0,0,223334,189833.9,16750.05,0,0,0,0,0,16750.05,0,0,4222712.6900000004,"2009-07-24",4222712.6900000004,206583.95,4016128.74,85,7.5,null,null,null,null,null,7.5,null,null,"P2 Ukončena","Ne",{"$error":"#N/A"},"2009-07-24",4222712.6900000004,206583.95,4016128.74,85,7.5,null,null,null,null,null,7.5,null,null,"P2 Ukončena","Ne",{"$error":"#N/A"}]
["01 2.1 - Infrastruktura pro cestovní ruch","11.2.1","11.2","CZ.1.11/2.1.00/01.00043","Rekonstrukce a zpřístupnění památky dům Blahoslavova 77 v Třebíči","N13 Projekt ohodnocen, nedosáhl minimální bodové hranice","MĚSTO TŘEBÍČ","Obec",null,null,null,null,null,null,null,null,null,null,null,null,null,null,null,null,null,1,null," ",null,null,null,null,null,null,null,null,null,null,null,null,null,null,null,null,null,null,null,null,null,null,null,null,null,null,null,null,null,null,null,null,null,null,null,null,null,null,null,null,null,null,null,null,null,null,null,null,null,null,null,0,0,0,0,0,0,0,0,0,0,null,0,0,0,0,0,0,0,0,0,0,null,"2008-12-30",1941002,0,1941002,84.999999799099996,7.4999999497000003,null,null,null,null,null,7.5000002512000004,null,null,"P1 Zahájena","Ne",{"$error":"#N/A"},"2008-12-30",1941002,0,1941002,84.999999799099996,7.4999999497000003,null,null,null,null,null,7.5000002512000004,null,null,"P1 Zahájena","Ne",{"$error":"#N/A"}]
["01 2.1 - Infrastruktura pro cestovní ruch","11.2.1","11.2","CZ.1.11/2.1.00/01.00043","Rekonstrukce a zpřístupnění památky dům Blahoslavova 77 v Třebíči","N13 Projekt ohodnocen, nedosáhl minimální bodové hranice","MĚSTO TŘEBÍČ","Obec",null,null,null,null,null,null,null,null,null,null,null,null,null,null,null,null,null,2,null," ",null,null,null,null,null,null,null,null,null,null,null,null,null,null,null,null,null,null,null,null,null,null,null,null,null,null,null,null,null,null,null,null,null,null,null,null,null,null,null,null,null,null,null,null,null,null,null,null,null,null,null,0,0,0,0,0,0,0,0,0,0,null,0,0,0,0,0,0,0,0,0,0,null,"2009-06-30",2488635,0,2488635,84.999999799099996,7.4999999497000003,null,null,null,null,null,7.5000002512000004,null,null,"P1 Zahájena","Ne",{"$error":"#N/A"},"2009-06-30",2488635,0,2488635,84.999999799099996,7.4999999497000003,null,null,null,null,null,7.5000002512000004,null,null,"P1 Zahájena","Ne",{"$error":"#N/A"}]
["01 2.1 - Infrastruktura pro cestovní ruch","11.2.1","11.2","CZ.1.11/2.1.00/01.00043","Rekonstrukce a zpřístupnění památky dům Blahoslavova 77 v Třebíči","N13 Projekt ohodnocen, nedosáhl minimální bodové hranice","MĚSTO TŘEBÍČ","Obec",null,null,null,null,null,null,null,null,null,null,null,null,null,null,null,null,null,3,null," ",null,null,null,null,null,null,null,null,null,null,null,null,null,null,null,null,null,null,null,null,null,null,null,null,null,null,null,null,null,null,null,null,null,null,null,null,null,null,null,null,null,null,null,null,null,null,null,null,null,null,null,0,0,0,0,0,0,0,0,0,0,null,0,0,0,0,0,0,0,0,0,0,null,"2009-12-30",2695212,0,2695212,84.999999799099996,7.4999999497000003,null,null,null,null,null,7.5000002512000004,null,null,"P1 Zahájena","Ne",{"$error":"#N/A"},"2009-12-30",2695212,0,2695212,84.999999799099996,7.4999999497000003,null,null,null,null,null,7.5000002512000004,null,null,"P1 Zahájena","Ne",{"$error":"#N/A"}]
["01 2.1 - Infrastruktura pro cestovní ruch","11.2.1","11.2","CZ.1.11/2.1.00/01.00043","Rekonstrukce a zpřístupnění památky dům Blahoslavova 77 v Třebíči","N13 Projekt ohodnocen, nedosáhl minimální bodové hranice","MĚSTO TŘEBÍČ","Obec",null,null,null,null,null,null,null,null,null,null,null,null,null,null,null,null,null,4,null," ",null,null,null,null,null,null,null,null,null,null,null,null,null,null,null,null,null,null,null,null,null,null,null,null,null,null,null,null,null,null,null,null,null,null,null,null,null,null,null,null,null,null,null,null,null,null,null,null,null,null,null,0,0,0,0,0,0,0,0,0,0,null,0,0,0,0,0,0,0,0,0,0,null,"2010-06-30",2082613,0,2082613,84.999999799099996,7.4999999497000003,null,null,null,null,null,7.5000002512000004,null,null,"P1 Zahájena","Ne",{"$error":"#N/A"},"2010-06-30",2082613,0,2082613,84.999999799099996,7.4999999497000003,null,null,null,null,null,7.5000002512000004,null,null,"P1 Zahájena","Ne",{"$error":"#N/A"}]
["01 3.4 - Veřejné služby regionálního významu","11.3.4","11.3","CZ.1.11/3.4.00/01.00044","Modernizace vybavení odborných učeben - Laboratoř elektrotechniky, automatizace a CNC strojů","P8 Projekt finálně uzavřen","Sřední průmyslová škola,Jedovnice,Na Větřáku 463","Organizace zřízena krajem",6346683.0899999999,560001.44999999995,560001.44999999995,0,0,0,0,560001.46,0,0,0,7466686,0,0,7466686,0,7466686,1,"01/00044","P4 Proplacena příjemci","POST","2009-10-23",1476919.01,null,null,null,null,1476919.01,"2009-01-29",null,null,null,null,1476919.01,130316.39,null,null,null,1476919.01,"2009-11-10",1016932.17,459986.84,"CZ.1.11/2009/09","2009-10-30",55743.31,26.495000000000001,"2010-04-23",130316.39,"2009-01-29",89729.31,40587.08,null,null,null,null,null,null,null,null,null,null,null,null,130316.4,null,null,null,1476919.01,"2009-01-29",1737551.8,1196390.8,1016932.1783980327,89729.31,0,0,0,0,89729.311601967274,0,0,0,541161,459986.84927538544,40587.074999999997,0,0,0,0,40587.07572461458,0,0,0,1607235.42,"2008-09-30",1607235.42,541161,1066074.42,84.999999866099998,7.5,null,null,null,null,7.5000001339000004,null,null,null,"P2 Ukončena","Ne",{"$error":"#N/A"},"2008-09-30",1607235.42,541161,1066074.42,84.999999866099998,7.5,null,null,null,null,7.5000001339000004,null,null,null,"P2 Ukončena","Ne",{"$error":"#N/A"}]
["01 3.4 - Veřejné služby regionálního významu","11.3.4","11.3","CZ.1.11/3.4.00/01.00044","Modernizace vybavení odborných učeben - Laboratoř elektrotechniky, automatizace a CNC strojů","P8 Projekt finálně uzavřen","Sřední průmyslová škola,Jedovnice,Na Větřáku 463","Organizace zřízena krajem",6346683.0899999999,560001.44999999995,560001.44999999995,0,0,0,0,560001.46,0,0,0,7466686,0,0,7466686,0,7466686,2,"02/00044","P4 Proplacena příjemci","POST","2009-12-10",786540.69,null,null,null,null,786540.69,"2009-11-09",null,null,null,null,786540.69,69400.649999999994,null,null,null,786540.69,"2010-08-16",682952.89,103587.8,"CZ.1.11/2010/04","2010-04-30",30796.42,25.54,"2010-07-23",69400.649999999994,"2009-11-09",60260.55,9140.1,null,null,null,null,null,null,null,null,null,null,null,null,69400.67,null,null,null,786540.69,"2009-11-09",925342,803474,682952.89892414829,60260.55,0,0,0,0,60260.551075851683,0,0,0,121868,103587.79983681875,9140.1,0,0,0,0,9140.1001631812524,0,0,0,855941.35,"2009-05-31",855941.35,112727.9,743213.45,84.999999866099998,7.5,null,null,null,null,7.5000001339000004,null,null,null,"P2 Ukončena","Ano",{"$error":"#N/A"},"2009-05-31",855941.35,112727.9,743213.45,84.999999866099998,7.5,null,null,null,null,7.5000001339000004,null,null,null,"P2 Ukončena","Ano",{"$error":"#N/A"}]
["01 3.4 - Veřejné služby regionálního významu","11.3.4","11.3","CZ.1.11/3.4.00/01.00044","Modernizace vybavení odborných učeben - Laboratoř elektrotechniky, automatizace a CNC strojů","P8 Projekt finálně uzavřen","Sřední průmyslová škola,Jedovnice,Na Větřáku 463","Organizace zřízena krajem",6346683.0899999999,560001.44999999995,560001.44999999995,0,0,0,0,560001.46,0,0,0,7466686,0,0,7466686,0,7466686,3,"03/00044","P4 Proplacena příjemci","POST","2009-12-23",3589868.73,null,null,null,null,3589868.73,"2009-12-23",null,null,null,null,3589868.73,316753.12,null,null,null,3589868.73,"2010-08-16",3549913.64,39955.089999999997,"CZ.1.11/2010/04","2010-04-30",140558.68,25.54,"2010-07-23",316753.12,"2009-12-23",313227.67,3525.45,null,null,null,null,null,null,null,null,null,null,null,null,316753.15000000002,null,null,null,3589868.73,"2009-12-10",4223375,4176369,3549913.6444078418,313227.67499999999,0,0,0,0,313227.68059215811,0,0,0,47006,39955.099937058963,3525.45,0,0,0,0,3525.450062941034,0,0,0,3906621.88,"2009-09-30",4443507.8,36000,4407507.8,84.999999866099998,7.5,null,null,null,null,7.5000001339000004,null,null,null,"P2 Ukončena","Ne",{"$error":"#N/A"},"2009-09-30",4443507.8,36000,4407507.8,84.999999866099998,7.5,null,null,null,null,7.5000001339000004,null,null,null,"P2 Ukončena","Ne",{"$error":"#N/A"}]
["01 2.1 - Infrastruktura pro cestovní ruch","11.2.1","11.2","CZ.1.11/2.1.00/01.00045","Rozšíření nabídky služeb Hotelu Tři Věžičky a certifikace","N2 Projekt nedoporučen / neschválen","GARANT - HOTEL, s.r.o.","Soukromá firma_MSP",null,null,null,null,null,null,null,null,null,null,null,null,null,null,null,null,null,1,null," ",null,null,null,null,null,null,null,null,null,null,null,null,null,null,null,null,null,null,null,null,null,null,null,null,null,null,null,null,null,null,null,null,null,null,null,null,null,null,null,null,null,null,null,null,null,null,null,null,null,null,null,0,0,0,0,0,0,0,0,0,0,null,0,0,0,0,0,0,0,0,0,0,null,"2008-09-30",3300000,0,3300000,51,4.5,4.5,null,null,null,null,null,null,40,"P1 Zahájena","Ne",{"$error":"#N/A"},"2008-09-30",3300000,0,3300000,51,4.5,4.5,null,null,null,null,null,null,40,"P1 Zahájena","Ne",{"$error":"#N/A"}]
["01 2.1 - Infrastruktura pro cestovní ruch","11.2.1","11.2","CZ.1.11/2.1.00/01.00045","Rozšíření nabídky služeb Hotelu Tři Věžičky a certifikace","N2 Projekt nedoporučen / neschválen","GARANT - HOTEL, s.r.o.","Soukromá firma_MSP",null,null,null,null,null,null,null,null,null,null,null,null,null,null,null,null,null,2,null," ",null,null,null,null,null,null,null,null,null,null,null,null,null,null,null,null,null,null,null,null,null,null,null,null,null,null,null,null,null,null,null,null,null,null,null,null,null,null,null,null,null,null,null,null,null,null,null,null,null,null,null,0,0,0,0,0,0,0,0,0,0,null,0,0,0,0,0,0,0,0,0,0,null,"2008-12-30",3428781,0,3428781,51,4.5,4.5,null,null,null,null,null,null,40,"P1 Zahájena","Ne",{"$error":"#N/A"},"2008-12-30",3428781,0,3428781,51,4.5,4.5,null,null,null,null,null,null,40,"P1 Zahájena","Ne",{"$error":"#N/A"}]
["01 2.1 - Infrastruktura pro cestovní ruch","11.2.1","11.2","CZ.1.11/2.1.00/01.00045","Rozšíření nabídky služeb Hotelu Tři Věžičky a certifikace","N2 Projekt nedoporučen / neschválen","GARANT - HOTEL, s.r.o.","Soukromá firma_MSP",null,null,null,null,null,null,null,null,null,null,null,null,null,null,null,null,null,3,null," ",null,null,null,null,null,null,null,null,null,null,null,null,null,null,null,null,null,null,null,null,null,null,null,null,null,null,null,null,null,null,null,null,null,null,null,null,null,null,null,null,null,null,null,null,null,null,null,null,null,null,null,0,0,0,0,0,0,0,0,0,0,null,0,0,0,0,0,0,0,0,0,0,null,"2009-03-30",3428781,0,3428781,51,4.5,4.5,null,null,null,null,null,null,40,"P1 Zahájena","Ne",{"$error":"#N/A"},"2009-03-30",3428781,0,3428781,51,4.5,4.5,null,null,null,null,null,null,40,"P1 Zahájena","Ne",{"$error":"#N/A"}]
["01 2.1 - Infrastruktura pro cestovní ruch","11.2.1","11.2","CZ.1.11/2.1.00/01.00045","Rozšíření nabídky služeb Hotelu Tři Věžičky a certifikace","N2 Projekt nedoporučen / neschválen","GARANT - HOTEL, s.r.o.","Soukromá firma_MSP",null,null,null,null,null,null,null,null,null,null,null,null,null,null,null,null,null,4,null," ",null,null,null,null,null,null,null,null,null,null,null,null,null,null,null,null,null,null,null,null,null,null,null,null,null,null,null,null,null,null,null,null,null,null,null,null,null,null,null,null,null,null,null,null,null,null,null,null,null,null,null,0,0,0,0,0,0,0,0,0,0,null,0,0,0,0,0,0,0,0,0,0,null,"2009-06-30",3443981,0,3443981,51,4.5,4.5,null,null,null,null,null,null,40,"P1 Zahájena","Ne",{"$error":"#N/A"},"2009-06-30",3443981,0,3443981,51,4.5,4.5,null,null,null,null,null,null,40,"P1 Zahájena","Ne",{"$error":"#N/A"}]
["01 2.1 - Infrastruktura pro cestovní ruch","11.2.1","11.2","CZ.1.11/2.1.00/01.00045","Rozšíření nabídky služeb Hotelu Tři Věžičky a certifikace","N2 Projekt nedoporučen / neschválen","GARANT - HOTEL, s.r.o.","Soukromá firma_MSP",null,null,null,null,null,null,null,null,null,null,null,null,null,null,null,null,null,5,null," ",null,null,null,null,null,null,null,null,null,null,null,null,null,null,null,null,null,null,null,null,null,null,null,null,null,null,null,null,null,null,null,null,null,null,null,null,null,null,null,null,null,null,null,null,null,null,null,null,null,null,null,0,0,0,0,0,0,0,0,0,0,null,0,0,0,0,0,0,0,0,0,0,null,"2009-09-30",5634601,0,5634601,51,4.5,4.5,null,null,null,null,null,null,40,"P1 Zahájena","Ne",{"$error":"#N/A"},"2009-09-30",5634601,0,5634601,51,4.5,4.5,null,null,null,null,null,null,40,"P1 Zahájena","Ne",{"$error":"#N/A"}]
["01 3.4 - Veřejné služby regionálního významu","11.3.4","11.3","CZ.1.11/3.4.00/01.00046","Zdravotnické přístroje a mobiliář pro západní křídlo Nemocnice Vyškov","P8 Projekt finálně uzavřen","Nemocnice Vyškov, příspěvková organizace","Organizace zřízena krajem",9163002.1199999992,808500.48,808500.48,0,0,0,0,808500.48,0,0,0,10780003.08,0,0,10780003.08,0,10780003.08,1,"1/00046","P4 Proplacena příjemci","POST","2009-08-31",9162555.9900000002,null,null,null,null,9162555.9900000002,"2009-01-30",null,null,null,null,9162555.9900000002,808461.11,null,null,null,9162555.9900000002,"2009-09-15",4563085.47,4599470.5199999996,"CZ.1.11/2009/07","2009-09-03",360446.73,25.42,"2010-04-23",808461.11,"2009-01-30",402625.33,405835.78,null,null,null,null,null,null,null,null,null,null,null,null,808461.13,null,null,null,9162555.9900000002,"2009-01-30",10779478.23,5368336.1399999997,4563085.4727436844,402625.33362815774,0,0,0,0,402625.33362815774,0,0,0,5411142.0899999999,4599470.5282800896,405835.780859955,0,0,0,0,405835.780859955,0,0,0,9970978.0199999996,"2008-12-31",9971502.5800000001,0.92,9971501.6600000001,84.99999541279999,7.5000022935999997,null,null,null,null,7.5000022935999997,null,null,null,"P2 Ukončena","Ne",{"$error":"#N/A"},"2008-12-31",9971502.5800000001,0.92,9971501.6600000001,84.99999541279999,7.5000022935999997,null,null,null,null,7.5000022935999997,null,null,null,"P2 Ukončena","Ne",{"$error":"#N/A"}]
["01 2.1 - Infrastruktura pro cestovní ruch","11.2.1","11.2","CZ.1.11/2.1.00/01.00047","Přístavba WELLNESS CENTRA Hotelu Filipov","P8 Projekt finálně uzavřen","NATURO-PROMENANTE s.r.o.","Soukromá firma_MSP",3927000,693000,346500,346500,0,346500,0,0,0,0,3080000,7700000,0,0,7700000,1737500,9437500,1,"1/00047","P4 Proplacena příjemci","POST","2009-10-30",1563878.98,null,null,null,null,1563878.98,"2009-04-30",null,null,null,null,1563878.98,137989.32,null,137989.32,null,1563878.98,"2010-02-12",1563878.98,null,"CZ.1.11/2010/01","2010-01-29",59617.22,26.232000000000003,"2010-07-23",137989.32,"2009-04-30",137989.32,null,null,null,null,null,137989.32,"2009-04-30",137989.32,null,null,null,null,null,null,null,null,1226571.76,1563878.98,"2009-04-30",7700000,7700000,3927000,346500,0,346500,0,0,0,0,0,3080000,null,0,0,0,0,0,0,0,0,0,0,4590000,"2009-04-30",4620000,0,4620000,51,4.5,null,4.5,null,null,null,null,null,40,"P2 Ukončena","Ne",{"$error":"#N/A"},"2009-04-30",4620000,0,4620000,51,4.5,null,4.5,null,null,null,null,null,40,"P2 Ukončena","Ne",{"$error":"#N/A"}]
["01 1.2 - Rozvoj dopravní obslužnosti a veřejné dopravy","11.1.2","11.1","CZ.1.11/1.2.00/01.00048","Přestupní uzel Nesovice","P8 Projekt finálně uzavřen","Správa a údržba silnic Jihomoravského kraje, příspěvková organizace kraje","Organizace zřízena krajem",32313742.550000001,2851212.58,2851212.58,0,0,0,0,2851212.59,0,0,0,38016167.719999999,0,0,38016167.719999999,129710,38145877.719999999,1,"1/00048","P4 Proplacena příjemci","POST","2010-06-25",23693194.219999999,null,null,null,null,23693194.219999999,"2010-06-25",null,null,null,null,23693194.219999999,2090575.97,null,null,null,23693194.219999999,"2010-08-16",23608761.600000001,84432.62,"CZ.1.11/2010/07","2010-07-23",956798.22,24.763000000000002,"2010-11-08",2090575.97,"2010-06-25",2083126.03,7449.94,null,null,null,null,null,null,null,null,null,null,null,null,2090575.97,null,null,null,23693194.219999999,"2009-01-30",33613415.299999997,33514082.800000001,28486970.378223754,2513556.2108713663,0,0,0,0,2513556.2109048804,0,0,0,99332.5,84432.624994735379,7449.9375025826448,0,0,0,0,7449.9375026819771,0,0,0,31092409.149999999,"2008-12-31",35164955.140000001,95090,35069865.140000001,84.999999994699991,7.5000000026000002,null,null,null,null,7.5000000027000002,null,null,null,"P2 Ukončena","Ne",{"$error":"#N/A"},"2008-12-31",35164955.140000001,95090,35069865.140000001,84.999999994699991,7.5000000026000002,null,null,null,null,7.5000000027000002,null,null,null,"P2 Ukončena","Ne",{"$error":"#N/A"}]
["01 3.4 - Veřejné služby regionálního významu","11.3.4","11.3","CZ.1.11/3.4.00/01.00049","Regionální centrum mechatroniky","P8 Projekt finálně uzavřen","Střední škola technická a ekonomická, Brno, Olomoucká 61","Organizace zřízena krajem",4226200,372900,372900,0,0,0,0,372900,0,0,0,4972000,0,0,4972000,0,4972000,1,"1/00049","P4 Proplacena příjemci","POST","2009-09-29",2093185.21,null,null,null,null,2093185.21,"2009-04-09",null,null,null,null,2093185.21,184692.81,null,null,null,2093185.21,"2009-11-10",2038797.11,54388.1,"CZ.1.11/2009/09","2009-10-30",79003.03,26.495000000000001,"2010-04-23",184692.81,"2009-04-09",179893.86,4798.95,null,null,null,null,null,null,null,null,null,null,null,null,184692.82,null,null,null,2093185.21,"2009-04-09",2512730.5299999998,2444994.5299999998,2078245.3504999999,183374.58975000001,0,0,0,0,183374.58975000001,0,0,0,67736,57575.6,5080.2,0,0,0,0,5080.2,0,0,0,2324275.7400000002,"2009-04-11",2222500,90650,2131850,85,7.5,null,null,null,null,7.5,null,null,null,"P2 Ukončena","Ne",{"$error":"#N/A"},"2009-04-11",2222500,90650,2131850,85,7.5,null,null,null,null,7.5,null,null,null,"P2 Ukončena","Ne",{"$error":"#N/A"}]
["01 3.4 - Veřejné služby regionálního významu","11.3.4","11.3","CZ.1.11/3.4.00/01.00049","Regionální centrum mechatroniky","P8 Projekt finálně uzavřen","Střední škola technická a ekonomická, Brno, Olomoucká 61","Organizace zřízena krajem",4226200,372900,372900,0,0,0,0,372900,0,0,0,4972000,0,0,4972000,0,4972000,2,"02/00049","P4 Proplacena příjemci","POST","2009-12-10",1869088.81,null,null,null,null,1869088.81,"2009-12-10",null,null,null,null,1869088.81,164919.6,null,null,null,1869088.81,"2010-02-12",1830891.51,38197.300000000003,"CZ.1.11/2010/01","2010-01-29",71252.240000000005,26.232000000000003,"2010-07-23",164919.6,"2009-12-10",161549.25,3370.35,null,null,null,null,null,null,null,null,null,null,null,null,164919.60999999999,null,null,null,1869088.81,"2009-10-26",2301225,2197949,1868256.65,164846.17499999999,0,0,0,0,164846.17499999999,0,0,0,103276,87784.6,7745.7,0,0,0,0,7745.7,0,0,0,2274824.2599999998,"2009-09-30",2274824.2599999998,95530.3,2179293.96,85,7.5,null,null,null,null,7.5,null,null,null,"P2 Ukončena","Ne",{"$error":"#N/A"},"2009-09-30",2274824.2599999998,95530.3,2179293.96,85,7.5,null,null,null,null,7.5,null,null,null,"P2 Ukončena","Ne",{"$error":"#N/A"}]
["01 2.1 - Infrastruktura pro cestovní ruch","11.2.1","11.2","CZ.1.11/2.1.00/01.00050","První bobová dráha na jižní Moravě","N2 Projekt nedoporučen / neschválen","Petr Slezák","Soukromá firma_MSP",null,null,null,null,null,null,null,null,null,null,null,null,null,null,null,null,null,1,null," ",null,null,null,null,null,null,null,null,null,null,null,null,null,null,null,null,null,null,null,null,null,null,null,null,null,null,null,null,null,null,null,null,null,null,null,null,null,null,null,null,null,null,null,null,null,null,null,null,null,null,null,0,0,0,0,0,0,0,0,0,0,null,0,0,0,0,0,0,0,0,0,0,null,"2008-11-30",13007475,0,13007475,50.999997647500003,4.4999997925000006,null,4.4999997924000006,null,null,null,null,null,40.000002767600002,"P1 Zahájena","Ne",{"$error":"#N/A"},"2008-11-30",13007475,0,13007475,50.999997647500003,4.4999997925000006,null,4.4999997924000006,null,null,null,null,null,40.000002767600002,"P1 Zahájena","Ne",{"$error":"#N/A"}]
["01 2.1 - Infrastruktura pro cestovní ruch","11.2.1","11.2","CZ.1.11/2.1.00/01.00051","Přístupová komunikace a parkoviště k Zámku Slavkov - Austerlitz","P8 Projekt finálně uzavřen","Město Slavkov u Brna","Obec",31320373.109999999,2763562.34,2763562.34,0,0,0,0,0,2763562.34,0,0,36847497.789999999,0,0,36847497.789999999,0,36847497.789999999,1,"01/00051","P4 Proplacena příjemci","POST","2009-12-01",4052270.74,null,null,null,null,4052270.74,"2009-11-25",null,null,null,null,4052270.74,357553.3,null,null,null,4052270.74,"2010-01-19",3787333.91,264936.83,"CZ.1.11/2009/12","2009-12-30",153495.10999999999,26.4,"2010-04-23",357553.3,"2009-11-25",334176.52,23376.78,null,null,null,null,null,null,null,null,null,null,null,null,null,357553.32,null,null,4052270.74,"2009-10-19",4800718.96,4462886.96,3793453.9146075794,334716.52269621036,0,0,0,0,0,334716.52269621036,0,0,337832,287157.19989459642,25337.400052701792,0,0,0,0,0,25337.400052701792,0,0,4440665.04,"2009-04-15",4576250.6500000004,152625,4423625.6500000004,84.999999968799997,7.5000000156000004,null,null,null,null,null,7.5000000156000004,null,null,"P2 Ukončena","Ne",{"$error":"#N/A"},"2009-04-15",4576250.6500000004,152625,4423625.6500000004,84.999999968799997,7.5000000156000004,null,null,null,null,null,7.5000000156000004,null,null,"P2 Ukončena","Ne",{"$error":"#N/A"}]
["01 2.1 - Infrastruktura pro cestovní ruch","11.2.1","11.2","CZ.1.11/2.1.00/01.00051","Přístupová komunikace a parkoviště k Zámku Slavkov - Austerlitz","P8 Projekt finálně uzavřen","Město Slavkov u Brna","Obec",31320373.109999999,2763562.34,2763562.34,0,0,0,0,0,2763562.34,0,0,36847497.789999999,0,0,36847497.789999999,0,36847497.789999999,2,"02/00051","P4 Proplacena příjemci","POST","2009-12-23",6194055.6100000003,null,null,null,null,6194055.6100000003,"2009-12-23",null,null,null,null,6194055.6100000003,546534.31999999995,null,null,null,6194055.6100000003,"2010-01-19",6079305.6200000001,114749.99,"CZ.1.11/2009/12","2009-12-30",234623.32,26.4,"2010-04-23",546534.31999999995,"2009-12-23",536409.31999999995,10125,null,null,null,null,null,null,null,null,null,null,null,null,null,546534.34,null,null,6194055.6100000003,"2009-12-08",7302124.2699999996,7152124.2699999996,6079305.6272685369,536409.32136573142,0,0,0,0,0,536409.32136573142,0,0,150000,127499.99995319999,11250.0000234,0,0,0,0,0,11250.0000234,0,0,6754464.9500000002,"2009-08-14",6754464.9500000002,138750,6615714.9500000002,84.999999968799997,7.5000000156000004,null,null,null,null,null,7.5000000156000004,null,null,"P2 Ukončena","Ne",{"$error":"#N/A"},"2009-08-14",6754464.9500000002,138750,6615714.9500000002,84.999999968799997,7.5000000156000004,null,null,null,null,null,7.5000000156000004,null,null,"P2 Ukončena","Ne",{"$error":"#N/A"}]
["01 2.1 - Infrastruktura pro cestovní ruch","11.2.1","11.2","CZ.1.11/2.1.00/01.00051","Přístupová komunikace a parkoviště k Zámku Slavkov - Austerlitz","P8 Projekt finálně uzavřen","Město Slavkov u Brna","Obec",31320373.109999999,2763562.34,2763562.34,0,0,0,0,0,2763562.34,0,0,36847497.789999999,0,0,36847497.789999999,0,36847497.789999999,3,"03/00051","P4 Proplacena příjemci","POST","2010-03-30",8921242,null,null,null,null,8921242,"2010-03-30",null,null,null,null,8921242,787168.41,null,null,null,8921242,"2010-08-16",8806492.0099999998,114749.99,"CZ.1.11/2010/04","2010-04-30",349304.7,25.54,"2010-07-23",787168.41,"2010-03-30",777043.41,10125,null,null,null,null,null,null,null,null,null,null,null,null,null,787168.43,null,null,8921242,"2010-02-23",10510578.84,10360578.84,8806492.010767499,777043.41461625032,0,0,0,0,0,777043.41461625032,0,0,150000,127499.99995319999,11250.0000234,0,0,0,0,0,11250.0000234,0,0,9722285.4199999999,"2010-01-31",9583535.4199999999,138750,9444785.4199999999,84.999999968799997,7.5000000156000004,null,null,null,null,null,7.5000000156000004,null,null,"P2 Ukončena","Ne",{"$error":"#N/A"},"2010-01-31",9583535.4199999999,138750,9444785.4199999999,84.999999968799997,7.5000000156000004,null,null,null,null,null,7.5000000156000004,null,null,"P2 Ukončena","Ne",{"$error":"#N/A"}]
["01 2.1 - Infrastruktura pro cestovní ruch","11.2.1","11.2","CZ.1.11/2.1.00/01.00051","Přístupová komunikace a parkoviště k Zámku Slavkov - Austerlitz","P8 Projekt finálně uzavřen","Město Slavkov u Brna","Obec",31320373.109999999,2763562.34,2763562.34,0,0,0,0,0,2763562.34,0,0,36847497.789999999,0,0,36847497.789999999,0,36847497.789999999,4,"04/00051","P4 Proplacena příjemci","POST","2010-12-28",12023994.140000001,null,null,null,null,12023994.140000001,"2010-12-28",null,null,null,null,12023994.140000001,1060940.6599999999,null,null,null,12023994.140000001,"2011-02-02",11938171.35,85822.79,"CZ.1.11/2011/01","2011-01-20",476386.46,25.24,"2011-03-24",1060940.6599999999,"2010-12-28",1053368.06,7572.6,null,null,null,null,null,null,null,null,null,null,null,null,null,1060940.68,null,null,12023994.140000001,"2010-07-16",14152875.48,14044907.48,11938171.353617989,1053368.0631910055,0,0,0,0,0,1053368.0631910055,0,0,107968,91772.799966313978,8097.6000168430082,0,0,0,0,0,8097.6000168430082,0,0,13091409.810000001,"2010-06-30",13225111.07,99870.399999999994,13125240.67,84.999999968799997,7.5000000156000004,null,null,null,null,null,7.5000000156000004,null,null,"P2 Ukončena","Ne",{"$error":"#N/A"},"2010-06-30",13225111.07,99870.399999999994,13125240.67,84.999999968799997,7.5000000156000004,null,null,null,null,null,7.5000000156000004,null,null,"P2 Ukončena","Ne",{"$error":"#N/A"}]
["01 2.1 - Infrastruktura pro cestovní ruch","11.2.1","11.2","CZ.1.11/2.1.00/01.00052","Technické zhodnocení hotelu Smrčkova vila","N12 Projektová žádost nesplnila formální náležitosti","Petr ČECHURA","Soukromá firma_MSP",null,null,null,null,null,null,null,null,null,null,null,null,null,null,null,null,null,1,null," ",null,null,null,null,null,null,null,null,null,null,null,null,null,null,null,null,null,null,null,null,null,null,null,null,null,null,null,null,null,null,null,null,null,null,null,null,null,null,null,null,null,null,null,null,null,null,null,null,null,null,null,0,0,0,0,0,0,0,0,0,0,null,0,0,0,0,0,0,0,0,0,0,null,"2008-09-30",7956085,0,7956085,51,4.5,4.5,null,null,null,null,null,null,40,"P1 Zahájena","Ne",{"$error":"#N/A"},"2008-09-30",7956085,0,7956085,51,4.5,4.5,null,null,null,null,null,null,40,"P1 Zahájena","Ne",{"$error":"#N/A"}]
["01 2.1 - Infrastruktura pro cestovní ruch","11.2.1","11.2","CZ.1.11/2.1.00/01.00052","Technické zhodnocení hotelu Smrčkova vila","N12 Projektová žádost nesplnila formální náležitosti","Petr ČECHURA","Soukromá firma_MSP",null,null,null,null,null,null,null,null,null,null,null,null,null,null,null,null,null,2,null," ",null,null,null,null,null,null,null,null,null,null,null,null,null,null,null,null,null,null,null,null,null,null,null,null,null,null,null,null,null,null,null,null,null,null,null,null,null,null,null,null,null,null,null,null,null,null,null,null,null,null,null,0,0,0,0,0,0,0,0,0,0,null,0,0,0,0,0,0,0,0,0,0,null,"2009-02-28",4071959,0,4071959,51,4.5,4.5,null,null,null,null,null,null,40,"P1 Zahájena","Ne",{"$error":"#N/A"},"2009-02-28",4071959,0,4071959,51,4.5,4.5,null,null,null,null,null,null,40,"P1 Zahájena","Ne",{"$error":"#N/A"}]
["01 2.1 - Infrastruktura pro cestovní ruch","11.2.1","11.2","CZ.1.11/2.1.00/01.00052","Technické zhodnocení hotelu Smrčkova vila","N12 Projektová žádost nesplnila formální náležitosti","Petr ČECHURA","Soukromá firma_MSP",null,null,null,null,null,null,null,null,null,null,null,null,null,null,null,null,null,3,null," ",null,null,null,null,null,null,null,null,null,null,null,null,null,null,null,null,null,null,null,null,null,null,null,null,null,null,null,null,null,null,null,null,null,null,null,null,null,null,null,null,null,null,null,null,null,null,null,null,null,null,null,0,0,0,0,0,0,0,0,0,0,null,0,0,0,0,0,0,0,0,0,0,null,"2010-03-31",9067528,0,9067528,51,4.5,4.5,null,null,null,null,null,null,40,"P1 Zahájena","Ne",{"$error":"#N/A"},"2010-03-31",9067528,0,9067528,51,4.5,4.5,null,null,null,null,null,null,40,"P1 Zahájena","Ne",{"$error":"#N/A"}]
["01 2.1 - Infrastruktura pro cestovní ruch","11.2.1","11.2","CZ.1.11/2.1.00/01.00052","Technické zhodnocení hotelu Smrčkova vila","N12 Projektová žádost nesplnila formální náležitosti","Petr ČECHURA","Soukromá firma_MSP",null,null,null,null,null,null,null,null,null,null,null,null,null,null,null,null,null,4,null," ",null,null,null,null,null,null,null,null,null,null,null,null,null,null,null,null,null,null,null,null,null,null,null,null,null,null,null,null,null,null,null,null,null,null,null,null,null,null,null,null,null,null,null,null,null,null,null,null,null,null,null,0,0,0,0,0,0,0,0,0,0,null,0,0,0,0,0,0,0,0,0,0,null,"2010-12-31",5732045,0,5732045,51,4.5,4.5,null,null,null,null,null,null,40,"P1 Zahájena","Ne",{"$error":"#N/A"},"2010-12-31",5732045,0,5732045,51,4.5,4.5,null,null,null,null,null,null,40,"P1 Zahájena","Ne",{"$error":"#N/A"}]
["01 2.1 - Infrastruktura pro cestovní ruch","11.2.1","11.2","CZ.1.11/2.1.00/01.00053","Penzion Včelařský dvůr v Lednici","N8 Rozhodnutí/Smlouva ukončena ze strany ŘO/ZS","LIVING 2005 s.r.o.","Soukromá firma_MSP",12934833.59,2282617.69,1141308.8400000001,1141308.8500000001,0,1141308.8500000001,0,0,0,0,10144967.52,25362418.800000001,0,0,25362418.800000001,0,25362418.800000001,1,"01/00053","N1 Neschválena","POST","2010-05-07",null,null,null,null,null,null,null,null,null,null,null,null,null,null,null,null,null,null,null,null,null,null,null,null,null,null,null,null,null,null,null,null,null,null,null,null,null,null,null,null,null,null,null,null,null,null,"2008-10-31",null,null,0,0,0,0,0,0,0,0,0,0,null,0,0,0,0,0,0,0,0,0,0,0,"2008-10-30",5000000,0,5000000,51.000000007799997,4.4999999762999998,null,4.5000000157000004,null,null,null,null,null,40.000000000199996,"P1 Zahájena","Ne",{"$error":"#N/A"},"2008-10-30",5000000,0,5000000,51.000000007799997,4.4999999762999998,null,4.5000000157000004,null,null,null,null,null,40.000000000199996,"P1 Zahájena","Ne",{"$error":"#N/A"}]
["01 2.1 - Infrastruktura pro cestovní ruch","11.2.1","11.2","CZ.1.11/2.1.00/01.00053","Penzion Včelařský dvůr v Lednici","N8 Rozhodnutí/Smlouva ukončena ze strany ŘO/ZS","LIVING 2005 s.r.o.","Soukromá firma_MSP",12934833.59,2282617.69,1141308.8400000001,1141308.8500000001,0,1141308.8500000001,0,0,0,0,10144967.52,25362418.800000001,0,0,25362418.800000001,0,25362418.800000001,2,"2/00053","N1 Neschválena","POST","2010-05-07",null,null,null,null,null,null,null,null,null,null,null,null,null,null,null,null,null,null,null,null,null,null,null,null,null,null,null,null,null,null,null,null,null,null,null,null,null,null,null,null,null,null,null,null,null,null,"2009-01-30",4819304.5,4819304.5,2457845.2953759059,216868.70135782484,0,216868.7032566308,0,0,0,0,0,1927721.8000096385,null,0,0,0,0,0,0,0,0,0,0,2891582.7,"2009-01-30",5500000,0,5500000,51.000000007799997,4.4999999762999998,null,4.5000000157000004,null,null,null,null,null,40.000000000199996,"P1 Zahájena","Ne",{"$error":"#N/A"},"2009-01-30",5500000,0,5500000,51.000000007799997,4.4999999762999998,null,4.5000000157000004,null,null,null,null,null,40.000000000199996,"P1 Zahájena","Ne",{"$error":"#N/A"}]
["01 2.1 - Infrastruktura pro cestovní ruch","11.2.1","11.2","CZ.1.11/2.1.00/01.00053","Penzion Včelařský dvůr v Lednici","N8 Rozhodnutí/Smlouva ukončena ze strany ŘO/ZS","LIVING 2005 s.r.o.","Soukromá firma_MSP",12934833.59,2282617.69,1141308.8400000001,1141308.8500000001,0,1141308.8500000001,0,0,0,0,10144967.52,25362418.800000001,0,0,25362418.800000001,0,25362418.800000001,3,null," ",null,null,null,null,null,null,null,null,null,null,null,null,null,null,null,null,null,null,null,null,null,null,null,null,null,null,null,null,null,null,null,null,null,null,null,null,null,null,null,null,null,null,null,null,null,null,null,null,null,null,null,0,0,0,0,0,0,0,0,0,0,null,0,0,0,0,0,0,0,0,0,0,null,"2009-07-30",4717450.45,0,4717450.45,51.000000007799997,4.4999999762999998,null,4.5000000157000004,null,null,null,null,null,40.000000000199996,"P1 Zahájena","Ne",{"$error":"#N/A"},"2009-07-30",4717450.45,0,4717450.45,51.000000007799997,4.4999999762999998,null,4.5000000157000004,null,null,null,null,null,40.000000000199996,"P1 Zahájena","Ne",{"$error":"#N/A"}]
["01 2.1 - Infrastruktura pro cestovní ruch","11.2.1","11.2","CZ.1.11/2.1.00/01.00054","Penzion Kaderka","N12 Projektová žádost nesplnila formální náležitosti","Rudolf Kaderka","Soukromá firma_MSP",null,null,null,null,null,null,null,null,null,null,null,null,null,null,null,null,null,1,null," ",null,null,null,null,null,null,null,null,null,null,null,null,null,null,null,null,null,null,null,null,null,null,null,null,null,null,null,null,null,null,null,null,null,null,null,null,null,null,null,null,null,null,null,null,null,null,null,null,null,null,null,0,0,0,0,0,0,0,0,0,0,null,0,0,0,0,0,0,0,0,0,0,null,"2009-01-30",909822,113863.67,795958.33,50.939010793400001,4.4946185994999999,null,4.4946185993999999,null,null,null,null,null,40.071752007699999,"P1 Zahájena","Ne",{"$error":"#N/A"},"2009-01-30",909822,113863.67,795958.33,50.939010793400001,4.4946185994999999,null,4.4946185993999999,null,null,null,null,null,40.071752007699999,"P1 Zahájena","Ne",{"$error":"#N/A"}]
["01 2.1 - Infrastruktura pro cestovní ruch","11.2.1","11.2","CZ.1.11/2.1.00/01.00054","Penzion Kaderka","N12 Projektová žádost nesplnila formální náležitosti","Rudolf Kaderka","Soukromá firma_MSP",null,null,null,null,null,null,null,null,null,null,null,null,null,null,null,null,null,2,null," ",null,null,null,null,null,null,null,null,null,null,null,null,null,null,null,null,null,null,null,null,null,null,null,null,null,null,null,null,null,null,null,null,null,null,null,null,null,null,null,null,null,null,null,null,null,null,null,null,null,null,null,0,0,0,0,0,0,0,0,0,0,null,0,0,0,0,0,0,0,0,0,0,null,"2009-05-29",1051608,0,1051608,50.939010793400001,4.4946185994999999,null,4.4946185993999999,null,null,null,null,null,40.071752007699999,"P1 Zahájena","Ne",{"$error":"#N/A"},"2009-05-29",1051608,0,1051608,50.939010793400001,4.4946185994999999,null,4.4946185993999999,null,null,null,null,null,40.071752007699999,"P1 Zahájena","Ne",{"$error":"#N/A"}]
["01 2.1 - Infrastruktura pro cestovní ruch","11.2.1","11.2","CZ.1.11/2.1.00/01.00054","Penzion Kaderka","N12 Projektová žádost nesplnila formální náležitosti","Rudolf Kaderka","Soukromá firma_MSP",null,null,null,null,null,null,null,null,null,null,null,null,null,null,null,null,null,3,null," ",null,null,null,null,null,null,null,null,null,null,null,null,null,null,null,null,null,null,null,null,null,null,null,null,null,null,null,null,null,null,null,null,null,null,null,null,null,null,null,null,null,null,null,null,null,null,null,null,null,null,null,0,0,0,0,0,0,0,0,0,0,null,0,0,0,0,0,0,0,0,0,0,null,"2009-09-30",326721,0,326721,50.939010793400001,4.4946185994999999,null,4.4946185993999999,null,null,null,null,null,40.071752007699999,"P1 Zahájena","Ne",{"$error":"#N/A"},"2009-09-30",326721,0,326721,50.939010793400001,4.4946185994999999,null,4.4946185993999999,null,null,null,null,null,40.071752007699999,"P1 Zahájena","Ne",{"$error":"#N/A"}]
["01 2.2 - Služby pro cestovní ruch","11.2.2","11.2","CZ.1.11/2.2.00/01.00055","Prezentace Jihomoravského kraje doma i v zahraničí","P8 Projekt finálně uzavřen","Jihomoravský kraj","Kraj",8500000,750000,750000,0,0,0,0,750000,0,0,0,10000000,0,0,10000000,0,10000000,1,"01/00055","P4 Proplacena příjemci","POST","2009-11-03",2226409.7000000002,null,null,null,null,2226409.7000000002,"2009-01-30",null,null,null,null,2226409.7000000002,196447.91,null,null,null,2226409.7000000002,"2010-01-19",null,2226409.7000000002,"CZ.1.11/2009/12","2009-12-30",84333.7,26.4,"2010-04-23",196447.91,"2009-01-30",null,196447.91,null,null,null,null,null,null,null,null,null,null,null,null,196447.92,null,null,null,2226409.7000000002,"2009-01-30",2816542.05,null,0,0,0,0,0,0,0,0,0,0,2816542.05,2394060.7425000002,211240.65375,0,0,0,0,211240.65375,0,0,0,2605301.35,"2009-01-31",2606450,2806450,-200000,85,7.5,null,null,null,null,7.5,null,null,null,"P2 Ukončena","Ne",{"$error":"#N/A"},"2009-01-31",2606450,2806450,-200000,85,7.5,null,null,null,null,7.5,null,null,null,"P2 Ukončena","Ne",{"$error":"#N/A"}]
["01 2.2 - Služby pro cestovní ruch","11.2.2","11.2","CZ.1.11/2.2.00/01.00055","Prezentace Jihomoravského kraje doma i v zahraničí","P8 Projekt finálně uzavřen","Jihomoravský kraj","Kraj",8500000,750000,750000,0,0,0,0,750000,0,0,0,10000000,0,0,10000000,0,10000000,2,"02/00055","P4 Proplacena příjemci","POST","2010-12-08",5527672.7300000004,null,null,null,null,5527672.7300000004,"2010-12-08",null,null,null,null,5527672.7300000004,487735.83,null,null,null,5527672.7300000004,"2010-12-23",null,5527672.7300000004,"CZ.1.11/2010/12","2010-12-17",223268.14,24.758000000000003,"2011-03-24",487735.83,"2010-12-08",null,487735.83,null,null,null,null,null,null,null,null,null,null,null,null,487735.83,null,null,null,5527672.7300000004,"2010-07-29",6506714.3899999997,null,0,0,0,0,0,0,0,0,0,0,6506714.3899999997,5530707.2314999998,488003.57925000001,0,0,0,0,488003.57925000001,0,0,0,6018710.8099999996,"2010-06-30",6827142.3899999997,6827142.3899999997,0,85,7.5,null,null,null,null,7.5,null,null,null,"P2 Ukončena","Ne",{"$error":"#N/A"},"2010-06-30",6827142.3899999997,6827142.3899999997,0,85,7.5,null,null,null,null,7.5,null,null,null,"P2 Ukončena","Ne",{"$error":"#N/A"}]
["01 3.4 - Veřejné služby regionálního významu","11.3.4","11.3","CZ.1.11/3.4.00/01.00056","Nemocnice Břeclav - zdravotnické přístroje pro RDG oddělení","P8 Projekt finálně uzavřen","Nemocnice Břeclav, příspěvková organizace","Organizace zřízena krajem",25500000,2250000,2250000,0,0,0,0,2250000,0,0,0,30000000,0,0,30000000,0,30000000,1,"01/00056","P4 Proplacena příjemci","POST","2009-11-03",25263546.530000001,null,null,null,null,25263546.530000001,"2009-07-28",null,null,null,null,25263546.530000001,2229136.4500000002,null,null,null,25263546.530000001,"2010-08-16",25250072.84,13473.69,"CZ.1.11/2010/07","2010-07-23",1020213.49,24.763000000000002,"2010-11-08",2229136.4500000002,"2009-07-28",2227947.6,1188.8499999999999,null,null,null,null,null,null,null,null,null,null,null,null,2229136.4700000002,null,null,null,25263546.530000001,"2009-07-28",29724425.449999999,29705968.050000001,25250072.842500001,2227947.6037499998,0,0,0,0,2227947.6037499998,0,0,0,18457.400000000001,15688.79,1384.3050000000001,0,0,0,0,1384.3050000000001,0,0,0,29724425.449999999,"2009-06-30",27495093.539999999,212750,27282343.539999999,85,7.5,null,null,null,null,7.5,null,null,null,"P2 Ukončena","Ne",{"$error":"#N/A"},"2009-06-30",27495093.539999999,212750,27282343.539999999,85,7.5,null,null,null,null,7.5,null,null,null,"P2 Ukončena","Ne",{"$error":"#N/A"}]
["01 1.4 - Rozvoj infrastruktury pro bezmotorovou dopravu","11.1.4","11.1","CZ.1.11/1.4.00/01.00057","Řešení cyklistické dopravy v Rousínově a okolí II. etapa","N13 Projekt ohodnocen, nedosáhl minimální bodové hranice","Město Rousínov","Obec",null,null,null,null,null,null,null,null,null,null,null,null,null,null,null,null,null,1,null," ",null,null,null,null,null,null,null,null,null,null,null,null,null,null,null,null,null,null,null,null,null,null,null,null,null,null,null,null,null,null,null,null,null,null,null,null,null,null,null,null,null,null,null,null,null,null,null,null,null,null,null,0,0,0,0,0,0,0,0,0,0,null,0,0,0,0,0,0,0,0,0,0,null,"2009-06-30",2847150,39775,2807375,85,7.5,null,null,null,null,null,7.5,null,null,"P1 Zahájena","Ne",{"$error":"#N/A"},"2009-06-30",2847150,39775,2807375,85,7.5,null,null,null,null,null,7.5,null,null,"P1 Zahájena","Ne",{"$error":"#N/A"}]
["01 2.1 - Infrastruktura pro cestovní ruch","11.2.1","11.2","CZ.1.11/2.1.00/01.00058","Vyhlídková věž Olšany","N12 Projektová žádost nesplnila formální náležitosti","Mikroregion Rakovec","Sdružení obcí",null,null,null,null,null,null,null,null,null,null,null,null,null,null,null,null,null,1,null," ",null,null,null,null,null,null,null,null,null,null,null,null,null,null,null,null,null,null,null,null,null,null,null,null,null,null,null,null,null,null,null,null,null,null,null,null,null,null,null,null,null,null,null,null,null,null,null,null,null,null,null,0,0,0,0,0,0,0,0,0,0,null,0,0,0,0,0,0,0,0,0,0,null,"2009-05-31",3182462,338124.99,2844337.01,84.999997999999991,7.4999998571000006,null,null,null,null,null,7.5000021428999997,null,null,"P1 Zahájena","Ne",{"$error":"#N/A"},"2009-05-31",3182462,338124.99,2844337.01,84.999997999999991,7.4999998571000006,null,null,null,null,null,7.5000021428999997,null,null,"P1 Zahájena","Ne",{"$error":"#N/A"}]
["01 2.1 - Infrastruktura pro cestovní ruch","11.2.1","11.2","CZ.1.11/2.1.00/01.00058","Vyhlídková věž Olšany","N12 Projektová žádost nesplnila formální náležitosti","Mikroregion Rakovec","Sdružení obcí",null,null,null,null,null,null,null,null,null,null,null,null,null,null,null,null,null,2,null," ",null,null,null,null,null,null,null,null,null,null,null,null,null,null,null,null,null,null,null,null,null,null,null,null,null,null,null,null,null,null,null,null,null,null,null,null,null,null,null,null,null,null,null,null,null,null,null,null,null,null,null,0,0,0,0,0,0,0,0,0,0,null,0,0,0,0,0,0,0,0,0,0,null,"2009-08-31",55000,55000,0,84.999997999999991,7.4999998571000006,null,null,null,null,null,7.5000021428999997,null,null,"P1 Zahájena","Ne",{"$error":"#N/A"},"2009-08-31",55000,55000,0,84.999997999999991,7.4999998571000006,null,null,null,null,null,7.5000021428999997,null,null,"P1 Zahájena","Ne",{"$error":"#N/A"}]
["01 1.2 - Rozvoj dopravní obslužnosti a veřejné dopravy","11.1.2","11.1","CZ.1.11/1.2.00/01.00059","Město Rousínov - autobusový terminál","P8 Projekt finálně uzavřen","Město Rousínov","Obec",36299007.579999998,3202853.61,3202853.61,0,0,0,0,0,3202853.61,0,0,42704714.799999997,0,0,42704714.799999997,3692000,46396714.799999997,1,"1/00059","P4 Proplacena příjemci","POST","2010-02-05",11274557.93,null,null,null,null,11274557.93,"2010-02-05",null,null,null,null,11274557.93,994813.93,null,null,null,11274557.93,"2010-06-02",10286772.25,987785.68,"CZ.1.11/2010/03","2010-04-02",443130.06,25.443000000000001,"2010-07-23",994813.93,"2010-02-05",907656.37,87157.56,null,null,null,null,null,null,null,null,null,null,null,null,null,994813.94,null,null,11274557.93,"2009-06-29",13946690.1,12753336.300000001,10840335.855,956500.22250000003,0,0,0,0,0,956500.22250000003,0,0,1193353.8,1014350.73,89501.535000000003,0,0,0,0,0,89501.535000000003,0,0,12900688.199999999,"2009-06-30",16316505,1428873,14887632,85,7.5,null,null,null,null,null,7.5,null,null,"P2 Ukončena","Ne",{"$error":"#N/A"},"2009-06-30",16316505,1428873,14887632,85,7.5,null,null,null,null,null,7.5,null,null,"P2 Ukončena","Ne",{"$error":"#N/A"}]
["01 1.2 - Rozvoj dopravní obslužnosti a veřejné dopravy","11.1.2","11.1","CZ.1.11/1.2.00/01.00059","Město Rousínov - autobusový terminál","P8 Projekt finálně uzavřen","Město Rousínov","Obec",36299007.579999998,3202853.61,3202853.61,0,0,0,0,0,3202853.61,0,0,42704714.799999997,0,0,42704714.799999997,3692000,46396714.799999997,2,"02/00059","P4 Proplacena příjemci","POST","2010-05-31",12864041.42,null,null,null,null,12864041.42,"2010-05-31",null,null,null,null,12864041.42,1135062.48,null,null,null,12864041.42,"2010-07-16",12775793.67,88247.75,"CZ.1.11/2010/06","2010-07-02",499516.23,25.753,"2010-11-08",1135062.48,"2010-05-31",1127275.9099999999,7786.57,null,null,null,null,null,null,null,null,null,null,null,null,null,1135062.49,null,null,12864041.42,"2010-03-17",15136705,15030346,12775794.1,1127275.95,0,0,0,0,0,1127275.95,0,0,106359,90405.15,7976.9250000000002,0,0,0,0,0,7976.9250000000002,0,0,14001452,"2009-09-30",14001452,98382,13903070,85,7.5,null,null,null,null,null,7.5,null,null,"P2 Ukončena","Ne",{"$error":"#N/A"},"2009-09-30",14001452,98382,13903070,85,7.5,null,null,null,null,null,7.5,null,null,"P2 Ukončena","Ne",{"$error":"#N/A"}]
["01 1.2 - Rozvoj dopravní obslužnosti a veřejné dopravy","11.1.2","11.1","CZ.1.11/1.2.00/01.00059","Město Rousínov - autobusový terminál","P8 Projekt finálně uzavřen","Město Rousínov","Obec",36299007.579999998,3202853.61,3202853.61,0,0,0,0,0,3202853.61,0,0,42704714.799999997,0,0,42704714.799999997,3692000,46396714.799999997,3,"03/00059","P4 Proplacena příjemci","POST","2010-10-08",7465467.5499999998,null,null,null,null,7465467.5499999998,"2010-10-08",null,null,null,null,7465467.5499999998,658717.72,null,null,null,7465467.5499999998,"2010-12-14",7321095.9000000004,144371.65,"CZ.1.11/2010/10","2010-10-27",303104.65000000002,24.63,"2011-03-24",658717.72,"2010-10-08",645979.05000000005,12738.67,null,null,null,null,null,null,null,null,null,null,null,null,null,658717.73,null,null,7465467.5499999998,"2010-06-30",8782903,8613054,7321095.9000000004,645979.05000000005,0,0,0,0,0,645979.05000000005,0,0,169849,144371.65,12738.674999999999,0,0,0,0,0,12738.674999999999,0,0,8124185.2699999996,"2010-06-30",13233385.43,199110.32,13034275.109999999,85,7.5,null,null,null,null,null,7.5,null,null,"P2 Ukončena","Ne",{"$error":"#N/A"},"2010-06-30",13233385.43,199110.32,13034275.109999999,85,7.5,null,null,null,null,null,7.5,null,null,"P2 Ukončena","Ne",{"$error":"#N/A"}]
["01 2.1 - Infrastruktura pro cestovní ruch","11.2.1","11.2","CZ.1.11/2.1.00/01.00060","Restaurace a ubytování Na Zelnicách - Ratíškovice č.p. 285","N12 Projektová žádost nesplnila formální náležitosti","Zdeněk Strnka","Soukromá firma_MSP",null,null,null,null,null,null,null,null,null,null,null,null,null,null,null,null,null,1,null," ",null,null,null,null,null,null,null,null,null,null,null,null,null,null,null,null,null,null,null,null,null,null,null,null,null,null,null,null,null,null,null,null,null,null,null,null,null,null,null,null,null,null,null,null,null,null,null,null,null,null,null,0,0,0,0,0,0,0,0,0,0,null,0,0,0,0,0,0,0,0,0,0,null,"2009-08-31",3264678.6,0,3264678.6,51,4.5,null,4.5,null,null,null,null,null,40,"P1 Zahájena","Ne",{"$error":"#N/A"},"2009-08-31",3264678.6,0,3264678.6,51,4.5,null,4.5,null,null,null,null,null,40,"P1 Zahájena","Ne",{"$error":"#N/A"}]
["01 2.1 - Infrastruktura pro cestovní ruch","11.2.1","11.2","CZ.1.11/2.1.00/01.00061","Dostavba hotelového komplexu Hotel Ski Nové Město na Moravě","P8 Projekt finálně uzavřen","INKORA, s.r.o.","Soukromá firma_MSP",26530911.960000001,4681925.6399999997,2340962.8199999998,2340962.8199999998,2340962.8199999998,0,0,0,0,0,20808558.399999999,52021396,0,0,52021396,12097465,64118861,1,"1/00061","P4 Proplacena příjemci","POST","2009-07-02",3529736.92,null,null,null,null,3529736.92,"2009-07-02",null,null,null,null,3529736.92,311447.37,311447.39,null,null,3529736.92,"2009-08-06",3529736.92,null,"CZ.1.11/2009/06","2009-07-30",137982.76,25.581,"2010-04-23",311447.37,"2009-07-02",311447.37,null,311447.39,"2009-07-02",311447.39,null,null,null,null,null,null,null,null,null,null,null,null,2768421.12,3529736.92,"2009-01-08",7673392,7673392,3913429.92,345302.64,345302.64,0,0,0,0,0,0,3069356.8,null,0,0,0,0,0,0,0,0,0,0,4604035,"2008-12-12",5059116.5999999996,0,5059116.5999999996,51,4.5,4.5,null,null,null,null,null,null,40,"P2 Ukončena","Ne",{"$error":"#N/A"},"2008-12-12",5059116.5999999996,0,5059116.5999999996,51,4.5,4.5,null,null,null,null,null,null,40,"P2 Ukončena","Ne",{"$error":"#N/A"}]
["01 2.1 - Infrastruktura pro cestovní ruch","11.2.1","11.2","CZ.1.11/2.1.00/01.00061","Dostavba hotelového komplexu Hotel Ski Nové Město na Moravě","P8 Projekt finálně uzavřen","INKORA, s.r.o.","Soukromá firma_MSP",26530911.960000001,4681925.6399999997,2340962.8199999998,2340962.8199999998,2340962.8199999998,0,0,0,0,0,20808558.399999999,52021396,0,0,52021396,12097465,64118861,2,"2/00061","P4 Proplacena příjemci","POST","2009-09-23",4651621.17,null,null,null,null,4651621.17,"2009-09-23",null,null,null,null,4651621.17,410437.16,410437.16,null,null,4651621.17,"2009-12-21",4651621.17,null,"CZ.1.11/2009/11","2009-12-08",177637.71,26.186,"2010-04-23",410437.16,"2009-09-23",410437.16,null,410437.16,"2009-09-23",410437.16,null,null,null,null,null,null,null,null,null,null,null,null,3648330.34,4651621.17,"2009-07-10",10089806.73,10089806.73,5145801.4323000005,454041.30284999998,454041.30284999998,0,0,0,0,0,0,4035922.6919999998,null,0,0,0,0,0,0,0,0,0,0,6053883.5999999996,"2009-06-12",5624182,0,5624182,51,4.5,4.5,null,null,null,null,null,null,40,"P2 Ukončena","Ne",{"$error":"#N/A"},"2009-06-12",5624182,0,5624182,51,4.5,4.5,null,null,null,null,null,null,40,"P2 Ukončena","Ne",{"$error":"#N/A"}]
["01 2.1 - Infrastruktura pro cestovní ruch","11.2.1","11.2","CZ.1.11/2.1.00/01.00061","Dostavba hotelového komplexu Hotel Ski Nové Město na Moravě","P8 Projekt finálně uzavřen","INKORA, s.r.o.","Soukromá firma_MSP",26530911.960000001,4681925.6399999997,2340962.8199999998,2340962.8199999998,2340962.8199999998,0,0,0,0,0,20808558.399999999,52021396,0,0,52021396,12097465,64118861,3,"03/00061","P4 Proplacena příjemci","POST","2009-12-18",9425815.3000000007,null,null,null,null,9425815.3000000007,"2009-12-18",null,null,null,null,9425815.3000000007,831689.58,831689.6,null,null,9425815.3000000007,"2010-02-12",9425815.3000000007,null,"CZ.1.11/2010/01","2010-01-29",359325.07,26.232000000000003,"2010-07-23",831689.58,"2009-12-18",831689.58,null,831689.6,"2009-12-18",831689.6,null,null,null,null,null,null,null,null,null,null,null,null,7392796.3200000003,9425815.3000000007,"2009-10-09",20513323.199999999,20513323.199999999,10461794.832,923099.54399999999,923099.54399999999,0,0,0,0,0,0,8205329.2800000003,null,0,0,0,0,0,0,0,0,0,0,12307993.92,"2009-09-11",12307993.92,0,12307993.92,51,4.5,4.5,null,null,null,null,null,null,40,"P2 Ukončena","Ne",{"$error":"#N/A"},"2009-09-11",12307993.92,0,12307993.92,51,4.5,4.5,null,null,null,null,null,null,40,"P2 Ukončena","Ne",{"$error":"#N/A"}]
["01 2.1 - Infrastruktura pro cestovní ruch","11.2.1","11.2","CZ.1.11/2.1.00/01.00061","Dostavba hotelového komplexu Hotel Ski Nové Město na Moravě","P8 Projekt finálně uzavřen","INKORA, s.r.o.","Soukromá firma_MSP",26530911.960000001,4681925.6399999997,2340962.8199999998,2340962.8199999998,2340962.8199999998,0,0,0,0,0,20808558.399999999,52021396,0,0,52021396,12097465,64118861,4,"04/00061","P4 Proplacena příjemci","POST","2010-06-21",5965395.4199999999,null,null,null,null,5965395.4199999999,"2010-06-21",null,null,null,null,5965395.4199999999,526358.42000000004,526358.42000000004,null,null,5965395.4199999999,"2010-07-16",5965395.4199999999,null,"CZ.1.11/2010/06","2010-07-02",231638.85,25.753,"2010-11-08",526358.42000000004,"2010-06-21",526358.42000000004,null,526358.42000000004,"2010-06-21",526358.42000000004,null,null,null,null,null,null,null,null,null,null,null,null,4678741.5199999996,5965395.4199999999,"2009-12-30",13243906.98,13243906.98,6754392.5597999999,595975.81409999996,595975.81409999996,0,0,0,0,0,0,5297562.7920000004,null,0,0,0,0,0,0,0,0,0,0,7946344.2400000002,"2009-12-30",7946344.2400000002,0,7946344.2400000002,51,4.5,4.5,null,null,null,null,null,null,40,"P2 Ukončena","Ne",{"$error":"#N/A"},"2009-12-30",7946344.2400000002,0,7946344.2400000002,51,4.5,4.5,null,null,null,null,null,null,40,"P2 Ukončena","Ne",{"$error":"#N/A"}]
["01 2.2 - Služby pro cestovní ruch","11.2.2","11.2","CZ.1.11/2.2.00/01.00062","Dlouhodobá propagace DinoParku Vyškov 2008-2010","N11 Projektová žádost nesplnila podmínky přijatelnosti","WEST MEDIA, s.r.o.","Soukromá firma_MSP",null,null,null,null,null,null,null,null,null,null,null,null,null,null,null,null,null,1,null," ",null,null,null,null,null,null,null,null,null,null,null,null,null,null,null,null,null,null,null,null,null,null,null,null,null,null,null,null,null,null,null,null,null,null,null,null,null,null,null,null,null,null,null,null,null,null,null,null,null,null,null,0,0,0,0,0,0,0,0,0,0,null,0,0,0,0,0,0,0,0,0,0,null,"2008-09-30",1281900,1281900,0,50.998250042700001,4.5008749786999998,null,4.5008749785999997,null,null,null,null,null,40,"P1 Zahájena","Ne",{"$error":"#N/A"},"2008-09-30",1281900,1281900,0,50.998250042700001,4.5008749786999998,null,4.5008749785999997,null,null,null,null,null,40,"P1 Zahájena","Ne",{"$error":"#N/A"}]
["01 2.2 - Služby pro cestovní ruch","11.2.2","11.2","CZ.1.11/2.2.00/01.00062","Dlouhodobá propagace DinoParku Vyškov 2008-2010","N11 Projektová žádost nesplnila podmínky přijatelnosti","WEST MEDIA, s.r.o.","Soukromá firma_MSP",null,null,null,null,null,null,null,null,null,null,null,null,null,null,null,null,null,2,null," ",null,null,null,null,null,null,null,null,null,null,null,null,null,null,null,null,null,null,null,null,null,null,null,null,null,null,null,null,null,null,null,null,null,null,null,null,null,null,null,null,null,null,null,null,null,null,null,null,null,null,null,0,0,0,0,0,0,0,0,0,0,null,0,0,0,0,0,0,0,0,0,0,null,"2009-09-30",2248200,2248200,0,50.998250042700001,4.5008749786999998,null,4.5008749785999997,null,null,null,null,null,40,"P1 Zahájena","Ne",{"$error":"#N/A"},"2009-09-30",2248200,2248200,0,50.998250042700001,4.5008749786999998,null,4.5008749785999997,null,null,null,null,null,40,"P1 Zahájena","Ne",{"$error":"#N/A"}]
["01 2.2 - Služby pro cestovní ruch","11.2.2","11.2","CZ.1.11/2.2.00/01.00062","Dlouhodobá propagace DinoParku Vyškov 2008-2010","N11 Projektová žádost nesplnila podmínky přijatelnosti","WEST MEDIA, s.r.o.","Soukromá firma_MSP",null,null,null,null,null,null,null,null,null,null,null,null,null,null,null,null,null,3,null," ",null,null,null,null,null,null,null,null,null,null,null,null,null,null,null,null,null,null,null,null,null,null,null,null,null,null,null,null,null,null,null,null,null,null,null,null,null,null,null,null,null,null,null,null,null,null,null,null,null,null,null,0,0,0,0,0,0,0,0,0,0,null,0,0,0,0,0,0,0,0,0,0,null,"2010-12-31",1744200,1744200,0,50.998250042700001,4.5008749786999998,null,4.5008749785999997,null,null,null,null,null,40,"P1 Zahájena","Ne",{"$error":"#N/A"},"2010-12-31",1744200,1744200,0,50.998250042700001,4.5008749786999998,null,4.5008749785999997,null,null,null,null,null,40,"P1 Zahájena","Ne",{"$error":"#N/A"}]
["01 2.1 - Infrastruktura pro cestovní ruch","11.2.1","11.2","CZ.1.11/2.1.00/01.00063","Rekonstrukce kulturní památky na Hotel LAHOFER","P8 Projekt finálně uzavřen","Hotel LAHOFER s.r.o.","Soukromá firma_MSP",15946414.800000001,2814073.2,1407036.6,1407036.6,0,1407036.6,0,0,0,0,12506992,31267480,0,0,31267480,6098871,37366351,1,"01/00063","P4 Proplacena příjemci","POST","2010-01-27",15946414.800000001,null,null,null,null,15946414.800000001,"2010-01-27",null,null,null,null,15946414.800000001,1407036.6,null,1407036.6,null,15946414.800000001,"2010-06-02",15946414.800000001,null,"CZ.1.11/2010/03","2010-04-02",626750.56999999995,25.443000000000001,"2010-07-23",1407036.6,"2010-01-27",1407036.6,null,null,null,null,null,1407036.6,"2010-01-27",1407036.6,null,null,null,null,null,null,null,null,12506992,15946414.800000001,"2009-11-23",31267480,31267480,15946414.800000001,1407036.6,0,1407036.6,0,0,0,0,0,12506992,null,0,0,0,0,0,0,0,0,0,0,18760488,"2009-10-30",18760488,0,18760488,51,4.5,null,4.5,null,null,null,null,null,40,"P2 Ukončena","Ne",{"$error":"#N/A"},"2009-10-30",18760488,0,18760488,51,4.5,null,4.5,null,null,null,null,null,40,"P2 Ukončena","Ne",{"$error":"#N/A"}]
["01 2.2 - Služby pro cestovní ruch","11.2.2","11.2","CZ.1.11/2.2.00/01.00064","Zažij golfový život - propagace golfové turistiky v Jihomoravském kraji","N11 Projektová žádost nesplnila podmínky přijatelnosti","GOLF BRNO a.s.","Soukromá firma_MSP",null,null,null,null,null,null,null,null,null,null,null,null,null,null,null,null,null,1,null," ",null,null,null,null,null,null,null,null,null,null,null,null,null,null,null,null,null,null,null,null,null,null,null,null,null,null,null,null,null,null,null,null,null,null,null,null,null,null,null,null,null,null,null,null,null,null,null,null,null,null,null,0,0,0,0,0,0,0,0,0,0,null,0,0,0,0,0,0,0,0,0,0,null,"2009-01-31",2715420,2715420,0,50.9982499945,4.5008750028,null,4.5008750027,null,null,null,null,null,40,"P1 Zahájena","Ne",{"$error":"#N/A"},"2009-01-31",2715420,2715420,0,50.9982499945,4.5008750028,null,4.5008750027,null,null,null,null,null,40,"P1 Zahájena","Ne",{"$error":"#N/A"}]
["01 2.1 - Infrastruktura pro cestovní ruch","11.2.1","11.2","CZ.1.11/2.1.00/01.00065","Penzion Rytířsko-rozšíření","N2 Projekt nedoporučen / neschválen","Realinvest, spol. s r. o.","Soukromá firma_MSP",null,null,null,null,null,null,null,null,null,null,null,null,null,null,null,null,null,1,null," ",null,null,null,null,null,null,null,null,null,null,null,null,null,null,null,null,null,null,null,null,null,null,null,null,null,null,null,null,null,null,null,null,null,null,null,null,null,null,null,null,null,null,null,null,null,null,null,null,null,null,null,0,0,0,0,0,0,0,0,0,0,null,0,0,0,0,0,0,0,0,0,0,null,"2009-01-15",360000,0,360000,50.9999914518,4.4999992457999998,4.4999992457000006,null,null,null,null,null,null,40.000010056699999,"P1 Zahájena","Ne",{"$error":"#N/A"},"2009-01-15",360000,0,360000,50.9999914518,4.4999992457999998,4.4999992457000006,null,null,null,null,null,null,40.000010056699999,"P1 Zahájena","Ne",{"$error":"#N/A"}]
["01 2.1 - Infrastruktura pro cestovní ruch","11.2.1","11.2","CZ.1.11/2.1.00/01.00065","Penzion Rytířsko-rozšíření","N2 Projekt nedoporučen / neschválen","Realinvest, spol. s r. o.","Soukromá firma_MSP",null,null,null,null,null,null,null,null,null,null,null,null,null,null,null,null,null,2,null," ",null,null,null,null,null,null,null,null,null,null,null,null,null,null,null,null,null,null,null,null,null,null,null,null,null,null,null,null,null,null,null,null,null,null,null,null,null,null,null,null,null,null,null,null,null,null,null,null,null,null,null,0,0,0,0,0,0,0,0,0,0,null,0,0,0,0,0,0,0,0,0,0,null,"2009-06-15",450000,0,450000,50.9999914518,4.4999992457999998,4.4999992457000006,null,null,null,null,null,null,40.000010056699999,"P1 Zahájena","Ne",{"$error":"#N/A"},"2009-06-15",450000,0,450000,50.9999914518,4.4999992457999998,4.4999992457000006,null,null,null,null,null,null,40.000010056699999,"P1 Zahájena","Ne",{"$error":"#N/A"}]
["01 2.1 - Infrastruktura pro cestovní ruch","11.2.1","11.2","CZ.1.11/2.1.00/01.00065","Penzion Rytířsko-rozšíření","N2 Projekt nedoporučen / neschválen","Realinvest, spol. s r. o.","Soukromá firma_MSP",null,null,null,null,null,null,null,null,null,null,null,null,null,null,null,null,null,3,null," ",null,null,null,null,null,null,null,null,null,null,null,null,null,null,null,null,null,null,null,null,null,null,null,null,null,null,null,null,null,null,null,null,null,null,null,null,null,null,null,null,null,null,null,null,null,null,null,null,null,null,null,0,0,0,0,0,0,0,0,0,0,null,0,0,0,0,0,0,0,0,0,0,null,"2009-10-15",480000,0,480000,50.9999914518,4.4999992457999998,4.4999992457000006,null,null,null,null,null,null,40.000010056699999,"P1 Zahájena","Ne",{"$error":"#N/A"},"2009-10-15",480000,0,480000,50.9999914518,4.4999992457999998,4.4999992457000006,null,null,null,null,null,null,40.000010056699999,"P1 Zahájena","Ne",{"$error":"#N/A"}]
["01 2.1 - Infrastruktura pro cestovní ruch","11.2.1","11.2","CZ.1.11/2.1.00/01.00065","Penzion Rytířsko-rozšíření","N2 Projekt nedoporučen / neschválen","Realinvest, spol. s r. o.","Soukromá firma_MSP",null,null,null,null,null,null,null,null,null,null,null,null,null,null,null,null,null,4,null," ",null,null,null,null,null,null,null,null,null,null,null,null,null,null,null,null,null,null,null,null,null,null,null,null,null,null,null,null,null,null,null,null,null,null,null,null,null,null,null,null,null,null,null,null,null,null,null,null,null,null,null,0,0,0,0,0,0,0,0,0,0,null,0,0,0,0,0,0,0,0,0,0,null,"2010-01-15",630000,0,630000,50.9999914518,4.4999992457999998,4.4999992457000006,null,null,null,null,null,null,40.000010056699999,"P1 Zahájena","Ne",{"$error":"#N/A"},"2010-01-15",630000,0,630000,50.9999914518,4.4999992457999998,4.4999992457000006,null,null,null,null,null,null,40.000010056699999,"P1 Zahájena","Ne",{"$error":"#N/A"}]
["01 2.1 - Infrastruktura pro cestovní ruch","11.2.1","11.2","CZ.1.11/2.1.00/01.00065","Penzion Rytířsko-rozšíření","N2 Projekt nedoporučen / neschválen","Realinvest, spol. s r. o.","Soukromá firma_MSP",null,null,null,null,null,null,null,null,null,null,null,null,null,null,null,null,null,5,null," ",null,null,null,null,null,null,null,null,null,null,null,null,null,null,null,null,null,null,null,null,null,null,null,null,null,null,null,null,null,null,null,null,null,null,null,null,null,null,null,null,null,null,null,null,null,null,null,null,null,null,null,0,0,0,0,0,0,0,0,0,0,null,0,0,0,0,0,0,0,0,0,0,null,"2010-06-15",720000,0,720000,50.9999914518,4.4999992457999998,4.4999992457000006,null,null,null,null,null,null,40.000010056699999,"P1 Zahájena","Ne",{"$error":"#N/A"},"2010-06-15",720000,0,720000,50.9999914518,4.4999992457999998,4.4999992457000006,null,null,null,null,null,null,40.000010056699999,"P1 Zahájena","Ne",{"$error":"#N/A"}]
["01 2.1 - Infrastruktura pro cestovní ruch","11.2.1","11.2","CZ.1.11/2.1.00/01.00065","Penzion Rytířsko-rozšíření","N2 Projekt nedoporučen / neschválen","Realinvest, spol. s r. o.","Soukromá firma_MSP",null,null,null,null,null,null,null,null,null,null,null,null,null,null,null,null,null,6,null," ",null,null,null,null,null,null,null,null,null,null,null,null,null,null,null,null,null,null,null,null,null,null,null,null,null,null,null,null,null,null,null,null,null,null,null,null,null,null,null,null,null,null,null,null,null,null,null,null,null,null,null,0,0,0,0,0,0,0,0,0,0,null,0,0,0,0,0,0,0,0,0,0,null,"2010-12-31",939696,3000,936696,50.9999914518,4.4999992457999998,4.4999992457000006,null,null,null,null,null,null,40.000010056699999,"P1 Zahájena","Ne",{"$error":"#N/A"},"2010-12-31",939696,3000,936696,50.9999914518,4.4999992457999998,4.4999992457000006,null,null,null,null,null,null,40.000010056699999,"P1 Zahájena","Ne",{"$error":"#N/A"}]
["01 2.1 - Infrastruktura pro cestovní ruch","11.2.1","11.2","CZ.1.11/2.1.00/01.00066","Kompletní rekonstrukce hotelu \"U nádraží\" v Telči","N12 Projektová žádost nesplnila formální náležitosti","f - plan holding, spol. s r.o.","Soukromá firma_MSP",null,null,null,null,null,null,null,null,null,null,null,null,null,null,null,null,null,1,null," ",null,null,null,null,null,null,null,null,null,null,null,null,null,null,null,null,null,null,null,null,null,null,null,null,null,null,null,null,null,null,null,null,null,null,null,null,null,null,null,null,null,null,null,null,null,null,null,null,null,null,null,0,0,0,0,0,0,0,0,0,0,null,0,0,0,0,0,0,0,0,0,0,null,"2008-10-13",10372867,0,10372867,50.999999761300003,4.499999979,4.4999999789,null,null,null,null,null,null,40.000000280800002,"P1 Zahájena","Ne",{"$error":"#N/A"},"2008-10-13",10372867,0,10372867,50.999999761300003,4.499999979,4.4999999789,null,null,null,null,null,null,40.000000280800002,"P1 Zahájena","Ne",{"$error":"#N/A"}]
["01 2.1 - Infrastruktura pro cestovní ruch","11.2.1","11.2","CZ.1.11/2.1.00/01.00066","Kompletní rekonstrukce hotelu \"U nádraží\" v Telči","N12 Projektová žádost nesplnila formální náležitosti","f - plan holding, spol. s r.o.","Soukromá firma_MSP",null,null,null,null,null,null,null,null,null,null,null,null,null,null,null,null,null,2,null," ",null,null,null,null,null,null,null,null,null,null,null,null,null,null,null,null,null,null,null,null,null,null,null,null,null,null,null,null,null,null,null,null,null,null,null,null,null,null,null,null,null,null,null,null,null,null,null,null,null,null,null,0,0,0,0,0,0,0,0,0,0,null,0,0,0,0,0,0,0,0,0,0,null,"2009-01-14",10608887,0,10608887,50.999999761300003,4.499999979,4.4999999789,null,null,null,null,null,null,40.000000280800002,"P1 Zahájena","Ne",{"$error":"#N/A"},"2009-01-14",10608887,0,10608887,50.999999761300003,4.499999979,4.4999999789,null,null,null,null,null,null,40.000000280800002,"P1 Zahájena","Ne",{"$error":"#N/A"}]
["01 2.1 - Infrastruktura pro cestovní ruch","11.2.1","11.2","CZ.1.11/2.1.00/01.00066","Kompletní rekonstrukce hotelu \"U nádraží\" v Telči","N12 Projektová žádost nesplnila formální náležitosti","f - plan holding, spol. s r.o.","Soukromá firma_MSP",null,null,null,null,null,null,null,null,null,null,null,null,null,null,null,null,null,3,null," ",null,null,null,null,null,null,null,null,null,null,null,null,null,null,null,null,null,null,null,null,null,null,null,null,null,null,null,null,null,null,null,null,null,null,null,null,null,null,null,null,null,null,null,null,null,null,null,null,null,null,null,0,0,0,0,0,0,0,0,0,0,null,0,0,0,0,0,0,0,0,0,0,null,"2009-04-15",12253339,0,12253339,50.999999761300003,4.499999979,4.4999999789,null,null,null,null,null,null,40.000000280800002,"P1 Zahájena","Ne",{"$error":"#N/A"},"2009-04-15",12253339,0,12253339,50.999999761300003,4.499999979,4.4999999789,null,null,null,null,null,null,40.000000280800002,"P1 Zahájena","Ne",{"$error":"#N/A"}]
["01 2.1 - Infrastruktura pro cestovní ruch","11.2.1","11.2","CZ.1.11/2.1.00/01.00066","Kompletní rekonstrukce hotelu \"U nádraží\" v Telči","N12 Projektová žádost nesplnila formální náležitosti","f - plan holding, spol. s r.o.","Soukromá firma_MSP",null,null,null,null,null,null,null,null,null,null,null,null,null,null,null,null,null,4,null," ",null,null,null,null,null,null,null,null,null,null,null,null,null,null,null,null,null,null,null,null,null,null,null,null,null,null,null,null,null,null,null,null,null,null,null,null,null,null,null,null,null,null,null,null,null,null,null,null,null,null,null,0,0,0,0,0,0,0,0,0,0,null,0,0,0,0,0,0,0,0,0,0,null,"2009-08-10",9498600,21600,9477000,50.999999761300003,4.499999979,4.4999999789,null,null,null,null,null,null,40.000000280800002,"P1 Zahájena","Ne",{"$error":"#N/A"},"2009-08-10",9498600,21600,9477000,50.999999761300003,4.499999979,4.4999999789,null,null,null,null,null,null,40.000000280800002,"P1 Zahájena","Ne",{"$error":"#N/A"}]
["01 2.2 - Služby pro cestovní ruch","11.2.2","11.2","CZ.1.11/2.2.00/01.00067","Mikulovsko - profesionální partner v cestovním ruchu","P7 Výdaje projektu certifikovány","MĚSTO MIKULOV","Obec",8501032.75,750091.11,750091.11,0,0,0,0,0,750091.14,0,0,10001215,0,0,10001215,71400,10072615,1,"1/00067","P4 Proplacena příjemci","POST","2009-09-29",1738619.92,null,null,null,null,1738619.92,"2009-09-23",null,null,null,null,1738619.92,153407.63,null,null,null,1738619.92,"2010-08-16",null,1738619.92,"CZ.1.11/2010/02","2010-02-26",67037.59,25.934999999999999,"2010-07-23",153407.63,"2009-09-23",null,153407.63,null,null,null,null,null,null,null,null,null,null,null,null,null,153407.65,null,null,1738619.92,"2009-07-29",2045435.2,null,0,0,0,0,0,0,0,0,0,0,2045435.2,1738619.92,153407.63897728239,0,0,0,0,0,153407.64102271761,0,0,1892027.5,"2009-07-29",1834287.49,1834287.49,0,85,7.4999999500000003,null,null,null,null,null,7.5000000499999997,null,null,"P2 Ukončena","Ne",{"$error":"#N/A"},"2009-07-29",1834287.49,1834287.49,0,85,7.4999999500000003,null,null,null,null,null,7.5000000499999997,null,null,"P2 Ukončena","Ne",{"$error":"#N/A"}]
["01 2.2 - Služby pro cestovní ruch","11.2.2","11.2","CZ.1.11/2.2.00/01.00067","Mikulovsko - profesionální partner v cestovním ruchu","P7 Výdaje projektu certifikovány","MĚSTO MIKULOV","Obec",8501032.75,750091.11,750091.11,0,0,0,0,0,750091.14,0,0,10001215,0,0,10001215,71400,10072615,2,"02/00067","P4 Proplacena příjemci","POST","2010-03-17",2792387.62,null,null,null,null,2792387.62,"2010-03-17",null,null,null,null,2792387.62,246387.14,null,null,null,2792387.62,"2010-06-02",42291.75,2750095.87,"CZ.1.11/2010/03","2010-04-02",109750.73,25.443000000000001,"2010-07-23",246387.14,"2010-03-17",3731.62,242655.52,null,null,null,null,null,null,null,null,null,null,null,null,null,246387.15,null,null,2792387.62,"2010-01-27",3286196.91,49755,42291.75,3731.6249751225,0,0,0,0,0,3731.6250248775,0,0,3236441.91,2750975.6235000002,242733.14163177906,0,0,0,0,0,242733.14486822096,0,0,3039732.13,"2010-01-31",3039732.13,2993708.77,46023.360000000001,85,7.4999999500000003,null,null,null,null,null,7.5000000499999997,null,null,"P2 Ukončena","Ne",{"$error":"#N/A"},"2010-01-31",3039732.13,2993708.77,46023.360000000001,85,7.4999999500000003,null,null,null,null,null,7.5000000499999997,null,null,"P2 Ukončena","Ne",{"$error":"#N/A"}]
["01 2.2 - Služby pro cestovní ruch","11.2.2","11.2","CZ.1.11/2.2.00/01.00067","Mikulovsko - profesionální partner v cestovním ruchu","P7 Výdaje projektu certifikovány","MĚSTO MIKULOV","Obec",8501032.75,750091.11,750091.11,0,0,0,0,0,750091.14,0,0,10001215,0,0,10001215,71400,10072615,3,"03/00067","P4 Proplacena příjemci","POST","2010-10-27",1700285.03,null,null,null,null,1700285.03,"2010-10-27",null,null,null,null,1700285.03,150025.14000000001,null,null,null,1700285.03,"2010-12-09",66552.45,1633732.58,"CZ.1.11/2010/11","2010-11-30",68676.19,24.758000000000003,"2011-03-24",150025.14000000001,"2010-10-27",5872.27,144152.87,null,null,null,null,null,null,null,null,null,null,null,null,null,150025.16,null,null,1700285.03,"2010-08-11",2006867.3,78297,66552.45,5872.2749608514996,0,0,0,0,0,5872.2750391484997,0,0,1928570.3,1639284.7549999999,144642.77153571486,0,0,0,0,0,144642.77346428516,0,0,1856352.24,"2010-07-31",1856352.24,1783927.51,72424.73,85,7.4999999500000003,null,null,null,null,null,7.5000000499999997,null,null,"P2 Ukončena","Ne",{"$error":"#N/A"},"2010-07-31",1856352.24,1783927.51,72424.73,85,7.4999999500000003,null,null,null,null,null,7.5000000499999997,null,null,"P2 Ukončena","Ne",{"$error":"#N/A"}]
["01 2.2 - Služby pro cestovní ruch","11.2.2","11.2","CZ.1.11/2.2.00/01.00067","Mikulovsko - profesionální partner v cestovním ruchu","P7 Výdaje projektu certifikovány","MĚSTO MIKULOV","Obec",8501032.75,750091.11,750091.11,0,0,0,0,0,750091.14,0,0,10001215,0,0,10001215,71400,10072615,4,"04/00067","P4 Proplacena příjemci","POST","2011-11-07",2112936,null,null,null,null,2112936,"2011-11-07",null,null,null,null,2112936,186435.53,null,null,null,2112936,"2011-12-13",null,2112936,"CZ.1.11/2011/11","2011-12-02",82704.56,25.548000000000002,"2012-07-25",186435.53,"2011-11-07",null,186435.53,null,null,null,null,null,null,null,null,null,null,null,null,null,186435.54,null,null,2112936,"2011-05-12",2662715.56,0,0,0,0,0,0,0,0,0,0,0,2662715.56,2263308.2259999998,199703.66566864221,0,0,0,0,0,199703.66833135777,0,0,2463011.89,"2011-04-30",2463011.91,2463011.91,0,85,7.4999999500000003,null,null,null,null,null,7.5000000499999997,null,null,"P2 Ukončena","Ne",{"$error":"#N/A"},"2011-04-30",2463011.91,2463011.91,0,85,7.4999999500000003,null,null,null,null,null,7.5000000499999997,null,null,"P2 Ukončena","Ne",{"$error":"#N/A"}]
["01 2.1 - Infrastruktura pro cestovní ruch","11.2.1","11.2","CZ.1.11/2.1.00/01.00068","Motorest Speřice \"A\" rozšíření a dostavba stávajících objektů","N12 Projektová žádost nesplnila formální náležitosti","Motorest Speřice, s.r.o.","Soukromá firma_MSP",null,null,null,null,null,null,null,null,null,null,null,null,null,null,null,null,null,1,null," ",null,null,null,null,null,null,null,null,null,null,null,null,null,null,null,null,null,null,null,null,null,null,null,null,null,null,null,null,null,null,null,null,null,null,null,null,null,null,null,null,null,null,null,null,null,null,null,null,null,null,null,0,0,0,0,0,0,0,0,0,0,null,0,0,0,0,0,0,0,0,0,0,null,"2008-11-30",5000000,0,5000000,32.946825722599996,2.9070728578999998,2.9070728577999998,null,null,null,null,null,null,61.239028561700003,"P1 Zahájena","Ne",{"$error":"#N/A"},"2008-11-30",5000000,0,5000000,32.946825722599996,2.9070728578999998,2.9070728577999998,null,null,null,null,null,null,61.239028561700003,"P1 Zahájena","Ne",{"$error":"#N/A"}]
["01 2.1 - Infrastruktura pro cestovní ruch","11.2.1","11.2","CZ.1.11/2.1.00/01.00068","Motorest Speřice \"A\" rozšíření a dostavba stávajících objektů","N12 Projektová žádost nesplnila formální náležitosti","Motorest Speřice, s.r.o.","Soukromá firma_MSP",null,null,null,null,null,null,null,null,null,null,null,null,null,null,null,null,null,2,null," ",null,null,null,null,null,null,null,null,null,null,null,null,null,null,null,null,null,null,null,null,null,null,null,null,null,null,null,null,null,null,null,null,null,null,null,null,null,null,null,null,null,null,null,null,null,null,null,null,null,null,null,0,0,0,0,0,0,0,0,0,0,null,0,0,0,0,0,0,0,0,0,0,null,"2009-02-28",5000000,0,5000000,32.946825722599996,2.9070728578999998,2.9070728577999998,null,null,null,null,null,null,61.239028561700003,"P1 Zahájena","Ne",{"$error":"#N/A"},"2009-02-28",5000000,0,5000000,32.946825722599996,2.9070728578999998,2.9070728577999998,null,null,null,null,null,null,61.239028561700003,"P1 Zahájena","Ne",{"$error":"#N/A"}]
["01 2.1 - Infrastruktura pro cestovní ruch","11.2.1","11.2","CZ.1.11/2.1.00/01.00068","Motorest Speřice \"A\" rozšíření a dostavba stávajících objektů","N12 Projektová žádost nesplnila formální náležitosti","Motorest Speřice, s.r.o.","Soukromá firma_MSP",null,null,null,null,null,null,null,null,null,null,null,null,null,null,null,null,null,3,null," ",null,null,null,null,null,null,null,null,null,null,null,null,null,null,null,null,null,null,null,null,null,null,null,null,null,null,null,null,null,null,null,null,null,null,null,null,null,null,null,null,null,null,null,null,null,null,null,null,null,null,null,0,0,0,0,0,0,0,0,0,0,null,0,0,0,0,0,0,0,0,0,0,null,"2009-05-31",5000000,0,5000000,32.946825722599996,2.9070728578999998,2.9070728577999998,null,null,null,null,null,null,61.239028561700003,"P1 Zahájena","Ne",{"$error":"#N/A"},"2009-05-31",5000000,0,5000000,32.946825722599996,2.9070728578999998,2.9070728577999998,null,null,null,null,null,null,61.239028561700003,"P1 Zahájena","Ne",{"$error":"#N/A"}]
["01 2.1 - Infrastruktura pro cestovní ruch","11.2.1","11.2","CZ.1.11/2.1.00/01.00068","Motorest Speřice \"A\" rozšíření a dostavba stávajících objektů","N12 Projektová žádost nesplnila formální náležitosti","Motorest Speřice, s.r.o.","Soukromá firma_MSP",null,null,null,null,null,null,null,null,null,null,null,null,null,null,null,null,null,4,null," ",null,null,null,null,null,null,null,null,null,null,null,null,null,null,null,null,null,null,null,null,null,null,null,null,null,null,null,null,null,null,null,null,null,null,null,null,null,null,null,null,null,null,null,null,null,null,null,null,null,null,null,0,0,0,0,0,0,0,0,0,0,null,0,0,0,0,0,0,0,0,0,0,null,"2009-08-31",5000000,0,5000000,32.946825722599996,2.9070728578999998,2.9070728577999998,null,null,null,null,null,null,61.239028561700003,"P1 Zahájena","Ne",{"$error":"#N/A"},"2009-08-31",5000000,0,5000000,32.946825722599996,2.9070728578999998,2.9070728577999998,null,null,null,null,null,null,61.239028561700003,"P1 Zahájena","Ne",{"$error":"#N/A"}]
["01 2.1 - Infrastruktura pro cestovní ruch","11.2.1","11.2","CZ.1.11/2.1.00/01.00068","Motorest Speřice \"A\" rozšíření a dostavba stávajících objektů","N12 Projektová žádost nesplnila formální náležitosti","Motorest Speřice, s.r.o.","Soukromá firma_MSP",null,null,null,null,null,null,null,null,null,null,null,null,null,null,null,null,null,5,null," ",null,null,null,null,null,null,null,null,null,null,null,null,null,null,null,null,null,null,null,null,null,null,null,null,null,null,null,null,null,null,null,null,null,null,null,null,null,null,null,null,null,null,null,null,null,null,null,null,null,null,null,0,0,0,0,0,0,0,0,0,0,null,0,0,0,0,0,0,0,0,0,0,null,"2009-11-30",5000000,0,5000000,32.946825722599996,2.9070728578999998,2.9070728577999998,null,null,null,null,null,null,61.239028561700003,"P1 Zahájena","Ne",{"$error":"#N/A"},"2009-11-30",5000000,0,5000000,32.946825722599996,2.9070728578999998,2.9070728577999998,null,null,null,null,null,null,61.239028561700003,"P1 Zahájena","Ne",{"$error":"#N/A"}]
["01 2.1 - Infrastruktura pro cestovní ruch","11.2.1","11.2","CZ.1.11/2.1.00/01.00068","Motorest Speřice \"A\" rozšíření a dostavba stávajících objektů","N12 Projektová žádost nesplnila formální náležitosti","Motorest Speřice, s.r.o.","Soukromá firma_MSP",null,null,null,null,null,null,null,null,null,null,null,null,null,null,null,null,null,6,null," ",null,null,null,null,null,null,null,null,null,null,null,null,null,null,null,null,null,null,null,null,null,null,null,null,null,null,null,null,null,null,null,null,null,null,null,null,null,null,null,null,null,null,null,null,null,null,null,null,null,null,null,0,0,0,0,0,0,0,0,0,0,null,0,0,0,0,0,0,0,0,0,0,null,"2010-02-28",5000000,0,5000000,32.946825722599996,2.9070728578999998,2.9070728577999998,null,null,null,null,null,null,61.239028561700003,"P1 Zahájena","Ne",{"$error":"#N/A"},"2010-02-28",5000000,0,5000000,32.946825722599996,2.9070728578999998,2.9070728577999998,null,null,null,null,null,null,61.239028561700003,"P1 Zahájena","Ne",{"$error":"#N/A"}]
["01 2.1 - Infrastruktura pro cestovní ruch","11.2.1","11.2","CZ.1.11/2.1.00/01.00068","Motorest Speřice \"A\" rozšíření a dostavba stávajících objektů","N12 Projektová žádost nesplnila formální náležitosti","Motorest Speřice, s.r.o.","Soukromá firma_MSP",null,null,null,null,null,null,null,null,null,null,null,null,null,null,null,null,null,7,null," ",null,null,null,null,null,null,null,null,null,null,null,null,null,null,null,null,null,null,null,null,null,null,null,null,null,null,null,null,null,null,null,null,null,null,null,null,null,null,null,null,null,null,null,null,null,null,null,null,null,null,null,0,0,0,0,0,0,0,0,0,0,null,0,0,0,0,0,0,0,0,0,0,null,"2010-05-31",5000000,0,5000000,32.946825722599996,2.9070728578999998,2.9070728577999998,null,null,null,null,null,null,61.239028561700003,"P1 Zahájena","Ne",{"$error":"#N/A"},"2010-05-31",5000000,0,5000000,32.946825722599996,2.9070728578999998,2.9070728577999998,null,null,null,null,null,null,61.239028561700003,"P1 Zahájena","Ne",{"$error":"#N/A"}]
["01 2.1 - Infrastruktura pro cestovní ruch","11.2.1","11.2","CZ.1.11/2.1.00/01.00068","Motorest Speřice \"A\" rozšíření a dostavba stávajících objektů","N12 Projektová žádost nesplnila formální náležitosti","Motorest Speřice, s.r.o.","Soukromá firma_MSP",null,null,null,null,null,null,null,null,null,null,null,null,null,null,null,null,null,8,null," ",null,null,null,null,null,null,null,null,null,null,null,null,null,null,null,null,null,null,null,null,null,null,null,null,null,null,null,null,null,null,null,null,null,null,null,null,null,null,null,null,null,null,null,null,null,null,null,null,null,null,null,0,0,0,0,0,0,0,0,0,0,null,0,0,0,0,0,0,0,0,0,0,null,"2010-08-31",5000000,0,5000000,32.946825722599996,2.9070728578999998,2.9070728577999998,null,null,null,null,null,null,61.239028561700003,"P1 Zahájena","Ne",{"$error":"#N/A"},"2010-08-31",5000000,0,5000000,32.946825722599996,2.9070728578999998,2.9070728577999998,null,null,null,null,null,null,61.239028561700003,"P1 Zahájena","Ne",{"$error":"#N/A"}]
["01 2.1 - Infrastruktura pro cestovní ruch","11.2.1","11.2","CZ.1.11/2.1.00/01.00068","Motorest Speřice \"A\" rozšíření a dostavba stávajících objektů","N12 Projektová žádost nesplnila formální náležitosti","Motorest Speřice, s.r.o.","Soukromá firma_MSP",null,null,null,null,null,null,null,null,null,null,null,null,null,null,null,null,null,9,null," ",null,null,null,null,null,null,null,null,null,null,null,null,null,null,null,null,null,null,null,null,null,null,null,null,null,null,null,null,null,null,null,null,null,null,null,null,null,null,null,null,null,null,null,null,null,null,null,null,null,null,null,0,0,0,0,0,0,0,0,0,0,null,0,0,0,0,0,0,0,0,0,0,null,"2010-11-30",5000000,0,5000000,32.946825722599996,2.9070728578999998,2.9070728577999998,null,null,null,null,null,null,61.239028561700003,"P1 Zahájena","Ne",{"$error":"#N/A"},"2010-11-30",5000000,0,5000000,32.946825722599996,2.9070728578999998,2.9070728577999998,null,null,null,null,null,null,61.239028561700003,"P1 Zahájena","Ne",{"$error":"#N/A"}]
["01 2.1 - Infrastruktura pro cestovní ruch","11.2.1","11.2","CZ.1.11/2.1.00/01.00068","Motorest Speřice \"A\" rozšíření a dostavba stávajících objektů","N12 Projektová žádost nesplnila formální náležitosti","Motorest Speřice, s.r.o.","Soukromá firma_MSP",null,null,null,null,null,null,null,null,null,null,null,null,null,null,null,null,null,10,null," ",null,null,null,null,null,null,null,null,null,null,null,null,null,null,null,null,null,null,null,null,null,null,null,null,null,null,null,null,null,null,null,null,null,null,null,null,null,null,null,null,null,null,null,null,null,null,null,null,null,null,null,0,0,0,0,0,0,0,0,0,0,null,0,0,0,0,0,0,0,0,0,0,null,"2011-04-30",5000000,0,5000000,32.946825722599996,2.9070728578999998,2.9070728577999998,null,null,null,null,null,null,61.239028561700003,"P1 Zahájena","Ne",{"$error":"#N/A"},"2011-04-30",5000000,0,5000000,32.946825722599996,2.9070728578999998,2.9070728577999998,null,null,null,null,null,null,61.239028561700003,"P1 Zahájena","Ne",{"$error":"#N/A"}]
["01 2.1 - Infrastruktura pro cestovní ruch","11.2.1","11.2","CZ.1.11/2.1.00/01.00069","EA Hotel Joseph 1699","P8 Projekt finálně uzavřen","Accomo s.r.o.","Soukromá firma_MSP",13968704.16,2465065.44,1232532.72,1232532.72,1232532.72,0,0,0,0,0,10955846.4,27389616,0,0,27389616,6006752,33396368,1,"1/00069","P4 Proplacena příjemci","POST","2009-08-21",1661643.75,null,null,null,null,1661643.75,"2009-08-20",null,null,null,null,1661643.75,146615.62,146615.63,null,null,1661643.75,"2010-08-16",1661643.75,null,"CZ.1.11/2010/02","2010-02-26",64069.55,25.934999999999999,"2010-07-23",146615.62,"2009-08-20",146615.62,null,146615.63,"2009-08-20",146615.63,null,null,null,null,null,null,null,null,null,null,null,null,1303250,1661643.75,"2009-07-08",3258125,3258125,1661643.75,146615.625,146615.625,0,0,0,0,0,0,1303250,null,0,0,0,0,0,0,0,0,0,0,1954875,"2009-06-20",1800000,0,1800000,51,4.5,4.5,null,null,null,null,null,null,40,"P2 Ukončena","Ne",{"$error":"#N/A"},"2009-06-20",1800000,0,1800000,51,4.5,4.5,null,null,null,null,null,null,40,"P2 Ukončena","Ne",{"$error":"#N/A"}]
["01 2.1 - Infrastruktura pro cestovní ruch","11.2.1","11.2","CZ.1.11/2.1.00/01.00069","EA Hotel Joseph 1699","P8 Projekt finálně uzavřen","Accomo s.r.o.","Soukromá firma_MSP",13968704.16,2465065.44,1232532.72,1232532.72,1232532.72,0,0,0,0,0,10955846.4,27389616,0,0,27389616,6006752,33396368,2,"02/00069","P4 Proplacena příjemci","POST","2010-01-29",3802669.14,null,null,null,null,3802669.14,"2010-01-28",null,null,null,null,3802669.14,335529.63,335529.63,null,null,3802669.14,"2010-06-02",3802669.14,null,"CZ.1.11/2010/03","2010-04-02",149458.35999999999,25.443000000000001,"2010-07-23",335529.63,"2010-01-28",335529.63,null,335529.63,"2010-01-28",335529.63,null,null,null,null,null,null,null,null,null,null,null,null,2982485.6,3802669.14,"2009-11-20",7456214,7456214,3802669.14,335529.63,335529.63,0,0,0,0,0,0,2982485.6,null,0,0,0,0,0,0,0,0,0,0,4473728.4000000004,"2009-11-25",4473728.4000000004,0,4473728.4000000004,51,4.5,4.5,null,null,null,null,null,null,40,"P2 Ukončena","Ne",{"$error":"#N/A"},"2009-11-25",4473728.4000000004,0,4473728.4000000004,51,4.5,4.5,null,null,null,null,null,null,40,"P2 Ukončena","Ne",{"$error":"#N/A"}]
["01 2.1 - Infrastruktura pro cestovní ruch","11.2.1","11.2","CZ.1.11/2.1.00/01.00069","EA Hotel Joseph 1699","P8 Projekt finálně uzavřen","Accomo s.r.o.","Soukromá firma_MSP",13968704.16,2465065.44,1232532.72,1232532.72,1232532.72,0,0,0,0,0,10955846.4,27389616,0,0,27389616,6006752,33396368,3,"03/00069","P4 Proplacena příjemci","POST","2010-05-21",4591346.54,null,null,null,null,4591346.54,"2010-05-21",null,null,null,null,4591346.54,405118.81,405118.81,null,null,4591346.54,"2010-08-16",4591346.54,null,"CZ.1.11/2010/05","2010-06-02",178097.23,25.78,"2010-11-08",405118.81,"2010-05-21",405118.81,null,405118.81,"2010-05-21",405118.81,null,null,null,null,null,null,null,null,null,null,null,null,3601056.12,4591346.54,"2010-04-13",9002668,9002668,4591360.68,405120.06,405120.06,0,0,0,0,0,0,3601067.2,null,0,0,0,0,0,0,0,0,0,0,5401600.7999999998,"2010-03-25",5401600.7999999998,0,5401600.7999999998,51,4.5,4.5,null,null,null,null,null,null,40,"P2 Ukončena","Ne",{"$error":"#N/A"},"2010-03-25",5401600.7999999998,0,5401600.7999999998,51,4.5,4.5,null,null,null,null,null,null,40,"P2 Ukončena","Ne",{"$error":"#N/A"}]
["01 2.1 - Infrastruktura pro cestovní ruch","11.2.1","11.2","CZ.1.11/2.1.00/01.00069","EA Hotel Joseph 1699","P8 Projekt finálně uzavřen","Accomo s.r.o.","Soukromá firma_MSP",13968704.16,2465065.44,1232532.72,1232532.72,1232532.72,0,0,0,0,0,10955846.4,27389616,0,0,27389616,6006752,33396368,4,"04/00069","P4 Proplacena příjemci","POST","2010-10-07",3561362.6,null,null,null,null,3561362.6,"2010-10-07",null,null,null,null,3561362.6,314237.87,314237.88,null,null,3561362.6,"2010-12-14",3561362.6,null,"CZ.1.11/2010/10","2010-10-27",144594.5,24.63,"2011-03-24",314237.87,"2010-10-07",314237.87,null,314237.88,"2010-10-07",314237.88,null,null,null,null,null,null,null,null,null,null,null,null,2793225.58,3561362.6,"2010-07-30",7512421.7199999997,7512421.7199999997,3831335.0772000002,338058.97739999997,338058.97739999997,0,0,0,0,0,0,3004968.6880000001,null,0,0,0,0,0,0,0,0,0,0,4507453.03,"2010-07-30",4507469.67,0,4507469.67,51,4.5,4.5,null,null,null,null,null,null,40,"P2 Ukončena","Ne",{"$error":"#N/A"},"2010-07-30",4507469.67,0,4507469.67,51,4.5,4.5,null,null,null,null,null,null,40,"P2 Ukončena","Ne",{"$error":"#N/A"}]
["01 3.4 - Veřejné služby regionálního významu","11.3.4","11.3","CZ.1.11/3.4.00/01.00070","Hlavní lůžková budova v Nemocnici Pelhřimov","P7 Výdaje projektu certifikovány","Kraj Vysočina","Kraj",130418851.42,11507545.720000001,11507545.720000001,0,0,0,0,212889595.71000001,0,0,0,354815992.85000002,0,0,354815992.85000002,117540106.15000001,472356099,1,"01/00070","P4 Proplacena příjemci","POST","2009-12-23",35368675.840000004,null,null,null,null,35368675.840000004,"2009-12-23",null,null,null,null,35368675.840000004,3120765.52,null,null,null,35368675.840000004,"2010-02-12",35114775.969999999,253899.87,"CZ.1.11/2010/01","2010-01-29",1348302.67,26.232000000000003,"2010-07-23",3120765.52,"2009-12-23",3098362.59,22402.93,null,null,null,null,null,null,null,null,null,null,null,null,57734162.039999999,null,null,null,35368675.840000004,"2009-07-13",96223603.400000006,95532846.400000006,35114775.973999836,3098362.5860001673,0,0,0,0,57319707.840000004,0,0,0,690757,253899.87026987821,22402.929730121781,0,0,0,0,414454.2,0,0,0,38489441.359999999,"2009-06-15",38406000,0,38406000,36.7567567567,3.2432432433000002,null,null,null,null,60,null,null,null,"P2 Ukončena","Ne",{"$error":"#N/A"},"2009-06-15",38406000,0,38406000,36.7567567567,3.2432432433000002,null,null,null,null,60,null,null,null,"P2 Ukončena","Ne",{"$error":"#N/A"}]
["01 3.4 - Veřejné služby regionálního významu","11.3.4","11.3","CZ.1.11/3.4.00/01.00070","Hlavní lůžková budova v Nemocnici Pelhřimov","P7 Výdaje projektu certifikovány","Kraj Vysočina","Kraj",130418851.42,11507545.720000001,11507545.720000001,0,0,0,0,212889595.71000001,0,0,0,354815992.85000002,0,0,354815992.85000002,117540106.15000001,472356099,2,"02/00070","P4 Proplacena příjemci","POST","2010-12-01",69304260.530000001,null,null,null,null,69304260.530000001,"2010-12-01",null,null,null,null,69304260.530000001,6115081.8200000003,null,null,null,69304260.530000001,"2010-12-23",63703449.719999999,5600810.8100000005,"CZ.1.11/2010/12","2010-12-17",2799267.33,24.758000000000003,"2011-03-24",6115081.8200000003,"2010-12-16",5620892.6299999999,494189.19,null,null,null,null,null,null,null,null,null,null,null,null,113129013.53,null,null,null,69304260.530000001,"2010-07-20",188548355.88,173310855.88,63703449.728766501,5620892.6232335009,0,0,0,0,103986513.528,0,0,0,15237500,5600810.8108021626,494189.18919783749,0,0,0,0,9142500,0,0,0,75419342.349999994,"2010-06-30",75419342.349999994,6095000,69324342.349999994,36.7567567567,3.2432432433000002,null,null,null,null,60,null,null,null,"P2 Ukončena","Ne",{"$error":"#N/A"},"2010-06-30",75419342.349999994,6095000,69324342.349999994,36.7567567567,3.2432432433000002,null,null,null,null,60,null,null,null,"P2 Ukončena","Ne",{"$error":"#N/A"}]
["01 3.4 - Veřejné služby regionálního významu","11.3.4","11.3","CZ.1.11/3.4.00/01.00070","Hlavní lůžková budova v Nemocnici Pelhřimov","P7 Výdaje projektu certifikovány","Kraj Vysočina","Kraj",130418851.42,11507545.720000001,11507545.720000001,0,0,0,0,212889595.71000001,0,0,0,354815992.85000002,0,0,354815992.85000002,117540106.15000001,472356099,3,"03/00070","P4 Proplacena příjemci","POST","2011-07-15",25324500.199999999,null,null,null,null,25324500.199999999,"2011-07-15",null,null,null,null,25324500.199999999,2234514.7200000002,null,null,null,25324500.199999999,"2011-08-08",20257914.48,5066585.72,"CZ.1.11/2011/07","2011-07-28",1045818.72,24.215,"2011-11-23",2234514.7200000002,"2011-07-15",1787463.04,447051.68,null,null,null,null,null,null,null,null,null,null,null,null,41338522.390000001,null,null,null,25324500.199999999,"2011-02-10",68897537.810000002,55113443.810000002,20257914.481482234,1787463.0425177671,0,0,0,0,33068066.285999998,0,0,0,13784094,5066585.9026948791,447051.6973051207,0,0,0,0,8270456.4000000004,0,0,0,27559015.120000001,"2011-02-10",27559015.120000001,5513637.5999999996,22045377.52,36.7567567567,3.2432432433000002,null,null,null,null,60,null,null,null,"P2 Ukončena","Ne",{"$error":"#N/A"},"2011-02-10",27559015.120000001,5513637.5999999996,22045377.52,36.7567567567,3.2432432433000002,null,null,null,null,60,null,null,null,"P2 Ukončena","Ne",{"$error":"#N/A"}]
["01 3.4 - Veřejné služby regionálního významu","11.3.4","11.3","CZ.1.11/3.4.00/01.00071","Rekonstrukce budovy interny v Nemocnici Havlíčkův Brod","P7 Výdaje projektu certifikovány","Kraj Vysočina","Kraj",58810255.170000002,5187410.82,5187410.82,0,0,0,0,95996497.010000005,0,0,0,159994163,0,0,159994163,10706599,170700762,1,"1/00071","P4 Proplacena příjemci","POST","2009-07-14",20151023.27,null,null,null,null,20151023.27,"2009-05-13",null,null,null,null,20151023.27,1778031.47,null,null,null,20151023.27,"2009-09-15",20151023.27,null,"CZ.1.11/2009/07","2009-09-03",792723.18,25.42,"2010-04-23",1778031.47,"2009-07-14",1778031.47,null,null,null,null,null,null,null,null,null,null,null,null,null,32893581.43,null,null,null,20151023.27,"2009-05-13",54822636.170000002,54822636.170000002,20151023.276472725,1778031.4655856346,0,0,0,0,32893581.427941643,0,0,0,null,0,0,0,0,0,0,0,0,0,0,21929054.739999998,"2009-04-15",21029443,0,21029443,36.756757216099999,3.2432432838,null,null,null,null,59.999999500100003,null,null,null,"P2 Ukončena","Ne",{"$error":"#N/A"},"2009-04-15",21029443,0,21029443,36.756757216099999,3.2432432838,null,null,null,null,59.999999500100003,null,null,null,"P2 Ukončena","Ne",{"$error":"#N/A"}]
["01 3.4 - Veřejné služby regionálního významu","11.3.4","11.3","CZ.1.11/3.4.00/01.00071","Rekonstrukce budovy interny v Nemocnici Havlíčkův Brod","P7 Výdaje projektu certifikovány","Kraj Vysočina","Kraj",58810255.170000002,5187410.82,5187410.82,0,0,0,0,95996497.010000005,0,0,0,159994163,0,0,159994163,10706599,170700762,2,"02/00071","P4 Proplacena příjemci","POST","2010-07-21",32733414.23,null,null,null,null,32733414.23,"2010-07-21",null,null,null,null,32733414.23,2888242.43,null,null,null,32733414.23,"2010-12-14",31557556.98,1175857.25,"CZ.1.11/2010/10","2010-10-27",1329005.8500000001,24.63,"2011-03-24",2888242.43,"2010-07-21",2784490.32,103752.11,null,null,null,null,null,null,null,null,null,null,null,null,53432483.909999996,null,null,null,32733414.23,"2010-05-28",89054140.769999996,85855117.390000001,31557557.056639951,2784490.3285497809,0,0,0,0,51513070.004810266,0,0,0,3199023.38,1175857.2570728762,103752.11091904175,0,0,0,0,1919414.0120080821,0,0,0,35621656.310000002,"2010-04-30",35621656.310000002,1279609.3500000001,34342046.960000001,36.756757216099999,3.2432432838,null,null,null,null,59.999999500100003,null,null,null,"P2 Ukončena","Ne",{"$error":"#N/A"},"2010-04-30",35621656.310000002,1279609.3500000001,34342046.960000001,36.756757216099999,3.2432432838,null,null,null,null,59.999999500100003,null,null,null,"P2 Ukončena","Ne",{"$error":"#N/A"}]
["01 3.4 - Veřejné služby regionálního významu","11.3.4","11.3","CZ.1.11/3.4.00/01.00071","Rekonstrukce budovy interny v Nemocnici Havlíčkův Brod","P7 Výdaje projektu certifikovány","Kraj Vysočina","Kraj",58810255.170000002,5187410.82,5187410.82,0,0,0,0,95996497.010000005,0,0,0,159994163,0,0,159994163,10706599,170700762,3,"03/00071","P4 Proplacena příjemci","POST","2010-10-27",5751756.4699999997,null,null,null,null,5751756.4699999997,"2010-10-27",null,null,null,null,5751756.4699999997,507507.92,null,null,null,5751756.4699999997,"2010-12-09",3630181.44,2121575.0299999998,"CZ.1.11/2010/11","2010-11-30",232319.1,24.758000000000003,"2011-03-24",507507.92,"2010-10-27",320310.13,187197.79,null,null,null,null,null,null,null,null,null,null,null,null,9388896.4299999997,null,null,null,5751756.4699999997,"2010-09-15",15648160.82,9876228.8200000003,3630181.4494738979,320310.12789736997,0,0,0,0,5925737.2426287318,0,0,0,5771932,2121575.0319183851,187197.79693550302,0,0,0,0,3463159.171146112,0,0,0,6259264.3899999997,"2010-10-15",6259264.5,2247450.65,4011813.85,36.756757216099999,3.2432432838,null,null,null,null,59.999999500100003,null,null,null,"P2 Ukončena","Ne",{"$error":"#N/A"},"2010-10-15",6259264.5,2247450.65,4011813.85,36.756757216099999,3.2432432838,null,null,null,null,59.999999500100003,null,null,null,"P2 Ukončena","Ne",{"$error":"#N/A"}]
["01 3.4 - Veřejné služby regionálního významu","11.3.4","11.3","CZ.1.11/3.4.00/01.00072","Interní pavilon v Nemocnici Nové Město na Moravě","P7 Výdaje projektu certifikovány","Kraj Vysočina","Kraj",116961967.98,10343563.189999999,10343563.189999999,0,0,0,0,190958297.22,0,0,0,318263828.38999999,0,0,318263828.38999999,114159113.97,432422942.36000001,1,"01/00072","P4 Proplacena příjemci","POST","2010-04-29",29589346.379999999,null,null,null,null,29589346.379999999,"2010-04-29",null,null,null,null,29589346.379999999,2616741.83,null,null,null,29589346.379999999,"2010-08-16",29589346.379999999,null,"CZ.1.11/2010/05","2010-06-02",1147763.6299999999,25.78,"2010-11-08",2616741.83,"2010-04-29",2616741.83,null,null,null,null,null,null,null,null,null,null,null,null,null,48309132.43,null,null,null,29589346.379999999,"2009-12-30",80515220.640000001,80515220.640000001,29589346.380527429,2616741.82998147,0,0,0,0,48309132.429491103,0,0,0,null,0,0,0,0,0,0,0,0,0,0,32206088.260000002,"2009-11-30",32206088.260000002,0,32206088.260000002,36.750003471799999,3.2499964717000003,null,null,null,null,60.000000056499999,null,null,null,"P2 Ukončena","Ne",{"$error":"#N/A"},"2009-11-30",32206088.260000002,0,32206088.260000002,36.750003471799999,3.2499964717000003,null,null,null,null,60.000000056499999,null,null,null,"P2 Ukončena","Ne",{"$error":"#N/A"}]
["01 3.4 - Veřejné služby regionálního významu","11.3.4","11.3","CZ.1.11/3.4.00/01.00072","Interní pavilon v Nemocnici Nové Město na Moravě","P7 Výdaje projektu certifikovány","Kraj Vysočina","Kraj",116961967.98,10343563.189999999,10343563.189999999,0,0,0,0,190958297.22,0,0,0,318263828.38999999,0,0,318263828.38999999,114159113.97,432422942.36000001,2,"02/00072","P4 Proplacena příjemci","POST","2011-04-04",37455657.280000001,null,null,null,null,37455657.280000001,"2011-04-04",null,null,null,null,37455657.280000001,3312401.15,null,null,null,37455657.280000001,"2011-10-24",37455657.280000001,null,"CZ.1.11/2011/09","2011-09-29",1524881.21,24.563000000000002,"2012-07-25",3312401.15,"2011-04-04",3312401.15,null,null,null,null,null,null,null,null,null,null,null,null,null,61152087.810000002,null,null,null,37455657.280000001,"2010-12-30",101920146.23999999,101920146.23999999,37455657.281663634,3312401.1567514804,0,0,0,0,61152087.801584885,0,0,0,null,0,0,0,0,0,0,0,0,0,0,40768058.43,"2010-11-30",40768058.43,0,40768058.43,36.750003471799999,3.2499964717000003,null,null,null,null,60.000000056499999,null,null,null,"P2 Ukončena","Ne",{"$error":"#N/A"},"2010-11-30",40768058.43,0,40768058.43,36.750003471799999,3.2499964717000003,null,null,null,null,60.000000056499999,null,null,null,"P2 Ukončena","Ne",{"$error":"#N/A"}]
["01 3.4 - Veřejné služby regionálního významu","11.3.4","11.3","CZ.1.11/3.4.00/01.00072","Interní pavilon v Nemocnici Nové Město na Moravě","P7 Výdaje projektu certifikovány","Kraj Vysočina","Kraj",116961967.98,10343563.189999999,10343563.189999999,0,0,0,0,190958297.22,0,0,0,318263828.38999999,0,0,318263828.38999999,114159113.97,432422942.36000001,3,"03/00072","P4 Proplacena příjemci","POST","2012-12-02",49402632.399999999,null,null,null,null,49402632.399999999,"2012-08-28",null,null,null,null,49402632.399999999,4368935.13,null,null,null,49402632.399999999,"2012-09-13",49402632.399999999,null,"CZ.1.11/2012/08","2012-08-31",1982687.82,24.917000000000002,"2013-12-16",4368935.13,"2012-08-28",4368935.13,null,null,null,null,null,null,null,null,null,null,null,null,null,80657351.489999995,null,null,null,49402632.399999999,"2011-12-02",134428919.02000001,134428919.02000001,49402632.406953208,4368935.1250944501,0,0,0,0,80657351.487952337,0,0,0,0,0,0,0,0,0,0,0,0,0,0,53771567.530000001,"2011-12-31",53771567.539999999,0,53771567.539999999,36.750003471799999,3.2499964717000003,null,null,null,null,60.000000056499999,null,null,null,"P2 Ukončena","Ne",{"$error":"#N/A"},"2011-12-31",53771567.539999999,0,53771567.539999999,36.750003471799999,3.2499964717000003,null,null,null,null,60.000000056499999,null,null,null,"P2 Ukončena","Ne",{"$error":"#N/A"}]
["01 2.2 - Služby pro cestovní ruch","11.2.2","11.2","CZ.1.11/2.2.00/01.00073","Přijeďte k nám do Šardic","P8 Projekt finálně uzavřen","Obec Šardice","Obec",1983859.2,175046.39999999999,175046.39999999999,0,0,0,0,0,175046.39999999999,0,0,2333952,0,0,2333952,82986.8,2416938.7999999998,1,"01/00073","P4 Proplacena příjemci","POST","2010-06-16",1906984.1,null,null,null,null,1906984.1,"2010-06-16",null,null,null,null,1906984.1,168263.3,null,null,null,1906984.1,"2010-09-15",null,1906984.1,"CZ.1.11/2010/08","2010-09-02",76869.72,24.808,"2010-11-08",168263.3,"2010-06-16",null,168263.3,null,null,null,null,null,null,null,null,null,null,null,null,null,168263.31,null,null,1906984.1,"2009-08-28",2333952,null,0,0,0,0,0,0,0,0,0,0,2333952,1983859.2,175046.39999999999,0,0,0,0,0,175046.39999999999,0,0,2158905.6,"2009-08-30",2158905.6,2158905.6,0,85,7.5,null,null,null,null,null,7.5,null,null,"P2 Ukončena","Ne",{"$error":"#N/A"},"2009-08-30",2158905.6,2158905.6,0,85,7.5,null,null,null,null,null,7.5,null,null,"P2 Ukončena","Ne",{"$error":"#N/A"}]
["01 2.1 - Infrastruktura pro cestovní ruch","11.2.1","11.2","CZ.1.11/2.1.00/01.00074","Hotel Kraví Hora - Bořetice - II. etapa - Dependence","N2 Projekt nedoporučen / neschválen","Oldřich Sadílek","Soukromá firma_MSP",null,null,null,null,null,null,null,null,null,null,null,null,null,null,null,null,null,1,null," ",null,null,null,null,null,null,null,null,null,null,null,null,null,null,null,null,null,null,null,null,null,null,null,null,null,null,null,null,null,null,null,null,null,null,null,null,null,null,null,null,null,null,null,null,null,null,null,null,null,null,null,0,0,0,0,0,0,0,0,0,0,null,0,0,0,0,0,0,0,0,0,0,null,"2008-10-30",11468400,318000,11150400,51,4.5,null,4.5,null,null,null,null,null,40,"P1 Zahájena","Ne",{"$error":"#N/A"},"2008-10-30",11468400,318000,11150400,51,4.5,null,4.5,null,null,null,null,null,40,"P1 Zahájena","Ne",{"$error":"#N/A"}]
["01 2.1 - Infrastruktura pro cestovní ruch","11.2.1","11.2","CZ.1.11/2.1.00/01.00074","Hotel Kraví Hora - Bořetice - II. etapa - Dependence","N2 Projekt nedoporučen / neschválen","Oldřich Sadílek","Soukromá firma_MSP",null,null,null,null,null,null,null,null,null,null,null,null,null,null,null,null,null,2,null," ",null,null,null,null,null,null,null,null,null,null,null,null,null,null,null,null,null,null,null,null,null,null,null,null,null,null,null,null,null,null,null,null,null,null,null,null,null,null,null,null,null,null,null,null,null,null,null,null,null,null,null,0,0,0,0,0,0,0,0,0,0,null,0,0,0,0,0,0,0,0,0,0,null,"2009-01-30",5016600,180000,4836600,51,4.5,null,4.5,null,null,null,null,null,40,"P1 Zahájena","Ne",{"$error":"#N/A"},"2009-01-30",5016600,180000,4836600,51,4.5,null,4.5,null,null,null,null,null,40,"P1 Zahájena","Ne",{"$error":"#N/A"}]
["01 2.2 - Služby pro cestovní ruch","11.2.2","11.2","CZ.1.11/2.2.00/01.00075","Znovín Walking, chůze která léčí","P8 Projekt finálně uzavřen","ZNOVÍN ZNOJMO,a.s.","Soukromá firma_MSP",824929.98,145575.88,72787.929999999993,72787.95,0,72787.95,0,0,0,0,970894.14,1941400,0,0,1941400,403866,2345266,1,"1/00075","P4 Proplacena příjemci","POST","2008-12-09",824929.98,null,null,null,null,824929.98,"2008-12-09",null,null,null,null,824929.98,72787.929999999993,null,72787.95,null,824929.98,"2009-12-21",null,824929.98,"CZ.1.11/2009/11","2009-12-08",31502.71,26.186,"2010-04-23",72787.929999999993,"2008-12-09",null,72787.929999999993,null,null,null,null,72787.95,"2008-12-09",null,72787.95,null,null,null,null,null,null,null,970894.14,824929.98,"2008-09-30",1941400,null,0,0,0,0,0,0,0,0,0,0,1941400,824929.98000017903,72787.930000729801,0,72787.949999091201,0,0,0,0,0,970894.14,970505.86,"2008-09-30",970505.86,970505.86,0,42.4914999485,3.7492495107000003,null,3.7492505408000003,null,null,null,null,null,50.01,"P2 Ukončena","Ne",{"$error":"#N/A"},"2008-09-30",970505.86,970505.86,0,42.4914999485,3.7492495107000003,null,3.7492505408000003,null,null,null,null,null,50.01,"P2 Ukončena","Ne",{"$error":"#N/A"}]
["01 2.1 - Infrastruktura pro cestovní ruch","11.2.1","11.2","CZ.1.11/2.1.00/01.00076","Modernizace koupaliště města Veselí nad Moravou","N13 Projekt ohodnocen, nedosáhl minimální bodové hranice","Město VESELÍ NAD MORAVOU","Obec",null,null,null,null,null,null,null,null,null,null,null,null,null,null,null,null,null,1,null," ",null,null,null,null,null,null,null,null,null,null,null,null,null,null,null,null,null,null,null,null,null,null,null,null,null,null,null,null,null,null,null,null,null,null,null,null,null,null,null,null,null,null,null,null,null,null,null,null,null,null,null,0,0,0,0,0,0,0,0,0,0,null,0,0,0,0,0,0,0,0,0,0,null,"2009-03-31",3649500,0,3649500,36.759998209999999,3.2399998422,null,null,null,null,null,60.000001947800001,null,null,"P1 Zahájena","Ne",{"$error":"#N/A"},"2009-03-31",3649500,0,3649500,36.759998209999999,3.2399998422,null,null,null,null,null,60.000001947800001,null,null,"P1 Zahájena","Ne",{"$error":"#N/A"}]
["01 2.1 - Infrastruktura pro cestovní ruch","11.2.1","11.2","CZ.1.11/2.1.00/01.00076","Modernizace koupaliště města Veselí nad Moravou","N13 Projekt ohodnocen, nedosáhl minimální bodové hranice","Město VESELÍ NAD MORAVOU","Obec",null,null,null,null,null,null,null,null,null,null,null,null,null,null,null,null,null,2,null," ",null,null,null,null,null,null,null,null,null,null,null,null,null,null,null,null,null,null,null,null,null,null,null,null,null,null,null,null,null,null,null,null,null,null,null,null,null,null,null,null,null,null,null,null,null,null,null,null,null,null,null,0,0,0,0,0,0,0,0,0,0,null,0,0,0,0,0,0,0,0,0,0,null,"2009-07-31",6216000,146199.99,6069800.0099999998,36.759998209999999,3.2399998422,null,null,null,null,null,60.000001947800001,null,null,"P1 Zahájena","Ne",{"$error":"#N/A"},"2009-07-31",6216000,146199.99,6069800.0099999998,36.759998209999999,3.2399998422,null,null,null,null,null,60.000001947800001,null,null,"P1 Zahájena","Ne",{"$error":"#N/A"}]
["01 2.1 - Infrastruktura pro cestovní ruch","11.2.1","11.2","CZ.1.11/2.1.00/01.00076","Modernizace koupaliště města Veselí nad Moravou","N13 Projekt ohodnocen, nedosáhl minimální bodové hranice","Město VESELÍ NAD MORAVOU","Obec",null,null,null,null,null,null,null,null,null,null,null,null,null,null,null,null,null,3,null," ",null,null,null,null,null,null,null,null,null,null,null,null,null,null,null,null,null,null,null,null,null,null,null,null,null,null,null,null,null,null,null,null,null,null,null,null,null,null,null,null,null,null,null,null,null,null,null,null,null,null,null,0,0,0,0,0,0,0,0,0,0,null,0,0,0,0,0,0,0,0,0,0,null,"2009-12-30",6563380,0,6563380,36.759998209999999,3.2399998422,null,null,null,null,null,60.000001947800001,null,null,"P1 Zahájena","Ne",{"$error":"#N/A"},"2009-12-30",6563380,0,6563380,36.759998209999999,3.2399998422,null,null,null,null,null,60.000001947800001,null,null,"P1 Zahájena","Ne",{"$error":"#N/A"}]
["01 2.1 - Infrastruktura pro cestovní ruch","11.2.1","11.2","CZ.1.11/2.1.00/01.00077","Bystřická zastavení - I.etapa","P7 Výdaje projektu certifikovány","MĚSTO BYSTŘICE NAD PERNŠTEJNEM","Obec",3416541,301459.5,301459.5,0,0,0,0,0,301459.5,0,0,4019460,0,0,4019460,493800,4513260,1,"01/00077","P4 Proplacena příjemci","POST","2011-06-08",2737678.89,null,null,null,null,2737678.89,"2011-06-08",null,null,null,null,2737678.89,241559.9,null,null,null,2737678.89,"2011-07-08",2672824.3199999998,64854.57,"CZ.1.11/2011/06","2011-06-30",112467.3,24.342000000000002,"2011-11-23",241559.9,"2011-06-08",235837.44,5722.46,null,null,null,null,null,null,null,null,null,null,null,null,null,241559.91,null,null,2737678.89,"2011-01-25",3271121.7,3194322.2,2715173.87,239574.16500000001,0,0,0,0,0,239574.16500000001,0,0,76799.5,65279.574999999997,5759.9624999999996,0,0,0,0,0,5759.9624999999996,0,0,3025787.57,"2011-01-03",3025787.57,71039.539999999994,2954748.03,85,7.5,null,null,null,null,null,7.5,null,null,"P2 Ukončena","Ne",{"$error":"#N/A"},"2011-01-03",3025787.57,71039.539999999994,2954748.03,85,7.5,null,null,null,null,null,7.5,null,null,"P2 Ukončena","Ne",{"$error":"#N/A"}]
["01 2.1 - Infrastruktura pro cestovní ruch","11.2.1","11.2","CZ.1.11/2.1.00/01.00077","Bystřická zastavení - I.etapa","P7 Výdaje projektu certifikovány","MĚSTO BYSTŘICE NAD PERNŠTEJNEM","Obec",3416541,301459.5,301459.5,0,0,0,0,0,301459.5,0,0,4019460,0,0,4019460,493800,4513260,2,"02/00077","P4 Proplacena příjemci","POST","2011-11-18",299743.34999999998,null,null,null,null,299743.34999999998,"2011-11-18",null,null,null,null,299743.34999999998,26447.94,null,null,null,299743.34999999998,"2011-12-13",220425.37,79317.98,"CZ.1.11/2011/11","2011-12-02",11732.55,25.548000000000002,"2012-07-25",26447.94,"2011-11-18",19449.3,6998.64,null,null,null,null,null,null,null,null,null,null,null,null,null,26447.95,null,null,299743.34999999998,"2011-08-08",354823.24,261494.6,222270.41,19612.095000000001,0,0,0,0,0,19612.095000000001,0,0,93328.639999999999,79329.343999999997,6999.6480000000001,0,0,0,0,0,6999.6480000000001,0,0,328211.49,"2011-06-30",328211.5,86328.99,241882.51,85,7.5,null,null,null,null,null,7.5,null,null,"P2 Ukončena","Ne",{"$error":"#N/A"},"2011-06-30",328211.5,86328.99,241882.51,85,7.5,null,null,null,null,null,7.5,null,null,"P2 Ukončena","Ne",{"$error":"#N/A"}]
["01 2.2 - Služby pro cestovní ruch","11.2.2","11.2","CZ.1.11/2.2.00/01.00078","Destinační management Mikroregionu Kahan","N13 Projekt ohodnocen, nedosáhl minimální bodové hranice","Mikroregion Kahan dso","Sdružení obcí",null,null,null,null,null,null,null,null,null,null,null,null,null,null,null,null,null,1,null," ",null,null,null,null,null,null,null,null,null,null,null,null,null,null,null,null,null,null,null,null,null,null,null,null,null,null,null,null,null,null,null,null,null,null,null,null,null,null,null,null,null,null,null,null,null,null,null,null,null,null,null,0,0,0,0,0,0,0,0,0,0,null,0,0,0,0,0,0,0,0,0,0,null,"2008-10-31",310000,310000,0,84.999954879800001,7.4999960766000004,null,null,null,null,null,null,7.5000490435999998,null,"P1 Zahájena","Ne",{"$error":"#N/A"},"2008-10-31",310000,310000,0,84.999954879800001,7.4999960766000004,null,null,null,null,null,null,7.5000490435999998,null,"P1 Zahájena","Ne",{"$error":"#N/A"}]
["01 2.2 - Služby pro cestovní ruch","11.2.2","11.2","CZ.1.11/2.2.00/01.00078","Destinační management Mikroregionu Kahan","N13 Projekt ohodnocen, nedosáhl minimální bodové hranice","Mikroregion Kahan dso","Sdružení obcí",null,null,null,null,null,null,null,null,null,null,null,null,null,null,null,null,null,2,null," ",null,null,null,null,null,null,null,null,null,null,null,null,null,null,null,null,null,null,null,null,null,null,null,null,null,null,null,null,null,null,null,null,null,null,null,null,null,null,null,null,null,null,null,null,null,null,null,null,null,null,null,0,0,0,0,0,0,0,0,0,0,null,0,0,0,0,0,0,0,0,0,0,null,"2009-04-30",633037,633037,0,84.999954879800001,7.4999960766000004,null,null,null,null,null,null,7.5000490435999998,null,"P1 Zahájena","Ne",{"$error":"#N/A"},"2009-04-30",633037,633037,0,84.999954879800001,7.4999960766000004,null,null,null,null,null,null,7.5000490435999998,null,"P1 Zahájena","Ne",{"$error":"#N/A"}]
["01 1.4 - Rozvoj infrastruktury pro bezmotorovou dopravu","11.1.4","11.1","CZ.1.11/1.4.00/01.00079","Vybudování sítě cyklostezek v Mikroregionu Nový Dvůr - 1. etapa","P7 Výdaje projektu certifikovány","Mikroregion Nový Dvůr","Sdružení obcí",8535391.4100000001,753122.77,753122.77,0,0,0,0,0,0,753455.82,0,10041970,0,0,10041970,679700,10721670,1,"1/00079","P4 Proplacena příjemci","POST","2009-07-03",3102390.93,null,null,null,null,3102390.93,"2008-12-19",null,null,null,null,3102390.93,273740.38,null,null,null,3102390.93,"2010-08-16",2975399.2,126991.73,"CZ.1.11/2010/04","2010-04-30",121471.85,25.54,"2010-07-23",273740.38,"2008-12-19",262535.21999999997,11205.16,null,null,null,null,null,null,null,null,null,null,null,null,null,null,273861.44,null,3102390.93,"2008-12-19",3652782.75,3500585.75,2975399.2056271471,262535.21983932715,0,0,0,0,0,0,262651.32453352568,0,152197,129363.1595508937,11414.396248938074,0,0,0,0,0,0,11419.444200168216,0,3378824,"2008-12-28",3664156,141802,3522354,84.997180989699999,7.4997511442000002,null,null,null,null,null,null,7.5030678661000003,null,"P2 Ukončena","Ne",{"$error":"#N/A"},"2008-12-28",3664156,141802,3522354,84.997180989699999,7.4997511442000002,null,null,null,null,null,null,7.5030678661000003,null,"P2 Ukončena","Ne",{"$error":"#N/A"}]
["01 1.4 - Rozvoj infrastruktury pro bezmotorovou dopravu","11.1.4","11.1","CZ.1.11/1.4.00/01.00079","Vybudování sítě cyklostezek v Mikroregionu Nový Dvůr - 1. etapa","P7 Výdaje projektu certifikovány","Mikroregion Nový Dvůr","Sdružení obcí",8535391.4100000001,753122.77,753122.77,0,0,0,0,0,0,753455.82,0,10041970,0,0,10041970,679700,10721670,2,"2/00079","P4 Proplacena příjemci","POST","2009-09-30",1119642.67,null,null,null,null,1119642.67,"2009-07-09",null,null,null,null,1119642.67,98792,null,null,null,1119642.67,"2010-07-16",1037225.16,82417.509999999995,"CZ.1.11/2010/06","2010-07-02",43476.21,25.753,"2010-11-08",98792,"2009-07-09",91519.86,7272.14,null,null,null,null,null,null,null,null,null,null,null,null,null,null,98835.7,null,1119642.67,"2009-07-09",1317390.8600000001,1220425.8600000001,1037327.5770693028,91528.902399462691,0,0,0,0,0,0,91569.380531234579,0,96965,82417.516546662606,7272.1336969735303,0,0,0,0,0,0,7275.3497563638648,0,1218454.8,"2009-05-25",1344219,92500,1251719,84.997180989699999,7.4997511442000002,null,null,null,null,null,null,7.5030678661000003,null,"P2 Ukončena","Ne",{"$error":"#N/A"},"2009-05-25",1344219,92500,1251719,84.997180989699999,7.4997511442000002,null,null,null,null,null,null,7.5030678661000003,null,"P2 Ukončena","Ne",{"$error":"#N/A"}]
["01 1.4 - Rozvoj infrastruktury pro bezmotorovou dopravu","11.1.4","11.1","CZ.1.11/1.4.00/01.00079","Vybudování sítě cyklostezek v Mikroregionu Nový Dvůr - 1. etapa","P7 Výdaje projektu certifikovány","Mikroregion Nový Dvůr","Sdružení obcí",8535391.4100000001,753122.77,753122.77,0,0,0,0,0,0,753455.82,0,10041970,0,0,10041970,679700,10721670,3,"03/00079","P4 Proplacena příjemci","POST","2009-12-28",3509240.77,null,null,null,null,3509240.77,"2009-12-23",null,null,null,null,3509240.77,309638.88,null,null,null,3509240.77,"2010-07-16",3467632.1,41608.67,"CZ.1.11/2010/06","2010-07-02",136265.32,25.753,"2010-11-08",309638.88,"2009-12-23",305967.53000000003,3671.35,null,null,null,null,null,null,null,null,null,null,null,null,null,null,309775.83,null,3509240.77,"2009-10-09",4128655.48,4079702.48,3467632.1007668795,305967.53342375578,0,0,0,0,0,0,306102.84580936481,0,48953,41608.670009887843,3671.3531776202258,0,0,0,0,0,0,3672.9768124919328,0,3819006.32,"2009-09-10",4693948.1900000004,60078,4633870.1900000004,84.997180989699999,7.4997511442000002,null,null,null,null,null,null,7.5030678661000003,null,"P2 Ukončena","Ne",{"$error":"#N/A"},"2009-09-10",4693948.1900000004,60078,4633870.1900000004,84.997180989699999,7.4997511442000002,null,null,null,null,null,null,7.5030678661000003,null,"P2 Ukončena","Ne",{"$error":"#N/A"}]
["01 2.2 - Služby pro cestovní ruch","11.2.2","11.2","CZ.1.11/2.2.00/01.00080","Dalešická přehrada - Informační systém","N12 Projektová žádost nesplnila formální náležitosti","Horácko - ekologický mikroregion","Sdružení obcí",null,null,null,null,null,null,null,null,null,null,null,null,null,null,null,null,null,1,null," ",null,null,null,null,null,null,null,null,null,null,null,null,null,null,null,null,null,null,null,null,null,null,null,null,null,null,null,null,null,null,null,null,null,null,null,null,null,null,null,null,null,null,null,null,null,null,null,null,null,null,null,0,0,0,0,0,0,0,0,0,0,null,0,0,0,0,0,0,0,0,0,0,null,"2008-09-30",431309,311059,120250,85,7.5,null,null,null,null,null,null,7.5,null,"P1 Zahájena","Ne",{"$error":"#N/A"},"2008-09-30",431309,311059,120250,85,7.5,null,null,null,null,null,null,7.5,null,"P1 Zahájena","Ne",{"$error":"#N/A"}]
["01 2.2 - Služby pro cestovní ruch","11.2.2","11.2","CZ.1.11/2.2.00/01.00081","Obec Násedlovice - centrum lidových tradic","N12 Projektová žádost nesplnila formální náležitosti","Obec Násedlovice","Obec",null,null,null,null,null,null,null,null,null,null,null,null,null,null,null,null,null,1,null," ",null,null,null,null,null,null,null,null,null,null,null,null,null,null,null,null,null,null,null,null,null,null,null,null,null,null,null,null,null,null,null,null,null,null,null,null,null,null,null,null,null,null,null,null,null,null,null,null,null,null,null,0,0,0,0,0,0,0,0,0,0,null,0,0,0,0,0,0,0,0,0,0,null,"2009-06-30",1482399,1482399,0,84.999974416499995,7.4999975040000004,null,null,null,null,null,7.5000280794999998,null,null,"P1 Zahájena","Ne",{"$error":"#N/A"},"2009-06-30",1482399,1482399,0,84.999974416499995,7.4999975040000004,null,null,null,null,null,7.5000280794999998,null,null,"P1 Zahájena","Ne",{"$error":"#N/A"}]
["01 1.4 - Rozvoj infrastruktury pro bezmotorovou dopravu","11.1.4","11.1","CZ.1.11/1.4.00/01.00082","Výstavba cyklostezky mezi Dolní a Horní Krupou","P8 Projekt finálně uzavřen","Dobrovolný svazek obcí Krupsko","Sdružení obcí",1866657.8,164705.1,164705.1,0,0,0,0,0,0,164705.1,0,2196068,0,0,2196068,0,2196068,1,"1/00082","P4 Proplacena příjemci","POST","2008-12-19",1858495.13,null,null,null,null,1858495.13,"2008-12-19",null,null,null,null,1858495.13,163984.87,null,null,null,1858495.13,"2009-07-20",1853340,5155.13,"CZ.1.11/2009/05","2009-07-08",71425.64,26.02,"2009-10-29",163984.87,"2008-12-19",163530,454.87,null,null,null,null,null,null,null,null,null,null,null,null,null,null,163985,null,1858495.13,"2008-11-05",2186465,2180400,1853340,163530,0,0,0,0,0,0,163530,0,6065,5155.25,454.875,0,0,0,0,0,0,454.875,0,2022480,"2008-11-30",2031362.9,5610.13,2025752.77,85,7.5,null,null,null,null,null,null,7.5,null,"P2 Ukončena","Ne",{"$error":"#N/A"},"2008-11-30",2031362.9,5610.13,2025752.77,85,7.5,null,null,null,null,null,null,7.5,null,"P2 Ukončena","Ne",{"$error":"#N/A"}]
["01 2.1 - Infrastruktura pro cestovní ruch","11.2.1","11.2","CZ.1.11/2.1.00/01.00083","NAKA - poskytování kvalitního ubytování, sportovních, zdravotně relaxačních a terapeutických služeb","P8 Projekt finálně uzavřen","NAKA, spol. s r. o.","Soukromá firma_MSP",11453430.689999999,2021193.65,1010596.82,1010596.83,1010596.83,0,0,0,0,0,8983083.6600000001,22457708,0,0,22457708,5977077.8200000003,28434785.82,1,"1/00083","P4 Proplacena příjemci","POST","2009-03-16",2658398.27,null,null,null,null,2658398.27,"2009-01-06",null,null,null,null,2658398.27,234564.55,234564.56,null,null,2658398.27,"2009-05-21",2658398.27,null,"CZ.1.11/2009/03","2009-05-13",99602.78,26.69,"2009-10-29",234564.55,"2009-01-06",234564.55,null,234564.56,"2009-01-06",234564.56,null,null,null,null,null,null,null,null,null,null,null,null,2085018.43,2658398.27,"2009-01-06",5212545.82,5212545.82,2658398.2782314592,234564.55396129272,234564.55396129272,0,0,0,0,0,0,2085018.4338459554,null,0,0,0,0,0,0,0,0,0,0,3127527.49,"2009-01-06",3150000,0,3150000,50.999998273999999,4.4999998476999998,4.4999998476999998,null,null,null,null,null,null,40.000002030600001,"P2 Ukončena","Ne",{"$error":"#N/A"},"2009-01-06",3150000,0,3150000,50.999998273999999,4.4999998476999998,4.4999998476999998,null,null,null,null,null,null,40.000002030600001,"P2 Ukončena","Ne",{"$error":"#N/A"}]
["01 2.1 - Infrastruktura pro cestovní ruch","11.2.1","11.2","CZ.1.11/2.1.00/01.00083","NAKA - poskytování kvalitního ubytování, sportovních, zdravotně relaxačních a terapeutických služeb","P8 Projekt finálně uzavřen","NAKA, spol. s r. o.","Soukromá firma_MSP",11453430.689999999,2021193.65,1010596.82,1010596.83,1010596.83,0,0,0,0,0,8983083.6600000001,22457708,0,0,22457708,5977077.8200000003,28434785.82,2,"2/00083","P4 Proplacena příjemci","POST","2009-06-18",2531342.73,null,null,null,null,2531342.73,"2009-06-18",null,null,null,null,2531342.73,223353.77,223353.77,null,null,2531342.73,"2009-07-20",2531342.73,null,"CZ.1.11/2009/05","2009-07-08",97284.5,26.02,"2009-10-29",223353.77,"2009-06-18",223353.77,null,223353.77,"2009-06-18",223353.77,null,null,null,null,null,null,null,null,null,null,null,null,1985367.02,2531342.73,"2009-04-08",4963417.29,4963417.29,2531342.7322314177,223353.77049071545,223353.77049071545,0,0,0,0,0,0,1985367.0167871516,null,0,0,0,0,0,0,0,0,0,0,2978050.37,"2009-04-06",3300000,0,3300000,50.999998273999999,4.4999998476999998,4.4999998476999998,null,null,null,null,null,null,40.000002030600001,"P2 Ukončena","Ne",{"$error":"#N/A"},"2009-04-06",3300000,0,3300000,50.999998273999999,4.4999998476999998,4.4999998476999998,null,null,null,null,null,null,40.000002030600001,"P2 Ukončena","Ne",{"$error":"#N/A"}]
["01 2.1 - Infrastruktura pro cestovní ruch","11.2.1","11.2","CZ.1.11/2.1.00/01.00083","NAKA - poskytování kvalitního ubytování, sportovních, zdravotně relaxačních a terapeutických služeb","P8 Projekt finálně uzavřen","NAKA, spol. s r. o.","Soukromá firma_MSP",11453430.689999999,2021193.65,1010596.82,1010596.83,1010596.83,0,0,0,0,0,8983083.6600000001,22457708,0,0,22457708,5977077.8200000003,28434785.82,3,"3/00083","P4 Proplacena příjemci","POST","2009-09-15",3198573.52,null,null,null,null,3198573.52,"2009-09-15",null,null,null,null,3198573.52,282227.07,282227.08,null,null,3198573.52,"2010-08-16",3198573.52,null,"CZ.1.11/2010/02","2010-02-26",123330.38,25.934999999999999,"2010-07-23",282227.07,"2009-09-15",282227.07,null,282227.08,"2009-09-15",282227.08,null,null,null,null,null,null,null,null,null,null,null,null,2508685.33,3198573.52,"2009-07-14",6271713,6271713,3198573.5217502336,282227.07544818107,282227.07544818107,0,0,0,0,0,0,2508685.3273534044,null,0,0,0,0,0,0,0,0,0,0,3763027.8,"2009-07-14",3763027.8,0,3763027.8,50.999998273999999,4.4999998476999998,4.4999998476999998,null,null,null,null,null,null,40.000002030600001,"P2 Ukončena","Ne",{"$error":"#N/A"},"2009-07-14",3763027.8,0,3763027.8,50.999998273999999,4.4999998476999998,4.4999998476999998,null,null,null,null,null,null,40.000002030600001,"P2 Ukončena","Ne",{"$error":"#N/A"}]
["01 2.1 - Infrastruktura pro cestovní ruch","11.2.1","11.2","CZ.1.11/2.1.00/01.00083","NAKA - poskytování kvalitního ubytování, sportovních, zdravotně relaxačních a terapeutických služeb","P8 Projekt finálně uzavřen","NAKA, spol. s r. o.","Soukromá firma_MSP",11453430.689999999,2021193.65,1010596.82,1010596.83,1010596.83,0,0,0,0,0,8983083.6600000001,22457708,0,0,22457708,5977077.8200000003,28434785.82,4,"04/00083","P4 Proplacena příjemci","POST","2010-02-16",2862257.09,null,null,null,null,2862257.09,"2010-02-16",null,null,null,null,2862257.09,252552.09,252552.1,null,null,2862257.09,"2010-06-02",2862257.09,null,"CZ.1.11/2010/03","2010-04-02",112496.84,25.443000000000001,"2010-07-23",252552.09,"2010-02-16",252552.09,null,252552.1,"2010-02-16",252552.1,null,null,null,null,null,null,null,null,null,null,null,null,2244907.7200000002,2862257.09,"2009-10-15",5612269,5612269,2862257.093132237,252552.09645251432,252552.09645251432,0,0,0,0,0,0,2244907.7139627342,null,0,0,0,0,0,0,0,0,0,0,3367361.29,"2009-10-06",3367361.29,0,3367361.29,50.999998273999999,4.4999998476999998,4.4999998476999998,null,null,null,null,null,null,40.000002030600001,"P2 Ukončena","Ne",{"$error":"#N/A"},"2009-10-06",3367361.29,0,3367361.29,50.999998273999999,4.4999998476999998,4.4999998476999998,null,null,null,null,null,null,40.000002030600001,"P2 Ukončena","Ne",{"$error":"#N/A"}]
["01 2.1 - Infrastruktura pro cestovní ruch","11.2.1","11.2","CZ.1.11/2.1.00/01.00084","Hotel Mánes Svratka - vybavení hotelu","N2 Projekt nedoporučen / neschválen","Hotel MÁNES, s.r.o.","Soukromá firma_MSP",null,null,null,null,null,null,null,null,null,null,null,null,null,null,null,null,null,1,null," ",null,null,null,null,null,null,null,null,null,null,null,null,null,null,null,null,null,null,null,null,null,null,null,null,null,null,null,null,null,null,null,null,null,null,null,null,null,null,null,null,null,null,null,null,null,null,null,null,null,null,null,0,0,0,0,0,0,0,0,0,0,null,0,0,0,0,0,0,0,0,0,0,null,"2008-10-30",12420739.800000001,0,12420739.800000001,51,4.5,4.5,null,null,null,null,null,null,40,"P1 Zahájena","Ne",{"$error":"#N/A"},"2008-10-30",12420739.800000001,0,12420739.800000001,51,4.5,4.5,null,null,null,null,null,null,40,"P1 Zahájena","Ne",{"$error":"#N/A"}]
["01 2.1 - Infrastruktura pro cestovní ruch","11.2.1","11.2","CZ.1.11/2.1.00/01.00085","MUZEUM REGIONÁLNÍCH ŘEMESEL A ŽIDOVSKÉ KOMUNITY V DOLNÍCH KOUNICÍCH","N13 Projekt ohodnocen, nedosáhl minimální bodové hranice","EXPOTEL, spol. s r.o.","Soukromá firma_MSP",null,null,null,null,null,null,null,null,null,null,null,null,null,null,null,null,null,1,null," ",null,null,null,null,null,null,null,null,null,null,null,null,null,null,null,null,null,null,null,null,null,null,null,null,null,null,null,null,null,null,null,null,null,null,null,null,null,null,null,null,null,null,null,null,null,null,null,null,null,null,null,0,0,0,0,0,0,0,0,0,0,null,0,0,0,0,0,0,0,0,0,0,null,"2008-11-07",671713.6,12500,659213.6,42.499268079800004,3.7503766724999998,null,3.7503766723999998,null,null,null,null,null,49.999978575299998,"P1 Zahájena","Ne",{"$error":"#N/A"},"2008-11-07",671713.6,12500,659213.6,42.499268079800004,3.7503766724999998,null,3.7503766723999998,null,null,null,null,null,49.999978575299998,"P1 Zahájena","Ne",{"$error":"#N/A"}]
["01 2.1 - Infrastruktura pro cestovní ruch","11.2.1","11.2","CZ.1.11/2.1.00/01.00085","MUZEUM REGIONÁLNÍCH ŘEMESEL A ŽIDOVSKÉ KOMUNITY V DOLNÍCH KOUNICÍCH","N13 Projekt ohodnocen, nedosáhl minimální bodové hranice","EXPOTEL, spol. s r.o.","Soukromá firma_MSP",null,null,null,null,null,null,null,null,null,null,null,null,null,null,null,null,null,2,null," ",null,null,null,null,null,null,null,null,null,null,null,null,null,null,null,null,null,null,null,null,null,null,null,null,null,null,null,null,null,null,null,null,null,null,null,null,null,null,null,null,null,null,null,null,null,null,null,null,null,null,null,0,0,0,0,0,0,0,0,0,0,null,0,0,0,0,0,0,0,0,0,0,null,"2009-11-06",644994,10000,634994,42.499268079800004,3.7503766724999998,null,3.7503766723999998,null,null,null,null,null,49.999978575299998,"P1 Zahájena","Ne",{"$error":"#N/A"},"2009-11-06",644994,10000,634994,42.499268079800004,3.7503766724999998,null,3.7503766723999998,null,null,null,null,null,49.999978575299998,"P1 Zahájena","Ne",{"$error":"#N/A"}]
["01 2.1 - Infrastruktura pro cestovní ruch","11.2.1","11.2","CZ.1.11/2.1.00/01.00085","MUZEUM REGIONÁLNÍCH ŘEMESEL A ŽIDOVSKÉ KOMUNITY V DOLNÍCH KOUNICÍCH","N13 Projekt ohodnocen, nedosáhl minimální bodové hranice","EXPOTEL, spol. s r.o.","Soukromá firma_MSP",null,null,null,null,null,null,null,null,null,null,null,null,null,null,null,null,null,3,null," ",null,null,null,null,null,null,null,null,null,null,null,null,null,null,null,null,null,null,null,null,null,null,null,null,null,null,null,null,null,null,null,null,null,null,null,null,null,null,null,null,null,null,null,null,null,null,null,null,null,null,null,0,0,0,0,0,0,0,0,0,0,null,0,0,0,0,0,0,0,0,0,0,null,"2010-11-30",550300,12500.01,537799.99,42.499268079800004,3.7503766724999998,null,3.7503766723999998,null,null,null,null,null,49.999978575299998,"P1 Zahájena","Ne",{"$error":"#N/A"},"2010-11-30",550300,12500.01,537799.99,42.499268079800004,3.7503766724999998,null,3.7503766723999998,null,null,null,null,null,49.999978575299998,"P1 Zahájena","Ne",{"$error":"#N/A"}]
["01 2.1 - Infrastruktura pro cestovní ruch","11.2.1","11.2","CZ.1.11/2.1.00/01.00086","Informační centrum - Dům Diamantové cesty Brno","N12 Projektová žádost nesplnila formální náležitosti","SPOLEČNOST DIAMANTOVÉ CESTY","Neveřejná nestátní nezisková organizace",null,null,null,null,null,null,null,null,null,null,null,null,null,null,null,null,null,1,null," ",null,null,null,null,null,null,null,null,null,null,null,null,null,null,null,null,null,null,null,null,null,null,null,null,null,null,null,null,null,null,null,null,null,null,null,null,null,null,null,null,null,null,null,null,null,null,null,null,null,null,null,0,0,0,0,0,0,0,0,0,0,null,0,0,0,0,0,0,0,0,0,0,null,"2008-09-30",2363460.44,1601035.2,762425.24,78.619997776800005,6.9399998147999993,null,6.9399998147999993,null,null,null,null,null,7.5000025935999997,"P1 Zahájena","Ne",{"$error":"#N/A"},"2008-09-30",2363460.44,1601035.2,762425.24,78.619997776800005,6.9399998147999993,null,6.9399998147999993,null,null,null,null,null,7.5000025935999997,"P1 Zahájena","Ne",{"$error":"#N/A"}]
["01 2.1 - Infrastruktura pro cestovní ruch","11.2.1","11.2","CZ.1.11/2.1.00/01.00086","Informační centrum - Dům Diamantové cesty Brno","N12 Projektová žádost nesplnila formální náležitosti","SPOLEČNOST DIAMANTOVÉ CESTY","Neveřejná nestátní nezisková organizace",null,null,null,null,null,null,null,null,null,null,null,null,null,null,null,null,null,2,null," ",null,null,null,null,null,null,null,null,null,null,null,null,null,null,null,null,null,null,null,null,null,null,null,null,null,null,null,null,null,null,null,null,null,null,null,null,null,null,null,null,null,null,null,null,null,null,null,null,null,null,null,0,0,0,0,0,0,0,0,0,0,null,0,0,0,0,0,0,0,0,0,0,null,"2010-02-28",25084988,810636.26,24274351.739999998,78.619997776800005,6.9399998147999993,null,6.9399998147999993,null,null,null,null,null,7.5000025935999997,"P1 Zahájena","Ne",{"$error":"#N/A"},"2010-02-28",25084988,810636.26,24274351.739999998,78.619997776800005,6.9399998147999993,null,6.9399998147999993,null,null,null,null,null,7.5000025935999997,"P1 Zahájena","Ne",{"$error":"#N/A"}]
["01 2.1 - Infrastruktura pro cestovní ruch","11.2.1","11.2","CZ.1.11/2.1.00/01.00086","Informační centrum - Dům Diamantové cesty Brno","N12 Projektová žádost nesplnila formální náležitosti","SPOLEČNOST DIAMANTOVÉ CESTY","Neveřejná nestátní nezisková organizace",null,null,null,null,null,null,null,null,null,null,null,null,null,null,null,null,null,3,null," ",null,null,null,null,null,null,null,null,null,null,null,null,null,null,null,null,null,null,null,null,null,null,null,null,null,null,null,null,null,null,null,null,null,null,null,null,null,null,null,null,null,null,null,null,null,null,null,null,null,null,null,0,0,0,0,0,0,0,0,0,0,null,0,0,0,0,0,0,0,0,0,0,null,"2010-06-30",1689756,100465.56,1589290.44,78.619997776800005,6.9399998147999993,null,6.9399998147999993,null,null,null,null,null,7.5000025935999997,"P1 Zahájena","Ne",{"$error":"#N/A"},"2010-06-30",1689756,100465.56,1589290.44,78.619997776800005,6.9399998147999993,null,6.9399998147999993,null,null,null,null,null,7.5000025935999997,"P1 Zahájena","Ne",{"$error":"#N/A"}]
["01 2.2 - Služby pro cestovní ruch","11.2.2","11.2","CZ.1.11/2.2.00/01.00087","Kulturní léto Břeclav 2008 - Moravský den","N11 Projektová žádost nesplnila podmínky přijatelnosti","MĚSTO BŘECLAV","Obec",null,null,null,null,null,null,null,null,null,null,null,null,null,null,null,null,null,1,null," ",null,null,null,null,null,null,null,null,null,null,null,null,null,null,null,null,null,null,null,null,null,null,null,null,null,null,null,null,null,null,null,null,null,null,null,null,null,null,null,null,null,null,null,null,null,null,null,null,null,null,null,0,0,0,0,0,0,0,0,0,0,null,0,0,0,0,0,0,0,0,0,0,null,"2008-07-31",1477914.5,882885.28,595029.22,78.108179875500014,6.8917439192000005,null,null,null,null,null,15.000076205299999,null,null,"P1 Zahájena","Ne",{"$error":"#N/A"},"2008-07-31",1477914.5,882885.28,595029.22,78.108179875500014,6.8917439192000005,null,null,null,null,null,15.000076205299999,null,null,"P1 Zahájena","Ne",{"$error":"#N/A"}]
["01 2.1 - Infrastruktura pro cestovní ruch","11.2.1","11.2","CZ.1.11/2.1.00/01.00088","Muzeum a informační centrum Vedrovice","P7 Výdaje projektu certifikovány","Obec Vedrovice","Obec",9226025.8000000007,814061.1,814061.1,0,0,0,0,0,814061.1,0,0,10854148,0,0,10854148,279750.74,11133898.74,1,"01/00088","P4 Proplacena příjemci","POST","2009-11-03",1845611.06,null,null,null,null,1845611.06,"2009-11-03",null,null,null,null,1845611.06,162848.03,null,null,null,1845611.06,"2009-12-21",1845025.41,585.65,"CZ.1.11/2009/11","2009-12-08",70480.84,26.186,"2010-04-23",162848.03,"2009-11-03",162796.35999999999,51.67,null,null,null,null,null,null,null,null,null,null,null,null,null,162848.04,null,null,1845611.06,"2009-06-22",2171399.13,2170618.13,1845025.4105,162796.35975,0,0,0,0,0,162796.35975,0,0,781,663.85,58.575000000000003,0,0,0,0,0,58.575000000000003,0,0,2008544.19,"2009-05-27",2008544.19,722.42,2007821.77,85,7.5,null,null,null,null,null,7.5,null,null,"P2 Ukončena","Ne",{"$error":"#N/A"},"2009-05-27",2008544.19,722.42,2007821.77,85,7.5,null,null,null,null,null,7.5,null,null,"P2 Ukončena","Ne",{"$error":"#N/A"}]
["01 2.1 - Infrastruktura pro cestovní ruch","11.2.1","11.2","CZ.1.11/2.1.00/01.00088","Muzeum a informační centrum Vedrovice","P7 Výdaje projektu certifikovány","Obec Vedrovice","Obec",9226025.8000000007,814061.1,814061.1,0,0,0,0,0,814061.1,0,0,10854148,0,0,10854148,279750.74,11133898.74,2,"02/00088","P4 Proplacena příjemci","POST","2010-03-26",1525180.61,null,null,null,null,1525180.61,"2010-03-26",null,null,null,null,1525180.61,134574.76,null,null,null,1525180.61,"2010-12-14",1524662.11,518.5,"CZ.1.11/2010/09","2010-10-01",62074.91,24.57,"2011-03-24",134574.76,"2010-03-26",134529.01,45.75,null,null,null,null,null,null,null,null,null,null,null,null,null,134574.76999999999,null,null,1525180.61,"2009-12-18",1794330.14,1793720.14,1524662.1189999999,134529.0105,0,0,0,0,0,134529.0105,0,0,610,518.5,45.75,0,0,0,0,0,45.75,0,0,1659755.37,"2009-11-13",1659755.37,564.25,1659191.12,85,7.5,null,null,null,null,null,7.5,null,null,"P2 Ukončena","Ne",{"$error":"#N/A"},"2009-11-13",1659755.37,564.25,1659191.12,85,7.5,null,null,null,null,null,7.5,null,null,"P2 Ukončena","Ne",{"$error":"#N/A"}]
["01 2.1 - Infrastruktura pro cestovní ruch","11.2.1","11.2","CZ.1.11/2.1.00/01.00088","Muzeum a informační centrum Vedrovice","P7 Výdaje projektu certifikovány","Obec Vedrovice","Obec",9226025.8000000007,814061.1,814061.1,0,0,0,0,0,814061.1,0,0,10854148,0,0,10854148,279750.74,11133898.74,3,"03/00088","P4 Proplacena příjemci","POST","2010-12-22",4706578.8499999996,null,null,null,null,4706578.8499999996,"2010-12-22",null,null,null,null,4706578.8499999996,415286.37,null,null,null,4706578.8499999996,"2011-02-02",4395850.24,310728.61,"CZ.1.11/2011/01","2011-01-20",186473.01,25.24,"2011-03-24",415286.37,"2010-12-22",387869.14,27417.23,null,null,null,null,null,null,null,null,null,null,null,null,null,415286.38,null,null,4706578.8499999996,"2010-10-01",5558279.2000000002,5186149.8,4408227.33,388961.23499999999,0,0,0,0,0,388961.23499999999,0,0,372129.4,316309.99,27909.705000000002,0,0,0,0,0,27909.705000000002,0,0,5141408.26,"2010-08-31",5141408.2699999996,344219.69,4797188.58,85,7.5,null,null,null,null,null,7.5,null,null,"P2 Ukončena","Ne",{"$error":"#N/A"},"2010-08-31",5141408.2699999996,344219.69,4797188.58,85,7.5,null,null,null,null,null,7.5,null,null,"P2 Ukončena","Ne",{"$error":"#N/A"}]
["01 2.1 - Infrastruktura pro cestovní ruch","11.2.1","11.2","CZ.1.11/2.1.00/01.00089","Rozšíření kapacity a zázemí penzionu Kaplanka ve Znojmě","P8 Projekt finálně uzavřen","Jan Blažíček","Soukromá firma_MSP",3009660.41,531116.57999999996,265558.28999999998,265558.28999999998,0,265558.28999999998,0,0,0,0,2360518.0099999998,5901295,0,0,5901295,1209760,7111055,1,"1/00089","P4 Proplacena příjemci","POST","2009-08-04",3009660.41,null,null,null,null,3009660.41,"2009-08-04",null,null,null,null,3009660.41,265558.28999999998,null,265558.28999999998,null,3009660.41,"2009-12-21",3009660.41,null,"CZ.1.11/2009/11","2009-12-08",114933.95,26.186,"2010-04-23",265558.28999999998,"2009-08-04",265558.28999999998,null,null,null,null,null,265558.28999999998,"2009-08-04",265558.28999999998,null,null,null,null,null,null,null,null,2360518.0099999998,3009660.41,"2009-06-29",5901295,5901295,3009660.410095443,265558.29494637711,0,265558.29494637711,0,0,0,0,0,2360518.0000118027,null,0,0,0,0,0,0,0,0,0,0,3540776.99,"2009-06-30",3549602,0,3549602,50.999999323800004,4.5000003380000004,null,4.5000003380000004,null,null,null,null,null,40.000000000199996,"P2 Ukončena","Ne",{"$error":"#N/A"},"2009-06-30",3549602,0,3549602,50.999999323800004,4.5000003380000004,null,4.5000003380000004,null,null,null,null,null,40.000000000199996,"P2 Ukončena","Ne",{"$error":"#N/A"}]
["01 2.1 - Infrastruktura pro cestovní ruch","11.2.1","11.2","CZ.1.11/2.1.00/01.00090","KOLEM kolem hradu Veveří","N12 Projektová žádost nesplnila formální náležitosti","Svazek obcí Panství hradu Veveří","Sdružení obcí",null,null,null,null,null,null,null,null,null,null,null,null,null,null,null,null,null,1,null," ",null,null,null,null,null,null,null,null,null,null,null,null,null,null,null,null,null,null,null,null,null,null,null,null,null,null,null,null,null,null,null,null,null,null,null,null,null,null,null,null,null,null,null,null,null,null,null,null,null,null,null,0,0,0,0,0,0,0,0,0,0,null,0,0,0,0,0,0,0,0,0,0,null,"2009-12-18",8683737,0,8683737,58.896046635399998,5.1967099972000002,null,null,null,null,null,null,35.9072433674,null,"P1 Zahájena","Ne",{"$error":"#N/A"},"2009-12-18",8683737,0,8683737,58.896046635399998,5.1967099972000002,null,null,null,null,null,null,35.9072433674,null,"P1 Zahájena","Ne",{"$error":"#N/A"}]
["01 3.4 - Veřejné služby regionálního významu","11.3.4","11.3","CZ.1.11/3.4.00/01.00091","\"Bezdrátová škola - Jihomoravský kraj\"","P8 Projekt finálně uzavřen","Středisko služeb školám a Zařízení pro další vzdělávání pedagogických pracovníků Brno","Organizace zřízena krajem",21250000,1875000,1875000,0,0,0,0,1875000,0,0,0,25000000,0,0,25000000,0,25000000,1,"01/00091","P4 Proplacena příjemci","POST","2010-05-11",20875204.609999999,null,null,null,null,20875204.609999999,"2010-05-11",null,null,null,null,20875204.609999999,1841929.82,null,null,null,20875204.609999999,"2010-08-16",20203667,671537.61,"CZ.1.11/2010/05","2010-06-02",809744.16,25.78,"2010-11-08",1841929.82,"2010-05-11",1782676.5,59253.32,null,null,null,null,null,null,null,null,null,null,null,null,1841929.82,null,null,null,20875204.609999999,"2009-10-30",24797407,23769020,20203667,1782676.5,0,0,0,0,1782676.5,0,0,0,1028387,874128.95,77129.024999999994,0,0,0,0,77129.024999999994,0,0,0,22937601.469999999,"2009-09-30",22937601.469999999,951257.98,21986343.489999998,85,7.5,null,null,null,null,7.5,null,null,null,"P2 Ukončena","Ne",{"$error":"#N/A"},"2009-09-30",22937601.469999999,951257.98,21986343.489999998,85,7.5,null,null,null,null,7.5,null,null,null,"P2 Ukončena","Ne",{"$error":"#N/A"}]
["01 2.1 - Infrastruktura pro cestovní ruch","11.2.1","11.2","CZ.1.11/2.1.00/01.00092","Penzion Třešť","N13 Projekt ohodnocen, nedosáhl minimální bodové hranice","Ing. Ivan Křen","Soukromá firma_MSP",null,null,null,null,null,null,null,null,null,null,null,null,null,null,null,null,null,1,null," ",null,null,null,null,null,null,null,null,null,null,null,null,null,null,null,null,null,null,null,null,null,null,null,null,null,null,null,null,null,null,null,null,null,null,null,null,null,null,null,null,null,null,null,null,null,null,null,null,null,null,null,0,0,0,0,0,0,0,0,0,0,null,0,0,0,0,0,0,0,0,0,0,null,"2008-12-16",2850000,0,2850000,50.999997160300005,4.4999997495000006,4.4999997494000006,null,null,null,null,null,null,40.000003340799999,"P1 Zahájena","Ne",{"$error":"#N/A"},"2008-12-16",2850000,0,2850000,50.999997160300005,4.4999997495000006,4.4999997494000006,null,null,null,null,null,null,40.000003340799999,"P1 Zahájena","Ne",{"$error":"#N/A"}]
["01 2.1 - Infrastruktura pro cestovní ruch","11.2.1","11.2","CZ.1.11/2.1.00/01.00092","Penzion Třešť","N13 Projekt ohodnocen, nedosáhl minimální bodové hranice","Ing. Ivan Křen","Soukromá firma_MSP",null,null,null,null,null,null,null,null,null,null,null,null,null,null,null,null,null,2,null," ",null,null,null,null,null,null,null,null,null,null,null,null,null,null,null,null,null,null,null,null,null,null,null,null,null,null,null,null,null,null,null,null,null,null,null,null,null,null,null,null,null,null,null,null,null,null,null,null,null,null,null,0,0,0,0,0,0,0,0,0,0,null,0,0,0,0,0,0,0,0,0,0,null,"2009-03-16",2734572,0,2734572,50.999997160300005,4.4999997495000006,4.4999997494000006,null,null,null,null,null,null,40.000003340799999,"P1 Zahájena","Ne",{"$error":"#N/A"},"2009-03-16",2734572,0,2734572,50.999997160300005,4.4999997495000006,4.4999997494000006,null,null,null,null,null,null,40.000003340799999,"P1 Zahájena","Ne",{"$error":"#N/A"}]
["01 2.1 - Infrastruktura pro cestovní ruch","11.2.1","11.2","CZ.1.11/2.1.00/01.00092","Penzion Třešť","N13 Projekt ohodnocen, nedosáhl minimální bodové hranice","Ing. Ivan Křen","Soukromá firma_MSP",null,null,null,null,null,null,null,null,null,null,null,null,null,null,null,null,null,3,null," ",null,null,null,null,null,null,null,null,null,null,null,null,null,null,null,null,null,null,null,null,null,null,null,null,null,null,null,null,null,null,null,null,null,null,null,null,null,null,null,null,null,null,null,null,null,null,null,null,null,null,null,0,0,0,0,0,0,0,0,0,0,null,0,0,0,0,0,0,0,0,0,0,null,"2009-06-17",2190000,0,2190000,50.999997160300005,4.4999997495000006,4.4999997494000006,null,null,null,null,null,null,40.000003340799999,"P1 Zahájena","Ne",{"$error":"#N/A"},"2009-06-17",2190000,0,2190000,50.999997160300005,4.4999997495000006,4.4999997494000006,null,null,null,null,null,null,40.000003340799999,"P1 Zahájena","Ne",{"$error":"#N/A"}]
["01 2.1 - Infrastruktura pro cestovní ruch","11.2.1","11.2","CZ.1.11/2.1.00/01.00092","Penzion Třešť","N13 Projekt ohodnocen, nedosáhl minimální bodové hranice","Ing. Ivan Křen","Soukromá firma_MSP",null,null,null,null,null,null,null,null,null,null,null,null,null,null,null,null,null,4,null," ",null,null,null,null,null,null,null,null,null,null,null,null,null,null,null,null,null,null,null,null,null,null,null,null,null,null,null,null,null,null,null,null,null,null,null,null,null,null,null,null,null,null,null,null,null,null,null,null,null,null,null,0,0,0,0,0,0,0,0,0,0,null,0,0,0,0,0,0,0,0,0,0,null,"2009-09-29",3001380,0,3001380,50.999997160300005,4.4999997495000006,4.4999997494000006,null,null,null,null,null,null,40.000003340799999,"P1 Zahájena","Ne",{"$error":"#N/A"},"2009-09-29",3001380,0,3001380,50.999997160300005,4.4999997495000006,4.4999997494000006,null,null,null,null,null,null,40.000003340799999,"P1 Zahájena","Ne",{"$error":"#N/A"}]
["01 2.1 - Infrastruktura pro cestovní ruch","11.2.1","11.2","CZ.1.11/2.1.00/01.00093","Hotel ARTABAN","P7 Výdaje projektu certifikovány","IZOFOL s.r.o.","Soukromá firma_MSP",19439207.530000001,3430448.38,1715224.19,1715224.19,1715224.19,0,0,0,0,0,15246438.57,38116094.479999997,0,0,38116094.479999997,11994031.949999999,50110126.43,1,"01/00093","P4 Proplacena příjemci","POST","2010-02-10",5202901.5,null,null,null,null,5202901.5,"2010-02-10",null,null,null,null,5202901.5,459079.54,459079.55,null,null,5202901.5,"2010-06-02",5202901.5,null,"CZ.1.11/2010/03","2010-04-02",204492.45,25.443000000000001,"2010-07-23",459079.54,"2010-02-10",459079.54,null,459079.55,"2010-02-10",459079.55,null,null,null,null,null,null,null,null,null,null,null,null,4080707.41,5202901.5,"2009-08-27",10201768,10201768,5202901.5052539157,459079.54458512855,459079.54457492678,0,0,0,0,0,0,4080707.4055860289,null,0,0,0,0,0,0,0,0,0,0,6121060.7999999998,"2009-08-31",6121060.7999999998,0,6121060.7999999998,50.999998287099999,4.4999998488999999,4.4999998487999999,null,null,null,null,null,null,40.000002015200003,"P2 Ukončena","Ne",{"$error":"#N/A"},"2009-08-31",6121060.7999999998,0,6121060.7999999998,50.999998287099999,4.4999998488999999,4.4999998487999999,null,null,null,null,null,null,40.000002015200003,"P2 Ukončena","Ne",{"$error":"#N/A"}]
["01 2.1 - Infrastruktura pro cestovní ruch","11.2.1","11.2","CZ.1.11/2.1.00/01.00093","Hotel ARTABAN","P7 Výdaje projektu certifikovány","IZOFOL s.r.o.","Soukromá firma_MSP",19439207.530000001,3430448.38,1715224.19,1715224.19,1715224.19,0,0,0,0,0,15246438.57,38116094.479999997,0,0,38116094.479999997,11994031.949999999,50110126.43,2,"02/00093","P4 Proplacena příjemci","POST","2010-11-11",6731238.7699999996,null,null,null,null,6731238.7699999996,"2010-11-11",null,null,null,null,6731238.7699999996,593932.82999999996,593932.82999999996,null,null,6731238.7699999996,"2010-12-09",6731238.7699999996,null,"CZ.1.11/2010/11","2010-11-30",271881.36,24.758000000000003,"2011-03-24",593932.82999999996,"2010-11-11",593932.82999999996,null,593932.82999999996,"2010-11-11",593932.82999999996,null,null,null,null,null,null,null,null,null,null,null,null,5279403.41,6731238.7699999996,"2010-08-30",13198507.84,13198507.84,6731238.772322759,593932.83285705466,593932.83284385619,0,0,0,0,0,0,5279403.4019763302,null,0,0,0,0,0,0,0,0,0,0,7919104.7000000002,"2010-08-30",7919104.7000000002,0,7919104.7000000002,50.999998287099999,4.4999998488999999,4.4999998487999999,null,null,null,null,null,null,40.000002015200003,"P2 Ukončena","Ne",{"$error":"#N/A"},"2010-08-30",7919104.7000000002,0,7919104.7000000002,50.999998287099999,4.4999998488999999,4.4999998487999999,null,null,null,null,null,null,40.000002015200003,"P2 Ukončena","Ne",{"$error":"#N/A"}]
["01 2.1 - Infrastruktura pro cestovní ruch","11.2.1","11.2","CZ.1.11/2.1.00/01.00093","Hotel ARTABAN","P7 Výdaje projektu certifikovány","IZOFOL s.r.o.","Soukromá firma_MSP",19439207.530000001,3430448.38,1715224.19,1715224.19,1715224.19,0,0,0,0,0,15246438.57,38116094.479999997,0,0,38116094.479999997,11994031.949999999,50110126.43,3,"03/00093","P4 Proplacena příjemci","POST","2012-04-16",7505067.2599999998,null,null,null,null,7505067.2599999998,"2012-04-16",null,null,null,null,7505067.2599999998,662211.81000000006,662211.81999999995,null,null,7505067.2599999998,"2012-05-15",7505067.2599999998,null,"CZ.1.11/2012/04","2012-05-03",301771.90000000002,24.87,"2012-09-18",662211.81000000006,"2012-04-16",662211.81000000006,null,662211.81999999995,"2012-04-16",662211.81999999995,null,null,null,null,null,null,null,null,null,null,null,null,5886327.7699999996,7505067.2599999998,"2011-10-07",14997789.93,14997789.93,7648872.6074028565,674900.52418833936,674900.52417334158,0,0,0,0,0,0,5999116.2742354628,0,0,0,0,0,0,0,0,0,0,0,8998673.6500000004,"2011-10-07",8998673.6600000001,0,8998673.6600000001,50.999998287099999,4.4999998488999999,4.4999998487999999,null,null,null,null,null,null,40.000002015200003,"P2 Ukončena","Ne",{"$error":"#N/A"},"2011-10-07",8998673.6600000001,0,8998673.6600000001,50.999998287099999,4.4999998488999999,4.4999998487999999,null,null,null,null,null,null,40.000002015200003,"P2 Ukončena","Ne",{"$error":"#N/A"}]
["01 3.4 - Veřejné služby regionálního významu","11.3.4","11.3","CZ.1.11/3.4.00/01.00094","Modernizace techniky pro výuku odborných předmětů ve vazbě na rozvoj lidských zdrojů a reformu vzděl","P8 Projekt finálně uzavřen","Střední průmyslová škola a Vyšší odborná škola technická, Brno, Sokolská 1","Organizace zřízena krajem",6800000,600000,600000,0,0,0,0,600000,0,0,0,8000000,0,0,8000000,0,8000000,1,"1/00094","P4 Proplacena příjemci","POST","2009-07-07",5982172.54,null,null,null,null,5982172.54,"2009-01-14",null,null,null,null,5982172.54,527838.75,null,null,null,5982172.54,"2009-07-20",5969763.3899999997,12409.15,"CZ.1.11/2009/05","2009-07-08",229906.71,26.02,"2009-10-29",527838.75,"2009-01-14",526743.82999999996,1094.92,null,null,null,null,null,null,null,null,null,null,null,null,527838.76,null,null,null,5982172.54,"2009-01-14",7051535.25,7036936.25,5981395.8125,527770.21875,0,0,0,0,527770.21875,0,0,0,14599,12409.15,1094.925,0,0,0,0,1094.925,0,0,0,6522670.0999999996,"2008-12-19",7400000,18500,7381500,85,7.5,null,null,null,null,7.5,null,null,null,"P2 Ukončena","Ne",{"$error":"#N/A"},"2008-12-19",7400000,18500,7381500,85,7.5,null,null,null,null,7.5,null,null,null,"P2 Ukončena","Ne",{"$error":"#N/A"}]
["01 3.3 - Rozvoj a stabilizace venkovských sídel","11.3.3","11.3","CZ.1.11/3.3.00/01.00095","Sportovní hřiště pro Základní školu Přibyslav","P8 Projekt finálně uzavřen","Město Přibyslav","Obec",10342625.4,912584.6,912584.6,0,0,0,0,0,912585,0,0,12167795,0,0,12167795,2260581,14428376,1,"1/00095","P4 Proplacena příjemci","POST","2009-04-28",3216215.72,null,null,null,null,3216215.72,"2009-03-10",null,null,null,null,3216215.72,283783.76,null,null,null,3216215.72,"2009-04-27",3207945.23,8270.49,"CZ.1.11/2009/01","2009-04-02",117085.28,27.469000000000001,"2009-10-29",283783.76,"2008-12-04",283054,729.76,null,null,null,null,null,null,null,null,null,null,null,null,null,283783.87,null,null,3216215.72,"2008-12-04",3500000,3491000,2967349.8995848759,261824.992825995,0,0,0,0,0,261825.10758912901,0,0,9000,7649.9997411240001,674.99998150500005,0,0,0,0,0,675.00027737100004,0,0,3500000,"2008-12-05",3500000,9000,3491000,84.999997123599996,7.4999997944999999,null,null,null,null,null,7.5000030819000001,null,null,"P2 Ukončena","Ne",{"$error":"#N/A"},"2008-12-05",3500000,9000,3491000,84.999997123599996,7.4999997944999999,null,null,null,null,null,7.5000030819000001,null,null,"P2 Ukončena","Ne",{"$error":"#N/A"}]
["01 3.3 - Rozvoj a stabilizace venkovských sídel","11.3.3","11.3","CZ.1.11/3.3.00/01.00095","Sportovní hřiště pro Základní školu Přibyslav","P8 Projekt finálně uzavřen","Město Přibyslav","Obec",10342625.4,912584.6,912584.6,0,0,0,0,0,912585,0,0,12167795,0,0,12167795,2260581,14428376,2,"2/00095","P4 Proplacena příjemci","POST","2009-06-22",1858534.54,null,null,null,null,1858534.54,"2009-06-22",null,null,null,null,1858534.54,163988.35,null,null,null,1858534.54,"2009-07-20",1843234.55,15299.99,"CZ.1.11/2009/05","2009-07-08",71427.149999999994,26.02,"2009-10-29",163988.35,"2009-06-22",162638.35,1350,null,null,null,null,null,null,null,null,null,null,null,null,null,163988.43,null,null,1858534.54,"2009-04-06",2186511.33,2168511.33,1843234.5681249402,162638.34529370922,0,0,0,0,0,162638.41658135067,0,0,18000,15299.999482248,1349.9999630100001,0,0,0,0,0,1350.0005547420001,0,0,2022522.97,"2009-04-06",2042173,16650,2025523,84.999997123599996,7.4999997944999999,null,null,null,null,null,7.5000030819000001,null,null,"P2 Ukončena","Ne",{"$error":"#N/A"},"2009-04-06",2042173,16650,2025523,84.999997123599996,7.4999997944999999,null,null,null,null,null,7.5000030819000001,null,null,"P2 Ukončena","Ne",{"$error":"#N/A"}]
["01 3.3 - Rozvoj a stabilizace venkovských sídel","11.3.3","11.3","CZ.1.11/3.3.00/01.00095","Sportovní hřiště pro Základní školu Přibyslav","P8 Projekt finálně uzavřen","Město Přibyslav","Obec",10342625.4,912584.6,912584.6,0,0,0,0,0,912585,0,0,12167795,0,0,12167795,2260581,14428376,3,"3/00095","P4 Proplacena příjemci","POST","2009-12-01",3589830.95,null,null,null,null,3589830.95,"2009-12-01",null,null,null,null,3589830.95,316749.78999999998,null,null,null,3589830.95,"2010-02-12",3562401.46,27429.49,"CZ.1.11/2010/01","2010-01-29",136849.29999999999,26.232000000000003,"2010-07-23",316749.78999999998,"2009-12-01",314329.53999999998,2420.25,null,null,null,null,null,null,null,null,null,null,null,null,null,316749.95,null,null,3589830.95,"2009-07-30",4255260.6900000004,4222990.6900000004,3589541.9650298958,316724.29307175416,0,0,0,0,0,316724.43189835007,0,0,32270,27429.499071785722,2420.2499336851502,0,0,0,0,0,2420.2509945291299,0,0,3936116.14,"2009-07-30",3916465.74,29849.75,3886615.99,84.999997123599996,7.4999997944999999,null,null,null,null,null,7.5000030819000001,null,null,"P2 Ukončena","Ne",{"$error":"#N/A"},"2009-07-30",3916465.74,29849.75,3886615.99,84.999997123599996,7.4999997944999999,null,null,null,null,null,7.5000030819000001,null,null,"P2 Ukončena","Ne",{"$error":"#N/A"}]
["01 2.1 - Infrastruktura pro cestovní ruch","11.2.1","11.2","CZ.1.11/2.1.00/01.00096","Naučná stezka k pramenům Počátek a okolí","N12 Projektová žádost nesplnila formální náležitosti","Město Počátky","Obec",null,null,null,null,null,null,null,null,null,null,null,null,null,null,null,null,null,1,null," ",null,null,null,null,null,null,null,null,null,null,null,null,null,null,null,null,null,null,null,null,null,null,null,null,null,null,null,null,null,null,null,null,null,null,null,null,null,null,null,null,null,null,null,null,null,null,null,null,null,null,null,0,0,0,0,0,0,0,0,0,0,null,0,0,0,0,0,0,0,0,0,0,null,"2008-11-30",1300000,20000,1280000,84.999982817700001,7.4999982816999999,null,null,null,null,null,7.5000189005999998,null,null,"P1 Zahájena","Ne",{"$error":"#N/A"},"2008-11-30",1300000,20000,1280000,84.999982817700001,7.4999982816999999,null,null,null,null,null,7.5000189005999998,null,null,"P1 Zahájena","Ne",{"$error":"#N/A"}]
["01 2.1 - Infrastruktura pro cestovní ruch","11.2.1","11.2","CZ.1.11/2.1.00/01.00096","Naučná stezka k pramenům Počátek a okolí","N12 Projektová žádost nesplnila formální náležitosti","Město Počátky","Obec",null,null,null,null,null,null,null,null,null,null,null,null,null,null,null,null,null,2,null," ",null,null,null,null,null,null,null,null,null,null,null,null,null,null,null,null,null,null,null,null,null,null,null,null,null,null,null,null,null,null,null,null,null,null,null,null,null,null,null,null,null,null,null,null,null,null,null,null,null,null,null,0,0,0,0,0,0,0,0,0,0,null,0,0,0,0,0,0,0,0,0,0,null,"2009-03-31",1350000,20000,1330000,84.999982817700001,7.4999982816999999,null,null,null,null,null,7.5000189005999998,null,null,"P1 Zahájena","Ne",{"$error":"#N/A"},"2009-03-31",1350000,20000,1330000,84.999982817700001,7.4999982816999999,null,null,null,null,null,7.5000189005999998,null,null,"P1 Zahájena","Ne",{"$error":"#N/A"}]
["01 2.1 - Infrastruktura pro cestovní ruch","11.2.1","11.2","CZ.1.11/2.1.00/01.00096","Naučná stezka k pramenům Počátek a okolí","N12 Projektová žádost nesplnila formální náležitosti","Město Počátky","Obec",null,null,null,null,null,null,null,null,null,null,null,null,null,null,null,null,null,3,null," ",null,null,null,null,null,null,null,null,null,null,null,null,null,null,null,null,null,null,null,null,null,null,null,null,null,null,null,null,null,null,null,null,null,null,null,null,null,null,null,null,null,null,null,null,null,null,null,null,null,null,null,0,0,0,0,0,0,0,0,0,0,null,0,0,0,0,0,0,0,0,0,0,null,"2009-07-30",1387577,31779.99,1355797.01,84.999982817700001,7.4999982816999999,null,null,null,null,null,7.5000189005999998,null,null,"P1 Zahájena","Ne",{"$error":"#N/A"},"2009-07-30",1387577,31779.99,1355797.01,84.999982817700001,7.4999982816999999,null,null,null,null,null,7.5000189005999998,null,null,"P1 Zahájena","Ne",{"$error":"#N/A"}]
["01 2.1 - Infrastruktura pro cestovní ruch","11.2.1","11.2","CZ.1.11/2.1.00/01.00097","Beringie","N6 Projekt pozastaven","Statutární město Brno","Obec",41351728.689999998,3648271.3,3648271.3,0,0,0,0,0,27594747.010000002,0,0,72594747,0,0,72594747,3532137,76126884,1,"01/00097","N1 Neschválena","POST","2013-08-20",null,null,null,null,null,null,null,null,null,null,null,null,null,null,null,null,null,null,null,null,null,null,null,null,null,null,null,null,null,null,null,null,null,null,null,null,null,null,null,null,null,null,null,null,null,null,"2011-02-08",36617626.479999997,36617626.479999997,20858288.210202679,1840230.0668816669,0,0,0,0,0,13919108.202915654,0,0,0,0,0,0,0,0,0,0,0,0,0,22698518.27,"2010-06-30",26000000,154969.89000000001,25845030.109999999,56.9624255182,5.0255307178000006,null,null,null,null,null,38.012043763999998,null,null,"P1 Zahájena","Ne",{"$error":"#N/A"},"2010-06-30",26000000,154969.89000000001,25845030.109999999,56.9624255182,5.0255307178000006,null,null,null,null,null,38.012043763999998,null,null,"P1 Zahájena","Ne",{"$error":"#N/A"}]
["01 2.1 - Infrastruktura pro cestovní ruch","11.2.1","11.2","CZ.1.11/2.1.00/01.00097","Beringie","N6 Projekt pozastaven","Statutární město Brno","Obec",41351728.689999998,3648271.3,3648271.3,0,0,0,0,0,27594747.010000002,0,0,72594747,0,0,72594747,3532137,76126884,2,null," ",null,null,null,null,null,null,null,null,null,null,null,null,null,null,null,null,null,null,null,null,null,null,null,null,null,null,null,null,null,null,null,null,null,null,null,null,null,null,null,null,null,null,null,null,null,null,null,null,null,null,null,0,0,0,0,0,0,0,0,0,0,null,0,0,0,0,0,0,0,0,0,0,null,"2011-11-03",18999999.989999998,464909.67,18535090.32,56.9624255182,5.0255307178000006,null,null,null,null,null,38.012043763999998,null,null,"P1 Zahájena","Ne",{"$error":"#N/A"},"2011-11-03",18999999.989999998,464909.67,18535090.32,56.9624255182,5.0255307178000006,null,null,null,null,null,38.012043763999998,null,null,"P1 Zahájena","Ne",{"$error":"#N/A"}]
["01 1.4 - Rozvoj infrastruktury pro bezmotorovou dopravu","11.1.4","11.1","CZ.1.11/1.4.00/01.00098","Rozvoj sítě bezpečných cyklistických tras a stezek ve městě Brně 2007-2013, I. etapa","P8 Projekt finálně uzavřen","Statutární město Brno","Obec",8637838.3800000008,762161.62,762161.62,0,0,0,0,0,793291,0,0,10193291,0,0,10193291,414368,10607659,2,"1/00098","P4 Proplacena příjemci","POST","2009-12-10",8378477.5899999999,null,null,null,null,8378477.5899999999,"2009-12-10",null,null,null,null,8378477.5899999999,739276.86,null,null,null,8378477.5899999999,"2010-08-16",8378477.5899999999,null,"CZ.1.11/2010/02","2010-02-26",323056.78000000003,25.934999999999999,"2010-07-23",739276.86,"2009-12-10",739276.86,null,null,null,null,null,null,null,null,null,null,null,null,null,null,769471.55,null,null,8378477.5899999999,"2009-02-27",10019251.74,9899721,8389065.9066960942,740211.12464186596,0,0,0,0,0,770443.96866204054,0,0,119530.74,101290.86019052002,8937.4219217566297,0,0,0,0,0,9302.4578877233525,0,0,9239505.3100000005,"2009-07-30",9239505.3100000005,119530.74,9119974.5700000003,84.740427600899991,7.4770907648999998,null,null,null,null,null,7.7824816341999998,null,null,"P2 Ukončena","Ne",{"$error":"#N/A"},"2009-07-30",9239505.3100000005,119530.74,9119974.5700000003,84.740427600899991,7.4770907648999998,null,null,null,null,null,7.7824816341999998,null,null,"P2 Ukončena","Ne",{"$error":"#N/A"}]
["01 2.1 - Infrastruktura pro cestovní ruch","11.2.1","11.2","CZ.1.11/2.1.00/01.00099","Konferenční centrum Kunštát - hotelový a relaxační komplex Renaissance","N13 Projekt ohodnocen, nedosáhl minimální bodové hranice","P.F. art, spol. s r.o.","Soukromá firma_MSP",null,null,null,null,null,null,null,null,null,null,null,null,null,null,null,null,null,1,null," ",null,null,null,null,null,null,null,null,null,null,null,null,null,null,null,null,null,null,null,null,null,null,null,null,null,null,null,null,null,null,null,null,null,null,null,null,null,null,null,null,null,null,null,null,null,null,null,null,null,null,null,0,0,0,0,0,0,0,0,0,0,null,0,0,0,0,0,0,0,0,0,0,null,"2009-05-29",16400000,0,16400000,33.426319586700004,2.9493811400999999,null,2.9493811399999998,null,null,null,null,null,60.674918133200002,"P1 Zahájena","Ne",{"$error":"#N/A"},"2009-05-29",16400000,0,16400000,33.426319586700004,2.9493811400999999,null,2.9493811399999998,null,null,null,null,null,60.674918133200002,"P1 Zahájena","Ne",{"$error":"#N/A"}]
["01 2.1 - Infrastruktura pro cestovní ruch","11.2.1","11.2","CZ.1.11/2.1.00/01.00099","Konferenční centrum Kunštát - hotelový a relaxační komplex Renaissance","N13 Projekt ohodnocen, nedosáhl minimální bodové hranice","P.F. art, spol. s r.o.","Soukromá firma_MSP",null,null,null,null,null,null,null,null,null,null,null,null,null,null,null,null,null,2,null," ",null,null,null,null,null,null,null,null,null,null,null,null,null,null,null,null,null,null,null,null,null,null,null,null,null,null,null,null,null,null,null,null,null,null,null,null,null,null,null,null,null,null,null,null,null,null,null,null,null,null,null,0,0,0,0,0,0,0,0,0,0,null,0,0,0,0,0,0,0,0,0,0,null,"2009-09-30",12800000,0,12800000,33.426319586700004,2.9493811400999999,null,2.9493811399999998,null,null,null,null,null,60.674918133200002,"P1 Zahájena","Ne",{"$error":"#N/A"},"2009-09-30",12800000,0,12800000,33.426319586700004,2.9493811400999999,null,2.9493811399999998,null,null,null,null,null,60.674918133200002,"P1 Zahájena","Ne",{"$error":"#N/A"}]
["01 2.1 - Infrastruktura pro cestovní ruch","11.2.1","11.2","CZ.1.11/2.1.00/01.00099","Konferenční centrum Kunštát - hotelový a relaxační komplex Renaissance","N13 Projekt ohodnocen, nedosáhl minimální bodové hranice","P.F. art, spol. s r.o.","Soukromá firma_MSP",null,null,null,null,null,null,null,null,null,null,null,null,null,null,null,null,null,3,null," ",null,null,null,null,null,null,null,null,null,null,null,null,null,null,null,null,null,null,null,null,null,null,null,null,null,null,null,null,null,null,null,null,null,null,null,null,null,null,null,null,null,null,null,null,null,null,null,null,null,null,null,0,0,0,0,0,0,0,0,0,0,null,0,0,0,0,0,0,0,0,0,0,null,"2010-05-28",11500000,0,11500000,33.426319586700004,2.9493811400999999,null,2.9493811399999998,null,null,null,null,null,60.674918133200002,"P1 Zahájena","Ne",{"$error":"#N/A"},"2010-05-28",11500000,0,11500000,33.426319586700004,2.9493811400999999,null,2.9493811399999998,null,null,null,null,null,60.674918133200002,"P1 Zahájena","Ne",{"$error":"#N/A"}]
["01 2.1 - Infrastruktura pro cestovní ruch","11.2.1","11.2","CZ.1.11/2.1.00/01.00099","Konferenční centrum Kunštát - hotelový a relaxační komplex Renaissance","N13 Projekt ohodnocen, nedosáhl minimální bodové hranice","P.F. art, spol. s r.o.","Soukromá firma_MSP",null,null,null,null,null,null,null,null,null,null,null,null,null,null,null,null,null,4,null," ",null,null,null,null,null,null,null,null,null,null,null,null,null,null,null,null,null,null,null,null,null,null,null,null,null,null,null,null,null,null,null,null,null,null,null,null,null,null,null,null,null,null,null,null,null,null,null,null,null,null,null,0,0,0,0,0,0,0,0,0,0,null,0,0,0,0,0,0,0,0,0,0,null,"2010-12-31",9300000,1190252.25,8109747.75,33.426319586700004,2.9493811400999999,null,2.9493811399999998,null,null,null,null,null,60.674918133200002,"P1 Zahájena","Ne",{"$error":"#N/A"},"2010-12-31",9300000,1190252.25,8109747.75,33.426319586700004,2.9493811400999999,null,2.9493811399999998,null,null,null,null,null,60.674918133200002,"P1 Zahájena","Ne",{"$error":"#N/A"}]
["01 1.2 - Rozvoj dopravní obslužnosti a veřejné dopravy","11.1.2","11.1","CZ.1.11/1.2.00/01.00100","Autobusové nádraží Telč - Přemístění do přednádražního prostoru ČD","N13 Projekt ohodnocen, nedosáhl minimální bodové hranice","MĚSTO TELČ","Obec",null,null,null,null,null,null,null,null,null,null,null,null,null,null,null,null,null,1,null," ",null,null,null,null,null,null,null,null,null,null,null,null,null,null,null,null,null,null,null,null,null,null,null,null,null,null,null,null,null,null,null,null,null,null,null,null,null,null,null,null,null,null,null,null,null,null,null,null,null,null,null,0,0,0,0,0,0,0,0,0,0,null,0,0,0,0,0,0,0,0,0,0,null,"2009-05-15",8604057,13875,8590182,84.999998486699994,7.4999998739000002,null,null,null,null,null,7.5000016393999998,null,null,"P1 Zahájena","Ne",{"$error":"#N/A"},"2009-05-15",8604057,13875,8590182,84.999998486699994,7.4999998739000002,null,null,null,null,null,7.5000016393999998,null,null,"P1 Zahájena","Ne",{"$error":"#N/A"}]
["01 1.2 - Rozvoj dopravní obslužnosti a veřejné dopravy","11.1.2","11.1","CZ.1.11/1.2.00/01.00100","Autobusové nádraží Telč - Přemístění do přednádražního prostoru ČD","N13 Projekt ohodnocen, nedosáhl minimální bodové hranice","MĚSTO TELČ","Obec",null,null,null,null,null,null,null,null,null,null,null,null,null,null,null,null,null,2,null," ",null,null,null,null,null,null,null,null,null,null,null,null,null,null,null,null,null,null,null,null,null,null,null,null,null,null,null,null,null,null,null,null,null,null,null,null,null,null,null,null,null,null,null,null,null,null,null,null,null,null,null,0,0,0,0,0,0,0,0,0,0,null,0,0,0,0,0,0,0,0,0,0,null,"2009-11-13",5973298,0,5973298,84.999998486699994,7.4999998739000002,null,null,null,null,null,7.5000016393999998,null,null,"P1 Zahájena","Ne",{"$error":"#N/A"},"2009-11-13",5973298,0,5973298,84.999998486699994,7.4999998739000002,null,null,null,null,null,7.5000016393999998,null,null,"P1 Zahájena","Ne",{"$error":"#N/A"}]
["01 1.2 - Rozvoj dopravní obslužnosti a veřejné dopravy","11.1.2","11.1","CZ.1.11/1.2.00/01.00100","Autobusové nádraží Telč - Přemístění do přednádražního prostoru ČD","N13 Projekt ohodnocen, nedosáhl minimální bodové hranice","MĚSTO TELČ","Obec",null,null,null,null,null,null,null,null,null,null,null,null,null,null,null,null,null,3,null," ",null,null,null,null,null,null,null,null,null,null,null,null,null,null,null,null,null,null,null,null,null,null,null,null,null,null,null,null,null,null,null,null,null,null,null,null,null,null,null,null,null,null,null,null,null,null,null,null,null,null,null,0,0,0,0,0,0,0,0,0,0,null,0,0,0,0,0,0,0,0,0,0,null,"2010-05-14",4162500,0,4162500,84.999998486699994,7.4999998739000002,null,null,null,null,null,7.5000016393999998,null,null,"P1 Zahájena","Ne",{"$error":"#N/A"},"2010-05-14",4162500,0,4162500,84.999998486699994,7.4999998739000002,null,null,null,null,null,7.5000016393999998,null,null,"P1 Zahájena","Ne",{"$error":"#N/A"}]
["01 1.2 - Rozvoj dopravní obslužnosti a veřejné dopravy","11.1.2","11.1","CZ.1.11/1.2.00/01.00100","Autobusové nádraží Telč - Přemístění do přednádražního prostoru ČD","N13 Projekt ohodnocen, nedosáhl minimální bodové hranice","MĚSTO TELČ","Obec",null,null,null,null,null,null,null,null,null,null,null,null,null,null,null,null,null,4,null," ",null,null,null,null,null,null,null,null,null,null,null,null,null,null,null,null,null,null,null,null,null,null,null,null,null,null,null,null,null,null,null,null,null,null,null,null,null,null,null,null,null,null,null,null,null,null,null,null,null,null,null,0,0,0,0,0,0,0,0,0,0,null,0,0,0,0,0,0,0,0,0,0,null,"2010-09-17",6290000,0,6290000,84.999998486699994,7.4999998739000002,null,null,null,null,null,7.5000016393999998,null,null,"P1 Zahájena","Ne",{"$error":"#N/A"},"2010-09-17",6290000,0,6290000,84.999998486699994,7.4999998739000002,null,null,null,null,null,7.5000016393999998,null,null,"P1 Zahájena","Ne",{"$error":"#N/A"}]
["01 1.2 - Rozvoj dopravní obslužnosti a veřejné dopravy","11.1.2","11.1","CZ.1.11/1.2.00/01.00100","Autobusové nádraží Telč - Přemístění do přednádražního prostoru ČD","N13 Projekt ohodnocen, nedosáhl minimální bodové hranice","MĚSTO TELČ","Obec",null,null,null,null,null,null,null,null,null,null,null,null,null,null,null,null,null,5,null," ",null,null,null,null,null,null,null,null,null,null,null,null,null,null,null,null,null,null,null,null,null,null,null,null,null,null,null,null,null,null,null,null,null,null,null,null,null,null,null,null,null,null,null,null,null,null,null,null,null,null,null,0,0,0,0,0,0,0,0,0,0,null,0,0,0,0,0,0,0,0,0,0,null,"2011-03-18",6208117,0,6208117,84.999998486699994,7.4999998739000002,null,null,null,null,null,7.5000016393999998,null,null,"P1 Zahájena","Ne",{"$error":"#N/A"},"2011-03-18",6208117,0,6208117,84.999998486699994,7.4999998739000002,null,null,null,null,null,7.5000016393999998,null,null,"P1 Zahájena","Ne",{"$error":"#N/A"}]
["01 1.2 - Rozvoj dopravní obslužnosti a veřejné dopravy","11.1.2","11.1","CZ.1.11/1.2.00/01.00100","Autobusové nádraží Telč - Přemístění do přednádražního prostoru ČD","N13 Projekt ohodnocen, nedosáhl minimální bodové hranice","MĚSTO TELČ","Obec",null,null,null,null,null,null,null,null,null,null,null,null,null,null,null,null,null,6,null," ",null,null,null,null,null,null,null,null,null,null,null,null,null,null,null,null,null,null,null,null,null,null,null,null,null,null,null,null,null,null,null,null,null,null,null,null,null,null,null,null,null,null,null,null,null,null,null,null,null,null,null,0,0,0,0,0,0,0,0,0,0,null,0,0,0,0,0,0,0,0,0,0,null,"2011-06-30",5437517,620454.84,4817062.16,84.999998486699994,7.4999998739000002,null,null,null,null,null,7.5000016393999998,null,null,"P1 Zahájena","Ne",{"$error":"#N/A"},"2011-06-30",5437517,620454.84,4817062.16,84.999998486699994,7.4999998739000002,null,null,null,null,null,7.5000016393999998,null,null,"P1 Zahájena","Ne",{"$error":"#N/A"}]
["01 2.1 - Infrastruktura pro cestovní ruch","11.2.1","11.2","CZ.1.11/2.1.00/01.00101","Vítejte ve Starém Městě","N2 Projekt nedoporučen / neschválen","MĚSTO TELČ","Obec",null,null,null,null,null,null,null,null,null,null,null,null,null,null,null,null,null,1,null," ",null,null,null,null,null,null,null,null,null,null,null,null,null,null,null,null,null,null,null,null,null,null,null,null,null,null,null,null,null,null,null,null,null,null,null,null,null,null,null,null,null,null,null,null,null,null,null,null,null,null,null,0,0,0,0,0,0,0,0,0,0,null,0,0,0,0,0,0,0,0,0,0,null,"2008-07-18",12717788,13875,12703913,85,7.5,null,null,null,null,null,7.5,null,null,"P1 Zahájena","Ne",{"$error":"#N/A"},"2008-07-18",12717788,13875,12703913,85,7.5,null,null,null,null,null,7.5,null,null,"P1 Zahájena","Ne",{"$error":"#N/A"}]
["01 2.1 - Infrastruktura pro cestovní ruch","11.2.1","11.2","CZ.1.11/2.1.00/01.00101","Vítejte ve Starém Městě","N2 Projekt nedoporučen / neschválen","MĚSTO TELČ","Obec",null,null,null,null,null,null,null,null,null,null,null,null,null,null,null,null,null,2,null," ",null,null,null,null,null,null,null,null,null,null,null,null,null,null,null,null,null,null,null,null,null,null,null,null,null,null,null,null,null,null,null,null,null,null,null,null,null,null,null,null,null,null,null,null,null,null,null,null,null,null,null,0,0,0,0,0,0,0,0,0,0,null,0,0,0,0,0,0,0,0,0,0,null,"2008-12-17",2636250,0,2636250,85,7.5,null,null,null,null,null,7.5,null,null,"P1 Zahájena","Ne",{"$error":"#N/A"},"2008-12-17",2636250,0,2636250,85,7.5,null,null,null,null,null,7.5,null,null,"P1 Zahájena","Ne",{"$error":"#N/A"}]
["01 2.1 - Infrastruktura pro cestovní ruch","11.2.1","11.2","CZ.1.11/2.1.00/01.00101","Vítejte ve Starém Městě","N2 Projekt nedoporučen / neschválen","MĚSTO TELČ","Obec",null,null,null,null,null,null,null,null,null,null,null,null,null,null,null,null,null,3,null," ",null,null,null,null,null,null,null,null,null,null,null,null,null,null,null,null,null,null,null,null,null,null,null,null,null,null,null,null,null,null,null,null,null,null,null,null,null,null,null,null,null,null,null,null,null,null,null,null,null,null,null,0,0,0,0,0,0,0,0,0,0,null,0,0,0,0,0,0,0,0,0,0,null,"2009-06-17",2678753,0,2678753,85,7.5,null,null,null,null,null,7.5,null,null,"P1 Zahájena","Ne",{"$error":"#N/A"},"2009-06-17",2678753,0,2678753,85,7.5,null,null,null,null,null,7.5,null,null,"P1 Zahájena","Ne",{"$error":"#N/A"}]
["01 2.1 - Infrastruktura pro cestovní ruch","11.2.1","11.2","CZ.1.11/2.1.00/01.00101","Vítejte ve Starém Městě","N2 Projekt nedoporučen / neschválen","MĚSTO TELČ","Obec",null,null,null,null,null,null,null,null,null,null,null,null,null,null,null,null,null,4,null," ",null,null,null,null,null,null,null,null,null,null,null,null,null,null,null,null,null,null,null,null,null,null,null,null,null,null,null,null,null,null,null,null,null,null,null,null,null,null,null,null,null,null,null,null,null,null,null,null,null,null,null,0,0,0,0,0,0,0,0,0,0,null,0,0,0,0,0,0,0,0,0,0,null,"2009-09-16",2960000,0,2960000,85,7.5,null,null,null,null,null,7.5,null,null,"P1 Zahájena","Ne",{"$error":"#N/A"},"2009-09-16",2960000,0,2960000,85,7.5,null,null,null,null,null,7.5,null,null,"P1 Zahájena","Ne",{"$error":"#N/A"}]
["01 2.1 - Infrastruktura pro cestovní ruch","11.2.1","11.2","CZ.1.11/2.1.00/01.00101","Vítejte ve Starém Městě","N2 Projekt nedoporučen / neschválen","MĚSTO TELČ","Obec",null,null,null,null,null,null,null,null,null,null,null,null,null,null,null,null,null,5,null," ",null,null,null,null,null,null,null,null,null,null,null,null,null,null,null,null,null,null,null,null,null,null,null,null,null,null,null,null,null,null,null,null,null,null,null,null,null,null,null,null,null,null,null,null,null,null,null,null,null,null,null,0,0,0,0,0,0,0,0,0,0,null,0,0,0,0,0,0,0,0,0,0,null,"2009-12-28",2883420,9250,2874170,85,7.5,null,null,null,null,null,7.5,null,null,"P1 Zahájena","Ne",{"$error":"#N/A"},"2009-12-28",2883420,9250,2874170,85,7.5,null,null,null,null,null,7.5,null,null,"P1 Zahájena","Ne",{"$error":"#N/A"}]
["01 2.2 - Služby pro cestovní ruch","11.2.2","11.2","CZ.1.11/2.2.00/01.00102","Lipky v Telči se představují","P8 Projekt finálně uzavřen","MĚSTO TELČ","Obec",342175.07,30191.919999999998,30191.919999999998,0,0,0,0,0,30194.01,0,0,402561,0,0,402561,20532,423093,1,"01/00102","P4 Proplacena příjemci","POST","2010-02-16",342175.07,null,null,null,null,342175.07,"2010-02-16",null,null,null,null,342175.07,30191.919999999998,null,null,null,342175.07,"2010-06-02",null,342175.07,"CZ.1.11/2010/03","2010-04-02",13448.69,25.443000000000001,"2010-07-23",30191.919999999998,"2010-02-16",null,30191.919999999998,null,null,null,null,null,null,null,null,null,null,null,null,null,30194.01,null,null,342175.07,"2009-12-23",402561,null,0,0,0,0,0,0,0,0,0,0,402561,342175.07999966713,30191.919999925365,0,0,0,0,0,30194.000000407486,0,0,372366.99,"2009-11-29",372366.99,372366.99,0,84.999560314999997,7.4999614965000001,null,null,null,null,null,7.5004781884999998,null,null,"P2 Ukončena","Ne",{"$error":"#N/A"},"2009-11-29",372366.99,372366.99,0,84.999560314999997,7.4999614965000001,null,null,null,null,null,7.5004781884999998,null,null,"P2 Ukončena","Ne",{"$error":"#N/A"}]
["01 2.1 - Infrastruktura pro cestovní ruch","11.2.1","11.2","CZ.1.11/2.1.00/01.00106","Hotel Horní Dvůr","N13 Projekt ohodnocen, nedosáhl minimální bodové hranice","Ing. Radomír Daňhel","Soukromá firma_MSP",null,null,null,null,null,null,null,null,null,null,null,null,null,null,null,null,null,1,null," ",null,null,null,null,null,null,null,null,null,null,null,null,null,null,null,null,null,null,null,null,null,null,null,null,null,null,null,null,null,null,null,null,null,null,null,null,null,null,null,null,null,null,null,null,null,null,null,null,null,null,null,0,0,0,0,0,0,0,0,0,0,null,0,0,0,0,0,0,0,0,0,0,null,"2008-10-30",1805675,0,1805675,50.999997706900004,4.4999997977000001,4.4999997976000001,null,null,null,null,null,null,40.000002697799999,"P1 Zahájena","Ne",{"$error":"#N/A"},"2008-10-30",1805675,0,1805675,50.999997706900004,4.4999997977000001,4.4999997976000001,null,null,null,null,null,null,40.000002697799999,"P1 Zahájena","Ne",{"$error":"#N/A"}]
["01 2.1 - Infrastruktura pro cestovní ruch","11.2.1","11.2","CZ.1.11/2.1.00/01.00106","Hotel Horní Dvůr","N13 Projekt ohodnocen, nedosáhl minimální bodové hranice","Ing. Radomír Daňhel","Soukromá firma_MSP",null,null,null,null,null,null,null,null,null,null,null,null,null,null,null,null,null,8,null," ",null,null,null,null,null,null,null,null,null,null,null,null,null,null,null,null,null,null,null,null,null,null,null,null,null,null,null,null,null,null,null,null,null,null,null,null,null,null,null,null,null,null,null,null,null,null,null,null,null,null,null,0,0,0,0,0,0,0,0,0,0,null,0,0,0,0,0,0,0,0,0,0,null,"2011-04-29",1790906,0,1790906,50.999997706900004,4.4999997977000001,4.4999997976000001,null,null,null,null,null,null,40.000002697799999,"P1 Zahájena","Ne",{"$error":"#N/A"},"2011-04-29",1790906,0,1790906,50.999997706900004,4.4999997977000001,4.4999997976000001,null,null,null,null,null,null,40.000002697799999,"P1 Zahájena","Ne",{"$error":"#N/A"}]
["01 1.2 - Rozvoj dopravní obslužnosti a veřejné dopravy","11.1.2","11.1","CZ.1.11/1.2.00/01.00114","Zavedení nového odbavovacího systému cestujících v MHD v krajském městě Jihlava","P7 Výdaje projektu certifikovány","Dopravní podnik města Jihlavy, a.s.","Organizace založená obcí",14915494,1316073,1316073,0,0,0,0,0,1316073,0,0,17547640,0,0,17547640,6057438,23605078,1,"01/00114","P4 Proplacena příjemci","POST","2010-12-01",14770144,null,null,null,null,14770144,"2010-12-01",null,null,null,null,14770144,1303248,null,null,null,14770144,"2010-12-23",14591608.300000001,178535.7,"CZ.1.11/2010/12","2010-12-17",596580.66,24.758000000000003,"2011-03-24",1303248,"2010-12-23",1287494.8500000001,15753.15,null,null,null,null,null,null,null,null,null,null,null,null,null,1303248,null,null,14770144,"2010-08-26",17376640,17166598,14591608.300000001,1287494.8500000001,0,0,0,0,0,1287494.8500000001,0,0,210042,178535.7,15753.15,0,0,0,0,0,15753.15,0,0,16073392,"2010-08-30",16073392,194288.85,15879103.15,85,7.5,null,null,null,null,null,7.5,null,null,"P2 Ukončena","Ne",{"$error":"#N/A"},"2010-08-30",16073392,194288.85,15879103.15,85,7.5,null,null,null,null,null,7.5,null,null,"P2 Ukončena","Ne",{"$error":"#N/A"}]
["01 2.2 - Služby pro cestovní ruch","11.2.2","11.2","CZ.1.11/2.2.00/01.00120","Stezky dědictví - rozvoj cest. ruchu v Jihomoravském kraji prostřednictvím regionální gastronomie","N13 Projekt ohodnocen, nedosáhl minimální bodové hranice","\"European Centre for Ecology and Tourism\"","Neveřejná nestátní nezisková organizace",null,null,null,null,null,null,null,null,null,null,null,null,null,null,null,null,null,2,null," ",null,null,null,null,null,null,null,null,null,null,null,null,null,null,null,null,null,null,null,null,null,null,null,null,null,null,null,null,null,null,null,null,null,null,null,null,null,null,null,null,null,null,null,null,null,null,null,null,null,null,null,0,0,0,0,0,0,0,0,0,0,null,0,0,0,0,0,0,0,0,0,0,null,"2008-12-15",239106,239106,0,78.619976758299998,6.9399977865999993,null,6.9399977864999993,null,null,null,null,null,7.5000276685999996,"P1 Zahájena","Ne",{"$error":"#N/A"},"2008-12-15",239106,239106,0,78.619976758299998,6.9399977865999993,null,6.9399977864999993,null,null,null,null,null,7.5000276685999996,"P1 Zahájena","Ne",{"$error":"#N/A"}]
["01 1.4 - Rozvoj infrastruktury pro bezmotorovou dopravu","11.1.4","11.1","CZ.1.11/1.4.00/01.00125","Cyklostezka Brno-Obřany - Bílovice nad Svitavou","N12 Projektová žádost nesplnila formální náležitosti","Časnýř","Sdružení obcí",null,null,null,null,null,null,null,null,null,null,null,null,null,null,null,null,null,2,null," ",null,null,null,null,null,null,null,null,null,null,null,null,null,null,null,null,null,null,null,null,null,null,null,null,null,null,null,null,null,null,null,null,null,null,null,null,null,null,null,null,null,null,null,null,null,null,null,null,null,null,null,0,0,0,0,0,0,0,0,0,0,null,0,0,0,0,0,0,0,0,0,0,null,"2008-09-30",1500000,20000,1480000,84.999989440499988,7.4999991095,null,null,null,null,null,null,7.5000114499999997,null,"P1 Zahájena","Ne",{"$error":"#N/A"},"2008-09-30",1500000,20000,1480000,84.999989440499988,7.4999991095,null,null,null,null,null,null,7.5000114499999997,null,"P1 Zahájena","Ne",{"$error":"#N/A"}]
["01 2.1 - Infrastruktura pro cestovní ruch","11.2.1","11.2","CZ.1.11/2.1.00/01.00132","\"PENZION VALTICE\"","N13 Projekt ohodnocen, nedosáhl minimální bodové hranice","Ing. Zdeněk Kupský","Soukromá firma_MSP",null,null,null,null,null,null,null,null,null,null,null,null,null,null,null,null,null,4,null," ",null,null,null,null,null,null,null,null,null,null,null,null,null,null,null,null,null,null,null,null,null,null,null,null,null,null,null,null,null,null,null,null,null,null,null,null,null,null,null,null,null,null,null,null,null,null,null,null,null,null,null,0,0,0,0,0,0,0,0,0,0,null,0,0,0,0,0,0,0,0,0,0,null,"2009-06-30",2340000,0,2340000,51,4.5,null,4.5,null,null,null,null,null,40,"P1 Zahájena","Ne",{"$error":"#N/A"},"2009-06-30",2340000,0,2340000,51,4.5,null,4.5,null,null,null,null,null,40,"P1 Zahájena","Ne",{"$error":"#N/A"}]
["01 2.2 - Služby pro cestovní ruch","11.2.2","11.2","CZ.1.11/2.2.00/01.00134","Turistický průvodce Podlužím a Hodonínskem","P8 Projekt finálně uzavřen","Mikroregion Podluží","Sdružení obcí",1973362.85,174161.2,174161.2,0,0,0,0,0,0,174625.7,0,2322149.75,0,0,2322149.75,505875.15,2828024.9,1,"01/00134","P4 Proplacena příjemci","POST","2010-06-30",1973362.85,null,null,null,null,1973362.85,"2010-06-30",null,null,null,null,1973362.85,174161.2,null,null,null,1973362.85,"2010-09-15",null,1973362.85,"CZ.1.11/2010/08","2010-09-02",79545.42,24.808,"2010-11-08",174161.2,"2010-06-30",null,174161.2,null,null,null,null,null,null,null,null,null,null,null,null,null,null,174625.7,null,1973362.85,"2010-01-13",2443720.5,null,0,0,0,0,0,0,0,0,0,0,2443720.5,2076673.6781385958,183279.00793342566,0,0,0,0,0,0,183767.81392797848,0,2259952.6800000002,"2009-12-30",2259952.6800000002,2259952.6800000002,0,84.979999887000005,7.4999987901000003,null,null,null,null,null,null,7.5200013229000007,null,"P2 Ukončena","Ne",{"$error":"#N/A"},"2009-12-30",2259952.6800000002,2259952.6800000002,0,84.979999887000005,7.4999987901000003,null,null,null,null,null,null,7.5200013229000007,null,"P2 Ukončena","Ne",{"$error":"#N/A"}]
["01 2.1 - Infrastruktura pro cestovní ruch","11.2.1","11.2","CZ.1.11/2.1.00/01.00138","WESTERN-Šiklův mlýn, komunikace, central kemp a vstupní brána s infocentrem - Zvole nad Pernštejnem","P8 Projekt finálně uzavřen","WESTERN-ŠIKLŮV MLÝN s.r.o.","Soukromá firma_MSP",11662332.25,2058602.88,1029301.43,1029301.45,1029301.45,0,0,0,0,0,9409434.2899999991,23130369.420000002,0,0,23130369.420000002,4394770,27525139.420000002,4,"4/00138","P4 Proplacena příjemci","POST","2009-10-07",3858877.8,null,null,null,null,3858877.8,"2009-08-31",null,null,null,null,3858877.8,340579.25,340579.27,null,null,3858877.8,"2010-06-02",3858877.8,null,"CZ.1.11/2010/03","2010-04-02",151667.56,25.443000000000001,"2010-07-23",340579.25,"2009-08-31",340579.25,null,340579.27,"2009-08-31",340579.27,null,null,null,null,null,null,null,null,null,null,null,null,3113430.17,3858877.8,"2009-08-31",7834619.9900000002,7834619.9900000002,3950215.3984252457,348640.58982921171,348640.58982921171,0,0,0,0,0,0,3187123.4119163309,null,0,0,0,0,0,0,0,0,0,0,4663871.45,"2009-09-30",4663871.45,0,4663871.45,50.419999993200001,4.4500000035000005,4.4500000035000005,null,null,null,null,null,null,40.679999999800003,"P2 Ukončena","Ne",{"$error":"#N/A"},"2009-09-30",4663871.45,0,4663871.45,50.419999993200001,4.4500000035000005,4.4500000035000005,null,null,null,null,null,null,40.679999999800003,"P2 Ukončena","Ne",{"$error":"#N/A"}]
["01 3.4 - Veřejné služby regionálního významu","11.3.4","11.3","CZ.1.11/3.4.00/01.00143","Pořízení mistrovských hudebních nástrojů","P8 Projekt finálně uzavřen","Konzervatoř, Brno, tř. Kpt. Jaroše 45","Organizace zřízena krajem",12748625.289999999,1124878.71,1124878.71,0,0,0,0,1124879,0,0,0,14998383,0,0,14998383,0,14998383,2,"02/00143","P4 Proplacena příjemci","POST","2010-06-15",3571906.21,null,null,null,null,3571906.21,"2010-06-15",null,null,null,null,3571906.21,315168.2,null,null,null,3571906.21,"2010-07-16",3534955.02,36951.19,"CZ.1.11/2010/06","2010-07-02",138698.64000000001,25.753,"2010-11-08",315168.2,"2010-06-15",311907.8,3260.4,null,null,null,null,null,null,null,null,null,null,null,null,315168.28999999998,null,null,null,3571906.21,"2010-04-16",4202242.7,4158770.7,3534955.0229077097,311907.79834122933,0,0,0,0,311907.87875106081,0,0,0,43472,36951.199246412878,3260.3999565280001,0,0,0,0,3260.4007970591201,0,0,0,3887074.5,"2010-02-28",4546586.5599999996,40211.599999999999,4506374.96,84.9999982665,7.4999998999999997,null,null,null,null,7.5000018334999998,null,null,null,"P2 Ukončena","Ne",{"$error":"#N/A"},"2010-02-28",4546586.5599999996,40211.599999999999,4506374.96,84.9999982665,7.4999998999999997,null,null,null,null,7.5000018334999998,null,null,null,"P2 Ukončena","Ne",{"$error":"#N/A"}]
["01 2.1 - Infrastruktura pro cestovní ruch","11.2.1","11.2","CZ.1.11/2.1.00/01.00148","Vinařský dům  - rozšíření možností cestovního ruchu","N12 Projektová žádost nesplnila formální náležitosti","ČESKÁ INVESTIČNÍ A SPRÁVCOVSKÁ, a.s.","Soukromá firma_MSP",null,null,null,null,null,null,null,null,null,null,null,null,null,null,null,null,null,2,null," ",null,null,null,null,null,null,null,null,null,null,null,null,null,null,null,null,null,null,null,null,null,null,null,null,null,null,null,null,null,null,null,null,null,null,null,null,null,null,null,null,null,null,null,null,null,null,null,null,null,null,null,0,0,0,0,0,0,0,0,0,0,null,0,0,0,0,0,0,0,0,0,0,null,"2009-07-30",1613518,0,1613518,42.499249967899999,3.7503750161,null,3.750375016,null,null,null,null,null,50,"P1 Zahájena","Ne",{"$error":"#N/A"},"2009-07-30",1613518,0,1613518,42.499249967899999,3.7503750161,null,3.750375016,null,null,null,null,null,50,"P1 Zahájena","Ne",{"$error":"#N/A"}]
["01 2.2 - Služby pro cestovní ruch","11.2.2","11.2","CZ.1.11/2.2.00/01.00153","ZVEME VÁS DO ŽDÁNIC - města folklóru, kultury a sportu","N12 Projektová žádost nesplnila formální náležitosti","Město Ždánice","Obec",null,null,null,null,null,null,null,null,null,null,null,null,null,null,null,null,null,1,null," ",null,null,null,null,null,null,null,null,null,null,null,null,null,null,null,null,null,null,null,null,null,null,null,null,null,null,null,null,null,null,null,null,null,null,null,null,null,null,null,null,null,null,null,null,null,null,null,null,null,null,null,0,0,0,0,0,0,0,0,0,0,null,0,0,0,0,0,0,0,0,0,0,null,"2009-07-31",1625398.82,1625398.82,0,85,7.4999998008000004,null,null,null,null,null,7.5000001991999996,null,null,"P1 Zahájena","Ne",{"$error":"#N/A"},"2009-07-31",1625398.82,1625398.82,0,85,7.4999998008000004,null,null,null,null,null,7.5000001991999996,null,null,"P1 Zahájena","Ne",{"$error":"#N/A"}]
["01 2.1 - Infrastruktura pro cestovní ruch","11.2.1","11.2","CZ.1.11/2.1.00/01.00154","Modernizace a dostavba penzionu Panský dům v Jimramově","N12 Projektová žádost nesplnila formální náležitosti","ACAPULCO BRNO, spol. s r.o.","Soukromá firma_MSP",null,null,null,null,null,null,null,null,null,null,null,null,null,null,null,null,null,4,null," ",null,null,null,null,null,null,null,null,null,null,null,null,null,null,null,null,null,null,null,null,null,null,null,null,null,null,null,null,null,null,null,null,null,null,null,null,null,null,null,null,null,null,null,null,null,null,null,null,null,null,null,0,0,0,0,0,0,0,0,0,0,null,0,0,0,0,0,0,0,0,0,0,null,"2009-09-30",2763093,0,2763093,51,4.5,4.5,null,null,null,null,null,null,40,"P1 Zahájena","Ne",{"$error":"#N/A"},"2009-09-30",2763093,0,2763093,51,4.5,4.5,null,null,null,null,null,null,40,"P1 Zahájena","Ne",{"$error":"#N/A"}]
["01 2.1 - Infrastruktura pro cestovní ruch","11.2.1","11.2","CZ.1.11/2.1.00/01.00157","ZKVALITNĚNÍ SLUŽEB FARMY BOLKA POLÍVKY A ROZŠÍŘENÍ O WELLNESS","N8 Rozhodnutí/Smlouva ukončena ze strany ŘO/ZS","Penzion Olšany, s.r.o.","Soukromá firma_MSP",9983696.25,1761828.75,880914.37,880914.38,0,880914.38,0,0,0,0,7830350,19575875,0,0,19575875,5116477,24692352,4,"04/00157","P4 Proplacena příjemci","POST","2011-06-08",2587534.34,null,null,null,null,2587534.34,"2011-06-08",null,null,null,null,2587534.34,228311.85,null,228311.86,null,2587534.34,"2011-07-08",2587534.34,null,"CZ.1.11/2011/06","2011-06-30",106299.17,24.342000000000002,"2011-11-23",228311.85,"2011-06-08",228311.85,null,null,null,null,null,228311.86,"2011-06-08",228311.86,null,null,null,null,null,null,null,null,2029438.71,2587534.34,"2011-03-03",5334084.78,5334084.78,2720383.2377999998,240033.81510000001,0,240033.81510000001,0,0,0,0,0,2133633.912,0,0,0,0,0,0,0,0,0,0,0,3200450.86,"2011-01-30",3244390.66,0,3244390.66,51,4.5,null,4.5,null,null,null,null,null,40,"P2 Ukončena","Ne",{"$error":"#N/A"},"2011-01-30",3244390.66,0,3244390.66,51,4.5,null,4.5,null,null,null,null,null,40,"P2 Ukončena","Ne",{"$error":"#N/A"}]
["01 2.2 - Služby pro cestovní ruch","11.2.2","11.2","CZ.1.11/2.2.00/01.00161","Křížem krážem Lomnickem","N13 Projekt ohodnocen, nedosáhl minimální bodové hranice","Dobrovolný svazek obcí Lomnicko","Sdružení obcí",null,null,null,null,null,null,null,null,null,null,null,null,null,null,null,null,null,4,null," ",null,null,null,null,null,null,null,null,null,null,null,null,null,null,null,null,null,null,null,null,null,null,null,null,null,null,null,null,null,null,null,null,null,null,null,null,null,null,null,null,null,null,null,null,null,null,null,null,null,null,null,0,0,0,0,0,0,0,0,0,0,null,0,0,0,0,0,0,0,0,0,0,null,"2009-07-31",318765,239511.07,79253.929999999993,84.999946131099989,7.4999948021999998,null,null,null,null,null,null,7.5000590667000004,null,"P1 Zahájena","Ne",{"$error":"#N/A"},"2009-07-31",318765,239511.07,79253.929999999993,84.999946131099989,7.4999948021999998,null,null,null,null,null,null,7.5000590667000004,null,"P1 Zahájena","Ne",{"$error":"#N/A"}]
["01 2.2 - Služby pro cestovní ruch","11.2.2","11.2","CZ.1.11/2.2.00/01.00168","Destinační management cestovního ruchu ve znojemském regionu","N12 Projektová žádost nesplnila formální náležitosti","Znojemský regionální rozvoj, o.p.s.","Organizace zřízena obcí",null,null,null,null,null,null,null,null,null,null,null,null,null,null,null,null,null,7,null," ",null,null,null,null,null,null,null,null,null,null,null,null,null,null,null,null,null,null,null,null,null,null,null,null,null,null,null,null,null,null,null,null,null,null,null,null,null,null,null,null,null,null,null,null,null,null,null,null,null,null,null,0,0,0,0,0,0,0,0,0,0,null,0,0,0,0,0,0,0,0,0,0,null,"2010-11-30",502075,502075,0,85,7.5,null,null,null,null,null,7.5,null,null,"P1 Zahájena","Ne",{"$error":"#N/A"},"2010-11-30",502075,502075,0,85,7.5,null,null,null,null,null,7.5,null,null,"P1 Zahájena","Ne",{"$error":"#N/A"}]
["01 2.1 - Infrastruktura pro cestovní ruch","11.2.1","11.2","CZ.1.11/2.1.00/01.00174","Výstavba naučné turistické stezky k Jeskyni Blanických rytířů","P8 Projekt finálně uzavřen","MĚSTO KUNŠTÁT","Obec",2532669.17,223471.82,223471.82,0,0,0,0,0,223470.01,0,0,2979611,0,0,2979611,0,2979611,1,"1/00174","P4 Proplacena příjemci","POST","2009-03-10",2450621.23,null,null,null,null,2450621.23,"2009-03-10",null,null,null,null,2450621.23,216232.26,null,null,null,2450621.23,"2009-04-27",2450621.23,null,"CZ.1.11/2009/01","2009-04-02",89214.07,27.469000000000001,"2009-10-29",216232.26,"2009-03-10",216232.26,null,null,null,null,null,null,null,null,null,null,null,null,null,null,216230.51,null,null,2450621.23,"2008-12-19",2883084,2883084,2450621.2355056424,216232.26276553862,0,0,0,0,0,216230.50172881898,0,0,null,0,0,0,0,0,0,0,0,0,0,2666852.7000000002,"2008-12-30",2756141,0,2756141,84.999994294499999,7.5000333935999999,null,null,null,null,null,7.4999723119000006,null,null,"P2 Ukončena","Ne",{"$error":"#N/A"},"2008-12-30",2756141,0,2756141,84.999994294499999,7.5000333935999999,null,null,null,null,null,7.4999723119000006,null,null,"P2 Ukončena","Ne",{"$error":"#N/A"}]
["01 2.2 - Služby pro cestovní ruch","11.2.2","11.2","CZ.1.11/2.2.00/01.00183","Směr Petrov","N13 Projekt ohodnocen, nedosáhl minimální bodové hranice","Římskokatolická farnost u kostela sv. Petra a Pavla, Brno","Veřejná nestátní nezisková organizace",null,null,null,null,null,null,null,null,null,null,null,null,null,null,null,null,null,1,null," ",null,null,null,null,null,null,null,null,null,null,null,null,null,null,null,null,null,null,null,null,null,null,null,null,null,null,null,null,null,null,null,null,null,null,null,null,null,null,null,null,null,null,null,null,null,null,null,null,null,null,null,0,0,0,0,0,0,0,0,0,0,null,0,0,0,0,0,0,0,0,0,0,null,"2009-11-30",2724587,1022587.31,1701999.69,78.6249855712,13.874997453800001,null,null,null,null,null,null,7.5000169750000003,null,"P1 Zahájena","Ne",{"$error":"#N/A"},"2009-11-30",2724587,1022587.31,1701999.69,78.6249855712,13.874997453800001,null,null,null,null,null,null,7.5000169750000003,null,"P1 Zahájena","Ne",{"$error":"#N/A"}]
["01 2.1 - Infrastruktura pro cestovní ruch","11.2.1","11.2","CZ.1.11/2.1.00/01.00184","GOLF BRNO - kongresový sál a wellness","N11 Projektová žádost nesplnila podmínky přijatelnosti","GOLF BRNO a.s.","Soukromá firma_MSP",null,null,null,null,null,null,null,null,null,null,null,null,null,null,null,null,null,1,null," ",null,null,null,null,null,null,null,null,null,null,null,null,null,null,null,null,null,null,null,null,null,null,null,null,null,null,null,null,null,null,null,null,null,null,null,null,null,null,null,null,null,null,null,null,null,null,null,null,null,null,null,0,0,0,0,0,0,0,0,0,0,null,0,0,0,0,0,0,0,0,0,0,null,"2008-12-30",8091000,0,8091000,50.999999783500002,4.4999999809000002,null,4.4999999809000002,null,null,null,null,null,40.000000254699998,"P1 Zahájena","Ne",{"$error":"#N/A"},"2008-12-30",8091000,0,8091000,50.999999783500002,4.4999999809000002,null,4.4999999809000002,null,null,null,null,null,40.000000254699998,"P1 Zahájena","Ne",{"$error":"#N/A"}]
["01 2.2 - Služby pro cestovní ruch","11.2.2","11.2","CZ.1.11/2.2.00/01.00189","Založení a provoz organizace cestovního ruchu na území jihomoravské části Slovácka v období 2008-2013","N13 Projekt ohodnocen, nedosáhl minimální bodové hranice","Region Slovácko","Právnické osoby s účastí samosprávy (obce)",null,null,null,null,null,null,null,null,null,null,null,null,null,null,null,null,null,6,null," ",null,null,null,null,null,null,null,null,null,null,null,null,null,null,null,null,null,null,null,null,null,null,null,null,null,null,null,null,null,null,null,null,null,null,null,null,null,null,null,null,null,null,null,null,null,null,null,null,null,null,null,0,0,0,0,0,0,0,0,0,0,null,0,0,0,0,0,0,0,0,0,0,null,"2010-04-20",303133,303133,0,85,7.5,null,null,null,null,null,7.5,null,null,"P1 Zahájena","Ne",{"$error":"#N/A"},"2010-04-20",303133,303133,0,85,7.5,null,null,null,null,null,7.5,null,null,"P1 Zahájena","Ne",{"$error":"#N/A"}]
["01 2.2 - Služby pro cestovní ruch","11.2.2","11.2","CZ.1.11/2.2.00/01.00195","Noc kostelů","P7 Výdaje projektu certifikovány","Biskupství brněnské","Neveřejná nestátní nezisková organizace",3655321.32,645330.18999999994,322665.08,322665.11,0,322665.11,0,0,0,0,348701.49,4649353,0,0,4649353,59380,4708733,1,"01/00195","P4 Proplacena příjemci","POST","2010-03-05",1626494.64,null,null,null,null,1626494.64,"2010-03-05",null,null,null,null,1626494.64,143575.07,null,143575.09,null,1626494.64,"2010-06-02",null,1626494.64,"CZ.1.11/2010/03","2010-04-02",63927,25.443000000000001,"2010-07-23",143575.07,"2010-03-05",null,143575.07,null,null,null,null,143575.09,"2010-03-05",null,143575.09,null,null,null,null,null,null,null,155160.4,1626494.64,"2009-09-29",2274324.7000000002,null,0,0,0,0,0,0,0,0,0,0,2274324.7000000002,1788074.0798245717,157838.13016809121,0,157838.13261299027,0,0,0,0,0,170574.35739434676,2103750.34,"2009-08-31",2103750.34,2103750.34,0,78.620000030100002,6.9399998236,null,6.9399999311,null,null,null,null,null,7.5000002152,"P2 Ukončena","Ne",{"$error":"#N/A"},"2009-08-31",2103750.34,2103750.34,0,78.620000030100002,6.9399998236,null,6.9399999311,null,null,null,null,null,7.5000002152,"P2 Ukončena","Ne",{"$error":"#N/A"}]
["01 2.2 - Služby pro cestovní ruch","11.2.2","11.2","CZ.1.11/2.2.00/01.00198","TVORBA A MARKETINGOVÁ PODPORA PRODUKTŮ CR SLOVÁCKA NA ROK 2009","N13 Projekt ohodnocen, nedosáhl minimální bodové hranice","Region Slovácko - sdružení pro rozvoj cestovního ruchu","Právnické osoby s účastí samosprávy (obce)",null,null,null,null,null,null,null,null,null,null,null,null,null,null,null,null,null,1,null," ",null,null,null,null,null,null,null,null,null,null,null,null,null,null,null,null,null,null,null,null,null,null,null,null,null,null,null,null,null,null,null,null,null,null,null,null,null,null,null,null,null,null,null,null,null,null,null,null,null,null,null,0,0,0,0,0,0,0,0,0,0,null,0,0,0,0,0,0,0,0,0,0,null,"2009-01-30",1394942,80727.05,1314214.95,78.625011323900011,13.8750019983,null,null,null,null,null,null,7.4999866777999999,null,"P1 Zahájena","Ne",{"$error":"#N/A"},"2009-01-30",1394942,80727.05,1314214.95,78.625011323900011,13.8750019983,null,null,null,null,null,null,7.4999866777999999,null,"P1 Zahájena","Ne",{"$error":"#N/A"}]
["01 2.2 - Služby pro cestovní ruch","11.2.2","11.2","CZ.1.11/2.2.00/01.00203","Rok na Moravských vinařských stezkách - nové marketingové, propagační a informační aktivity","N12 Projektová žádost nesplnila formální náležitosti","Partnerství,o.p.s.","Neveřejná nestátní nezisková organizace",null,null,null,null,null,null,null,null,null,null,null,null,null,null,null,null,null,3,null," ",null,null,null,null,null,null,null,null,null,null,null,null,null,null,null,null,null,null,null,null,null,null,null,null,null,null,null,null,null,null,null,null,null,null,null,null,null,null,null,null,null,null,null,null,null,null,null,null,null,null,null,0,0,0,0,0,0,0,0,0,0,null,0,0,0,0,0,0,0,0,0,0,null,"2009-10-30",2417180.5,2417180.5,0,78.619992104199994,6.9399992310999998,null,6.9399992309999998,null,null,null,null,null,7.5000094336999998,"P1 Zahájena","Ne",{"$error":"#N/A"},"2009-10-30",2417180.5,2417180.5,0,78.619992104199994,6.9399992310999998,null,6.9399992309999998,null,null,null,null,null,7.5000094336999998,"P1 Zahájena","Ne",{"$error":"#N/A"}]
["01 2.2 - Služby pro cestovní ruch","11.2.2","11.2","CZ.1.11/2.2.00/01.00208","Návštěvnické služby objektů architektonického dědictví na Boskovicku","N12 Projektová žádost nesplnila formální náležitosti","MUZEUM BOSKOVICKA","Organizace zřízena obcí",null,null,null,null,null,null,null,null,null,null,null,null,null,null,null,null,null,1,null," ",null,null,null,null,null,null,null,null,null,null,null,null,null,null,null,null,null,null,null,null,null,null,null,null,null,null,null,null,null,null,null,null,null,null,null,null,null,null,null,null,null,null,null,null,null,null,null,null,null,null,null,0,0,0,0,0,0,0,0,0,0,null,0,0,0,0,0,0,0,0,0,0,null,"2008-12-15",120000,0,120000,82.702749999999995,7.29725,null,null,null,null,null,10,null,null,"P1 Zahájena","Ne",{"$error":"#N/A"},"2008-12-15",120000,0,120000,82.702749999999995,7.29725,null,null,null,null,null,10,null,null,"P1 Zahájena","Ne",{"$error":"#N/A"}]
["01 2.2 - Služby pro cestovní ruch","11.2.2","11.2","CZ.1.11/2.2.00/01.00208","Návštěvnické služby objektů architektonického dědictví na Boskovicku","N12 Projektová žádost nesplnila formální náležitosti","MUZEUM BOSKOVICKA","Organizace zřízena obcí",null,null,null,null,null,null,null,null,null,null,null,null,null,null,null,null,null,2,null," ",null,null,null,null,null,null,null,null,null,null,null,null,null,null,null,null,null,null,null,null,null,null,null,null,null,null,null,null,null,null,null,null,null,null,null,null,null,null,null,null,null,null,null,null,null,null,null,null,null,null,null,0,0,0,0,0,0,0,0,0,0,null,0,0,0,0,0,0,0,0,0,0,null,"2009-03-15",280000,0,280000,82.702749999999995,7.29725,null,null,null,null,null,10,null,null,"P1 Zahájena","Ne",{"$error":"#N/A"},"2009-03-15",280000,0,280000,82.702749999999995,7.29725,null,null,null,null,null,10,null,null,"P1 Zahájena","Ne",{"$error":"#N/A"}]
["01 3.3 - Rozvoj a stabilizace venkovských sídel","11.3.3","11.3","CZ.1.11/3.3.00/01.00215","Velká Bíteš - stavba 2 Rekonstrukce křižovatky ulic Kostelní, Na Valech, Tišnovská a Vlkovská","N4 Projekt nesplnil podmínky pro vydání Rozhodnutí / podpis Smlouvy","MĚSTO VELKÁ BÍTEŠ","Obec",null,null,null,null,null,null,null,null,null,null,null,null,null,null,null,null,null,1,null," ",null,null,null,null,null,null,null,null,null,null,null,null,null,null,null,null,null,null,null,null,null,null,null,null,null,null,null,null,null,null,null,null,null,null,null,null,null,null,null,null,null,null,null,null,null,null,null,null,null,null,null,0,0,0,0,0,0,0,0,0,0,null,0,0,0,0,0,0,0,0,0,0,null,"2009-04-30",10566037,0,10566037,84.999997723799993,7.4999998686999998,null,null,null,null,null,7.5000024075000002,null,null,"P1 Zahájena","Ne",{"$error":"#N/A"},"2009-04-30",10566037,0,10566037,84.999997723799993,7.4999998686999998,null,null,null,null,null,7.5000024075000002,null,null,"P1 Zahájena","Ne",{"$error":"#N/A"}]
["01 3.3 - Rozvoj a stabilizace venkovských sídel","11.3.3","11.3","CZ.1.11/3.3.00/01.00222","Víceúčelové hřiště Olbramovice","N13 Projekt ohodnocen, nedosáhl minimální bodové hranice","Městys Olbramovice","Obec",null,null,null,null,null,null,null,null,null,null,null,null,null,null,null,null,null,1,null," ",null,null,null,null,null,null,null,null,null,null,null,null,null,null,null,null,null,null,null,null,null,null,null,null,null,null,null,null,null,null,null,null,null,null,null,null,null,null,null,null,null,null,null,null,null,null,null,null,null,null,null,0,0,0,0,0,0,0,0,0,0,null,0,0,0,0,0,0,0,0,0,0,null,"2008-11-21",5721165,0,5721165,84.999975909599996,7.4999978173000006,null,null,null,null,null,7.5000262730999996,null,null,"P1 Zahájena","Ne",{"$error":"#N/A"},"2008-11-21",5721165,0,5721165,84.999975909599996,7.4999978173000006,null,null,null,null,null,7.5000262730999996,null,null,"P1 Zahájena","Ne",{"$error":"#N/A"}]
["01 3.2 - Rozvoj regionálních středisek","11.3.2","11.3","CZ.1.11/3.2.00/01.00225","Investiční vestavba půdního prostoru ZUŠ G. Mahlera Humpolec","N13 Projekt ohodnocen, nedosáhl minimální bodové hranice","Základní umělecká škola Gustava Mahlera Humpolec, Školní 701","Organizace zřízena obcí",null,null,null,null,null,null,null,null,null,null,null,null,null,null,null,null,null,3,null," ",null,null,null,null,null,null,null,null,null,null,null,null,null,null,null,null,null,null,null,null,null,null,null,null,null,null,null,null,null,null,null,null,null,null,null,null,null,null,null,null,null,null,null,null,null,null,null,null,null,null,null,0,0,0,0,0,0,0,0,0,0,null,0,0,0,0,0,0,0,0,0,0,null,"2009-05-28",2171272,0,2171272,64.319998742199999,5.6799998540000001,null,null,null,null,null,30.000001403799999,null,null,"P1 Zahájena","Ne",{"$error":"#N/A"},"2009-05-28",2171272,0,2171272,64.319998742199999,5.6799998540000001,null,null,null,null,null,30.000001403799999,null,null,"P1 Zahájena","Ne",{"$error":"#N/A"}]
["01 3.2 - Rozvoj regionálních středisek","11.3.2","11.3","CZ.1.11/3.2.00/01.00231","Revitalizace kulturního domu","N13 Projekt ohodnocen, nedosáhl minimální bodové hranice","Město VESELÍ NAD MORAVOU","Obec",null,null,null,null,null,null,null,null,null,null,null,null,null,null,null,null,null,2,null," ",null,null,null,null,null,null,null,null,null,null,null,null,null,null,null,null,null,null,null,null,null,null,null,null,null,null,null,null,null,null,null,null,null,null,null,null,null,null,null,null,null,null,null,null,null,null,null,null,null,null,null,0,0,0,0,0,0,0,0,0,0,null,0,0,0,0,0,0,0,0,0,0,null,"2009-09-30",11050000,30000,11020000,62.609007246200001,5.5289917185000004,null,null,null,null,null,31.8620010353,null,null,"P1 Zahájena","Ne",{"$error":"#N/A"},"2009-09-30",11050000,30000,11020000,62.609007246200001,5.5289917185000004,null,null,null,null,null,31.8620010353,null,null,"P1 Zahájena","Ne",{"$error":"#N/A"}]
["01 3.3 - Rozvoj a stabilizace venkovských sídel","11.3.3","11.3","CZ.1.11/3.3.00/01.00236","Centrum kultury, sportu a zájmových činností","P8 Projekt finálně uzavřen","OBEC OSOVÁ BÍTÝŠKA","Obec",27469244.149999999,2423756.84,2423756.84,0,0,0,0,0,2423757.0099999998,0,0,32316758,0,0,32316758,0,32316758,3,"03/00236","P4 Proplacena příjemci","POST","2009-11-19",6793069.9100000001,null,null,null,null,6793069.9100000001,"2009-11-19",null,null,null,null,6793069.9100000001,599388.52,null,null,null,6793069.9100000001,"2009-12-21",6793069.9100000001,null,"CZ.1.11/2009/11","2009-12-08",259416.1,26.186,"2010-04-23",599388.52,"2009-11-19",599388.52,null,null,null,null,null,null,null,null,null,null,null,null,null,null,599388.56999999995,null,null,6793069.9100000001,"2009-09-21",7991847,7991847,6793069.9153713267,599388.52252252738,0,0,0,0,0,599388.56210614566,0,0,null,0,0,0,0,0,0,0,0,0,0,7392458.4699999997,"2009-09-18",7392458.4699999997,0,7392458.4699999997,84.999999566699998,7.4999999690000001,null,null,null,null,null,7.5000004643000002,null,null,"P2 Ukončena","Ne",{"$error":"#N/A"},"2009-09-18",7392458.4699999997,0,7392458.4699999997,84.999999566699998,7.4999999690000001,null,null,null,null,null,7.5000004643000002,null,null,"P2 Ukončena","Ne",{"$error":"#N/A"}]
["01 3.2 - Rozvoj regionálních středisek","11.3.2","11.3","CZ.1.11/3.2.00/01.00238","Využití ICT na 2. stupni základní školy","N12 Projektová žádost nesplnila formální náležitosti","Základní škola Pohořelice, příspěvková organizace","Organizace založená obcí",null,null,null,null,null,null,null,null,null,null,null,null,null,null,null,null,null,2,null," ",null,null,null,null,null,null,null,null,null,null,null,null,null,null,null,null,null,null,null,null,null,null,null,null,null,null,null,null,null,null,null,null,null,null,null,null,null,null,null,null,null,null,null,null,null,null,null,null,null,null,null,0,0,0,0,0,0,0,0,0,0,null,0,0,0,0,0,0,0,0,0,0,null,"2008-11-30",0,0,0,64.319999999999993,5.68,null,null,null,null,null,30,null,null,"P1 Zahájena","Ne",{"$error":"#N/A"},"2008-11-30",0,0,0,64.319999999999993,5.68,null,null,null,null,null,30,null,null,"P1 Zahájena","Ne",{"$error":"#N/A"}]
["01 3.3 - Rozvoj a stabilizace venkovských sídel","11.3.3","11.3","CZ.1.11/3.3.00/01.00243","Technické zhodnocení kulturního domu v obci Přisnotice","N13 Projekt ohodnocen, nedosáhl minimální bodové hranice","Obec Přísnotice","Obec",null,null,null,null,null,null,null,null,null,null,null,null,null,null,null,null,null,1,null," ",null,null,null,null,null,null,null,null,null,null,null,null,null,null,null,null,null,null,null,null,null,null,null,null,null,null,null,null,null,null,null,null,null,null,null,null,null,null,null,null,null,null,null,null,null,null,null,null,null,null,null,0,0,0,0,0,0,0,0,0,0,null,0,0,0,0,0,0,0,0,0,0,null,"2009-04-30",2605124.17,0,2605124.17,84.999999911199993,7.5000000444000001,null,null,null,null,null,7.5000000444000001,null,null,"P1 Zahájena","Ne",{"$error":"#N/A"},"2009-04-30",2605124.17,0,2605124.17,84.999999911199993,7.5000000444000001,null,null,null,null,null,7.5000000444000001,null,null,"P1 Zahájena","Ne",{"$error":"#N/A"}]
["01 3.3 - Rozvoj a stabilizace venkovských sídel","11.3.3","11.3","CZ.1.11/3.3.00/01.00248","Společensko-kulturní centrum Brtnice","P7 Výdaje projektu certifikovány","MĚSTO BRTNICE","Obec",16904255.079999998,1491551.92,1491551.92,0,0,0,0,0,1491552,0,0,19887359,0,0,19887359,7937284.5,27824643.5,3,"03/00248","P4 Proplacena příjemci","POST","2010-04-12",5611523.1600000001,null,null,null,null,5611523.1600000001,"2010-04-12",null,null,null,null,5611523.1600000001,495134.4,null,null,null,5611523.1600000001,"2010-08-16",5611179.7699999996,343.39,"CZ.1.11/2010/04","2010-04-30",219715.09,25.54,"2010-07-23",495134.4,"2010-04-12",495104.1,30.3,null,null,null,null,null,null,null,null,null,null,null,null,null,495134.44,null,null,5611523.1600000001,"2010-02-23",6601792,6601388,5611179.7768291282,495104.09834305162,0,0,0,0,0,495104.12482782028,0,0,404,343.39999858196001,30.299999898595999,0,0,0,0,0,30.300001519443999,0,0,6106657,"2010-02-28",6106657,373.7,6106283.2999999998,84.999999648999989,7.4999999749000006,null,null,null,null,null,7.5000003761,null,null,"P2 Ukončena","Ne",{"$error":"#N/A"},"2010-02-28",6106657,373.7,6106283.2999999998,84.999999648999989,7.4999999749000006,null,null,null,null,null,7.5000003761,null,null,"P2 Ukončena","Ne",{"$error":"#N/A"}]
["01 3.2 - Rozvoj regionálních středisek","11.3.2","11.3","CZ.1.11/3.2.00/01.00257","STŘED - centrum prevence a pomoci","P8 Projekt finálně uzavřen","STŘED,o.s.","Veřejná nestátní nezisková organizace",9224427.2899999991,814594.95,814594.95,0,0,0,0,0,0,4302438.96,0,14341461.199999999,0,0,14341461.199999999,85237,14426698.199999999,3,"03/00257","P4 Proplacena příjemci","POST","2010-02-10",1958037.68,null,null,null,null,1958037.68,"2010-02-10",null,null,null,null,1958037.68,172911.28,null,null,null,1958037.68,"2010-06-02",1952593.64,5444.04,"CZ.1.11/2010/03","2010-04-02",76957.81,25.443000000000001,"2010-07-23",172911.28,"2010-02-10",172430.53,480.75,null,null,null,null,null,null,null,null,null,null,null,null,null,null,913264.04,null,1958037.68,"2009-11-09",3044213,3035749,1952593.6413868945,172430.53261434325,0,0,0,0,0,0,910724.82599876227,0,8464,5444.0444782156483,480.755170486032,0,0,0,0,0,0,2539.2003512983201,0,2130949.1,"2009-10-20",2130949.1,5924.8,2125024.2999999998,64.319996198200002,5.6799996513000002,null,null,null,null,null,null,30.000004150500001,null,"P2 Ukončena","Ne",{"$error":"#N/A"},"2009-10-20",2130949.1,5924.8,2125024.2999999998,64.319996198200002,5.6799996513000002,null,null,null,null,null,null,30.000004150500001,null,"P2 Ukončena","Ne",{"$error":"#N/A"}]
["01 3.2 - Rozvoj regionálních středisek","11.3.2","11.3","CZ.1.11/3.2.00/01.00262","Wellness Kuřim - rekonstrukce a dostavba krytého bazénu v Kuřimi","N13 Projekt ohodnocen, nedosáhl minimální bodové hranice","Město Kuřim","Obec",null,null,null,null,null,null,null,null,null,null,null,null,null,null,null,null,null,3,null," ",null,null,null,null,null,null,null,null,null,null,null,null,null,null,null,null,null,null,null,null,null,null,null,null,null,null,null,null,null,null,null,null,null,null,null,null,null,null,null,null,null,null,null,null,null,null,null,null,null,null,null,0,0,0,0,0,0,0,0,0,0,null,0,0,0,0,0,0,0,0,0,0,null,"2010-01-30",8363713,0,8363713,36.759999783200001,3.2399999795999999,null,null,null,null,null,60.000000237199998,null,null,"P1 Zahájena","Ne",{"$error":"#N/A"},"2010-01-30",8363713,0,8363713,36.759999783200001,3.2399999795999999,null,null,null,null,null,60.000000237199998,null,null,"P1 Zahájena","Ne",{"$error":"#N/A"}]
["01 3.3 - Rozvoj a stabilizace venkovských sídel","11.3.3","11.3","CZ.1.11/3.3.00/01.00269","Výstavba sportovního zařízení volnočasových aktivit","N13 Projekt ohodnocen, nedosáhl minimální bodové hranice","Tělocvičná jednota SOKOL BRTNICE","Veřejná nestátní nezisková organizace",null,null,null,null,null,null,null,null,null,null,null,null,null,null,null,null,null,2,null," ",null,null,null,null,null,null,null,null,null,null,null,null,null,null,null,null,null,null,null,null,null,null,null,null,null,null,null,null,null,null,null,null,null,null,null,null,null,null,null,null,null,null,null,null,null,null,null,null,null,null,null,0,0,0,0,0,0,0,0,0,0,null,0,0,0,0,0,0,0,0,0,0,null,"2009-06-01",3000000,0,3000000,78.624996123300008,13.8749993159,null,null,null,null,null,null,7.5000045607999999,null,"P1 Zahájena","Ne",{"$error":"#N/A"},"2009-06-01",3000000,0,3000000,78.624996123300008,13.8749993159,null,null,null,null,null,null,7.5000045607999999,null,"P1 Zahájena","Ne",{"$error":"#N/A"}]
["01 3.3 - Rozvoj a stabilizace venkovských sídel","11.3.3","11.3","CZ.1.11/3.3.00/01.00271","Rekonstrukce ZŠ a MŠ Prace","N13 Projekt ohodnocen, nedosáhl minimální bodové hranice","Obec Prace","Obec",null,null,null,null,null,null,null,null,null,null,null,null,null,null,null,null,null,3,null," ",null,null,null,null,null,null,null,null,null,null,null,null,null,null,null,null,null,null,null,null,null,null,null,null,null,null,null,null,null,null,null,null,null,null,null,null,null,null,null,null,null,null,null,null,null,null,null,null,null,null,null,0,0,0,0,0,0,0,0,0,0,null,0,0,0,0,0,0,0,0,0,0,null,"2009-11-01",5627052.5,78616.67,5548435.8300000001,84.999999961,7.5000000194999998,null,null,null,null,null,7.5000000194999998,null,null,"P1 Zahájena","Ne",{"$error":"#N/A"},"2009-11-01",5627052.5,78616.67,5548435.8300000001,84.999999961,7.5000000194999998,null,null,null,null,null,7.5000000194999998,null,null,"P1 Zahájena","Ne",{"$error":"#N/A"}]
["01 3.3 - Rozvoj a stabilizace venkovských sídel","11.3.3","11.3","CZ.1.11/3.3.00/01.00280","Škola hrou","P8 Projekt finálně uzavřen","Základní škola a Mateřská škola Nová Říše příspěvková organizace","Organizace zřízena obcí",2488646.13,219586.43,219586.43,0,0,0,0,0,219586.44,0,0,2927819,0,0,2927819,0,2927819,1,"01/00280","P4 Proplacena příjemci","POST","2010-07-19",1892271.46,null,null,null,null,1892271.46,"2010-07-19",null,null,null,null,1892271.46,166965.14000000001,null,null,null,1892271.46,"2010-08-16",1888021.47,4249.99,"CZ.1.11/2010/07","2010-07-23",76415.28,24.763000000000002,"2010-11-08",166965.14000000001,"2010-07-19",166590.14000000001,375,null,null,null,null,null,null,null,null,null,null,null,null,null,166965.15,null,null,1892271.46,"2010-06-29",2927819,2922819,2484396.1400156501,219211.42998925204,0,0,0,0,0,219211.42999509766,0,0,5000,4249.9999829199996,375.00000853500001,0,0,0,0,0,375.00000854500001,0,0,2708232.57,"2010-06-30",2708232.56,0,2708232.56,84.9999996584,7.5000001706999999,null,null,null,null,null,7.5000001708999999,null,null,"P2 Ukončena","Ne",{"$error":"#N/A"},"2010-06-30",2708232.56,0,2708232.56,84.9999996584,7.5000001706999999,null,null,null,null,null,7.5000001708999999,null,null,"P2 Ukončena","Ne",{"$error":"#N/A"}]
["01 3.3 - Rozvoj a stabilizace venkovských sídel","11.3.3","11.3","CZ.1.11/3.3.00/01.00289","Zvýšení kapacity základní školy Zastávka za účelem vzdělávání znevýhodněných skupin obyvatel","N13 Projekt ohodnocen, nedosáhl minimální bodové hranice","Obec Zastávka","Obec",null,null,null,null,null,null,null,null,null,null,null,null,null,null,null,null,null,3,null," ",null,null,null,null,null,null,null,null,null,null,null,null,null,null,null,null,null,null,null,null,null,null,null,null,null,null,null,null,null,null,null,null,null,null,null,null,null,null,null,null,null,null,null,null,null,null,null,null,null,null,null,0,0,0,0,0,0,0,0,0,0,null,0,0,0,0,0,0,0,0,0,0,null,"2009-06-18",5619596,0,5619596,84.999997702599998,7.4999998048999998,null,null,null,null,null,7.5000024925000002,null,null,"P1 Zahájena","Ne",{"$error":"#N/A"},"2009-06-18",5619596,0,5619596,84.999997702599998,7.4999998048999998,null,null,null,null,null,7.5000024925000002,null,null,"P1 Zahájena","Ne",{"$error":"#N/A"}]
["01 3.3 - Rozvoj a stabilizace venkovských sídel","11.3.3","11.3","CZ.1.11/3.3.00/01.00298","Zámecký statek Dolní Rožínka, centrum parawesternu","N4 Projekt nesplnil podmínky pro vydání Rozhodnutí / podpis Smlouvy","Jezdecký klub Svobodný statek Blažkov","Veřejná nestátní nezisková organizace",null,null,null,null,null,null,null,null,null,null,null,null,null,null,null,null,null,1,null," ",null,null,null,null,null,null,null,null,null,null,null,null,null,null,null,null,null,null,null,null,null,null,null,null,null,null,null,null,null,null,null,null,null,null,null,null,null,null,null,null,null,null,null,null,null,null,null,null,null,null,null,0,0,0,0,0,0,0,0,0,0,null,0,0,0,0,0,0,0,0,0,0,null,"2008-09-15",2953071,82355.5,2870715.5,78.625002197100002,13.875000387700002,null,null,null,null,null,null,7.4999974152000002,null,"P1 Zahájena","Ne",{"$error":"#N/A"},"2008-09-15",2953071,82355.5,2870715.5,78.625002197100002,13.875000387700002,null,null,null,null,null,null,7.4999974152000002,null,"P1 Zahájena","Ne",{"$error":"#N/A"}]
["01 3.3 - Rozvoj a stabilizace venkovských sídel","11.3.3","11.3","CZ.1.11/3.3.00/01.00303","Komunitní škola Kunštát","N13 Projekt ohodnocen, nedosáhl minimální bodové hranice","MĚSTO KUNŠTÁT","Obec",null,null,null,null,null,null,null,null,null,null,null,null,null,null,null,null,null,3,null," ",null,null,null,null,null,null,null,null,null,null,null,null,null,null,null,null,null,null,null,null,null,null,null,null,null,null,null,null,null,null,null,null,null,null,null,null,null,null,null,null,null,null,null,null,null,null,null,null,null,null,null,0,0,0,0,0,0,0,0,0,0,null,0,0,0,0,0,0,0,0,0,0,null,"2009-03-30",2848768.62,0,2848768.62,84.999998102399999,7.4999998298000001,null,null,null,null,null,7.5000020677999997,null,null,"P1 Zahájena","Ne",{"$error":"#N/A"},"2009-03-30",2848768.62,0,2848768.62,84.999998102399999,7.4999998298000001,null,null,null,null,null,7.5000020677999997,null,null,"P1 Zahájena","Ne",{"$error":"#N/A"}]
["01 3.2 - Rozvoj regionálních středisek","11.3.2","11.3","CZ.1.11/3.2.00/01.00304","Revitalizace veřejných prostranství v centru Bystřice nad Pernštejnem","P7 Výdaje projektu certifikovány","MĚSTO BYSTŘICE NAD PERNŠTEJNEM","Obec",47850622.409999996,4225614.66,4225614.66,0,0,0,0,0,22318387.329999998,0,0,74394624.400000006,0,1761837,76156461.400000006,3595001.88,79751463.280000001,3,"03/00304","P4 Proplacena příjemci","POST","2010-10-25",8379753.6600000001,null,null,null,null,8379753.6600000001,"2010-10-25",null,null,null,null,8379753.6600000001,740003.12,null,null,null,8379753.6600000001,"2010-12-23",8349300.7199999997,30452.94,"CZ.1.11/2010/12","2010-12-17",338466.5,24.758000000000003,"2011-03-24",740003.12,"2010-10-25",737313.87,2689.25,null,null,null,null,null,null,null,null,null,null,null,null,null,3908467.22,null,null,8379753.6600000001,"2010-09-02",14838061,14790715,9513387.8872013018,840112.61278390791,0,0,0,0,0,4437214.5000147903,0,0,47346,30452.947197443315,2689.2528025093379,0,0,0,0,0,14203.800000047346,0,0,10386642.68,"2010-08-31",9207964.1500000004,33142.21,9174821.9399999995,64.319999994599996,5.6800000053000002,null,null,null,null,null,30.000000000099998,null,null,"P2 Ukončena","Ne",{"$error":"#N/A"},"2010-08-31",9207964.1500000004,33142.21,9174821.9399999995,64.319999994599996,5.6800000053000002,null,null,null,null,null,30.000000000099998,null,null,"P2 Ukončena","Ne",{"$error":"#N/A"}]
["01 3.2 - Rozvoj regionálních středisek","11.3.2","11.3","CZ.1.11/3.2.00/01.00309","Sportovní centrum Želva","P8 Projekt finálně uzavřen","Město DUBŇANY","Obec",17912105.670000002,1581790.43,1581790.43,0,0,0,0,0,8354526.9000000004,0,0,27848423,0,0,27848423,0,27848423,2,"02/00309","P4 Proplacena příjemci","POST","2010-10-27",157554.21,null,null,null,null,157554.21,"2010-10-27",null,null,null,null,157554.21,13913.37,null,null,null,157554.21,"2010-12-09",157554.21,null,"CZ.1.11/2010/11","2010-11-30",6363.77,24.758000000000003,"2011-03-24",13913.37,"2010-10-27",13913.37,null,null,null,null,null,null,null,null,null,null,null,null,null,null,73486.11,null,null,157554.21,"2009-08-26",244953.69,244953.69,157554.21337640096,13913.369623599026,0,0,0,0,0,73486.107000000004,0,0,null,0,0,0,0,0,0,0,0,0,0,171467.58,"2010-09-01",0,0,0,64.319999987100005,5.6800000128999999,null,null,null,null,null,30,null,null,"P2 Ukončena","Ne",{"$error":"#N/A"},"2010-09-01",0,0,0,64.319999987100005,5.6800000128999999,null,null,null,null,null,30,null,null,"P2 Ukončena","Ne",{"$error":"#N/A"}]
["01 3.3 - Rozvoj a stabilizace venkovských sídel","11.3.3","11.3","CZ.1.11/3.3.00/01.00320","Revitalizace centra obce Spešov","N13 Projekt ohodnocen, nedosáhl minimální bodové hranice","Obec Spešov","Obec",null,null,null,null,null,null,null,null,null,null,null,null,null,null,null,null,null,2,null," ",null,null,null,null,null,null,null,null,null,null,null,null,null,null,null,null,null,null,null,null,null,null,null,null,null,null,null,null,null,null,null,null,null,null,null,null,null,null,null,null,null,null,null,null,null,null,null,null,null,null,null,0,0,0,0,0,0,0,0,0,0,null,0,0,0,0,0,0,0,0,0,0,null,"2010-03-31",5191447,0,5191447,84.999999668000001,7.4999999762999998,null,null,null,null,null,7.5000003557000001,null,null,"P1 Zahájena","Ne",{"$error":"#N/A"},"2010-03-31",5191447,0,5191447,84.999999668000001,7.4999999762999998,null,null,null,null,null,7.5000003557000001,null,null,"P1 Zahájena","Ne",{"$error":"#N/A"}]
["01 3.2 - Rozvoj regionálních středisek","11.3.2","11.3","CZ.1.11/3.2.00/01.00325","Regionální sportovní a kulturní centrum - I.etapa","N13 Projekt ohodnocen, nedosáhl minimální bodové hranice","MĚSTO TELČ","Obec",null,null,null,null,null,null,null,null,null,null,null,null,null,null,null,null,null,2,null," ",null,null,null,null,null,null,null,null,null,null,null,null,null,null,null,null,null,null,null,null,null,null,null,null,null,null,null,null,null,null,null,null,null,null,null,null,null,null,null,null,null,null,null,null,null,null,null,null,null,null,null,0,0,0,0,0,0,0,0,0,0,null,0,0,0,0,0,0,0,0,0,0,null,"2009-10-26",16583421,0,16583421,64.319999740500009,5.6799999791999998,null,null,null,null,null,30.0000002803,null,null,"P1 Zahájena","Ne",{"$error":"#N/A"},"2009-10-26",16583421,0,16583421,64.319999740500009,5.6799999791999998,null,null,null,null,null,30.0000002803,null,null,"P1 Zahájena","Ne",{"$error":"#N/A"}]
["01 3.3 - Rozvoj a stabilizace venkovských sídel","11.3.3","11.3","CZ.1.11/3.3.00/01.00329","Nástavba a stavební úpravy ZŠ a MŠ Žatčany","N13 Projekt ohodnocen, nedosáhl minimální bodové hranice","Obec Žatčany","Obec",null,null,null,null,null,null,null,null,null,null,null,null,null,null,null,null,null,6,null," ",null,null,null,null,null,null,null,null,null,null,null,null,null,null,null,null,null,null,null,null,null,null,null,null,null,null,null,null,null,null,null,null,null,null,null,null,null,null,null,null,null,null,null,null,null,null,null,null,null,null,null,0,0,0,0,0,0,0,0,0,0,null,0,0,0,0,0,0,0,0,0,0,null,"2011-09-28",1246919,0,1246919,84.999994690400001,7.4999995441000005,null,null,null,null,null,7.5000057655000001,null,null,"P1 Zahájena","Ne",{"$error":"#N/A"},"2011-09-28",1246919,0,1246919,84.999994690400001,7.4999995441000005,null,null,null,null,null,7.5000057655000001,null,null,"P1 Zahájena","Ne",{"$error":"#N/A"}]
["01 3.3 - Rozvoj a stabilizace venkovských sídel","11.3.3","11.3","CZ.1.11/3.3.00/01.00332","Modernizace ZŠ v Bílovicích nad Svitavou za účelem zkvalitnění výuky","P8 Projekt finálně uzavřen","Obec Bílovice nad Svitavou","Obec",2735273.35,241347.65,241347.65,0,0,0,0,0,241348,0,0,3217969,0,0,3217969,0,3217969,1,"01/00332","P4 Proplacena příjemci","POST","2009-05-27",2707958.61,null,null,null,null,2707958.61,"2008-11-28",null,null,null,null,2707958.61,238937.51,null,null,null,2707958.61,"2009-07-20",2632096.12,75862.490000000005,"CZ.1.11/2009/05","2009-07-08",104072.2,26.02,"2009-10-29",238937.51,"2008-11-28",232243.76,6693.75,null,null,null,null,null,null,null,null,null,null,null,null,null,238937.88,null,null,2707958.61,"2008-11-28",3185834,3096584,2632096.1209389465,232243.76632155242,0,0,0,0,0,232244.11273950108,0,0,89250,75862.491956879254,6693.7490293170003,0,0,0,0,0,6693.7590138037503,0,0,2946896.45,"2008-10-30",2976621,82556.240000000005,2894064.76,84.999990988099995,7.4999989124000006,null,null,null,null,null,7.5000100994999999,null,null,"P2 Ukončena","Ne",{"$error":"#N/A"},"2008-10-30",2976621,82556.240000000005,2894064.76,84.999990988099995,7.4999989124000006,null,null,null,null,null,7.5000100994999999,null,null,"P2 Ukončena","Ne",{"$error":"#N/A"}]
["01 3.2 - Rozvoj regionálních středisek","11.3.2","11.3","CZ.1.11/3.2.00/01.00339","Zámek Pacov - regionální kulturní a společenské centrum","N13 Projekt ohodnocen, nedosáhl minimální bodové hranice","Město Pacov","Obec",null,null,null,null,null,null,null,null,null,null,null,null,null,null,null,null,null,4,null," ",null,null,null,null,null,null,null,null,null,null,null,null,null,null,null,null,null,null,null,null,null,null,null,null,null,null,null,null,null,null,null,null,null,null,null,null,null,null,null,null,null,null,null,null,null,null,null,null,null,null,null,0,0,0,0,0,0,0,0,0,0,null,0,0,0,0,0,0,0,0,0,0,null,"2010-03-31",10681557,87721,10593836,64.139894958599996,5.6641043400999997,null,null,null,null,null,30.196000701300001,null,null,"P1 Zahájena","Ne",{"$error":"#N/A"},"2010-03-31",10681557,87721,10593836,64.139894958599996,5.6641043400999997,null,null,null,null,null,30.196000701300001,null,null,"P1 Zahájena","Ne",{"$error":"#N/A"}]
["01 3.3 - Rozvoj a stabilizace venkovských sídel","11.3.3","11.3","CZ.1.11/3.3.00/01.00347","Park volného času v obci Dalečín","P8 Projekt finálně uzavřen","OBEC DALEČÍN","Obec",4958656.05,437528.46,437528.46,0,0,0,0,0,437528.49,0,0,5833713,0,0,5833713,0,5833713,1,"1/00347","P4 Proplacena příjemci","POST","2009-02-13",2027250.74,null,null,null,null,2027250.74,"2008-11-13",null,null,null,null,2027250.74,178875.07,null,null,null,2027250.74,"2009-05-21",2027250.74,null,"CZ.1.11/2009/03","2009-05-13",75955.44,26.69,"2009-10-29",178875.07,"2008-11-13",178875.07,null,null,null,null,null,null,null,null,null,null,null,null,null,null,178875.09,null,null,2027250.74,"2008-11-13",2387917,2387917,2029729.45,179093.77295116722,0,0,0,0,0,179093.7770488328,0,0,null,0,0,0,0,0,0,0,0,0,0,2208823.2200000002,"2008-10-15",2159642.2599999998,0,2159642.2599999998,85,7.4999999142,null,null,null,null,null,7.5000000858,null,null,"P2 Ukončena","Ne",{"$error":"#N/A"},"2008-10-15",2159642.2599999998,0,2159642.2599999998,85,7.4999999142,null,null,null,null,null,7.5000000858,null,null,"P2 Ukončena","Ne",{"$error":"#N/A"}]
["01 3.2 - Rozvoj regionálních středisek","11.3.2","11.3","CZ.1.11/3.2.00/01.00353","Stavební úpravy domova seniorů Břeclav","N13 Projekt ohodnocen, nedosáhl minimální bodové hranice","MĚSTO BŘECLAV","Obec",null,null,null,null,null,null,null,null,null,null,null,null,null,null,null,null,null,1,null," ",null,null,null,null,null,null,null,null,null,null,null,null,null,null,null,null,null,null,null,null,null,null,null,null,null,null,null,null,null,null,null,null,null,null,null,null,null,null,null,null,null,null,null,null,null,null,null,null,null,null,null,0,0,0,0,0,0,0,0,0,0,null,0,0,0,0,0,0,0,0,0,0,null,"2009-04-30",6470701,375941.23,6094759.7699999996,64.319999656600004,5.6799999790999998,null,null,null,null,null,30.0000003643,null,null,"P1 Zahájena","Ne",{"$error":"#N/A"},"2009-04-30",6470701,375941.23,6094759.7699999996,64.319999656600004,5.6799999790999998,null,null,null,null,null,30.0000003643,null,null,"P1 Zahájena","Ne",{"$error":"#N/A"}]
["01 3.3 - Rozvoj a stabilizace venkovských sídel","11.3.3","11.3","CZ.1.11/3.3.00/01.00359","Zkvalitnění podmínek pro výuku ZŠ Košetice","N13 Projekt ohodnocen, nedosáhl minimální bodové hranice","Obec Košetice","Obec",null,null,null,null,null,null,null,null,null,null,null,null,null,null,null,null,null,2,null," ",null,null,null,null,null,null,null,null,null,null,null,null,null,null,null,null,null,null,null,null,null,null,null,null,null,null,null,null,null,null,null,null,null,null,null,null,null,null,null,null,null,null,null,null,null,null,null,null,null,null,null,0,0,0,0,0,0,0,0,0,0,null,0,0,0,0,0,0,0,0,0,0,null,"2009-11-30",3577141.51,0,3577141.51,85.0000000175,7.4999999913000002,null,null,null,null,null,7.4999999912000002,null,null,"P1 Zahájena","Ne",{"$error":"#N/A"},"2009-11-30",3577141.51,0,3577141.51,85.0000000175,7.4999999913000002,null,null,null,null,null,7.4999999912000002,null,null,"P1 Zahájena","Ne",{"$error":"#N/A"}]
["01 3.3 - Rozvoj a stabilizace venkovských sídel","11.3.3","11.3","CZ.1.11/3.3.00/01.00363","Rekonstrukce a regenerace fotbalového hřiště Košetice.","P8 Projekt finálně uzavřen","Obec Košetice","Obec",2917444.17,257421.54,257421.54,0,0,0,0,0,257421.56,0,0,3432287.27,0,0,3432287.27,0,3432287.27,1,"01/00363","P4 Proplacena příjemci","POST","2009-10-09",2892327.04,null,null,null,null,2892327.04,"2009-10-08",null,null,null,null,2892327.04,255205.32,null,null,null,2892327.04,"2009-11-10",2892327.04,null,"CZ.1.11/2009/09","2009-10-30",109165.01,26.495000000000001,"2010-04-23",255205.32,"2009-10-08",255205.32,null,null,null,null,null,null,null,null,null,null,null,null,null,null,255205.34,null,null,2892327.04,"2009-08-27",3402737.7,3402737.7,2892327.0406717178,255205.32711889339,0,0,0,0,0,255205.33220938899,0,0,null,0,0,0,0,0,0,0,0,0,0,3147532.36,"2009-08-30",3147532.36,0,3147532.36,84.999999872799989,7.4999999888,null,null,null,null,null,7.5000001383999999,null,null,"P2 Ukončena","Ne",{"$error":"#N/A"},"2009-08-30",3147532.36,0,3147532.36,84.999999872799989,7.4999999888,null,null,null,null,null,7.5000001383999999,null,null,"P2 Ukončena","Ne",{"$error":"#N/A"}]
["01 3.2 - Rozvoj regionálních středisek","11.3.2","11.3","CZ.1.11/3.2.00/01.00371","Regionální sportovní centrum mládeže","N13 Projekt ohodnocen, nedosáhl minimální bodové hranice","Tělocvičná jednota Sokol Hodonín","Neveřejná nestátní nezisková organizace",null,null,null,null,null,null,null,null,null,null,null,null,null,null,null,null,null,2,null," ",null,null,null,null,null,null,null,null,null,null,null,null,null,null,null,null,null,null,null,null,null,null,null,null,null,null,null,null,null,null,null,null,null,null,null,null,null,null,null,null,null,null,null,null,null,null,null,null,null,null,null,0,0,0,0,0,0,0,0,0,0,null,0,0,0,0,0,0,0,0,0,0,null,"2009-01-15",5802995,0,5802995,76.485207722200002,6.7514882270000003,null,6.7514882269000003,null,null,null,null,null,10.011815823899999,"P1 Zahájena","Ne",{"$error":"#N/A"},"2009-01-15",5802995,0,5802995,76.485207722200002,6.7514882270000003,null,6.7514882269000003,null,null,null,null,null,10.011815823899999,"P1 Zahájena","Ne",{"$error":"#N/A"}]
["01 3.2 - Rozvoj regionálních středisek","11.3.2","11.3","CZ.1.11/3.2.00/01.00378","Zámek Břeclav - revitalizace nemovité kulturní památky","N11 Projektová žádost nesplnila podmínky přijatelnosti","MĚSTO BŘECLAV","Obec",null,null,null,null,null,null,null,null,null,null,null,null,null,null,null,null,null,2,null," ",null,null,null,null,null,null,null,null,null,null,null,null,null,null,null,null,null,null,null,null,null,null,null,null,null,null,null,null,null,null,null,null,null,null,null,null,null,null,null,null,null,null,null,null,null,null,null,null,null,null,null,0,0,0,0,0,0,0,0,0,0,null,0,0,0,0,0,0,0,0,0,0,null,"2009-05-12",17229297,0,17229297,57.630407980000001,5.0895919995999996,null,null,null,null,null,37.280000020400003,null,null,"P1 Zahájena","Ne",{"$error":"#N/A"},"2009-05-12",17229297,0,17229297,57.630407980000001,5.0895919995999996,null,null,null,null,null,37.280000020400003,null,null,"P1 Zahájena","Ne",{"$error":"#N/A"}]
["01 3.3 - Rozvoj a stabilizace venkovských sídel","11.3.3","11.3","CZ.1.11/3.3.00/01.00383","Moderní škola v Moravské Nové Vsi","N13 Projekt ohodnocen, nedosáhl minimální bodové hranice","Městys Moravská Nová Ves","Obec",null,null,null,null,null,null,null,null,null,null,null,null,null,null,null,null,null,2,null," ",null,null,null,null,null,null,null,null,null,null,null,null,null,null,null,null,null,null,null,null,null,null,null,null,null,null,null,null,null,null,null,null,null,null,null,null,null,null,null,null,null,null,null,null,null,null,null,null,null,null,null,0,0,0,0,0,0,0,0,0,0,null,0,0,0,0,0,0,0,0,0,0,null,"2009-03-01",7901138,0,7901138,84.999998897099999,7.4999998877000005,null,null,null,null,null,7.5000012152000002,null,null,"P1 Zahájena","Ne",{"$error":"#N/A"},"2009-03-01",7901138,0,7901138,84.999998897099999,7.4999998877000005,null,null,null,null,null,7.5000012152000002,null,null,"P1 Zahájena","Ne",{"$error":"#N/A"}]
["01 3.3 - Rozvoj a stabilizace venkovských sídel","11.3.3","11.3","CZ.1.11/3.3.00/01.00388","Nástavba mateřské školy na budově základní školy v Bohdalově a modernizace sportovního areálu","N4 Projekt nesplnil podmínky pro vydání Rozhodnutí / podpis Smlouvy","Městys Bohdalov","Obec",null,null,null,null,null,null,null,null,null,null,null,null,null,null,null,null,null,3,null," ",null,null,null,null,null,null,null,null,null,null,null,null,null,null,null,null,null,null,null,null,null,null,null,null,null,null,null,null,null,null,null,null,null,null,null,null,null,null,null,null,null,null,null,null,null,null,null,null,null,null,null,0,0,0,0,0,0,0,0,0,0,null,0,0,0,0,0,0,0,0,0,0,null,"2009-03-28",2500000,50424,2449576,77.224774241600002,6.8137764284000006,null,null,null,null,null,15.961449330000001,null,null,"P1 Zahájena","Ne",{"$error":"#N/A"},"2009-03-28",2500000,50424,2449576,77.224774241600002,6.8137764284000006,null,null,null,null,null,15.961449330000001,null,null,"P1 Zahájena","Ne",{"$error":"#N/A"}]
["01 3.3 - Rozvoj a stabilizace venkovských sídel","11.3.3","11.3","CZ.1.11/3.3.00/01.00389","První stupeň základní školy Okrouhlice","N13 Projekt ohodnocen, nedosáhl minimální bodové hranice","OBEC OKROUHLICE","Obec",null,null,null,null,null,null,null,null,null,null,null,null,null,null,null,null,null,2,null," ",null,null,null,null,null,null,null,null,null,null,null,null,null,null,null,null,null,null,null,null,null,null,null,null,null,null,null,null,null,null,null,null,null,null,null,null,null,null,null,null,null,null,null,null,null,null,null,null,null,null,null,0,0,0,0,0,0,0,0,0,0,null,0,0,0,0,0,0,0,0,0,0,null,"2009-07-31",4800000,15000,4785000,85,7.5,null,null,null,null,null,7.5,null,null,"P1 Zahájena","Ne",{"$error":"#N/A"},"2009-07-31",4800000,15000,4785000,85,7.5,null,null,null,null,null,7.5,null,null,"P1 Zahájena","Ne",{"$error":"#N/A"}]
["01 3.3 - Rozvoj a stabilizace venkovských sídel","11.3.3","11.3","CZ.1.11/3.3.00/01.00394","Výstavba víceúčelové budovy pro veřejné služby","N13 Projekt ohodnocen, nedosáhl minimální bodové hranice","Obec Viničné Šumice","Obec",null,null,null,null,null,null,null,null,null,null,null,null,null,null,null,null,null,2,null," ",null,null,null,null,null,null,null,null,null,null,null,null,null,null,null,null,null,null,null,null,null,null,null,null,null,null,null,null,null,null,null,null,null,null,null,null,null,null,null,null,null,null,null,null,null,null,null,null,null,null,null,0,0,0,0,0,0,0,0,0,0,null,0,0,0,0,0,0,0,0,0,0,null,"2009-04-17",10138925,0,10138925,85,7.5,null,null,null,null,null,7.5,null,null,"P1 Zahájena","Ne",{"$error":"#N/A"},"2009-04-17",10138925,0,10138925,85,7.5,null,null,null,null,null,7.5,null,null,"P1 Zahájena","Ne",{"$error":"#N/A"}]
["01 3.3 - Rozvoj a stabilizace venkovských sídel","11.3.3","11.3","CZ.1.11/3.3.00/01.00400","ZŠ Rousínov - nová školní tělocvična - II. etapa","N13 Projekt ohodnocen, nedosáhl minimální bodové hranice","Město Rousínov","Obec",null,null,null,null,null,null,null,null,null,null,null,null,null,null,null,null,null,1,null," ",null,null,null,null,null,null,null,null,null,null,null,null,null,null,null,null,null,null,null,null,null,null,null,null,null,null,null,null,null,null,null,null,null,null,null,null,null,null,null,null,null,null,null,null,null,null,null,null,null,null,null,0,0,0,0,0,0,0,0,0,0,null,0,0,0,0,0,0,0,0,0,0,null,"2009-01-09",2108210,191500,1916710,84.999998262799991,7.4999998929,null,null,null,null,null,7.5000018442999998,null,null,"P1 Zahájena","Ne",{"$error":"#N/A"},"2009-01-09",2108210,191500,1916710,84.999998262799991,7.4999998929,null,null,null,null,null,7.5000018442999998,null,null,"P1 Zahájena","Ne",{"$error":"#N/A"}]
["01 První výzva - silnice","11.1.1","11.1","CZ.1.11/1.1.00/01.00408","III/41619 Hrušovany u Brna obchvat","P8 Projekt finálně uzavřen","Správa a údržba silnic Jihomoravského kraje, příspěvková organizace kraje","Organizace zřízena krajem",83983965.519999996,7410349.9000000004,7410349.9000000004,0,0,0,0,7410349.9000000004,0,0,0,98804665.319999993,0,0,98804665.319999993,2980029,101784694.31999999,4,"04/00408","P4 Proplacena příjemci","POST","2011-02-22",3756380.62,null,null,null,null,3756380.62,"2011-02-22",null,null,null,null,3756380.62,331445.34999999998,null,null,null,3756380.62,"2011-03-10",3756380.62,null,"CZ.1.11/2011/02","2011-03-03",153453.19,24.479000000000003,"2011-07-28",331445.34999999998,"2011-02-22",331445.34999999998,null,null,null,null,null,null,null,null,null,null,null,null,null,331445.34999999998,null,null,null,3756380.62,"2010-06-30",4419271.32,4419271.32,3756380.6219116147,331445.3490441927,0,0,0,0,331445.3490441927,0,0,0,null,0,0,0,0,0,0,0,0,0,0,4087825.97,"2011-02-16",4087826,0,4087826,84.999999997999993,7.5000000010000001,null,null,null,null,7.5000000010000001,null,null,null,"P2 Ukončena","Ne",{"$error":"#N/A"},"2011-02-16",4087826,0,4087826,84.999999997999993,7.5000000010000001,null,null,null,null,7.5000000010000001,null,null,null,"P2 Ukončena","Ne",{"$error":"#N/A"}]
["02 Dostupnost dopravy, Rozvoj udržitelného cestovního ruchu (1.2, 1.3, 1.4, 2.1) ","11.2.1","11.2","CZ.1.11/2.1.00/02.00412","Do penzionu Havírna za odpočinkem","N8 Rozhodnutí/Smlouva ukončena ze strany ŘO/ZS","Olga Míková","Soukromá firma_MSP",3969467.07,700494.19,350247.09,350247.1,0,350247.1,0,0,0,0,3259746.74,7929708,0,0,7929708,626000,8555708,2,null," ",null,null,null,null,null,null,null,null,null,null,null,null,null,null,null,null,null,null,null,null,null,null,null,null,null,null,null,null,null,null,null,null,null,null,null,null,null,null,null,null,null,null,null,null,null,null,null,null,null,null,null,0,0,0,0,0,0,0,0,0,0,null,0,0,0,0,0,0,0,0,0,0,null,"2009-11-30",1236940,0,1236940,50.058174612800002,4.4168977600000003,null,4.4168977599000003,null,null,null,null,null,41.108029867299997,"P1 Zahájena","Ne",{"$error":"#N/A"},"2009-11-30",1236940,0,1236940,50.058174612800002,4.4168977600000003,null,4.4168977599000003,null,null,null,null,null,41.108029867299997,"P1 Zahájena","Ne",{"$error":"#N/A"}]
["02 Dostupnost dopravy, Rozvoj udržitelného cestovního ruchu (1.2, 1.3, 1.4, 2.1) ","11.2.1","11.2","CZ.1.11/2.1.00/02.00416","Cukrářská zážitková turistika ve Velké Bíteši","N11 Projektová žádost nesplnila podmínky přijatelnosti","Marie Zdubová","Soukromá firma_MSP",null,null,null,null,null,null,null,null,null,null,null,null,null,null,null,null,null,2,null," ",null,null,null,null,null,null,null,null,null,null,null,null,null,null,null,null,null,null,null,null,null,null,null,null,null,null,null,null,null,null,null,null,null,null,null,null,null,null,null,null,null,null,null,null,null,null,null,null,null,null,null,0,0,0,0,0,0,0,0,0,0,null,0,0,0,0,0,0,0,0,0,0,null,"2009-07-31",1600000,0,1600000,50.999997923900004,4.4999998377999999,4.4999998376999999,null,null,null,null,null,null,40.000002400600003,"P1 Zahájena","Ne",{"$error":"#N/A"},"2009-07-31",1600000,0,1600000,50.999997923900004,4.4999998377999999,4.4999998376999999,null,null,null,null,null,null,40.000002400600003,"P1 Zahájena","Ne",{"$error":"#N/A"}]
["02 Dostupnost dopravy, Rozvoj udržitelného cestovního ruchu (1.2, 1.3, 1.4, 2.1) ","11.2.1","11.2","CZ.1.11/2.1.00/02.00418","GOLF BRNO - kongresový sál a wellness","P8 Projekt finálně uzavřen","GOLF BRNO a.s.","Soukromá firma_MSP",40393041.420000002,7128183.7800000003,3564091.89,3564091.89,0,3564091.89,0,0,0,0,31680816.800000001,79202042,0,0,79202042,15250688,94452730,1,"1/00418","P4 Proplacena příjemci","POST","2009-07-14",4517239.83,null,null,null,null,4517239.83,"2009-01-30",null,null,null,null,4517239.83,398579.98,null,398579.99,null,4517239.83,"2009-08-06",4517239.83,null,"CZ.1.11/2009/06","2009-07-30",176585.74,25.581,"2010-07-23",398579.98,"2009-01-30",398579.98,null,null,null,null,null,398579.99,"2009-01-30",398579.99,null,null,null,null,null,null,null,null,3542933.2,4517239.83,"2009-01-30",8857333,8857333,4517239.83,398579.98499999999,0,398579.98499999999,0,0,0,0,0,3542933.2,null,0,0,0,0,0,0,0,0,0,0,5314399.8,"2009-01-30",5314399,0,5314399,51,4.5,null,4.5,null,null,null,null,null,40,"P2 Ukončena","Ne",{"$error":"#N/A"},"2009-01-30",5314399,0,5314399,51,4.5,null,4.5,null,null,null,null,null,40,"P2 Ukončena","Ne",{"$error":"#N/A"}]
["02 Dostupnost dopravy, Rozvoj udržitelného cestovního ruchu (1.2, 1.3, 1.4, 2.1) ","11.2.1","11.2","CZ.1.11/2.1.00/02.00427","Hotel VINOPA","P7 Výdaje projektu certifikovány","Karel Hurta","Soukromá firma_MSP",11414392.439999999,2014304.57,1007152.27,1007152.3,0,1007152.3,0,0,0,0,8952464.9900000002,22381162,0,0,22381162,4252420,26633582,1,"01/00427","P4 Proplacena příjemci","POST","2009-11-19",2075436.49,null,null,null,null,2075436.49,"2009-01-28",null,null,null,null,2075436.49,183126.74,null,183126.76,null,2075436.49,"2009-12-21",2075436.49,null,"CZ.1.11/2009/11","2009-12-08",79257.48,26.186,"2010-04-23",183126.74,"2009-01-28",183126.74,null,null,null,null,null,183126.76,"2009-01-28",183126.76,null,null,null,null,null,null,null,null,1627793.39,2075436.49,"2009-01-28",5184245,5184245,2643964.9106204752,233291.02152655585,0,233291.02152655585,0,0,0,0,0,2073698.0463264133,null,0,0,0,0,0,0,0,0,0,0,3110547,"2009-01-31",3110547,0,3110547,50.999999240400001,4.4999999329999998,null,4.4999999329999998,null,null,null,null,null,40.000000893600003,"P2 Ukončena","Ne",{"$error":"#N/A"},"2009-01-31",3110547,0,3110547,50.999999240400001,4.4999999329999998,null,4.4999999329999998,null,null,null,null,null,40.000000893600003,"P2 Ukončena","Ne",{"$error":"#N/A"}]
["02 2.2 -Služby pro cestovní ruch","11.2.2","11.2","CZ.1.11/2.2.00/02.00428","Destinační management cestovního ruchu ve znojemském regionu","N13 Projekt ohodnocen, nedosáhl minimální bodové hranice","Znojemský regionální rozvoj, o.p.s.","Organizace zřízena obcí",null,null,null,null,null,null,null,null,null,null,null,null,null,null,null,null,null,7,null," ",null,null,null,null,null,null,null,null,null,null,null,null,null,null,null,null,null,null,null,null,null,null,null,null,null,null,null,null,null,null,null,null,null,null,null,null,null,null,null,null,null,null,null,null,null,null,null,null,null,null,null,0,0,0,0,0,0,0,0,0,0,null,0,0,0,0,0,0,0,0,0,0,null,"2010-11-30",331825,331825,0,85,7.5,null,null,null,null,null,7.5,null,null,"P1 Zahájena","Ne",{"$error":"#N/A"},"2010-11-30",331825,331825,0,85,7.5,null,null,null,null,null,7.5,null,null,"P1 Zahájena","Ne",{"$error":"#N/A"}]
["02 Dostupnost dopravy, Rozvoj udržitelného cestovního ruchu (1.2, 1.3, 1.4, 2.1) ","11.2.1","11.2","CZ.1.11/2.1.00/02.00435","Penzion a rybářská bašta V Údolíčku","N5 Projektová žádost stažena žadatelem/ukončena ŘO/ZS","Luboš Solnař","Soukromá firma_MSP",null,null,null,null,null,null,null,null,null,null,null,null,null,null,null,null,null,5,null," ",null,null,null,null,null,null,null,null,null,null,null,null,null,null,null,null,null,null,null,null,null,null,null,null,null,null,null,null,null,null,null,null,null,null,null,null,null,null,null,null,null,null,null,null,null,null,null,null,null,null,null,0,0,0,0,0,0,0,0,0,0,null,0,0,0,0,0,0,0,0,0,0,null,"2011-07-30",2072000,0,2072000,51,4.5,4.5,null,null,null,null,null,null,40,"P1 Zahájena","Ne",{"$error":"#N/A"},"2011-07-30",2072000,0,2072000,51,4.5,4.5,null,null,null,null,null,null,40,"P1 Zahájena","Ne",{"$error":"#N/A"}]
["02 Dostupnost dopravy, Rozvoj udržitelného cestovního ruchu (1.2, 1.3, 1.4, 2.1) ","11.2.1","11.2","CZ.1.11/2.1.00/02.00442","Modernizace hotelu Amphone","N13 Projekt ohodnocen, nedosáhl minimální bodové hranice","AMPHONE,spol. s r.o.","Soukromá firma_MSP",null,null,null,null,null,null,null,null,null,null,null,null,null,null,null,null,null,2,null," ",null,null,null,null,null,null,null,null,null,null,null,null,null,null,null,null,null,null,null,null,null,null,null,null,null,null,null,null,null,null,null,null,null,null,null,null,null,null,null,null,null,null,null,null,null,null,null,null,null,null,null,0,0,0,0,0,0,0,0,0,0,null,0,0,0,0,0,0,0,0,0,0,null,"2010-11-30",1982160,0,1982160,51,4.5,null,4.5,null,null,null,null,null,40,"P1 Zahájena","Ne",{"$error":"#N/A"},"2010-11-30",1982160,0,1982160,51,4.5,null,4.5,null,null,null,null,null,40,"P1 Zahájena","Ne",{"$error":"#N/A"}]
["02 Dostupnost dopravy, Rozvoj udržitelného cestovního ruchu (1.2, 1.3, 1.4, 2.1) ","11.2.1","11.2","CZ.1.11/2.1.00/02.00448","Revitalizace zámeckého pivovaru - Knoflíkářské muzeum","P7 Výdaje projektu certifikovány","Město Žirovnice","Obec",35375926.340000004,3121273.66,3121273.66,0,0,0,0,0,10031945,0,0,48529145,0,0,48529145,5000,48534145,6,"06/00448","P4 Proplacena příjemci","POST","2011-06-15",3434653.21,null,null,null,null,3434653.21,"2011-06-15",null,null,null,null,3434653.21,303044.86,null,null,null,3434653.21,"2011-08-08",3434653.21,null,"CZ.1.11/2011/07","2011-07-28",141839.9,24.215,"2011-11-23",303044.86,"2011-06-15",303044.86,null,null,null,null,null,null,null,null,null,null,null,null,null,null,974002.83,null,null,3434653.21,"2011-03-24",5641844.3499999996,5641844.3499999996,4112692.902183325,362869.36694376974,0,0,0,0,0,1166282.0808729054,0,0,0,0,0,0,0,0,0,0,0,0,0,4475562.26,"2011-03-01",4475562.26,0,4475562.26,72.896248940000007,6.4317507615,null,null,null,null,null,20.672000298500002,null,null,"P2 Ukončena","Ne",{"$error":"#N/A"},"2011-03-01",4475562.26,0,4475562.26,72.896248940000007,6.4317507615,null,null,null,null,null,20.672000298500002,null,null,"P2 Ukončena","Ne",{"$error":"#N/A"}]
["02 Dostupnost dopravy, Rozvoj udržitelného cestovního ruchu (1.2, 1.3, 1.4, 2.1) ","11.2.1","11.2","CZ.1.11/2.1.00/02.00448","Revitalizace zámeckého pivovaru - Knoflíkářské muzeum","P7 Výdaje projektu certifikovány","Město Žirovnice","Obec",35375926.340000004,3121273.66,3121273.66,0,0,0,0,0,10031945,0,0,48529145,0,0,48529145,5000,48534145,7,"07/00448","P4 Proplacena příjemci","POST","2011-12-19",1012317.06,null,null,null,null,1012317.06,"2011-12-19",null,null,null,null,1012317.06,89318.32,null,null,null,1012317.06,"2012-01-10",1012317.06,null,"CZ.1.11/2011/12","2011-12-30",39070.519999999997,25.91,"2012-07-25",89318.32,"2011-12-19",89318.32,null,null,null,null,null,null,null,null,null,null,null,null,null,null,287074.02,null,null,1012317.06,"2011-12-02",1532504,1532504,1117137.9308554577,98566.837690017957,0,0,0,0,0,316799.23145452444,0,0,0,0,0,0,0,0,0,0,0,0,0,1215704.76,"2011-10-31",1229190.48,0,1229190.48,72.896248940000007,6.4317507615,null,null,null,null,null,20.672000298500002,null,null,"P2 Ukončena","Ne",{"$error":"#N/A"},"2011-10-31",1229190.48,0,1229190.48,72.896248940000007,6.4317507615,null,null,null,null,null,20.672000298500002,null,null,"P2 Ukončena","Ne",{"$error":"#N/A"}]
["02 Dostupnost dopravy, Rozvoj udržitelného cestovního ruchu (1.2, 1.3, 1.4, 2.1) ","11.2.1","11.2","CZ.1.11/2.1.00/02.00455","Výstavba multifunkčního ubytovacího komplexu","P7 Výdaje projektu certifikovány","Petr Skoupil","Soukromá firma_MSP",15264696.09,2693769.91,1346884.95,1346884.96,0,1346884.96,0,0,0,0,11972311,29930777,0,0,29930777,18962866.300000001,48893643.299999997,2,"02/00455","P4 Proplacena příjemci","POST","2010-11-26",10989863.130000001,null,null,null,null,10989863.130000001,"2010-11-26",null,null,null,null,10989863.130000001,969693.8,null,969693.82,null,10989863.130000001,"2011-02-02",10989863.130000001,null,"CZ.1.11/2011/01","2011-01-20",435414.55,25.24,"2011-03-24",969693.8,"2010-12-23",969693.8,null,null,null,null,null,969693.82,"2010-11-26",969693.82,null,null,null,null,null,null,null,null,8619500.7400000002,10989863.130000001,"2010-10-15",21865544.68,21865544.68,11151427.662603706,983949.49964536214,0,983949.49964536214,0,0,0,0,0,8746218.0181055702,null,0,0,0,0,0,0,0,0,0,0,13119326.66,"2010-10-31",13216109.460000001,0,13216109.460000001,50.999999432000003,4.4999999499000003,null,4.4999999499000003,null,null,null,null,null,40.000000668200002,"P2 Ukončena","Ne",{"$error":"#N/A"},"2010-10-31",13216109.460000001,0,13216109.460000001,50.999999432000003,4.4999999499000003,null,4.4999999499000003,null,null,null,null,null,40.000000668200002,"P2 Ukončena","Ne",{"$error":"#N/A"}]
["02 2.2 -Služby pro cestovní ruch","11.2.2","11.2","CZ.1.11/2.2.00/02.00466","Brno - město budoucnosti - Informační a propagační materiály města Brna","P8 Projekt finálně uzavřen","Statutární město Brno","Obec",1568250,138375,138375,0,0,0,0,0,138375,0,0,1845000,0,0,1845000,0,1845000,1,"01/00466","P4 Proplacena příjemci","POST","2010-03-31",1524082.38,null,null,null,null,1524082.38,"2010-03-30",null,null,null,null,1524082.38,134477.85999999999,null,null,null,1524082.38,"2010-08-16",null,1524082.38,"CZ.1.11/2010/04","2010-04-30",59674.33,25.54,"2010-07-23",134477.85999999999,"2010-03-30",null,134477.85999999999,null,null,null,null,null,null,null,null,null,null,null,null,null,134477.85999999999,null,null,1524082.38,"2009-10-27",1842745,null,0,0,0,0,0,0,0,0,0,0,1842745,1566333.25,138205.875,0,0,0,0,0,138205.875,0,0,1704539.12,"2009-10-27",1704539.12,1704539.12,0,85,7.5,null,null,null,null,null,7.5,null,null,"P2 Ukončena","Ne",{"$error":"#N/A"},"2009-10-27",1704539.12,1704539.12,0,85,7.5,null,null,null,null,null,7.5,null,null,"P2 Ukončena","Ne",{"$error":"#N/A"}]
["02 2.2 -Služby pro cestovní ruch","11.2.2","11.2","CZ.1.11/2.2.00/02.00475","Návštěvnické služby objektů architektonického dědictví na Boskovicku","N11 Projektová žádost nesplnila podmínky přijatelnosti","MUZEUM BOSKOVICKA","Organizace zřízena obcí",null,null,null,null,null,null,null,null,null,null,null,null,null,null,null,null,null,1,null," ",null,null,null,null,null,null,null,null,null,null,null,null,null,null,null,null,null,null,null,null,null,null,null,null,null,null,null,null,null,null,null,null,null,null,null,null,null,null,null,null,null,null,null,null,null,null,null,null,null,null,null,0,0,0,0,0,0,0,0,0,0,null,0,0,0,0,0,0,0,0,0,0,null,"2009-05-31",346505,346505,0,85,7.5,null,null,null,null,null,7.5,null,null,"P1 Zahájena","Ne",{"$error":"#N/A"},"2009-05-31",346505,346505,0,85,7.5,null,null,null,null,null,7.5,null,null,"P1 Zahájena","Ne",{"$error":"#N/A"}]
["02 Dostupnost dopravy, Rozvoj udržitelného cestovního ruchu (1.2, 1.3, 1.4, 2.1) ","11.2.1","11.2","CZ.1.11/2.1.00/02.00480","Vybudování stylového konferenčního centra ta fabrika v Humpolci","N5 Projektová žádost stažena žadatelem/ukončena ŘO/ZS","ta fabrika, s.r.o.","Soukromá firma_MSP",null,null,null,null,null,null,null,null,null,null,null,null,null,null,null,null,null,1,null," ",null,null,null,null,null,null,null,null,null,null,null,null,null,null,null,null,null,null,null,null,null,null,null,null,null,null,null,null,null,null,null,null,null,null,null,null,null,null,null,null,null,null,null,null,null,null,null,null,null,null,null,0,0,0,0,0,0,0,0,0,0,null,0,0,0,0,0,0,0,0,0,0,null,"2009-11-30",16586992,0,16586992,34.136919849400002,3.0120811632000004,3.0120811631000004,null,null,null,null,null,null,59.838917824299998,"P1 Zahájena","Ne",{"$error":"#N/A"},"2009-11-30",16586992,0,16586992,34.136919849400002,3.0120811632000004,3.0120811631000004,null,null,null,null,null,null,59.838917824299998,"P1 Zahájena","Ne",{"$error":"#N/A"}]
["02 2.2 -Služby pro cestovní ruch","11.2.2","11.2","CZ.1.11/2.2.00/02.00485","Vítejte na Vysočině","P8 Projekt finálně uzavřen","Kraj Vysočina","Kraj",5724750,505125,505125,0,0,0,0,505125,0,0,0,6735000,0,0,6735000,0,6735000,1,"01/00485","P4 Proplacena příjemci","POST","2009-11-06",3081829.87,null,null,null,null,3081829.87,"2009-11-04",null,null,null,null,3081829.87,271926.15999999997,null,null,null,3081829.87,"2009-12-21",380759.2,2701070.67,"CZ.1.11/2009/11","2009-12-08",117689.98,26.186,"2010-04-23",271926.15999999997,"2009-11-04",33596.400000000001,238329.76,null,null,null,null,null,null,null,null,null,null,null,null,271926.17,null,null,null,3081829.87,"2009-08-17",3625682.2,447952,380759.2,33596.400000000001,0,0,0,0,33596.400000000001,0,0,0,3177730.2,2701070.67,238329.76500000001,0,0,0,0,238329.76500000001,0,0,0,3353756,"2009-07-31",3353756,2939400,414356,85,7.5,null,null,null,null,7.5,null,null,null,"P2 Ukončena","Ne",{"$error":"#N/A"},"2009-07-31",3353756,2939400,414356,85,7.5,null,null,null,null,7.5,null,null,null,"P2 Ukončena","Ne",{"$error":"#N/A"}]
["02 2.2 -Služby pro cestovní ruch","11.2.2","11.2","CZ.1.11/2.2.00/02.00485","Vítejte na Vysočině","P8 Projekt finálně uzavřen","Kraj Vysočina","Kraj",5724750,505125,505125,0,0,0,0,505125,0,0,0,6735000,0,0,6735000,0,6735000,2,"02/00485","P4 Proplacena příjemci","POST","2010-04-06",250524.75,null,null,null,null,250524.75,"2010-04-06",null,null,null,null,250524.75,22105.119999999999,null,null,null,250524.75,"2010-08-16",null,250524.75,"CZ.1.11/2010/04","2010-04-30",9809.11,25.54,"2010-07-23",22105.119999999999,"2010-04-06",null,22105.119999999999,null,null,null,null,null,null,null,null,null,null,null,null,22105.13,null,null,null,250524.75,"2010-01-26",294735,null,0,0,0,0,0,0,0,0,0,0,294735,250524.75,22105.125,0,0,0,0,22105.125,0,0,0,272629.88,"2009-12-31",272629.88,272629.88,0,85,7.5,null,null,null,null,7.5,null,null,null,"P2 Ukončena","Ne",{"$error":"#N/A"},"2009-12-31",272629.88,272629.88,0,85,7.5,null,null,null,null,7.5,null,null,null,"P2 Ukončena","Ne",{"$error":"#N/A"}]
["02 Dostupnost dopravy, Rozvoj udržitelného cestovního ruchu (1.2, 1.3, 1.4, 2.1) ","11.2.1","11.2","CZ.1.11/2.1.00/02.00492","Penzion Třešť","P8 Projekt finálně uzavřen","Ing. Ivan Křen","Soukromá firma_MSP",9194713.5,1622596.5,811298.25,811298.25,811298.25,0,0,0,0,0,7211540,18028850,0,0,18028850,3912443.6,21941293.600000001,3,"03/00492","P4 Proplacena příjemci","POST","2010-02-10",2614387.85,null,null,null,null,2614387.85,"2010-02-10",null,null,null,null,2614387.85,230681.28,230681.29,null,null,2614387.85,"2010-06-02",2614387.85,null,"CZ.1.11/2010/03","2010-04-02",102754.7,25.443000000000001,"2010-07-23",230681.28,"2010-02-10",230681.28,null,230681.29,"2010-02-10",230681.29,null,null,null,null,null,null,null,null,null,null,null,null,2050500.28,2614387.85,"2009-12-15",5126250.7,5126250.7,2614387.8569999998,230681.28150000001,230681.28150000001,0,0,0,0,0,0,2050500.28,null,0,0,0,0,0,0,0,0,0,0,3075750.42,"2009-11-19",3075750.42,0,3075750.42,51,4.5,4.5,null,null,null,null,null,null,40,"P2 Ukončena","Ne",{"$error":"#N/A"},"2009-11-19",3075750.42,0,3075750.42,51,4.5,4.5,null,null,null,null,null,null,40,"P2 Ukončena","Ne",{"$error":"#N/A"}]
["02 Dostupnost dopravy, Rozvoj udržitelného cestovního ruchu (1.2, 1.3, 1.4, 2.1) ","11.2.1","11.2","CZ.1.11/2.1.00/02.00497","Sportovně rekreační areál Těchobuz","N13 Projekt ohodnocen, nedosáhl minimální bodové hranice","Miroslav Kozák","Soukromá firma_MSP",null,null,null,null,null,null,null,null,null,null,null,null,null,null,null,null,null,2,null," ",null,null,null,null,null,null,null,null,null,null,null,null,null,null,null,null,null,null,null,null,null,null,null,null,null,null,null,null,null,null,null,null,null,null,null,null,null,null,null,null,null,null,null,null,null,null,null,null,null,null,null,0,0,0,0,0,0,0,0,0,0,null,0,0,0,0,0,0,0,0,0,0,null,"2010-04-30",1458700,0,1458700,50.999996782899998,4.4999997162000005,4.4999997161000005,null,null,null,null,null,null,40.000003784800001,"P1 Zahájena","Ne",{"$error":"#N/A"},"2010-04-30",1458700,0,1458700,50.999996782899998,4.4999997162000005,4.4999997161000005,null,null,null,null,null,null,40.000003784800001,"P1 Zahájena","Ne",{"$error":"#N/A"}]
["02 Dostupnost dopravy, Rozvoj udržitelného cestovního ruchu (1.2, 1.3, 1.4, 2.1) ","11.2.1","11.2","CZ.1.11/2.1.00/02.00503","Hotel Horní Dvůr","N13 Projekt ohodnocen, nedosáhl minimální bodové hranice","Ing. Radomír Daňhel","Soukromá firma_MSP",null,null,null,null,null,null,null,null,null,null,null,null,null,null,null,null,null,7,null," ",null,null,null,null,null,null,null,null,null,null,null,null,null,null,null,null,null,null,null,null,null,null,null,null,null,null,null,null,null,null,null,null,null,null,null,null,null,null,null,null,null,null,null,null,null,null,null,null,null,null,null,0,0,0,0,0,0,0,0,0,0,null,0,0,0,0,0,0,0,0,0,0,null,"2011-04-29",1796762,0,1796762,50.999997706900004,4.4999997977000001,4.4999997976000001,null,null,null,null,null,null,40.000002697799999,"P1 Zahájena","Ne",{"$error":"#N/A"},"2011-04-29",1796762,0,1796762,50.999997706900004,4.4999997977000001,4.4999997976000001,null,null,null,null,null,null,40.000002697799999,"P1 Zahájena","Ne",{"$error":"#N/A"}]
["02 Dostupnost dopravy, Rozvoj udržitelného cestovního ruchu (1.2, 1.3, 1.4, 2.1) ","11.2.1","11.2","CZ.1.11/2.1.00/02.00508","Hotel Vranovská rychta","N13 Projekt ohodnocen, nedosáhl minimální bodové hranice","ARTEL, spol. s r.o.","Soukromá firma_MSP",null,null,null,null,null,null,null,null,null,null,null,null,null,null,null,null,null,9,null," ",null,null,null,null,null,null,null,null,null,null,null,null,null,null,null,null,null,null,null,null,null,null,null,null,null,null,null,null,null,null,null,null,null,null,null,null,null,null,null,null,null,null,null,null,null,null,null,null,null,null,null,0,0,0,0,0,0,0,0,0,0,null,0,0,0,0,0,0,0,0,0,0,null,"2011-01-31",4074640,0,4074640,50.999998417600004,4.4999998604,null,4.4999998603,null,null,null,null,null,40.000001861699999,"P1 Zahájena","Ne",{"$error":"#N/A"},"2011-01-31",4074640,0,4074640,50.999998417600004,4.4999998604,null,4.4999998603,null,null,null,null,null,40.000001861699999,"P1 Zahájena","Ne",{"$error":"#N/A"}]
["02 Dostupnost dopravy, Rozvoj udržitelného cestovního ruchu (1.2, 1.3, 1.4, 2.1) ","11.2.1","11.2","CZ.1.11/2.1.00/02.00515","Po stopách iluzivní výmalby Jana Lukáše Krackera na Moravě","N13 Projekt ohodnocen, nedosáhl minimální bodové hranice","Kanonie premonstrátů v Nové Říši","Neveřejná nestátní nezisková organizace",null,null,null,null,null,null,null,null,null,null,null,null,null,null,null,null,null,7,null," ",null,null,null,null,null,null,null,null,null,null,null,null,null,null,null,null,null,null,null,null,null,null,null,null,null,null,null,null,null,null,null,null,null,null,null,null,null,null,null,null,null,null,null,null,null,null,null,null,null,null,null,0,0,0,0,0,0,0,0,0,0,null,0,0,0,0,0,0,0,0,0,0,null,"2010-12-30",2171256,235280.34,1935975.66,78.619993614699993,6.9399994629999995,6.9399994628999995,null,null,null,null,null,null,7.5000074593999999,"P1 Zahájena","Ne",{"$error":"#N/A"},"2010-12-30",2171256,235280.34,1935975.66,78.619993614699993,6.9399994629999995,6.9399994628999995,null,null,null,null,null,null,7.5000074593999999,"P1 Zahájena","Ne",{"$error":"#N/A"}]
["02 2.2 -Služby pro cestovní ruch","11.2.2","11.2","CZ.1.11/2.2.00/02.00518","Vítejte v Sand City ve Westernu Boskovice","P7 Výdaje projektu certifikovány","Westernové městečko Boskovice s.r.o.","Soukromá firma_MSP",2188920,386280,193140,193140,0,193140,0,0,0,0,1716800,4292000,0,0,4292000,815480,5107480,3,"03/00518","P4 Proplacena příjemci","POST","2010-07-16",355402.05,null,null,null,null,355402.05,"2010-07-16",null,null,null,null,355402.05,31359,null,31359.01,null,355402.05,"2010-08-16",null,355402.05,"CZ.1.11/2010/07","2010-07-23",14352.14,24.763000000000002,"2010-11-08",31359,"2010-07-16",null,31359,null,null,null,null,31359.01,"2010-07-16",null,31359.01,null,null,null,null,null,null,null,278746.71999999997,355402.05,"2010-04-26",733543.98,null,0,0,0,0,0,0,0,0,0,0,733543.98,374107.42979999998,33009.479099999997,0,33009.479099999997,0,0,0,0,0,293417.592,440126.38,"2010-03-26",440126.38,440126.38,0,51,4.5,null,4.5,null,null,null,null,null,40,"P2 Ukončena","Ne",{"$error":"#N/A"},"2010-03-26",440126.38,440126.38,0,51,4.5,null,4.5,null,null,null,null,null,40,"P2 Ukončena","Ne",{"$error":"#N/A"}]
["02 Dostupnost dopravy, Rozvoj udržitelného cestovního ruchu (1.2, 1.3, 1.4, 2.1) ","11.2.1","11.2","CZ.1.11/2.1.00/02.00524","Hotel Gulliver","N13 Projekt ohodnocen, nedosáhl minimální bodové hranice","Ing. Petr Šebesta","Soukromá firma_MSP",null,null,null,null,null,null,null,null,null,null,null,null,null,null,null,null,null,1,null," ",null,null,null,null,null,null,null,null,null,null,null,null,null,null,null,null,null,null,null,null,null,null,null,null,null,null,null,null,null,null,null,null,null,null,null,null,null,null,null,null,null,null,null,null,null,null,null,null,null,null,null,0,0,0,0,0,0,0,0,0,0,null,0,0,0,0,0,0,0,0,0,0,null,"2009-08-30",18006322,0,18006322,51,4.5,null,4.5,null,null,null,null,null,40,"P1 Zahájena","Ne",{"$error":"#N/A"},"2009-08-30",18006322,0,18006322,51,4.5,null,4.5,null,null,null,null,null,40,"P1 Zahájena","Ne",{"$error":"#N/A"}]
["02 Dostupnost dopravy, Rozvoj udržitelného cestovního ruchu (1.2, 1.3, 1.4, 2.1) ","11.2.1","11.2","CZ.1.11/2.1.00/02.00531","Vytvoření expozice brněnského funkcionalismu s využitím kulturní památky \"Kavárna ERA\"","N6 Projekt pozastaven","STUDIO 19, o. s.","Neveřejná nestátní nezisková organizace",6135302.5499999998,1082700.45,541350.22,541350.23,0,541350.23,0,0,0,0,4812002,12030005,0,0,12030005,243000,12273005,2,"02/00531","P4 Proplacena příjemci","POST","2010-12-08",1096500,null,null,null,null,1096500,"2010-12-08",null,null,null,null,1096500,96750,null,96750,null,1096500,"2010-12-23",1096500,null,"CZ.1.11/2010/12","2010-12-17",44288.71,24.758000000000003,"2011-03-24",96750,"2010-12-08",96750,null,null,null,null,null,96750,"2010-12-08",96750,null,null,null,null,null,null,null,null,860000,1096500,"2010-08-31",2150000,2150000,1096500,96750,0,96750,0,0,0,0,0,860000,null,0,0,0,0,0,0,0,0,0,0,1290000,"2010-07-31",1290000,0,1290000,51,4.5,null,4.5,null,null,null,null,null,40,"P1 Zahájena","Ne",{"$error":"#N/A"},"2010-07-31",1290000,0,1290000,51,4.5,null,4.5,null,null,null,null,null,40,"P1 Zahájena","Ne",{"$error":"#N/A"}]
["02 Dostupnost dopravy, Rozvoj udržitelného cestovního ruchu (1.2, 1.3, 1.4, 2.1) ","11.2.1","11.2","CZ.1.11/2.1.00/02.00540","Zpřístupnění zříceniny hradu Zubštejna pro turisty","P7 Výdaje projektu certifikovány","MĚSTO BYSTŘICE NAD PERNŠTEJNEM","Obec",8361234.7800000003,737756.02,737756.02,0,0,0,0,0,737756.6,0,0,9836747.4000000004,0,0,9836747.4000000004,0,9836747.4000000004,2,"02/00540","P4 Proplacena příjemci","POST","2011-12-22",1191341.22,null,null,null,null,1191341.22,"2011-12-22",null,null,null,null,1191341.22,105118.35,null,null,null,1191341.22,"2012-01-10",196706.98,994634.23999999999,"CZ.1.11/2011/12","2011-12-30",45979.97,25.91,"2012-07-25",105118.35,"2011-12-22",17356.5,87761.85,null,null,null,null,null,null,null,null,null,null,null,null,null,105118.43,null,null,1191341.22,"2011-09-21",1583828,411420,349706.97898425499,30856.49829589836,0,0,0,0,0,30856.52271984666,0,0,1172408,996546.74011222692,87930.595143886065,0,0,0,0,0,87930.664743886984,0,0,1465040.81,"2011-08-31",1465040.82,1084477.33,380563.49,84.999994891900002,7.4999995858000004,null,null,null,null,null,7.5000055223000004,null,null,"P2 Ukončena","Ne",{"$error":"#N/A"},"2011-08-31",1465040.82,1084477.33,380563.49,84.999994891900002,7.4999995858000004,null,null,null,null,null,7.5000055223000004,null,null,"P2 Ukončena","Ne",{"$error":"#N/A"}]
["02 2.2 -Služby pro cestovní ruch","11.2.2","11.2","CZ.1.11/2.2.00/02.00545","TVORBA A PROPAGACE PRODUKTŮ, REALIZACE MARKETINGOVÉ KAMPANĚ V TURISTICKÉ OBLASTI PÁLAVA A LVA","P7 Výdaje projektu certifikovány","ZO ČSOP ADONIS","Veřejná nestátní nezisková organizace",6747816.4199999999,595395.56999999995,595395.56999999995,0,0,0,0,0,0,595396.01,0,7938608,0,0,7938608,0,7938608,2,"02/00545","P4 Proplacena příjemci","POST","2010-12-28",1762729.36,null,null,null,null,1762729.36,"2010-12-28",null,null,null,null,1762729.36,155534.95000000001,null,null,null,1762729.36,"2011-02-02",null,1762729.36,"CZ.1.11/2011/01","2011-01-20",69838.720000000001,25.24,"2011-03-24",155534.95000000001,"2010-12-28",null,155534.95000000001,null,null,null,null,null,null,null,null,null,null,null,null,null,null,155535.06,null,1762729.36,"2010-05-29",2091477.97,null,0,0,0,0,0,0,0,0,0,0,2091477.97,1777756.1770203947,156860.83984630476,0,0,0,0,0,0,156860.95313330047,0,1934617.12,"2010-04-30",1934617.12,1934617.12,0,84.999995339199998,7.4999996220999998,null,null,null,null,null,null,7.5000050387000003,null,"P2 Ukončena","Ne",{"$error":"#N/A"},"2010-04-30",1934617.12,1934617.12,0,84.999995339199998,7.4999996220999998,null,null,null,null,null,null,7.5000050387000003,null,"P2 Ukončena","Ne",{"$error":"#N/A"}]
["02 Dostupnost dopravy, Rozvoj udržitelného cestovního ruchu (1.2, 1.3, 1.4, 2.1) ","11.2.1","11.2","CZ.1.11/2.1.00/02.00546","Rekonstrukce a dostavba hotelu Maximus Resort","P7 Výdaje projektu certifikovány","Maximus Resort, a.s.","Soukromá firma_MSP",45230280.810000002,3667320.07,3667320.07,0,0,0,0,0,0,0,85100917.120000005,133998518,0,0,133998518,28528563,162527081,3,"03/00546","P4 Proplacena příjemci","POST","2014-04-04",13294023.68,null,null,null,null,13294023.68,"2014-04-04",null,null,null,null,13294023.68,1077893.81,null,null,null,13294023.68,"2014-12-12",13294023.68,null,"CZ.1.11/2014/04","2014-04-28",484582.04,27.434000000000001,"2014-09-24",1077893.81,"2014-04-04",1077893.81,null,null,null,null,null,null,null,null,null,null,null,null,null,null,null,null,25012747.82,13294023.68,"2013-02-18",58677834.549999997,58677834.549999997,19806300.652085502,1605916.2690943573,0,0,0,0,0,0,0,37265617.628820144,0,0,0,0,0,0,0,0,0,0,0,21412216.920000002,"2012-12-22",22435201.66,0,22435201.66,33.754314221000001,2.7368362882000001,null,null,null,null,null,null,null,63.508849490800003,"P2 Ukončena","Ne",{"$error":"#N/A"},"2012-12-22",22435201.66,0,22435201.66,33.754314221000001,2.7368362882000001,null,null,null,null,null,null,null,63.508849490800003,"P2 Ukončena","Ne",{"$error":"#N/A"}]
["02 Dostupnost dopravy, Rozvoj udržitelného cestovního ruchu (1.2, 1.3, 1.4, 2.1) ","11.2.1","11.2","CZ.1.11/2.1.00/02.00551","Penzion Rytířsko-III.etapa","P7 Výdaje projektu certifikovány","Realinvest, spol. s r. o.","Soukromá firma_MSP",2998380.63,529125.99,264562.99,264563,264563,0,0,0,0,0,2351672.08,5879178.7000000002,0,0,5879178.7000000002,1189594.46,7068773.1600000001,4,"04/00551","P4 Proplacena příjemci","POST","2012-05-14",791166.42,null,null,null,null,791166.42,"2012-05-14",null,null,null,null,791166.42,69808.800000000003,69808.800000000003,null,null,791166.42,"2012-06-14",791166.42,null,"CZ.1.11/2012/05","2012-05-30",30835.08,25.658000000000001,"2012-09-18",69808.800000000003,"2012-05-14",69808.800000000003,null,69808.800000000003,"2012-05-14",69808.800000000003,null,null,null,null,null,null,null,null,null,null,null,null,620522.94999999995,791166.42,"2011-12-22",1894499.08,1894499.08,966194.36885442969,85252.444311687941,85252.444309793442,0,0,0,0,0,0,757799.82252408902,0,0,0,0,0,0,0,0,0,0,0,1136699.26,"2011-11-30",1136699.26,0,1136699.26,50.9999914518,4.4999992457999998,4.4999992457000006,null,null,null,null,null,null,40.000010056699999,"P2 Ukončena","Ne",{"$error":"#N/A"},"2011-11-30",1136699.26,0,1136699.26,50.9999914518,4.4999992457999998,4.4999992457000006,null,null,null,null,null,null,40.000010056699999,"P2 Ukončena","Ne",{"$error":"#N/A"}]
["02 2.2 -Služby pro cestovní ruch","11.2.2","11.2","CZ.1.11/2.2.00/02.00557","Stezky dědictví - rozvoj cestovního ruchu prostřednictvím regionální gastronomie","P7 Výdaje projektu certifikovány","\"European Centre for Ecology and Tourism\"","Neveřejná nestátní nezisková organizace",2951652.33,521100.66,260550.33,260550.33,0,260550.33,0,0,0,0,281575.01,3754328,0,0,3754328,470934,4225262,1,"01/00557","P4 Proplacena příjemci","POST","2009-09-25",292305.64,null,null,null,null,292305.64,"2009-03-13",null,null,null,null,292305.64,25802.6,null,25802.62,null,292305.64,"2009-10-21",null,292305.64,"CZ.1.11/2009/08","2009-10-01",11608.64,25.18,"2010-04-23",25802.6,"2009-03-13",null,25802.6,null,null,null,null,25802.62,"2009-03-13",null,25802.62,null,null,null,null,null,null,null,27884.71,292305.64,"2009-03-13",471795.57,null,0,0,0,0,0,0,0,0,0,0,471795.57,370925.63395479764,32742.609014343474,0,32742.609013871679,0,0,0,0,0,35384.718016987208,436410.91,"2009-03-15",443052,443052,0,78.619990847899999,6.9399992488999995,null,6.9399992487999995,null,null,null,null,null,7.5000106543999996,"P2 Ukončena","Ne",{"$error":"#N/A"},"2009-03-15",443052,443052,0,78.619990847899999,6.9399992488999995,null,6.9399992487999995,null,null,null,null,null,7.5000106543999996,"P2 Ukončena","Ne",{"$error":"#N/A"}]
["02 Dostupnost dopravy, Rozvoj udržitelného cestovního ruchu (1.2, 1.3, 1.4, 2.1) ","11.2.1","11.2","CZ.1.11/2.1.00/02.00562","Ubytovací a informační centrum Motelu Farma","P7 Výdaje projektu certifikovány","FARMA POŘÍČÍ, s.r.o.","Soukromá firma_MSP",6363151,1122909,561454.5,561454.5,561454.5,0,0,0,0,0,4990707,12476767,0,0,12476767,2436036,14912803,4,"04/00562","P4 Proplacena příjemci","POST","2010-06-09",1179537.02,null,null,null,null,1179537.02,"2010-06-08",null,null,null,null,1179537.02,104076.79,104076.8,null,null,1179537.02,"2010-07-16",1179537.02,null,"CZ.1.11/2010/06","2010-07-02",45801.93,25.753,"2010-11-08",104076.79,"2010-06-08",104076.79,null,104076.8,"2010-06-08",104076.8,null,null,null,null,null,null,null,null,null,null,null,null,925127.14,1179537.02,"2010-05-17",2352834,2352834,1199945.3080814539,105877.52718601054,105877.5271836577,0,0,0,0,0,0,941133.63754887786,null,0,0,0,0,0,0,0,0,0,0,1411700,"2010-05-31",1411700,0,1411700,50.999998643400005,4.4999998803999999,4.4999998802999999,null,null,null,null,null,null,40.000001595900002,"P2 Ukončena","Ne",{"$error":"#N/A"},"2010-05-31",1411700,0,1411700,50.999998643400005,4.4999998803999999,4.4999998802999999,null,null,null,null,null,null,40.000001595900002,"P2 Ukončena","Ne",{"$error":"#N/A"}]
["02 Dostupnost dopravy, Rozvoj udržitelného cestovního ruchu (1.2, 1.3, 1.4, 2.1) ","11.2.1","11.2","CZ.1.11/2.1.00/02.00570","Ubytovací zařízení \"Garni\"","N12 Projektová žádost nesplnila formální náležitosti","KRAJAN CZECH s.r.o.","Soukromá firma_MSP",null,null,null,null,null,null,null,null,null,null,null,null,null,null,null,null,null,1,null," ",null,null,null,null,null,null,null,null,null,null,null,null,null,null,null,null,null,null,null,null,null,null,null,null,null,null,null,null,null,null,null,null,null,null,null,null,null,null,null,null,null,null,null,null,null,null,null,null,null,null,null,0,0,0,0,0,0,0,0,0,0,null,0,0,0,0,0,0,0,0,0,0,null,"2009-05-29",2500000,0,2500000,51,4.5,null,4.5,null,null,null,null,null,40,"P1 Zahájena","Ne",{"$error":"#N/A"},"2009-05-29",2500000,0,2500000,51,4.5,null,4.5,null,null,null,null,null,40,"P1 Zahájena","Ne",{"$error":"#N/A"}]
["02 2.2 -Služby pro cestovní ruch","11.2.2","11.2","CZ.1.11/2.2.00/02.00579","Turisté, vítejte v Jihlavě!","P8 Projekt finálně uzavřen","Statutární město Jihlava","Obec",5570857.5,491546.25,491546.25,0,0,0,0,0,491546.25,0,0,6553950,0,0,6553950,0,6553950,1,"01/00579","P4 Proplacena příjemci","POST","2010-01-21",1270551.52,null,null,null,null,1270551.52,"2010-01-21",null,null,null,null,1270551.52,112107.48,null,null,null,1270551.52,"2010-06-02",1056258.8700000001,214292.65,"CZ.1.11/2010/03","2010-04-02",49937.17,25.443000000000001,"2010-07-23",112107.48,"2010-01-21",93199.31,18908.169999999998,null,null,null,null,null,null,null,null,null,null,null,null,null,112107.5,null,null,1270551.52,"2009-07-29",1494766.5,1242657.5,1056258.875,93199.3125,0,0,0,0,0,93199.3125,0,0,252109,214292.65,18908.174999999999,0,0,0,0,0,18908.174999999999,0,0,1382659,"2009-07-29",1382659,233200.82,1149458.18,85,7.5,null,null,null,null,null,7.5,null,null,"P2 Ukončena","Ne",{"$error":"#N/A"},"2009-07-29",1382659,233200.82,1149458.18,85,7.5,null,null,null,null,null,7.5,null,null,"P2 Ukončena","Ne",{"$error":"#N/A"}]
["02 Dostupnost dopravy, Rozvoj udržitelného cestovního ruchu (1.2, 1.3, 1.4, 2.1) ","11.2.1","11.2","CZ.1.11/2.1.00/02.00580","Motorest BENTEL","N13 Projekt ohodnocen, nedosáhl minimální bodové hranice","BENTEL, s.r.o.","Soukromá firma_MSP",null,null,null,null,null,null,null,null,null,null,null,null,null,null,null,null,null,3,null," ",null,null,null,null,null,null,null,null,null,null,null,null,null,null,null,null,null,null,null,null,null,null,null,null,null,null,null,null,null,null,null,null,null,null,null,null,null,null,null,null,null,null,null,null,null,null,null,null,null,null,null,0,0,0,0,0,0,0,0,0,0,null,0,0,0,0,0,0,0,0,0,0,null,"2009-08-20",502035.6,0,502035.6,50.999995783700001,4.4999996280000003,null,4.4999996279000003,null,null,null,null,null,40.000004960399998,"P1 Zahájena","Ne",{"$error":"#N/A"},"2009-08-20",502035.6,0,502035.6,50.999995783700001,4.4999996280000003,null,4.4999996279000003,null,null,null,null,null,40.000004960399998,"P1 Zahájena","Ne",{"$error":"#N/A"}]
["02 1.1 - Rozvoj dopravní obslužnosti v regionu - silnice","11.1.1","11.1","CZ.1.11/1.1.00/02.00587","II/602 Veselka okružní křižovatka","P8 Projekt finálně uzavřen","Správa a údržba silnic Jihomoravského kraje, příspěvková organizace kraje","Organizace zřízena krajem",21650358.43,1910325.75,1910325.75,0,0,0,0,1910325.75,0,0,0,25471009.93,0,0,25471009.93,425900,25896909.93,2,"02/00587","P4 Proplacena příjemci","POST","2010-03-31",8148748.8099999996,null,null,null,null,8148748.8099999996,"2010-03-26",null,null,null,null,8148748.8099999996,719007.25,null,null,null,8148748.8099999996,"2010-08-16",8146974.0999999996,1774.71,"CZ.1.11/2010/04","2010-04-30",319058.3,25.54,"2010-07-23",719007.25,"2010-03-26",718850.66,156.59,null,null,null,null,null,null,null,null,null,null,null,null,719007.26,null,null,null,8148748.8099999996,"2009-12-30",10350835.050000001,10348747.15,8796435.0772930253,776156.03625,0,0,0,0,776156.03645697492,0,0,0,2087.9,1774.7149999582421,156.5925,0,0,0,0,156.592500041758,0,0,0,9574522.4199999999,"2009-12-31",9574522.4299999997,70251.44,9504270.9900000002,84.999999997999993,7.5,null,null,null,null,7.5000000020000002,null,null,null,"P2 Ukončena","Ne",{"$error":"#N/A"},"2009-12-31",9574522.4299999997,70251.44,9504270.9900000002,84.999999997999993,7.5,null,null,null,null,7.5000000020000002,null,null,null,"P2 Ukončena","Ne",{"$error":"#N/A"}]
["02 1.1 - Rozvoj dopravní obslužnosti v regionu - silnice","11.1.1","11.1","CZ.1.11/1.1.00/02.00595","II/427 Moravský Písek II. a III. stavba","P8 Projekt finálně uzavřen","Správa a údržba silnic Jihomoravského kraje, příspěvková organizace kraje","Organizace zřízena krajem",70889684.530000001,6254972.1600000001,6254972.1600000001,0,0,0,0,6254972.1699999999,0,0,0,83399628.859999999,0,0,83399628.859999999,1403977,84803605.859999999,1,"01/00595","P4 Proplacena příjemci","POST","2009-07-03",11707830.4,null,null,null,null,11707830.4,"2009-03-30",null,null,null,null,11707830.4,1033043.86,null,null,null,11707830.4,"2009-07-20",11696309.17,11521.23,"CZ.1.11/2009/05","2009-07-08",449955.05,26.02,"2009-10-29",1033043.86,"2009-03-30",1032027.28,1016.58,null,null,null,null,null,null,null,null,null,null,null,null,1033043.87,null,null,null,11707830.4,"2009-03-30",13908370.279999999,13894815.890000001,11810593.5065,1042111.19175,0,0,0,0,1042111.19175,0,0,0,13554.39,11521.2315,1016.57925,0,0,0,0,1016.57925,0,0,0,12865242.51,"2009-03-30",12565539.560000001,17293.52,12548246.039999999,85,7.5,null,null,null,null,7.5,null,null,null,"P2 Ukončena","Ne",{"$error":"#N/A"},"2009-03-30",12565539.560000001,17293.52,12548246.039999999,85,7.5,null,null,null,null,7.5,null,null,null,"P2 Ukončena","Ne",{"$error":"#N/A"}]
["02 Letiště, urbanizační centra a služby regionálního významu (1.1, 3.1, 3.4)","11.3.1","11.3","CZ.1.11/3.1.00/02.00601","Přístavba ZŠ speciální Březinova 31, Jihlava","P7 Výdaje projektu certifikovány","Statutární město Jihlava","Obec",44908953.549999997,3962554.72,3962554.72,0,0,0,0,0,3962554.73,0,0,52834063,0,0,52834063,250000,53084063,4,"04/00601","P4 Proplacena příjemci","POST","2010-12-28",23410886.920000002,null,null,null,null,23410886.920000002,"2010-12-28",null,null,null,null,23410886.920000002,2065666.49,null,null,null,23410886.920000002,"2011-02-02",20447871.07,2963015.85,"CZ.1.11/2011/01","2011-01-20",927531.17,25.24,"2011-03-24",2065666.49,"2010-12-28",1804223.92,261442.57,null,null,null,null,null,null,null,null,null,null,null,null,null,2065666.5,null,null,23410886.920000002,"2010-09-13",27590791.899999999,24104890.899999999,20489157.265000001,1807866.8174999999,0,0,0,0,0,1807866.8174999999,0,0,3485901,2963015.85,261442.57500000001,0,0,0,0,0,261442.57500000001,0,0,25521482.5,"2010-11-30",25521482.510000002,3224458.42,22297024.09,85,7.5,null,null,null,null,null,7.5,null,null,"P2 Ukončena","Ne",{"$error":"#N/A"},"2010-11-30",25521482.510000002,3224458.42,22297024.09,85,7.5,null,null,null,null,null,7.5,null,null,"P2 Ukončena","Ne",{"$error":"#N/A"}]
["02 Letiště, urbanizační centra a služby regionálního významu (1.1, 3.1, 3.4)","11.3.4","11.3","CZ.1.11/3.4.00/02.00607","Půdní vestavba školy (podporované bydlení)","P8 Projekt finálně uzavřen","Domov Horizont, příspěvková organizace","Organizace zřízena krajem",6891263.6500000004,608052.67000000004,608052.67000000004,0,0,0,0,608052.68000000005,0,0,0,8107369,0,0,8107369,0,8107369,1,"01/00607","P4 Proplacena příjemci","POST","2010-11-05",5887223.9000000004,null,null,null,null,5887223.9000000004,"2010-11-05",null,null,null,null,5887223.9000000004,519460.92,null,null,null,5887223.9000000004,"2010-12-09",5882378.9000000004,4845,"CZ.1.11/2010/11","2010-11-30",237790.77,24.758000000000003,"2011-03-24",519460.92,"2010-11-05",519033.43,427.49,null,null,null,null,null,null,null,null,null,null,null,null,519460.95,null,null,null,5887223.9000000004,"2010-06-30",6940445.7699999996,6920445.7699999996,5882378.9045000002,519033.42848008499,0,0,0,0,519033.43701991503,0,0,0,20000,17000,1499.99998766,0,0,0,0,1500.00001234,0,0,0,6419912.3200000003,"2010-05-31",7499316.3099999996,18500,7480816.3099999996,85,7.4999999383000002,null,null,null,null,7.5000000616999998,null,null,null,"P2 Ukončena","Ne",{"$error":"#N/A"},"2010-05-31",7499316.3099999996,18500,7480816.3099999996,85,7.4999999383000002,null,null,null,null,7.5000000616999998,null,null,null,"P2 Ukončena","Ne",{"$error":"#N/A"}]
["02 3.2 a 3.3 - Rozvoj regionálních středisek, Rozvoj a stabilizace venkovských sídel","11.3.3","11.3","CZ.1.11/3.3.00/02.00611","Náměstní ve Vranově nad Dyjí","N13 Projekt ohodnocen, nedosáhl minimální bodové hranice","Městys Vranov nad Dyjí","Obec",null,null,null,null,null,null,null,null,null,null,null,null,null,null,null,null,null,2,null," ",null,null,null,null,null,null,null,null,null,null,null,null,null,null,null,null,null,null,null,null,null,null,null,null,null,null,null,null,null,null,null,null,null,null,null,null,null,null,null,null,null,null,null,null,null,null,null,null,null,null,null,0,0,0,0,0,0,0,0,0,0,null,0,0,0,0,0,0,0,0,0,0,null,"2009-09-15",3264972,0,3264972,84.9999928668,7.4999993944000005,null,null,null,null,null,7.5000077387999999,null,null,"P1 Zahájena","Ne",{"$error":"#N/A"},"2009-09-15",3264972,0,3264972,84.9999928668,7.4999993944000005,null,null,null,null,null,7.5000077387999999,null,null,"P1 Zahájena","Ne",{"$error":"#N/A"}]
["02 3.2 a 3.3 - Rozvoj regionálních středisek, Rozvoj a stabilizace venkovských sídel","11.3.3","11.3","CZ.1.11/3.3.00/02.00618","Rekonstrukce ZŠ a MŠ Prace","N13 Projekt ohodnocen, nedosáhl minimální bodové hranice","Obec Prace","Obec",null,null,null,null,null,null,null,null,null,null,null,null,null,null,null,null,null,2,null," ",null,null,null,null,null,null,null,null,null,null,null,null,null,null,null,null,null,null,null,null,null,null,null,null,null,null,null,null,null,null,null,null,null,null,null,null,null,null,null,null,null,null,null,null,null,null,null,null,null,null,null,0,0,0,0,0,0,0,0,0,0,null,0,0,0,0,0,0,0,0,0,0,null,"2009-12-15",3414505,0,3414505,84.999999168299993,7.4999999819000003,null,null,null,null,null,7.5000008498000001,null,null,"P1 Zahájena","Ne",{"$error":"#N/A"},"2009-12-15",3414505,0,3414505,84.999999168299993,7.4999999819000003,null,null,null,null,null,7.5000008498000001,null,null,"P1 Zahájena","Ne",{"$error":"#N/A"}]
["02 3.2 a 3.3 - Rozvoj regionálních středisek, Rozvoj a stabilizace venkovských sídel","11.3.2","11.3","CZ.1.11/3.2.00/02.00627","Regionální centrum pro tělovýchovu, kulturní a spolkovou činnost v Náměšti nad Oslavou","N13 Projekt ohodnocen, nedosáhl minimální bodové hranice","MĚSTO NÁMĚŠŤ NAD OSLAVOU","Obec",null,null,null,null,null,null,null,null,null,null,null,null,null,null,null,null,null,1,null," ",null,null,null,null,null,null,null,null,null,null,null,null,null,null,null,null,null,null,null,null,null,null,null,null,null,null,null,null,null,null,null,null,null,null,null,null,null,null,null,null,null,null,null,null,null,null,null,null,null,null,null,0,0,0,0,0,0,0,0,0,0,null,0,0,0,0,0,0,0,0,0,0,null,"2009-02-28",13278634.4,31500,13247134.4,64.319999996800007,5.6800000032,null,null,null,null,null,30,null,null,"P1 Zahájena","Ne",{"$error":"#N/A"},"2009-02-28",13278634.4,31500,13247134.4,64.319999996800007,5.6800000032,null,null,null,null,null,30,null,null,"P1 Zahájena","Ne",{"$error":"#N/A"}]
["02 3.2 a 3.3 - Rozvoj regionálních středisek, Rozvoj a stabilizace venkovských sídel","11.3.3","11.3","CZ.1.11/3.3.00/02.00630","Nástavba a stavební úpravy ZŠ a MŠ Žatčany","N13 Projekt ohodnocen, nedosáhl minimální bodové hranice","Obec Žatčany","Obec",null,null,null,null,null,null,null,null,null,null,null,null,null,null,null,null,null,2,null," ",null,null,null,null,null,null,null,null,null,null,null,null,null,null,null,null,null,null,null,null,null,null,null,null,null,null,null,null,null,null,null,null,null,null,null,null,null,null,null,null,null,null,null,null,null,null,null,null,null,null,null,0,0,0,0,0,0,0,0,0,0,null,0,0,0,0,0,0,0,0,0,0,null,"2009-12-15",2000000,0,2000000,78.108109993800014,6.8918920669000006,null,null,null,null,null,14.9999979393,null,null,"P1 Zahájena","Ne",{"$error":"#N/A"},"2009-12-15",2000000,0,2000000,78.108109993800014,6.8918920669000006,null,null,null,null,null,14.9999979393,null,null,"P1 Zahájena","Ne",{"$error":"#N/A"}]
["02 3.2 a 3.3 - Rozvoj regionálních středisek, Rozvoj a stabilizace venkovských sídel","11.3.3","11.3","CZ.1.11/3.3.00/02.00638","Dětská hřiště městyse Měřína - rozvoj pohybových dovedností dětí","P8 Projekt finálně uzavřen","Městys Měřín","Obec",1856534.15,163811.85,163811.85,0,0,0,0,0,163812,0,0,2184158,0,0,2184158,0,2184158,1,"01/00638","P4 Proplacena příjemci","POST","2009-10-26",1815221.6,null,null,null,null,1815221.6,"2009-10-26",null,null,null,null,1815221.6,160166.60999999999,null,null,null,1815221.6,"2010-02-12",1746904.56,68317.039999999994,"CZ.1.11/2010/01","2010-01-29",69198.75,26.232000000000003,"2010-07-23",160166.60999999999,"2009-10-26",154138.64000000001,6027.97,null,null,null,null,null,null,null,null,null,null,null,null,null,160166.79,null,null,1815221.6,"2009-09-18",2155555,2075182,1763904.5669849841,155638.6404998168,0,0,0,0,0,155638.79251519902,0,0,80373,68317.044848251448,6027.9746320524064,0,0,0,0,0,6027.9805196961479,0,0,1993888.22,"2009-09-30",1993888.22,74345.02,1919543.2,84.999993590199992,7.4999995422000003,null,null,null,null,null,7.5000068675999998,null,null,"P2 Ukončena","Ne",{"$error":"#N/A"},"2009-09-30",1993888.22,74345.02,1919543.2,84.999993590199992,7.4999995422000003,null,null,null,null,null,7.5000068675999998,null,null,"P2 Ukončena","Ne",{"$error":"#N/A"}]
["02 3.2 a 3.3 - Rozvoj regionálních středisek, Rozvoj a stabilizace venkovských sídel","11.3.2","11.3","CZ.1.11/3.2.00/02.00642","Víceúčelový sportovní areál Letovice","P7 Výdaje projektu certifikovány","MĚSTO LETOVICE","Obec",10525116.32,929456.79,929456.79,0,0,0,0,0,4909103.8,0,0,16363676.91,0,0,16363676.91,740114,17103790.91,2,"02/00642","P4 Proplacena příjemci","POST","2010-12-08",4336557.03,null,null,null,null,4336557.03,"2010-12-08",null,null,null,null,4336557.03,382954.66,null,null,null,4336557.03,"2010-12-23",4328125.33,8431.7000000000007,"CZ.1.11/2010/12","2010-12-17",175157.8,24.758000000000003,"2011-03-24",382954.66,"2010-12-08",382210.07,744.59,null,null,null,null,null,null,null,null,null,null,null,null,null,2022648.31,null,null,4336557.03,"2010-11-05",6742160,6729051,4328125.3312790487,382210.07336271537,0,0,0,0,0,2018715.5953582355,0,0,13109,8431.7082702653097,744.59115434135299,0,0,0,0,0,3932.7005753933372,0,0,4719511.6900000004,"2010-09-30",4719511.71,9176.2999999999993,4710335.41,64.319995958999996,5.6799996517000002,null,null,null,null,null,30.000004389299999,null,null,"P2 Ukončena","Ne",{"$error":"#N/A"},"2010-09-30",4719511.71,9176.2999999999993,4710335.41,64.319995958999996,5.6799996517000002,null,null,null,null,null,30.000004389299999,null,null,"P2 Ukončena","Ne",{"$error":"#N/A"}]
["02 3.2 a 3.3 - Rozvoj regionálních středisek, Rozvoj a stabilizace venkovských sídel","11.3.3","11.3","CZ.1.11/3.3.00/02.00651","Rekonstrukce Masarykova náměstí ve Velké Bíteši","N2 Projekt nedoporučen / neschválen","MĚSTO VELKÁ BÍTEŠ","Obec",null,null,null,null,null,null,null,null,null,null,null,null,null,null,null,null,null,3,null," ",null,null,null,null,null,null,null,null,null,null,null,null,null,null,null,null,null,null,null,null,null,null,null,null,null,null,null,null,null,null,null,null,null,null,null,null,null,null,null,null,null,null,null,null,null,null,null,null,null,null,null,0,0,0,0,0,0,0,0,0,0,null,0,0,0,0,0,0,0,0,0,0,null,"2011-02-28",13925825,0,13925825,84.999999259799992,7.4999999400000004,null,null,null,null,null,7.5000008001999996,null,null,"P1 Zahájena","Ne",{"$error":"#N/A"},"2011-02-28",13925825,0,13925825,84.999999259799992,7.4999999400000004,null,null,null,null,null,7.5000008001999996,null,null,"P1 Zahájena","Ne",{"$error":"#N/A"}]
["02 3.2 a 3.3 - Rozvoj regionálních středisek, Rozvoj a stabilizace venkovských sídel","11.3.2","11.3","CZ.1.11/3.2.00/02.00656","Rekonstrukce denního stacionáře NESA","P8 Projekt finálně uzavřen","Diecézní charita Brno","Veřejná nestátní nezisková organizace",12449156.119999999,1099365.77,1099365.77,0,0,0,0,0,0,5806509.4100000001,0,19355031.300000001,0,0,19355031.300000001,200000,19555031.300000001,1,"1/00656","P4 Proplacena příjemci","POST","2009-06-10",1581302.68,null,null,null,null,1581302.68,"2009-06-10",null,null,null,null,1581302.68,139642.4,null,null,null,1581302.68,"2009-07-20",1572559.67,8743.01,"CZ.1.11/2009/05","2009-07-08",60772.58,26.02,"2009-10-29",139642.4,"2009-06-10",138870.32,772.08,null,null,null,null,null,null,null,null,null,null,null,null,null,null,737547.92,null,1581302.68,"2009-04-27",2586515,2572910,1654895.7103842124,146141.28828559301,0,0,0,0,0,0,771873.00133019441,0,13605,8750.7359914560602,772.76400151015503,0,0,0,0,0,0,4081.5000070337851,0,1810560.5,"2009-03-31",1838123,40096,1798027,64.319999937200009,5.6800000110999997,null,null,null,null,null,null,30.000000051699999,null,"P2 Ukončena","Ne",{"$error":"#N/A"},"2009-03-31",1838123,40096,1798027,64.319999937200009,5.6800000110999997,null,null,null,null,null,null,30.000000051699999,null,"P2 Ukončena","Ne",{"$error":"#N/A"}]
["02 3.2 a 3.3 - Rozvoj regionálních středisek, Rozvoj a stabilizace venkovských sídel","11.3.3","11.3","CZ.1.11/3.3.00/02.00663","Vybudování dětského hřiště a obnova vybavení MŠ Moravský Žižkov","P8 Projekt finálně uzavřen","OBEC MORAVSKÝ ŽIŽKOV","Obec",1794801.35,158364.82999999999,158364.82999999999,0,0,0,0,0,158364.82999999999,0,0,2111531.0099999998,0,0,2111531.0099999998,0,2111531.0099999998,1,"01/00663","P4 Proplacena příjemci","POST","2010-03-05",1697607.04,null,null,null,null,1697607.04,"2010-03-05",null,null,null,null,1697607.04,149788.85999999999,null,null,null,1697607.04,"2010-06-02",1370630.74,326976.3,"CZ.1.11/2010/03","2010-04-02",66721.97,25.443000000000001,"2010-07-23",149788.85999999999,"2010-03-05",120938.01,28850.85,null,null,null,null,null,null,null,null,null,null,null,null,null,149788.85999999999,null,null,1697607.04,"2009-09-30",2104020,1694342,1440190.7,127075.65,0,0,0,0,0,127075.65,0,0,409678,348226.3,30725.85,0,0,0,0,0,30725.85,0,0,1946218.5,"2009-08-31",1946218.5,378952.15,1567266.35,85,7.5,null,null,null,null,null,7.5,null,null,"P2 Ukončena","Ne",{"$error":"#N/A"},"2009-08-31",1946218.5,378952.15,1567266.35,85,7.5,null,null,null,null,null,7.5,null,null,"P2 Ukončena","Ne",{"$error":"#N/A"}]
["02 3.2 a 3.3 - Rozvoj regionálních středisek, Rozvoj a stabilizace venkovských sídel","11.3.3","11.3","CZ.1.11/3.3.00/02.00669","KULTURNÍ DŮM -  zázemí pro rozvoj kulturního a společenského života v obci","N13 Projekt ohodnocen, nedosáhl minimální bodové hranice","Obec Hluboké  Mašůvky","Obec",null,null,null,null,null,null,null,null,null,null,null,null,null,null,null,null,null,2,null," ",null,null,null,null,null,null,null,null,null,null,null,null,null,null,null,null,null,null,null,null,null,null,null,null,null,null,null,null,null,null,null,null,null,null,null,null,null,null,null,null,null,null,null,null,null,null,null,null,null,null,null,0,0,0,0,0,0,0,0,0,0,null,0,0,0,0,0,0,0,0,0,0,null,"2010-09-30",3613382,2711.61,3610670.39,81.429995230300008,7.1849996637999993,null,null,null,null,null,11.385005105900001,null,null,"P1 Zahájena","Ne",{"$error":"#N/A"},"2010-09-30",3613382,2711.61,3610670.39,81.429995230300008,7.1849996637999993,null,null,null,null,null,11.385005105900001,null,null,"P1 Zahájena","Ne",{"$error":"#N/A"}]
["02 3.2 a 3.3 - Rozvoj regionálních středisek, Rozvoj a stabilizace venkovských sídel","11.3.2","11.3","CZ.1.11/3.2.00/02.00674","Rekonstrukce areálu bývalé Městské vodárny Znojmo pro volnočasové aktivity dětí a mládeže","P7 Výdaje projektu certifikovány","Vodácký oddíl NEPTUN ZNOJMO","Veřejná nestátní nezisková organizace",15201979.83,1341351.17,1341351.17,0,0,0,0,0,0,7089999,0,23633330,0,0,23633330,0,23633330,1,"01/00674","P4 Proplacena příjemci","POST","2010-04-29",1874507.15,null,null,null,null,1874507.15,"2010-04-29",null,null,null,null,1874507.15,165397.70000000001,null,null,null,1874507.15,"2010-08-16",1727708.7,146798.45000000001,"CZ.1.11/2010/05","2010-06-02",72711.679999999993,25.78,"2010-11-08",165397.70000000001,"2010-04-29",152444.89000000001,12952.81,null,null,null,null,null,null,null,null,null,null,null,null,null,null,874244.94,null,1874507.15,"2010-04-26",3128843.7,2685933.7,1727708.7043236711,152444.88567632902,0,0,0,0,0,0,805780.11,0,442910,284898.86486475711,25138.135135242868,0,0,0,0,0,0,132873,0,2190191,"2010-01-31",2190191,310037,1880154,64.324324324300008,5.6756756757,null,null,null,null,null,null,30,null,"P2 Ukončena","Ne",{"$error":"#N/A"},"2010-01-31",2190191,310037,1880154,64.324324324300008,5.6756756757,null,null,null,null,null,null,30,null,"P2 Ukončena","Ne",{"$error":"#N/A"}]
["02 3.2 a 3.3 - Rozvoj regionálních středisek, Rozvoj a stabilizace venkovských sídel","11.3.3","11.3","CZ.1.11/3.3.00/02.00680","Zkvalitnění podmínek pro výuku ZŠ Košetice","N13 Projekt ohodnocen, nedosáhl minimální bodové hranice","Obec Košetice","Obec",null,null,null,null,null,null,null,null,null,null,null,null,null,null,null,null,null,1,null," ",null,null,null,null,null,null,null,null,null,null,null,null,null,null,null,null,null,null,null,null,null,null,null,null,null,null,null,null,null,null,null,null,null,null,null,null,null,null,null,null,null,null,null,null,null,null,null,null,null,null,null,0,0,0,0,0,0,0,0,0,0,null,0,0,0,0,0,0,0,0,0,0,null,"2009-10-31",3769391.77,138750,3630641.77,84.999999953900002,7.5000000231000001,null,null,null,null,null,7.5000000230000001,null,null,"P1 Zahájena","Ne",{"$error":"#N/A"},"2009-10-31",3769391.77,138750,3630641.77,84.999999953900002,7.5000000231000001,null,null,null,null,null,7.5000000230000001,null,null,"P1 Zahájena","Ne",{"$error":"#N/A"}]
["02 3.2 a 3.3 - Rozvoj regionálních středisek, Rozvoj a stabilizace venkovských sídel","11.3.2","11.3","CZ.1.11/3.2.00/02.00688","Výstavba bazénu v areálu ZŠ Přímětice","P7 Výdaje projektu certifikovány","Město Znojmo","Obec",10565454.23,932245.97,932245.97,0,0,0,0,0,4927585.8,0,0,16425286,0,0,16425286,0,16425286,1,"01/00688","P4 Proplacena příjemci","POST","2010-03-29",2445704.7200000002,null,null,null,null,2445704.7200000002,"2010-03-23",null,null,null,null,2445704.7200000002,215797.48,null,null,null,2445704.7200000002,"2010-08-16",2445704.7200000002,null,"CZ.1.11/2010/04","2010-04-30",95759.78,25.54,"2010-07-23",215797.48,"2010-03-23",215797.48,null,null,null,null,null,null,null,null,null,null,null,null,null,null,1140643.8,null,null,2445704.7200000002,"2009-11-26",3956846,3956846,2545214.4540530914,224577.74594690843,0,0,0,0,0,1187053.8,0,0,null,0,0,0,0,0,0,0,0,0,0,2769792.2,"2009-11-30",2769792.2,0,2769792.2,64.324324324300008,5.6756756757,null,null,null,null,null,30,null,null,"P2 Ukončena","Ne",{"$error":"#N/A"},"2009-11-30",2769792.2,0,2769792.2,64.324324324300008,5.6756756757,null,null,null,null,null,30,null,null,"P2 Ukončena","Ne",{"$error":"#N/A"}]
["02 3.2 a 3.3 - Rozvoj regionálních středisek, Rozvoj a stabilizace venkovských sídel","11.3.2","11.3","CZ.1.11/3.2.00/02.00694","Bartolomějské náměstí - revitalizace historického jádra města","P7 Výdaje projektu certifikovány","Město VESELÍ NAD MORAVOU","Obec",37499409.859999999,3311522.13,3311522.13,0,0,0,0,0,17706915.010000002,0,0,58517847,0,0,58517847,879410,59397257,1,"01/00694","P4 Proplacena příjemci","POST","2010-05-31",10136642.140000001,null,null,null,null,10136642.140000001,"2010-05-31",null,null,null,null,10136642.140000001,895153.14,null,null,null,10136642.140000001,"2010-07-16",10136642.140000001,null,"CZ.1.11/2010/06","2010-07-02",393610.15,25.753,"2010-11-08",895153.14,"2010-05-31",895153.14,null,null,null,null,null,null,null,null,null,null,null,null,null,null,4786439.62,null,null,10136642.140000001,"2010-05-10",15983050,15983050,10242258.962854005,904480.02606422745,0,0,0,0,0,4836311.0110817673,0,0,null,0,0,0,0,0,0,0,0,0,0,11146579.07,"2009-11-30",11146579.029999999,0,11146579.029999999,64.082005392300005,5.6589951609,null,null,null,null,null,30.258999446800001,null,null,"P2 Ukončena","Ne",{"$error":"#N/A"},"2009-11-30",11146579.029999999,0,11146579.029999999,64.082005392300005,5.6589951609,null,null,null,null,null,30.258999446800001,null,null,"P2 Ukončena","Ne",{"$error":"#N/A"}]
["02 3.2 a 3.3 - Rozvoj regionálních středisek, Rozvoj a stabilizace venkovských sídel","11.3.2","11.3","CZ.1.11/3.2.00/02.00701","Zámek Pacov - regionální kulturní a společenské centrum","P7 Výdaje projektu certifikovány","Město Pacov","Obec",33940315.619999997,2997216.93,2997216.93,0,0,0,0,0,16063575.42,0,0,53001107.969999999,0,600000,53601107.969999999,1993413.53,55594521.5,3,"03/00701","P4 Proplacena příjemci","POST","2010-10-15",6118886.7300000004,null,null,null,null,6118886.7300000004,"2010-10-15",null,null,null,null,6118886.7300000004,540349.44999999995,null,null,null,6118886.7300000004,"2010-12-14",6118719.9199999999,166.81,"CZ.1.11/2010/10","2010-10-27",248432.26,24.63,"2011-03-24",540349.44999999995,"2010-10-15",540334.72,14.73,null,null,null,null,null,null,null,null,null,null,null,null,null,2896001.32,null,null,6118886.7300000004,"2010-08-31",9555237.5,9554977,6118719.9206897672,540334.72102905251,0,0,0,0,0,2895922.3582811807,0,0,260.5,166.81636589388799,14.731296038501,0,0,0,0,0,78.952338067610995,0,0,6659236.1900000004,"2010-08-31",6659236.1900000004,181.55,6659054.6399999997,64.036992665599996,5.6550080762000006,null,null,null,null,null,30.307999258200002,null,null,"P2 Ukončena","Ne",{"$error":"#N/A"},"2010-08-31",6659236.1900000004,181.55,6659054.6399999997,64.036992665599996,5.6550080762000006,null,null,null,null,null,30.307999258200002,null,null,"P2 Ukončena","Ne",{"$error":"#N/A"}]
["02 3.2 a 3.3 - Rozvoj regionálních středisek, Rozvoj a stabilizace venkovských sídel","11.3.3","11.3","CZ.1.11/3.3.00/02.00710","Integrovaný komplex - multifunkční vzdělávací centrum","N13 Projekt ohodnocen, nedosáhl minimální bodové hranice","Obec Střelice","Obec",null,null,null,null,null,null,null,null,null,null,null,null,null,null,null,null,null,5,null," ",null,null,null,null,null,null,null,null,null,null,null,null,null,null,null,null,null,null,null,null,null,null,null,null,null,null,null,null,null,null,null,null,null,null,null,null,null,null,null,null,null,null,null,null,null,null,null,null,null,null,null,0,0,0,0,0,0,0,0,0,0,null,0,0,0,0,0,0,0,0,0,0,null,"2011-04-30",10003958,43836.98,9960121.0199999996,67.702505610200006,5.9733629465,null,null,null,null,null,26.324131443300001,null,null,"P1 Zahájena","Ne",{"$error":"#N/A"},"2011-04-30",10003958,43836.98,9960121.0199999996,67.702505610200006,5.9733629465,null,null,null,null,null,26.324131443300001,null,null,"P1 Zahájena","Ne",{"$error":"#N/A"}]
["02 3.2 a 3.3 - Rozvoj regionálních středisek, Rozvoj a stabilizace venkovských sídel","11.3.3","11.3","CZ.1.11/3.3.00/02.00711","Rozšíření a zkvalitnění výuky - ZŠ Výčapy","N2 Projekt nedoporučen / neschválen","OBEC VÝČAPY","Obec",null,null,null,null,null,null,null,null,null,null,null,null,null,null,null,null,null,1,null," ",null,null,null,null,null,null,null,null,null,null,null,null,null,null,null,null,null,null,null,null,null,null,null,null,null,null,null,null,null,null,null,null,null,null,null,null,null,null,null,null,null,null,null,null,null,null,null,null,null,null,null,0,0,0,0,0,0,0,0,0,0,null,0,0,0,0,0,0,0,0,0,0,null,"2009-09-30",3456813,113492.66,3343320.34,83.767512287900004,7.3912511795000002,null,null,null,null,null,8.8412365326,null,null,"P1 Zahájena","Ne",{"$error":"#N/A"},"2009-09-30",3456813,113492.66,3343320.34,83.767512287900004,7.3912511795000002,null,null,null,null,null,8.8412365326,null,null,"P1 Zahájena","Ne",{"$error":"#N/A"}]
["02 3.2 a 3.3 - Rozvoj regionálních středisek, Rozvoj a stabilizace venkovských sídel","11.3.3","11.3","CZ.1.11/3.3.00/02.00720","Modernizace výuky na ZŠ Rajhrad","P8 Projekt finálně uzavřen","Základní škola T.G. Masaryka Rajhrad, okres Brno - venkov, příspěvková organizace","Organizace zřízena obcí",5164941.83,455730.16,455730.16,0,0,0,0,0,455731.01,0,0,6076403,0,0,6076403,0,6076403,1,"01/00720","P4 Proplacena příjemci","POST","2009-11-19",1177744.78,null,null,null,null,1177744.78,"2009-08-31",null,null,null,null,1177744.78,103918.66,null,null,null,1177744.78,"2010-02-12",null,1177744.78,"CZ.1.11/2010/01","2010-01-29",44897.25,26.232000000000003,"2010-07-23",103918.66,"2009-08-31",null,103918.66,null,null,null,null,null,null,null,null,null,null,null,null,null,103918.85,null,null,1177744.78,"2009-08-31",1385582.29,null,0,0,0,0,0,0,0,0,0,0,1385582.29,1177744.7823209688,103918.6592077091,0,0,0,0,0,103918.84847132201,0,0,1406937,"2009-07-30",1406937,1406937,0,84.999988150899995,7.4999990948000006,null,null,null,null,null,7.5000127543000001,null,null,"P2 Ukončena","Ne",{"$error":"#N/A"},"2009-07-30",1406937,1406937,0,84.999988150899995,7.4999990948000006,null,null,null,null,null,7.5000127543000001,null,null,"P2 Ukončena","Ne",{"$error":"#N/A"}]
["02 3.2 a 3.3 - Rozvoj regionálních středisek, Rozvoj a stabilizace venkovských sídel","11.3.3","11.3","CZ.1.11/3.3.00/02.00726","Přístavba budovy sokolovny a rekonstrukce sportovního zařízení v Drnovicích","N2 Projekt nedoporučen / neschválen","OBEC DRNOVICE","Obec",null,null,null,null,null,null,null,null,null,null,null,null,null,null,null,null,null,4,null," ",null,null,null,null,null,null,null,null,null,null,null,null,null,null,null,null,null,null,null,null,null,null,null,null,null,null,null,null,null,null,null,null,null,null,null,null,null,null,null,null,null,null,null,null,null,null,null,null,null,null,null,0,0,0,0,0,0,0,0,0,0,null,0,0,0,0,0,0,0,0,0,0,null,"2010-06-30",1271652,1100,1270552,84.99999888619999,7.4999999535000006,null,null,null,null,null,7.5000011603000001,null,null,"P1 Zahájena","Ne",{"$error":"#N/A"},"2010-06-30",1271652,1100,1270552,84.99999888619999,7.4999999535000006,null,null,null,null,null,7.5000011603000001,null,null,"P1 Zahájena","Ne",{"$error":"#N/A"}]
["02 3.2 a 3.3 - Rozvoj regionálních středisek, Rozvoj a stabilizace venkovských sídel","11.3.3","11.3","CZ.1.11/3.3.00/02.00733","Víceúčelové sportoviště při ZŠ Blížkovice - II.etapa","N13 Projekt ohodnocen, nedosáhl minimální bodové hranice","Městys Blížkovice","Obec",null,null,null,null,null,null,null,null,null,null,null,null,null,null,null,null,null,1,null," ",null,null,null,null,null,null,null,null,null,null,null,null,null,null,null,null,null,null,null,null,null,null,null,null,null,null,null,null,null,null,null,null,null,null,null,null,null,null,null,null,null,null,null,null,null,null,null,null,null,null,null,0,0,0,0,0,0,0,0,0,0,null,0,0,0,0,0,0,0,0,0,0,null,"2009-08-31",8482387,0,8482387,84.999999201400001,7.4999999587000001,null,null,null,null,null,7.5000008399000002,null,null,"P1 Zahájena","Ne",{"$error":"#N/A"},"2009-08-31",8482387,0,8482387,84.999999201400001,7.4999999587000001,null,null,null,null,null,7.5000008399000002,null,null,"P1 Zahájena","Ne",{"$error":"#N/A"}]
["02 3.2 a 3.3 - Rozvoj regionálních středisek, Rozvoj a stabilizace venkovských sídel","11.3.2","11.3","CZ.1.11/3.2.00/02.00740","Digitalizace Nemocnice Blansko II","P8 Projekt finálně uzavřen","Nemocnice Blansko","Organizace zřízena obcí",19016072,1679280,1679280,0,0,0,0,0,8869437,0,0,29564789,0,0,29564789,0,29564789,1,"01/00740","P4 Proplacena příjemci","POST","2010-03-17",19012233.829999998,null,null,null,null,19012233.829999998,"2010-03-17",null,null,null,null,19012233.829999998,1678941.06,null,null,null,19012233.829999998,"2010-08-16",19002585.84,9647.99,"CZ.1.11/2010/04","2010-04-30",744410.1,25.54,"2010-07-23",1678941.06,"2010-03-17",1678089.06,852,null,null,null,null,null,null,null,null,null,null,null,null,null,8867646.8300000001,null,null,19012233.829999998,"2009-12-02",29558821.719999999,29543821.719999999,19002585.845708366,1678089.0585104756,0,0,0,0,0,8863146.8157811593,0,0,15000,9647.9998555050006,851.99999229000002,0,0,0,0,0,4500.0001522049997,0,0,20691174.899999999,"2009-12-31",20691174.899999999,10500,20680674.899999999,64.319999036699997,5.6799999485999999,null,null,null,null,null,30.0000010147,null,null,"P2 Ukončena","Ne",{"$error":"#N/A"},"2009-12-31",20691174.899999999,10500,20680674.899999999,64.319999036699997,5.6799999485999999,null,null,null,null,null,30.0000010147,null,null,"P2 Ukončena","Ne",{"$error":"#N/A"}]
["02 3.2 a 3.3 - Rozvoj regionálních středisek, Rozvoj a stabilizace venkovských sídel","11.3.3","11.3","CZ.1.11/3.3.00/02.00749","Vzdělávací a relaxační centrum při základní škole Golčův Jeníkov","N13 Projekt ohodnocen, nedosáhl minimální bodové hranice","MĚSTO GOLČŮV JENÍKOV","Obec",null,null,null,null,null,null,null,null,null,null,null,null,null,null,null,null,null,3,null," ",null,null,null,null,null,null,null,null,null,null,null,null,null,null,null,null,null,null,null,null,null,null,null,null,null,null,null,null,null,null,null,null,null,null,null,null,null,null,null,null,null,null,null,null,null,null,null,null,null,null,null,0,0,0,0,0,0,0,0,0,0,null,0,0,0,0,0,0,0,0,0,0,null,"2010-03-30",6000000,0,6000000,77.013051888900009,6.7952692951999998,null,null,null,null,null,16.191678815900001,null,null,"P1 Zahájena","Ne",{"$error":"#N/A"},"2010-03-30",6000000,0,6000000,77.013051888900009,6.7952692951999998,null,null,null,null,null,16.191678815900001,null,null,"P1 Zahájena","Ne",{"$error":"#N/A"}]
["02 3.2 a 3.3 - Rozvoj regionálních středisek, Rozvoj a stabilizace venkovských sídel","11.3.3","11.3","CZ.1.11/3.3.00/02.00749","Vzdělávací a relaxační centrum při základní škole Golčův Jeníkov","N13 Projekt ohodnocen, nedosáhl minimální bodové hranice","MĚSTO GOLČŮV JENÍKOV","Obec",null,null,null,null,null,null,null,null,null,null,null,null,null,null,null,null,null,4,null," ",null,null,null,null,null,null,null,null,null,null,null,null,null,null,null,null,null,null,null,null,null,null,null,null,null,null,null,null,null,null,null,null,null,null,null,null,null,null,null,null,null,null,null,null,null,null,null,null,null,null,null,0,0,0,0,0,0,0,0,0,0,null,0,0,0,0,0,0,0,0,0,0,null,"2010-06-30",6500000,0,6500000,77.013051888900009,6.7952692951999998,null,null,null,null,null,16.191678815900001,null,null,"P1 Zahájena","Ne",{"$error":"#N/A"},"2010-06-30",6500000,0,6500000,77.013051888900009,6.7952692951999998,null,null,null,null,null,16.191678815900001,null,null,"P1 Zahájena","Ne",{"$error":"#N/A"}]
["02 3.2 a 3.3 - Rozvoj regionálních středisek, Rozvoj a stabilizace venkovských sídel","11.3.2","11.3","CZ.1.11/3.2.00/02.00755","Regenerace městského parku a založení nové parkové plochy v lokalitě Polní","N13 Projekt ohodnocen, nedosáhl minimální bodové hranice","MĚSTO POHOŘELICE","Obec",null,null,null,null,null,null,null,null,null,null,null,null,null,null,null,null,null,1,null," ",null,null,null,null,null,null,null,null,null,null,null,null,null,null,null,null,null,null,null,null,null,null,null,null,null,null,null,null,null,null,null,null,null,null,null,null,null,null,null,null,null,null,null,null,null,null,null,null,null,null,null,0,0,0,0,0,0,0,0,0,0,null,0,0,0,0,0,0,0,0,0,0,null,"2010-04-10",8038656.5,311990,7726666.5,64.319999982400006,5.6800000175999994,null,null,null,null,null,30,null,null,"P1 Zahájena","Ne",{"$error":"#N/A"},"2010-04-10",8038656.5,311990,7726666.5,64.319999982400006,5.6800000175999994,null,null,null,null,null,30,null,null,"P1 Zahájena","Ne",{"$error":"#N/A"}]
["02 3.2 a 3.3 - Rozvoj regionálních středisek, Rozvoj a stabilizace venkovských sídel","11.3.3","11.3","CZ.1.11/3.3.00/02.00762","Koupaliště sportovní a volnočasové zařízení Moravské Málkovice","N13 Projekt ohodnocen, nedosáhl minimální bodové hranice","Obec Moravské Málkovice","Obec",null,null,null,null,null,null,null,null,null,null,null,null,null,null,null,null,null,2,null," ",null,null,null,null,null,null,null,null,null,null,null,null,null,null,null,null,null,null,null,null,null,null,null,null,null,null,null,null,null,null,null,null,null,null,null,null,null,null,null,null,null,null,null,null,null,null,null,null,null,null,null,0,0,0,0,0,0,0,0,0,0,null,0,0,0,0,0,0,0,0,0,0,null,"2009-10-30",7000000,0,7000000,84.99999434179999,7.4999995499000001,null,null,null,null,null,7.5000061083,null,null,"P1 Zahájena","Ne",{"$error":"#N/A"},"2009-10-30",7000000,0,7000000,84.99999434179999,7.4999995499000001,null,null,null,null,null,7.5000061083,null,null,"P1 Zahájena","Ne",{"$error":"#N/A"}]
["02 3.2 a 3.3 - Rozvoj regionálních středisek, Rozvoj a stabilizace venkovských sídel","11.3.2","11.3","CZ.1.11/3.2.00/02.00771","Revitalizace náměstí Bratří Čapků v Telči","P7 Výdaje projektu certifikovány","MĚSTO TELČ","Obec",6977018.7300000004,616129.77,616129.77,0,0,0,0,0,3254206.5,0,0,10847355,0,0,10847355,3955562.3,14802917.300000001,2,"02/00771","P4 Proplacena příjemci","POST","2011-03-17",4348949.1900000004,null,null,null,null,4348949.1900000004,"2011-03-17",null,null,null,null,4348949.1900000004,384049.01,null,null,null,4348949.1900000004,"2011-04-11",4348949.1900000004,null,"CZ.1.11/2011/03","2011-03-31",177305.5,24.528000000000002,"2011-07-28",384049.01,"2011-03-17",384049.01,null,null,null,null,null,null,null,null,null,null,null,null,null,null,2028427.8,null,null,4348949.1900000004,"2010-11-30",6761426,6761426,4348949.1994609311,384049.0005390686,0,0,0,0,0,2028427.8,0,0,null,0,0,0,0,0,0,0,0,0,0,4732998.2,"2010-10-31",4732998.2,0,4732998.2,64.319999944700001,5.6800000552999999,null,null,null,null,null,30,null,null,"P2 Ukončena","Ne",{"$error":"#N/A"},"2010-10-31",4732998.2,0,4732998.2,64.319999944700001,5.6800000552999999,null,null,null,null,null,30,null,null,"P2 Ukončena","Ne",{"$error":"#N/A"}]
["02 3.2 a 3.3 - Rozvoj regionálních středisek, Rozvoj a stabilizace venkovských sídel","11.3.3","11.3","CZ.1.11/3.3.00/02.00777","Aktivní centrum obce Ratíškovice","N13 Projekt ohodnocen, nedosáhl minimální bodové hranice","Obec RATÍŠKOVICE","Obec",null,null,null,null,null,null,null,null,null,null,null,null,null,null,null,null,null,5,null," ",null,null,null,null,null,null,null,null,null,null,null,null,null,null,null,null,null,null,null,null,null,null,null,null,null,null,null,null,null,null,null,null,null,null,null,null,null,null,null,null,null,null,null,null,null,null,null,null,null,null,null,0,0,0,0,0,0,0,0,0,0,null,0,0,0,0,0,0,0,0,0,0,null,"2011-03-31",6718432.5599999996,53371.5,6665061.0599999996,57.702369967600006,5.0913855872999996,null,null,null,null,null,37.206244445100005,null,null,"P1 Zahájena","Ne",{"$error":"#N/A"},"2011-03-31",6718432.5599999996,53371.5,6665061.0599999996,57.702369967600006,5.0913855872999996,null,null,null,null,null,37.206244445100005,null,null,"P1 Zahájena","Ne",{"$error":"#N/A"}]
["02 3.2 a 3.3 - Rozvoj regionálních středisek, Rozvoj a stabilizace venkovských sídel","11.3.2","11.3","CZ.1.11/3.2.00/02.00781","Rekonstrukce a dostavba areálu ZŠ Hradecká","P7 Výdaje projektu certifikovány","MĚSTO TELČ","Obec",76426745.920000002,6749128.0700000003,6749128.0700000003,0,0,0,0,0,36436243.009999998,0,0,119612117,0,0,119612117,6010630,125622747,1,"01/00781","P4 Proplacena příjemci","POST","2010-10-15",14086931.800000001,null,null,null,null,14086931.800000001,"2010-10-15",null,null,null,null,14086931.800000001,1243995.22,null,null,null,14086931.800000001,"2010-12-14",14086931.800000001,null,"CZ.1.11/2010/10","2010-10-27",571942.01,24.63,"2011-03-24",1243995.22,"2010-10-15",1243995.22,null,null,null,null,null,null,null,null,null,null,null,null,null,null,6715906.3799999999,null,null,14086931.800000001,"2010-07-23",26984054,26984054,17241593.000297766,1522578.4883825027,0,0,0,0,0,8219882.5113197314,0,0,null,0,0,0,0,0,0,0,0,0,0,15331541.52,"2010-06-23",15331541.52,0,15331541.52,63.895488054899999,5.6425120124000001,null,null,null,null,null,30.4619999327,null,null,"P2 Ukončena","Ne",{"$error":"#N/A"},"2010-06-23",15331541.52,0,15331541.52,63.895488054899999,5.6425120124000001,null,null,null,null,null,30.4619999327,null,null,"P2 Ukončena","Ne",{"$error":"#N/A"}]
["02 3.2 a 3.3 - Rozvoj regionálních středisek, Rozvoj a stabilizace venkovských sídel","11.3.2","11.3","CZ.1.11/3.2.00/02.00781","Rekonstrukce a dostavba areálu ZŠ Hradecká","P7 Výdaje projektu certifikovány","MĚSTO TELČ","Obec",76426745.920000002,6749128.0700000003,6749128.0700000003,0,0,0,0,0,36436243.009999998,0,0,119612117,0,0,119612117,6010630,125622747,2,"02/00781","P4 Proplacena příjemci","POST","2010-12-22",12359453.130000001,null,null,null,null,12359453.130000001,"2010-12-22",null,null,null,null,12359453.130000001,1091444.24,null,null,null,12359453.130000001,"2011-08-08",12359453.130000001,null,"CZ.1.11/2011/07","2011-07-28",510404.84,24.215,"2011-11-23",1091444.24,"2010-12-22",1091444.24,null,null,null,null,null,null,null,null,null,null,null,null,null,null,5892335.6299999999,null,null,12359453.130000001,"2010-11-19",19343233,19343233,12359453.130946474,1091444.2456115209,0,0,0,0,0,5892335.6234420044,0,0,null,0,0,0,0,0,0,0,0,0,0,13450897.369999999,"2010-10-21",13450897.369999999,0,13450897.369999999,63.895488054899999,5.6425120124000001,null,null,null,null,null,30.4619999327,null,null,"P2 Ukončena","Ne",{"$error":"#N/A"},"2010-10-21",13450897.369999999,0,13450897.369999999,63.895488054899999,5.6425120124000001,null,null,null,null,null,30.4619999327,null,null,"P2 Ukončena","Ne",{"$error":"#N/A"}]
["02 3.2 a 3.3 - Rozvoj regionálních středisek, Rozvoj a stabilizace venkovských sídel","11.3.2","11.3","CZ.1.11/3.2.00/02.00787","Sportovní centrum- přístavba plaveckého bazénu a relaxačního centra","N13 Projekt ohodnocen, nedosáhl minimální bodové hranice","Město Ledeč nad Sázavou","Obec",null,null,null,null,null,null,null,null,null,null,null,null,null,null,null,null,null,1,null," ",null,null,null,null,null,null,null,null,null,null,null,null,null,null,null,null,null,null,null,null,null,null,null,null,null,null,null,null,null,null,null,null,null,null,null,null,null,null,null,null,null,null,null,null,null,null,null,null,null,null,null,0,0,0,0,0,0,0,0,0,0,null,0,0,0,0,0,0,0,0,0,0,null,"2010-01-29",20206900,0,20206900,64.319999998100002,5.6800000018999999,null,null,null,null,null,30,null,null,"P1 Zahájena","Ne",{"$error":"#N/A"},"2010-01-29",20206900,0,20206900,64.319999998100002,5.6800000018999999,null,null,null,null,null,30,null,null,"P1 Zahájena","Ne",{"$error":"#N/A"}]
["02 3.2 a 3.3 - Rozvoj regionálních středisek, Rozvoj a stabilizace venkovských sídel","11.3.2","11.3","CZ.1.11/3.2.00/02.00791","ZŠ Pacov, Náměstí Svobody - více než jen škola","N2 Projekt nedoporučen / neschválen","Město Pacov","Obec",null,null,null,null,null,null,null,null,null,null,null,null,null,null,null,null,null,1,null," ",null,null,null,null,null,null,null,null,null,null,null,null,null,null,null,null,null,null,null,null,null,null,null,null,null,null,null,null,null,null,null,null,null,null,null,null,null,null,null,null,null,null,null,null,null,null,null,null,null,null,null,0,0,0,0,0,0,0,0,0,0,null,0,0,0,0,0,0,0,0,0,0,null,"2009-10-30",6631149,186270,6444879,64.319999957800007,5.6800000421999997,null,null,null,null,null,30,null,null,"P1 Zahájena","Ne",{"$error":"#N/A"},"2009-10-30",6631149,186270,6444879,64.319999957800007,5.6800000421999997,null,null,null,null,null,30,null,null,"P1 Zahájena","Ne",{"$error":"#N/A"}]
["02 3.2 a 3.3 - Rozvoj regionálních středisek, Rozvoj a stabilizace venkovských sídel","11.3.2","11.3","CZ.1.11/3.2.00/02.00801","Penzion pro seniory s denním stacionářem - zkvalitnění občanské vybavenosti v oblasti sociální péče","N2 Projekt nedoporučen / neschválen","Město Bučovice","Obec",null,null,null,null,null,null,null,null,null,null,null,null,null,null,null,null,null,1,null," ",null,null,null,null,null,null,null,null,null,null,null,null,null,null,null,null,null,null,null,null,null,null,null,null,null,null,null,null,null,null,null,null,null,null,null,null,null,null,null,null,null,null,null,null,null,null,null,null,null,null,null,0,0,0,0,0,0,0,0,0,0,null,0,0,0,0,0,0,0,0,0,0,null,"2008-12-31",12511843,208250,12303593,64.319999979499997,5.6800000204999996,null,null,null,null,null,30,null,null,"P1 Zahájena","Ne",{"$error":"#N/A"},"2008-12-31",12511843,208250,12303593,64.319999979499997,5.6800000204999996,null,null,null,null,null,30,null,null,"P1 Zahájena","Ne",{"$error":"#N/A"}]
["02 3.2 a 3.3 - Rozvoj regionálních středisek, Rozvoj a stabilizace venkovských sídel","11.3.3","11.3","CZ.1.11/3.3.00/02.00809","Obnova veřejného prostranství u kostela sv. Petra a Pavla v Miroslavi","N13 Projekt ohodnocen, nedosáhl minimální bodové hranice","Město Miroslav","Obec",null,null,null,null,null,null,null,null,null,null,null,null,null,null,null,null,null,1,null," ",null,null,null,null,null,null,null,null,null,null,null,null,null,null,null,null,null,null,null,null,null,null,null,null,null,null,null,null,null,null,null,null,null,null,null,null,null,null,null,null,null,null,null,null,null,null,null,null,null,null,null,0,0,0,0,0,0,0,0,0,0,null,0,0,0,0,0,0,0,0,0,0,null,"2010-06-30",5462310,236051.68,5226258.32,85,7.5,null,null,null,null,null,7.5,null,null,"P1 Zahájena","Ne",{"$error":"#N/A"},"2010-06-30",5462310,236051.68,5226258.32,85,7.5,null,null,null,null,null,7.5,null,null,"P1 Zahájena","Ne",{"$error":"#N/A"}]
["02 3.2 a 3.3 - Rozvoj regionálních středisek, Rozvoj a stabilizace venkovských sídel","11.3.3","11.3","CZ.1.11/3.3.00/02.00817","Regenerace veřejného prostranství Hevlín","P8 Projekt finálně uzavřen","Obec Hevlín","Obec",4159459.83,367011.16,367011.16,0,0,0,0,0,367012.01,0,0,4893483,0,0,4893483,1455585,6349068,1,"01/00817","P4 Proplacena příjemci","POST","2010-06-01",3963980.77,null,null,null,null,3963980.77,"2010-06-01",null,null,null,null,3963980.77,349763.02,null,null,null,3963980.77,"2010-09-15",3963980.77,null,"CZ.1.11/2010/08","2010-09-02",159786.39000000001,24.808,"2010-11-08",349763.02,"2010-06-01",349763.02,null,null,null,null,null,null,null,null,null,null,null,null,null,null,349763.81,null,null,3963980.77,"2010-03-25",4893483,4893483,4159459.8300022725,367011.16999725107,0,0,0,0,0,367012.00000047666,0,0,null,0,0,0,0,0,0,0,0,0,0,4526471,"2010-01-30",4526470.99,0,4526470.99,84.999985286599994,7.4999988760000003,null,null,null,null,null,7.5000158374000003,null,null,"P2 Ukončena","Ne",{"$error":"#N/A"},"2010-01-30",4526470.99,0,4526470.99,84.999985286599994,7.4999988760000003,null,null,null,null,null,7.5000158374000003,null,null,"P2 Ukončena","Ne",{"$error":"#N/A"}]
["02 3.2 a 3.3 - Rozvoj regionálních středisek, Rozvoj a stabilizace venkovských sídel","11.3.2","11.3","CZ.1.11/3.2.00/02.00819","Relax-sport zóna Bystřice nad Pernštejnem","N13 Projekt ohodnocen, nedosáhl minimální bodové hranice","MĚSTO BYSTŘICE NAD PERNŠTEJNEM","Obec",null,null,null,null,null,null,null,null,null,null,null,null,null,null,null,null,null,3,null," ",null,null,null,null,null,null,null,null,null,null,null,null,null,null,null,null,null,null,null,null,null,null,null,null,null,null,null,null,null,null,null,null,null,null,null,null,null,null,null,null,null,null,null,null,null,null,null,null,null,null,null,0,0,0,0,0,0,0,0,0,0,null,0,0,0,0,0,0,0,0,0,0,null,"2010-05-31",15841701,0,15841701,64.319999082799995,5.6799999213000003,null,null,null,null,null,30.000000995899999,null,null,"P1 Zahájena","Ne",{"$error":"#N/A"},"2010-05-31",15841701,0,15841701,64.319999082799995,5.6799999213000003,null,null,null,null,null,30.000000995899999,null,null,"P1 Zahájena","Ne",{"$error":"#N/A"}]
["02 3.2 a 3.3 - Rozvoj regionálních středisek, Rozvoj a stabilizace venkovských sídel","11.3.3","11.3","CZ.1.11/3.3.00/02.00824","Rodný dům B. Václavka - centrum pro spolkové, volnočasové a sportovní aktivity","N2 Projekt nedoporučen / neschválen","OBEC ČÁSLAVICE","Obec",null,null,null,null,null,null,null,null,null,null,null,null,null,null,null,null,null,4,null," ",null,null,null,null,null,null,null,null,null,null,null,null,null,null,null,null,null,null,null,null,null,null,null,null,null,null,null,null,null,null,null,null,null,null,null,null,null,null,null,null,null,null,null,null,null,null,null,null,null,null,null,0,0,0,0,0,0,0,0,0,0,null,0,0,0,0,0,0,0,0,0,0,null,"2010-06-20",2361669,0,2361669,84.999993577499993,7.499999506,null,null,null,null,null,7.5000069165000003,null,null,"P1 Zahájena","Ne",{"$error":"#N/A"},"2010-06-20",2361669,0,2361669,84.999993577499993,7.499999506,null,null,null,null,null,7.5000069165000003,null,null,"P1 Zahájena","Ne",{"$error":"#N/A"}]
["02 3.2 a 3.3 - Rozvoj regionálních středisek, Rozvoj a stabilizace venkovských sídel","11.3.3","11.3","CZ.1.11/3.3.00/02.00833","Přístavba tělocvičny ZŠ O. Březiny","P7 Výdaje projektu certifikovány","MĚSTO JAROMĚŘICE NAD ROKYTNOU","Obec",31683923.879999999,2795640.35,2795640.35,0,0,0,0,0,2795640.77,0,0,37275205,0,0,37275205,7971275,45246480,1,"01/00833","P4 Proplacena příjemci","POST","2010-04-12",13220953.380000001,null,null,null,null,13220953.380000001,"2010-04-12",null,null,null,null,13220953.380000001,1166554.72,null,null,null,13220953.380000001,"2010-08-16",13129535.890000001,91417.49,"CZ.1.11/2010/04","2010-04-30",517656.74,25.54,"2010-07-23",1166554.72,"2010-04-12",1158488.47,8066.25,null,null,null,null,null,null,null,null,null,null,null,null,null,1166554.8999999999,null,null,13220953.380000001,"2010-04-06",15554063,15446513,13129535.898716852,1158488.4627354688,0,0,0,0,0,1158488.6385476796,0,0,107550,91417.498946655294,8066.2499146052996,0,0,0,0,0,8066.2511387393997,0,0,14387508.279999999,"2010-03-31",14387508.279999999,99483.75,14288024.529999999,84.999999020600001,7.4999999206000005,null,null,null,null,null,7.5000010587999997,null,null,"P2 Ukončena","Ne",{"$error":"#N/A"},"2010-03-31",14387508.279999999,99483.75,14288024.529999999,84.999999020600001,7.4999999206000005,null,null,null,null,null,7.5000010587999997,null,null,"P2 Ukončena","Ne",{"$error":"#N/A"}]
["02 3.2 a 3.3 - Rozvoj regionálních středisek, Rozvoj a stabilizace venkovských sídel","11.3.3","11.3","CZ.1.11/3.3.00/02.00838","Sobůlky - jak se Vám líbí?","N13 Projekt ohodnocen, nedosáhl minimální bodové hranice","Obec Sobůlky","Obec",null,null,null,null,null,null,null,null,null,null,null,null,null,null,null,null,null,1,null," ",null,null,null,null,null,null,null,null,null,null,null,null,null,null,null,null,null,null,null,null,null,null,null,null,null,null,null,null,null,null,null,null,null,null,null,null,null,null,null,null,null,null,null,null,null,null,null,null,null,null,null,0,0,0,0,0,0,0,0,0,0,null,0,0,0,0,0,0,0,0,0,0,null,"2009-02-15",1847315.19,29137.5,1818177.69,84.999999749599993,7.5000001251999997,null,null,null,null,null,7.5000001251999997,null,null,"P1 Zahájena","Ne",{"$error":"#N/A"},"2009-02-15",1847315.19,29137.5,1818177.69,84.999999749599993,7.5000001251999997,null,null,null,null,null,7.5000001251999997,null,null,"P1 Zahájena","Ne",{"$error":"#N/A"}]
["02 3.2 a 3.3 - Rozvoj regionálních středisek, Rozvoj a stabilizace venkovských sídel","11.3.3","11.3","CZ.1.11/3.3.00/02.00844","Kulturní, společenské a sportovní centrum Rajhradice","N13 Projekt ohodnocen, nedosáhl minimální bodové hranice","Obec Rajhradice","Obec",null,null,null,null,null,null,null,null,null,null,null,null,null,null,null,null,null,2,null," ",null,null,null,null,null,null,null,null,null,null,null,null,null,null,null,null,null,null,null,null,null,null,null,null,null,null,null,null,null,null,null,null,null,null,null,null,null,null,null,null,null,null,null,null,null,null,null,null,null,null,null,0,0,0,0,0,0,0,0,0,0,null,0,0,0,0,0,0,0,0,0,0,null,"2010-07-01",4924916.22,12347.27,4912568.95,30.256384355800002,2.6696809876000001,null,null,null,null,null,67.073934656600002,null,null,"P1 Zahájena","Ne",{"$error":"#N/A"},"2010-07-01",4924916.22,12347.27,4912568.95,30.256384355800002,2.6696809876000001,null,null,null,null,null,67.073934656600002,null,null,"P1 Zahájena","Ne",{"$error":"#N/A"}]
["02 3.2 a 3.3 - Rozvoj regionálních středisek, Rozvoj a stabilizace venkovských sídel","11.3.2","11.3","CZ.1.11/3.2.00/02.00845","Kulturní dům Nové Město na Moravě - rekonstrukce části objektu A1 a přístavba objektu A2","P8 Projekt finálně uzavřen","MĚSTO NOVÉ MĚSTO NA MORAVĚ","Obec",16486737.810000001,1455918.39,1455918.39,0,0,0,0,0,7689709.7999999998,0,0,25632366,0,0,25632366,11937294,37569660,3,"03/00845","P4 Proplacena příjemci","POST","2010-09-10",2853126.34,null,null,null,null,2853126.34,"2010-09-10",null,null,null,null,2853126.34,251955.19,null,null,null,2853126.34,"2010-12-14",2680561.5699999998,172564.77,"CZ.1.11/2010/09","2010-10-01",116122.35,24.57,"2011-03-24",251955.19,"2010-09-10",236716.26,15238.93,null,null,null,null,null,null,null,null,null,null,null,null,null,1330749.23,null,null,2853126.34,"2010-06-14",4435830.76,4167539.76,2680561.573632,236716.25836800001,0,0,0,0,0,1250261.9280000001,0,0,268291,172564.77119999999,15238.9288,0,0,0,0,0,80487.3,0,0,3105081.72,"2010-06-14",3105081.72,268291,2836790.72,64.319999999999993,5.68,null,null,null,null,null,30,null,null,"P2 Ukončena","Ne",{"$error":"#N/A"},"2010-06-14",3105081.72,268291,2836790.72,64.319999999999993,5.68,null,null,null,null,null,30,null,null,"P2 Ukončena","Ne",{"$error":"#N/A"}]
["02 3.2 a 3.3 - Rozvoj regionálních středisek, Rozvoj a stabilizace venkovských sídel","11.3.3","11.3","CZ.1.11/3.3.00/02.00851","Kulturně sportovně vzdělávací centrum obce Sobůlky","P7 Výdaje projektu certifikovány","Obec Sobůlky","Obec",13874117.18,1224186.82,1224186.82,0,0,0,0,0,1224187,0,0,16322491,0,0,16322491,427191,16749682,2,"02/00851","P4 Proplacena příjemci","POST","2010-06-30",4234853.79,null,null,null,null,4234853.79,"2010-06-30",null,null,null,null,4234853.79,373663.58,null,null,null,4234853.79,"2010-08-16",4234853.79,null,"CZ.1.11/2010/07","2010-07-23",171015.38,24.763000000000002,"2010-11-08",373663.58,"2010-06-30",373663.58,null,null,null,null,null,null,null,null,null,null,null,null,null,null,373663.63,null,null,4234853.79,"2010-06-23",4982181,4982181,4234853.7981105847,373663.57347545261,0,0,0,0,0,373663.62841396249,0,0,null,0,0,0,0,0,0,0,0,0,0,4608517.43,"2010-05-31",4608517.43,44400,4564117.43,84.999998958500001,7.4999999694000001,null,null,null,null,null,7.5000010720999999,null,null,"P2 Ukončena","Ne",{"$error":"#N/A"},"2010-05-31",4608517.43,44400,4564117.43,84.999998958500001,7.4999999694000001,null,null,null,null,null,7.5000010720999999,null,null,"P2 Ukončena","Ne",{"$error":"#N/A"}]
["02 3.2 a 3.3 - Rozvoj regionálních středisek, Rozvoj a stabilizace venkovských sídel","11.3.3","11.3","CZ.1.11/3.3.00/02.00856","Sportujeme a bavíme se v Kovalovicích","N13 Projekt ohodnocen, nedosáhl minimální bodové hranice","Obec Kovalovice","Obec",null,null,null,null,null,null,null,null,null,null,null,null,null,null,null,null,null,4,null," ",null,null,null,null,null,null,null,null,null,null,null,null,null,null,null,null,null,null,null,null,null,null,null,null,null,null,null,null,null,null,null,null,null,null,null,null,null,null,null,null,null,null,null,null,null,null,null,null,null,null,null,0,0,0,0,0,0,0,0,0,0,null,0,0,0,0,0,0,0,0,0,0,null,"2010-04-30",1943558,0,1943558,80.85928513910001,7.1346428353000002,null,null,null,null,null,12.0060720256,null,null,"P1 Zahájena","Ne",{"$error":"#N/A"},"2010-04-30",1943558,0,1943558,80.85928513910001,7.1346428353000002,null,null,null,null,null,12.0060720256,null,null,"P1 Zahájena","Ne",{"$error":"#N/A"}]
["03 03 - Rozvoj infrastruktury pro nemotorovou dopravu","11.1.4","11.1","CZ.1.11/1.4.00/03.00865","Dostavba bezpečných úseků na cyklotrase Brno-Vídeň na území ČR - I. etapa","N12 Projektová žádost nesplnila formální náležitosti","Cyklistická stezka Brno - Vídeň","Sdružení obcí",null,null,null,null,null,null,null,null,null,null,null,null,null,null,null,null,null,4,null," ",null,null,null,null,null,null,null,null,null,null,null,null,null,null,null,null,null,null,null,null,null,null,null,null,null,null,null,null,null,null,null,null,null,null,null,null,null,null,null,null,null,null,null,null,null,null,null,null,null,null,null,0,0,0,0,0,0,0,0,0,0,null,0,0,0,0,0,0,0,0,0,0,null,"2010-08-16",10194993,119000,10075993,84.999999866599993,7.4999999905000001,null,null,null,null,null,null,7.5000001429000003,null,"P1 Zahájena","Ne",{"$error":"#N/A"},"2010-08-16",10194993,119000,10075993,84.999999866599993,7.4999999905000001,null,null,null,null,null,null,7.5000001429000003,null,"P1 Zahájena","Ne",{"$error":"#N/A"}]
["04 04 - 4 - Technická pomoc","11.4.2","11.4","CZ.1.11/4.2.00/04.00870","Podpora absorpční kapacity ROP Jihovýchod v letech 2009-2015","P45 Projekt v realizaci","Regionální rada regionu soudržnosti Jihovýchod","Regionální rada",119459000,21081000,10540500,10540500,4743225,5797275,0,0,0,0,0,140540000,0,0,140540000,1050000,141590000,2,"2/00870","P4 Proplacena příjemci","ANTE","2009-11-23",9035554.4600000009,797254.8,358764.66,438490.16,null,9035554.4600000009,"2009-09-10",797254.8,358764.66,438490.16,null,2352241.46,207550.71,93397.83,114152.9,null,2352241.46,"2010-01-19",null,2352241.46,"CZ.1.11/2009/12","2009-12-30",89100.06,26.4,"2010-04-23",207550.71,"2010-01-19",null,207550.71,93397.83,"2010-01-19",null,93397.83,114152.9,"2010-01-19",null,114152.9,null,null,null,null,null,null,null,null,2352241.46,"2009-06-17",2767342.9,null,0,0,0,0,0,0,0,0,0,0,2767342.9,2352241.4649999999,207550.7175,93397.822874999998,114152.894625,0,0,0,0,0,0,12524528.189999999,"2009-06-01",14507796,14507796,0,85,7.5,3.375,4.125,null,null,null,null,null,null,"P1 Zahájena","Ne",{"$error":"#N/A"},"2009-06-01",14507796,14507796,0,85,7.5,3.375,4.125,null,null,null,null,null,null,"P1 Zahájena","Ne",{"$error":"#N/A"}]
["04 04 - 4 - Technická pomoc","11.4.2","11.4","CZ.1.11/4.2.00/04.00870","Podpora absorpční kapacity ROP Jihovýchod v letech 2009-2015","P45 Projekt v realizaci","Regionální rada regionu soudržnosti Jihovýchod","Regionální rada",119459000,21081000,10540500,10540500,4743225,5797275,0,0,0,0,0,140540000,0,0,140540000,1050000,141590000,7,"07/00870","P4 Proplacena příjemci","ANTE","2013-05-16",null,null,null,null,null,null,null,null,null,null,null,5987583.71,528316.19999999995,237742.29,290573.93,null,5987583.71,"2013-07-09",null,5987583.71,"CZ.1.11/2013/06","2013-06-28",231270.13,25.89,"2013-12-16",528316.19999999995,"2013-07-09",null,528316.19999999995,237742.29,"2013-07-09",null,237742.29,290573.93,"2013-07-09",null,290573.93,null,null,null,null,null,null,null,null,5987583.71,"2013-04-05",7051724.4299999997,0,0,0,0,0,0,0,0,0,0,0,7051724.4299999997,5993965.7654999997,528879.33224999998,237995.6995125,290883.63273750001,0,0,0,0,0,0,0,"2013-01-31",0,0,0,85,7.5,3.375,4.125,null,null,null,null,null,null,"P1 Zahájena","Ne",{"$error":"#N/A"},"2013-01-31",0,0,0,85,7.5,3.375,4.125,null,null,null,null,null,null,"P1 Zahájena","Ne",{"$error":"#N/A"}]
["04 04 - 4 - Technická pomoc","11.4.1","11.4","CZ.1.11/4.1.00/04.00871","Aktivity spojené s realizací a řízením ROP Jihovýchod v letech 2009-2015","P45 Projekt v realizaci","Regionální rada regionu soudržnosti Jihovýchod","Regionální rada",406718369.14999998,71773829.849999994,35886914.920000002,35886914.93,16149111.710000001,19737803.219999999,0,0,0,0,0,478492199,0,0,478492199,5600000,484092199,11,"11/00871","P1 Zaregistrována","ANTE","2015-03-13",null,null,null,null,null,null,null,null,null,null,null,null,null,null,null,null,null,null,null,null,null,null,null,null,null,null,null,null,null,null,null,null,null,null,null,null,null,null,null,null,null,null,null,null,null,null,"2015-03-31",70591384.819999993,2633736.1,2238675.6850000001,197530.20749999999,88888.593374999997,108641.61412499999,0,0,0,0,0,0,67957648.719999999,57764001.412,5096823.6540000001,2293570.6442999998,2803253.0096999998,0,0,0,0,0,0,0,"2015-03-31",0,0,0,85,7.5,3.375,4.125,null,null,null,null,null,null,"P1 Zahájena","Ne",{"$error":"#N/A"},"2015-03-31",0,0,0,85,7.5,3.375,4.125,null,null,null,null,null,null,"P1 Zahájena","Ne",{"$error":"#N/A"}]
["02 Letiště, urbanizační centra a služby regionálního významu (1.1, 3.1, 3.4)","11.3.1","11.3","CZ.1.11/3.1.00/02.00877","SALVe-Salesiánský areál pro líšeňskou veřejnost-rozšíření možností volnočasových a sport. aktivit","N5 Projektová žádost stažena žadatelem/ukončena ŘO/ZS","Salesiánská provincie Praha","Veřejná nestátní nezisková organizace",null,null,null,null,null,null,null,null,null,null,null,null,null,null,null,null,null,4,null," ",null,null,null,null,null,null,null,null,null,null,null,null,null,null,null,null,null,null,null,null,null,null,null,null,null,null,null,null,null,null,null,null,null,null,null,null,null,null,null,null,null,null,null,null,null,null,null,null,null,null,null,0,0,0,0,0,0,0,0,0,0,null,0,0,0,0,0,0,0,0,0,0,null,"2010-09-30",8914940.0999999996,13138.5,8901801.5999999996,80.488108652999998,7.1018919849000008,null,null,null,null,null,null,12.409999362100001,null,"P1 Zahájena","Ne",{"$error":"#N/A"},"2010-09-30",8914940.0999999996,13138.5,8901801.5999999996,80.488108652999998,7.1018919849000008,null,null,null,null,null,null,12.409999362100001,null,"P1 Zahájena","Ne",{"$error":"#N/A"}]
["02 Letiště, urbanizační centra a služby regionálního významu (1.1, 3.1, 3.4)","11.3.1","11.3","CZ.1.11/3.1.00/02.00883","SALVe-Salesiánský areál pro líšeňskou veřejnost-rozšíření možností volnočasových a sport. aktivit","P7 Výdaje projektu certifikovány","Salesiánská provincie Praha","Neveřejná nestátní nezisková organizace",29747504.760000002,5251785.38,2625892.6800000002,2625892.7000000002,0,2625892.7000000002,0,0,0,0,4958798.8600000003,39958089,0,0,39958089,365984,40324073,3,"03/00883","P4 Proplacena příjemci","POST","2010-10-07",8590392.3000000007,null,null,null,null,8590392.3000000007,"2010-10-07",null,null,null,null,8590392.3000000007,758297.15,null,758297.17,null,8590392.3000000007,"2010-12-14",8590392.3000000007,null,"CZ.1.11/2010/10","2010-10-27",348777.6,24.63,"2011-03-24",758297.15,"2010-10-07",758297.15,null,null,null,null,null,758297.17,"2010-10-07",758297.17,null,null,null,null,null,null,null,null,1431986.58,8590392.3000000007,"2010-07-29",11538973.199999999,11538973.199999999,8590392.3059958704,758297.15631882695,0,758297.16208831361,0,0,0,0,0,1431986.5755969887,null,0,0,0,0,0,0,0,0,0,0,10106986.630000001,"2010-07-30",10106986.630000001,0,10106986.630000001,74.446765384599999,6.5716172763000005,null,6.5716173263000002,null,null,null,null,null,12.410000012799999,"P2 Ukončena","Ne",{"$error":"#N/A"},"2010-07-30",10106986.630000001,0,10106986.630000001,74.446765384599999,6.5716172763000005,null,6.5716173263000002,null,null,null,null,null,12.410000012799999,"P2 Ukončena","Ne",{"$error":"#N/A"}]
["02 1.1 - Rozvoj dopravní obslužnosti v regionu - silnice","11.1.1","11.1","CZ.1.11/1.1.00/02.00893","III/03810 Havlíčkův Brod - Přibyslav","P8 Projekt finálně uzavřen","Kraj Vysočina","Kraj",48767759.950000003,4303037.6399999997,4303037.6399999997,0,0,0,0,4303037.6500000004,0,0,0,57373835.240000002,0,0,57373835.240000002,1215041.7,58588876.939999998,1,"01/00893","P4 Proplacena příjemci","POST","2010-02-16",48678666.770000003,null,null,null,null,48678666.770000003,"2010-02-16",null,null,null,null,48678666.770000003,4295176.4800000004,null,null,null,48678666.770000003,"2010-08-16",48678666.770000003,null,"CZ.1.11/2010/04","2010-04-30",1905977.56,25.54,"2010-07-23",4295176.4800000004,"2010-02-16",4295176.4800000004,null,null,null,null,null,null,null,null,null,null,null,null,null,4295176.49,null,null,null,48678666.770000003,"2009-12-16",57373835.240000002,57373835.240000002,48767759.954000004,4303037.6381232236,0,0,0,0,4303037.6478767758,0,0,0,null,0,0,0,0,0,0,0,0,0,0,53070797.590000004,"2010-01-10",53070797.590000004,0,53070797.590000004,85,7.4999999915000002,null,null,null,null,7.5000000084999998,null,null,null,"P2 Ukončena","Ne",{"$error":"#N/A"},"2010-01-10",53070797.590000004,0,53070797.590000004,85,7.4999999915000002,null,null,null,null,7.5000000084999998,null,null,null,"P2 Ukončena","Ne",{"$error":"#N/A"}]
["02 1.1 - Rozvoj dopravní obslužnosti v regionu - silnice","11.1.1","11.1","CZ.1.11/1.1.00/02.00898","II/351 od II/602 - Třebíč","P8 Projekt finálně uzavřen","Kraj Vysočina","Kraj",97178731.269999996,8574593.9399999995,8574593.9399999995,0,0,0,0,8574593.9399999995,0,0,0,114327919.15000001,0,0,114327919.15000001,10003481.77,124331400.92,1,"01/00898","P4 Proplacena příjemci","POST","2010-02-22",97023890.170000002,null,null,null,null,97023890.170000002,"2010-02-16",null,null,null,null,97023890.170000002,8560931.4900000002,null,null,null,97023890.170000002,"2010-08-16",97023890.170000002,null,"CZ.1.11/2010/02","2010-02-26",3741040.69,25.934999999999999,"2010-07-23",8560931.4900000002,"2010-02-16",8560931.4900000002,null,null,null,null,null,null,null,null,null,null,null,null,null,8560931.4900000002,null,null,null,97023890.170000002,"2009-12-23",114327919.15000001,114327919.15000001,97178731.277500004,8574593.9362499993,0,0,0,0,8574593.9362499993,0,0,0,null,0,0,0,0,0,0,0,0,0,0,105753325.20999999,"2010-01-10",105753325.20999999,0,105753325.20999999,85,7.5,null,null,null,null,7.5,null,null,null,"P2 Ukončena","Ne",{"$error":"#N/A"},"2010-01-10",105753325.20999999,0,105753325.20999999,85,7.5,null,null,null,null,7.5,null,null,null,"P2 Ukončena","Ne",{"$error":"#N/A"}]
["02 1.1 - Rozvoj dopravní obslužnosti v regionu - silnice","11.1.1","11.1","CZ.1.11/1.1.00/02.00906","II/151, III/15113 od I/38 - Budeč+Štěpkov-Budkov","P8 Projekt finálně uzavřen","Kraj Vysočina","Kraj",59213971.710000001,5224762.21,5224762.21,0,0,0,0,5224762.22,0,0,0,69663496.140000001,0,0,69663496.140000001,11523233.859999999,81186730,1,"01/00906","P4 Proplacena příjemci","POST","2010-02-16",56813046.689999998,null,null,null,null,56813046.689999998,"2010-02-16",null,null,null,null,56813046.689999998,5012915.88,null,null,null,56813046.689999998,"2010-06-02",56813046.689999998,null,"CZ.1.11/2010/03","2010-04-02",2232953.92,25.443000000000001,"2010-07-23",5012915.88,"2010-02-16",5012915.88,null,null,null,null,null,null,null,null,null,null,null,null,null,5012915.8899999997,null,null,null,56813046.689999998,"2009-12-23",67009143.859999999,67009143.859999999,56957772.281000003,5025685.7895,0,0,0,0,5025685.7895,0,0,0,null,0,0,0,0,0,0,0,0,0,0,61983458.07,"2010-01-10",61983458.07,0,61983458.07,85,7.5,null,null,null,null,7.5,null,null,null,"P2 Ukončena","Ne",{"$error":"#N/A"},"2010-01-10",61983458.07,0,61983458.07,85,7.5,null,null,null,null,7.5,null,null,null,"P2 Ukončena","Ne",{"$error":"#N/A"}]
["05 1.2 - Rozvoj dopravní obslužnosti a veřejné dopravy (mimo ekobusů)","11.1.2","11.1","CZ.1.11/1.2.00/05.00915","Zavedení intermodálních informačních služeb dopravní telematiky - rozvoj CED a II.etapa budování ELP","P7 Výdaje projektu certifikovány","KORDIS JMK, a.s.","Organizace založená krajem",19541500,1724250,1724250,0,0,0,0,1724250,0,0,0,22990000,0,0,22990000,4062261.75,27052261.75,2,"02/00915","P4 Proplacena příjemci","POST","2015-03-24",5454394.0700000003,null,null,null,null,5454394.0700000003,"2015-03-24",null,null,null,null,5454394.0700000003,481270.06,null,null,null,5454394.0700000003,"2015-04-23",5195131.1500000004,259262.92,"CZ.1.11/2015/03","2015-04-03",198536.53,27.473000000000003,"2015-08-03",481270.06,"2015-03-24",458393.92,22876.14,null,null,null,null,null,null,null,null,null,null,null,null,481270.07,null,null,null,5454394.0700000003,"2014-10-23",6616504.7599999998,6310919,5364281.1500000004,473318.92499999999,0,0,0,0,473318.92499999999,0,0,0,305585.76,259747.89600000001,22918.932000000001,0,0,0,0,22918.932000000001,0,0,0,6120266.9000000004,"2014-09-30",6120266.7199999997,282666.83,5837599.8899999997,85,7.5,null,null,null,null,7.5,null,null,null,"P2 Ukončena","Ne",{"$error":"#N/A"},"2014-09-30",6120266.7199999997,282666.83,5837599.8899999997,85,7.5,null,null,null,null,7.5,null,null,null,"P2 Ukončena","Ne",{"$error":"#N/A"}]
["05 1.2 - Rozvoj dopravní obslužnosti a veřejné dopravy (mimo ekobusů)","11.1.2","11.1","CZ.1.11/1.2.00/05.00926","Přestupní uzel IDS Šakvice","P7 Výdaje projektu certifikovány","Správa a údržba silnic Jihomoravského kraje, příspěvková organizace kraje","Organizace zřízena krajem",19368647.649999999,1708998.33,1708998.33,0,0,0,0,1708998.33,0,0,0,22786644.309999999,0,0,22786644.309999999,776945.89,23563590.199999999,1,"01/00926","P4 Proplacena příjemci","POST","2012-05-29",9824836.3200000003,null,null,null,null,9824836.3200000003,"2012-05-29",null,null,null,null,9824836.3200000003,866897.32,null,null,null,9824836.3200000003,"2012-07-12",9824836.3200000003,null,"CZ.1.11/2012/06","2012-06-28",380660.07,25.81,"2012-09-18",866897.32,"2012-05-29",866897.32,null,null,null,null,null,null,null,null,null,null,null,null,null,866897.33,null,null,null,9824836.3200000003,"2012-02-16",13572308,13572308,11536461.795086825,1017923.1024565877,0,0,0,0,1017923.1024565877,0,0,0,0,0,0,0,0,0,0,0,0,0,0,12554384.890000001,"2012-03-01",12554384.890000001,0,12554384.890000001,84.999999963799993,7.5000000180999997,null,null,null,null,7.5000000180999997,null,null,null,"P2 Ukončena","Ne",{"$error":"#N/A"},"2012-03-01",12554384.890000001,0,12554384.890000001,84.999999963799993,7.5000000180999997,null,null,null,null,7.5000000180999997,null,null,null,"P2 Ukončena","Ne",{"$error":"#N/A"}]
["02 1.1 - Rozvoj dopravní obslužnosti v regionu - silnice","11.1.1","11.1","CZ.1.11/1.1.00/02.00935","III/4133 Moravský Krumlov průtah","P7 Výdaje projektu certifikovány","Správa a údržba silnic Jihomoravského kraje, příspěvková organizace kraje","Organizace zřízena krajem",66249796.700000003,5845570.2999999998,5845570.2999999998,0,0,0,0,5845570.3099999996,0,0,0,77940937.310000002,0,0,77940937.310000002,7175315,85116252.310000002,2,"02/00935","P4 Proplacena příjemci","POST","2011-12-09",15338011.74,null,null,null,null,15338011.74,"2011-12-09",null,null,null,null,15338011.74,1353353.98,null,null,null,15338011.74,"2012-01-10",15288345.220000001,49666.52,"CZ.1.11/2011/12","2011-12-30",591972.67000000004,25.91,"2012-07-25",1353353.98,"2011-12-09",1348971.64,4382.34,null,null,null,null,null,null,null,null,null,null,null,null,1353353.98,null,null,null,15338011.74,"2011-11-11",18044719.699999999,17986288.5,15288345.223417206,1348971.6372302056,0,0,0,0,1348971.6393525878,0,0,0,58431.199999999997,49666.519994858056,4382.3399991235319,0,0,0,0,4382.340006018414,0,0,0,16691365.720000001,"2011-09-30",16691365.720000001,54048.86,16637316.859999999,84.999999991199999,7.4999999984999999,null,null,null,null,7.5000000103,null,null,null,"P2 Ukončena","Ne",{"$error":"#N/A"},"2011-09-30",16691365.720000001,54048.86,16637316.859999999,84.999999991199999,7.4999999984999999,null,null,null,null,7.5000000103,null,null,null,"P2 Ukončena","Ne",{"$error":"#N/A"}]
["06 2.2 - Rozvoj služeb v cestovním ruchu","11.2.2","11.2","CZ.1.11/2.2.00/06.00943","Turistický produkt Modré Hory","P7 Výdaje projektu certifikovány","Svazek obcí \"Modré Hory\"","Sdružení obcí",4048550,357225,357225,0,0,0,0,0,0,357225,0,4763000,0,0,4763000,0,4763000,2,"02/00943","P4 Proplacena příjemci","POST","2012-03-30",2981095.35,null,null,null,null,2981095.35,"2012-03-30",null,null,null,null,2981095.35,263037.82,null,null,null,2981095.35,"2012-05-15",2561786.1,419309.25,"CZ.1.11/2012/04","2012-05-03",119867.12,24.87,"2012-09-18",263037.82,"2012-03-30",226039.95,36997.870000000003,null,null,null,null,null,null,null,null,null,null,null,null,null,null,263037.83,null,2981095.35,"2011-05-04",3785442,3013866,2561786.1,226039.95,0,0,0,0,0,0,226039.95,0,771576,655839.6,57868.2,0,0,0,0,0,0,57868.2,0,3501533.85,"2011-05-02",3501533.85,713707.8,2787826.05,85,7.5,null,null,null,null,null,null,7.5,null,"P2 Ukončena","Ne",{"$error":"#N/A"},"2011-05-02",3501533.85,713707.8,2787826.05,85,7.5,null,null,null,null,null,null,7.5,null,"P2 Ukončena","Ne",{"$error":"#N/A"}]
["07 1.2 - Rozvoj dopravní obslužnosti a veřejné - ekobusy","11.1.2","11.1","CZ.1.11/1.2.00/07.00946","Oldřích Řezanina pořízení nízkoemisních autobusů","N2 Projekt nedoporučen / neschválen","Oldřich Řezanina","Soukromá firma_MSP",null,null,null,null,null,null,null,null,null,null,null,null,null,null,null,null,null,1,null," ",null,null,null,null,null,null,null,null,null,null,null,null,null,null,null,null,null,null,null,null,null,null,null,null,null,null,null,null,null,null,null,null,null,null,null,null,null,null,null,null,null,null,null,null,null,null,null,null,null,null,null,0,0,0,0,0,0,0,0,0,0,null,0,0,0,0,0,0,0,0,0,0,null,"2010-06-30",4920000,0,4920000,51,4.5,4.5,null,null,null,null,null,null,40,"P1 Zahájena","Ne",{"$error":"#N/A"},"2010-06-30",4920000,0,4920000,51,4.5,4.5,null,null,null,null,null,null,40,"P1 Zahájena","Ne",{"$error":"#N/A"}]
["06 2.2 - Rozvoj služeb v cestovním ruchu","11.2.2","11.2","CZ.1.11/2.2.00/06.00953","Podpora cykloturistiky v Mikroregionu Velkomeziříčsko-Bítešsko","P7 Výdaje projektu certifikovány","Mikroregion Velkomeziříčsko - Bítešsko","Sdružení obcí",280500,24750,24750,0,0,0,0,0,0,24750,0,330000,0,0,330000,0,330000,1,"01/00953","P4 Proplacena příjemci","POST","2011-08-26",275818.2,null,null,null,null,275818.2,"2011-08-26",null,null,null,null,275818.2,24336.9,null,null,null,275818.2,"2011-09-09",null,275818.2,"CZ.1.11/2011/08","2011-09-01",11445.69,24.098000000000003,"2011-11-23",24336.9,"2011-08-26",null,24336.9,null,null,null,null,null,null,null,null,null,null,null,null,null,null,24336.9,null,275818.2,"2011-06-15",324492,0,0,0,0,0,0,0,0,0,0,0,324492,275818.2,24336.9,0,0,0,0,0,0,24336.9,0,300155.09999999998,"2011-06-15",300155.09999999998,300155.09999999998,0,85,7.5,null,null,null,null,null,null,7.5,null,"P2 Ukončena","Ne",{"$error":"#N/A"},"2011-06-15",300155.09999999998,300155.09999999998,0,85,7.5,null,null,null,null,null,null,7.5,null,"P2 Ukončena","Ne",{"$error":"#N/A"}]
["06 2.2 - Rozvoj služeb v cestovním ruchu","11.2.2","11.2","CZ.1.11/2.2.00/06.00961","Vinařská turistika na jižní Moravě","N13 Projekt ohodnocen, nedosáhl minimální bodové hranice","Národní vinařské centrum, o.p.s.","Neveřejná nestátní nezisková organizace",null,null,null,null,null,null,null,null,null,null,null,null,null,null,null,null,null,4,null," ",null,null,null,null,null,null,null,null,null,null,null,null,null,null,null,null,null,null,null,null,null,null,null,null,null,null,null,null,null,null,null,null,null,null,null,null,null,null,null,null,null,null,null,null,null,null,null,null,null,null,null,0,0,0,0,0,0,0,0,0,0,null,0,0,0,0,0,0,0,0,0,0,null,"2012-08-31",2843953,2843953,0,78.624994458499998,6.9374995109999995,null,6.9374995109999995,null,null,null,null,null,7.5000065194000003,"P1 Zahájena","Ne",{"$error":"#N/A"},"2012-08-31",2843953,2843953,0,78.624994458499998,6.9374995109999995,null,6.9374995109999995,null,null,null,null,null,7.5000065194000003,"P1 Zahájena","Ne",{"$error":"#N/A"}]
["06 2.2 - Rozvoj služeb v cestovním ruchu","11.2.2","11.2","CZ.1.11/2.2.00/06.00969","Jižní Morava - oblíbená domácí destinace","N13 Projekt ohodnocen, nedosáhl minimální bodové hranice","Centrála cestovního ruchu - Jižní Morava","Právnické osoby s účastí samosprávy (kraje)",null,null,null,null,null,null,null,null,null,null,null,null,null,null,null,null,null,4,null," ",null,null,null,null,null,null,null,null,null,null,null,null,null,null,null,null,null,null,null,null,null,null,null,null,null,null,null,null,null,null,null,null,null,null,null,null,null,null,null,null,null,null,null,null,null,null,null,null,null,null,null,0,0,0,0,0,0,0,0,0,0,null,0,0,0,0,0,0,0,0,0,0,null,"2012-03-01",1879753,1879753,0,84.999992421199991,7.4999993918000003,null,null,null,null,7.5000081869999997,null,null,null,"P1 Zahájena","Ne",{"$error":"#N/A"},"2012-03-01",1879753,1879753,0,84.999992421199991,7.4999993918000003,null,null,null,null,7.5000081869999997,null,null,null,"P1 Zahájena","Ne",{"$error":"#N/A"}]
["06 2.2 - Rozvoj služeb v cestovním ruchu","11.2.2","11.2","CZ.1.11/2.2.00/06.00975","Marketing cestovního ruchu Třešťska","N13 Projekt ohodnocen, nedosáhl minimální bodové hranice","Místní akční skupina Třešťsko","Neveřejná nestátní nezisková organizace",null,null,null,null,null,null,null,null,null,null,null,null,null,null,null,null,null,5,null," ",null,null,null,null,null,null,null,null,null,null,null,null,null,null,null,null,null,null,null,null,null,null,null,null,null,null,null,null,null,null,null,null,null,null,null,null,null,null,null,null,null,null,null,null,null,null,null,null,null,null,null,0,0,0,0,0,0,0,0,0,0,null,0,0,0,0,0,0,0,0,0,0,null,"2011-12-31",55500,55500,0,78.625,6.9374994391999998,6.9375005607999993,null,null,null,null,null,null,7.5,"P1 Zahájena","Ne",{"$error":"#N/A"},"2011-12-31",55500,55500,0,78.625,6.9374994391999998,6.9375005607999993,null,null,null,null,null,null,7.5,"P1 Zahájena","Ne",{"$error":"#N/A"}]
["07 1.2 - Rozvoj dopravní obslužnosti a veřejné - ekobusy","11.1.2","11.1","CZ.1.11/1.2.00/07.00979","Zkvalitnění služeb společnosti Tourbus, a.s. obnovou vozového parku","N8 Rozhodnutí/Smlouva ukončena ze strany ŘO/ZS","Tourbus, a.s.","Soukromá firma_MSP",15540000,1260000,1260000,0,0,0,0,0,0,0,25200000,42000000,0,0,42000000,8057350,50057350,2,null," ",null,null,null,null,null,null,null,null,null,null,null,null,null,null,null,null,null,null,null,null,null,null,null,null,null,null,null,null,null,null,null,null,null,null,null,null,null,null,null,null,null,null,null,null,null,null,null,null,null,null,null,0,0,0,0,0,0,0,0,0,0,null,0,0,0,0,0,0,0,0,0,0,null,"2013-01-01",5040000,0,5040000,37,3,null,null,null,null,null,null,null,60,"P1 Zahájena","Ne",{"$error":"#N/A"},"2013-01-01",5040000,0,5040000,37,3,null,null,null,null,null,null,null,60,"P1 Zahájena","Ne",{"$error":"#N/A"}]
["06 2.2 - Rozvoj služeb v cestovním ruchu","11.2.2","11.2","CZ.1.11/2.2.00/06.00987","Tišnovsko - nový turistický cíl","N13 Projekt ohodnocen, nedosáhl minimální bodové hranice","Tišnovsko","Sdružení obcí",null,null,null,null,null,null,null,null,null,null,null,null,null,null,null,null,null,2,null," ",null,null,null,null,null,null,null,null,null,null,null,null,null,null,null,null,null,null,null,null,null,null,null,null,null,null,null,null,null,null,null,null,null,null,null,null,null,null,null,null,null,null,null,null,null,null,null,null,null,null,null,0,0,0,0,0,0,0,0,0,0,null,0,0,0,0,0,0,0,0,0,0,null,"2010-08-17",803995,803995,0,84.999992119299989,7.4999995224000005,null,null,null,null,null,null,7.5000083582999997,null,"P1 Zahájena","Ne",{"$error":"#N/A"},"2010-08-17",803995,803995,0,84.999992119299989,7.4999995224000005,null,null,null,null,null,null,7.5000083582999997,null,"P1 Zahájena","Ne",{"$error":"#N/A"}]
["06 2.2 - Rozvoj služeb v cestovním ruchu","11.2.2","11.2","CZ.1.11/2.2.00/06.00993","Šikland - nejatraktivnější turistické cíle na Vysočině","N13 Projekt ohodnocen, nedosáhl minimální bodové hranice","ŠIKLAND a.s.","Soukromá firma_MSP",null,null,null,null,null,null,null,null,null,null,null,null,null,null,null,null,null,2,null," ",null,null,null,null,null,null,null,null,null,null,null,null,null,null,null,null,null,null,null,null,null,null,null,null,null,null,null,null,null,null,null,null,null,null,null,null,null,null,null,null,null,null,null,null,null,null,null,null,null,null,null,0,0,0,0,0,0,0,0,0,0,null,0,0,0,0,0,0,0,0,0,0,null,"2010-12-31",457650,457650,0,51,4.5,4.5,null,null,null,null,null,null,40,"P1 Zahájena","Ne",{"$error":"#N/A"},"2010-12-31",457650,457650,0,51,4.5,4.5,null,null,null,null,null,null,40,"P1 Zahájena","Ne",{"$error":"#N/A"}]
["06 2.2 - Rozvoj služeb v cestovním ruchu","11.2.2","11.2","CZ.1.11/2.2.00/06.01002","Najdi Špilberk","P7 Výdaje projektu certifikovány","Muzeum města Brna, příspěvková organizace","Organizace zřízena obcí",3911076.04,345094.95,345094.95,0,0,0,0,0,345095.01,0,0,4601266,0,0,4601266,0,4601266,1,"01/01002","P4 Proplacena příjemci","POST","2012-05-28",443456.04,null,null,null,null,443456.04,"2012-05-28",null,null,null,null,443456.04,39128.47,null,null,null,443456.04,"2012-06-14",null,443456.04,"CZ.1.11/2012/05","2012-05-30",17283.34,25.658000000000001,"2012-09-18",39128.47,"2012-05-28",null,39128.47,null,null,null,null,null,null,null,null,null,null,null,null,null,39128.49,null,null,443456.04,"2012-02-03",521713,0,0,0,0,0,0,0,0,0,0,0,521713,443456.04433054483,39128.474999999999,0,0,0,0,0,39128.480669455173,0,0,482584.51,"2011-12-31",482584.51,482584.51,0,84.99999891329999,7.5,null,null,null,null,null,7.5000010867000002,null,null,"P2 Ukončena","Ne",{"$error":"#N/A"},"2011-12-31",482584.51,482584.51,0,84.99999891329999,7.5,null,null,null,null,null,7.5000010867000002,null,null,"P2 Ukončena","Ne",{"$error":"#N/A"}]
["06 2.2 - Rozvoj služeb v cestovním ruchu","11.2.2","11.2","CZ.1.11/2.2.00/06.01007","Křížem krážem Lomnickem","N5 Projektová žádost stažena žadatelem/ukončena ŘO/ZS","Dobrovolný svazek obcí Lomnicko","Sdružení obcí",null,null,null,null,null,null,null,null,null,null,null,null,null,null,null,null,null,1,null," ",null,null,null,null,null,null,null,null,null,null,null,null,null,null,null,null,null,null,null,null,null,null,null,null,null,null,null,null,null,null,null,null,null,null,null,null,null,null,null,null,null,null,null,null,null,null,null,null,null,null,null,0,0,0,0,0,0,0,0,0,0,null,0,0,0,0,0,0,0,0,0,0,null,"2010-06-30",400000,400000,0,84.999909785,7.4999927605000005,null,null,null,null,null,null,7.5000974544999996,null,"P1 Zahájena","Ne",{"$error":"#N/A"},"2010-06-30",400000,400000,0,84.999909785,7.4999927605000005,null,null,null,null,null,null,7.5000974544999996,null,"P1 Zahájena","Ne",{"$error":"#N/A"}]
["07 1.4 - Rozvoj infrastruktury pro ","11.1.4","11.1","CZ.1.11/1.4.00/07.01016","Cyklostezka Přibyslav - Sázava","P7 Výdaje projektu certifikovány","Město Přibyslav","Obec",38001588.18,3353081.32,3353081.32,0,0,0,0,0,3353081.5,0,0,44707751,0,0,44707751,2233580,46941331,2,"02/01016","P4 Proplacena příjemci","POST","2011-07-25",3083918.03,null,null,null,null,3083918.03,"2011-07-25",null,null,null,null,3083918.03,272110.40999999997,null,null,null,3083918.03,"2011-08-08",3063518.03,20400,"CZ.1.11/2011/07","2011-07-28",127355.69,24.215,"2011-11-23",272110.40999999997,"2011-07-25",270310.42,1799.99,null,null,null,null,null,null,null,null,null,null,null,null,null,272110.44,null,null,3083918.03,"2011-06-07",4024721.65,4000721.65,3400613.3875012947,300054.1233099206,0,0,0,0,0,300054.13918878487,0,0,24000,20399.999910023998,1799.99999736,0,0,0,0,0,1800.0000926160001,0,0,3722867.51,"2011-05-31",3722867.51,22200,3700667.51,84.999999625099989,7.499999989,null,null,null,null,null,7.5000003859,null,null,"P2 Ukončena","Ne",{"$error":"#N/A"},"2011-05-31",3722867.51,22200,3700667.51,84.999999625099989,7.499999989,null,null,null,null,null,7.5000003859,null,null,"P2 Ukončena","Ne",{"$error":"#N/A"}]
["07 1.4 - Rozvoj infrastruktury pro ","11.1.4","11.1","CZ.1.11/1.4.00/07.01016","Cyklostezka Přibyslav - Sázava","P7 Výdaje projektu certifikovány","Město Přibyslav","Obec",38001588.18,3353081.32,3353081.32,0,0,0,0,0,3353081.5,0,0,44707751,0,0,44707751,2233580,46941331,3,"03/01016","P4 Proplacena příjemci","POST","2011-12-28",9759830.7799999993,null,null,null,null,9759830.7799999993,"2011-12-28",null,null,null,null,9759830.7799999993,861161.55,null,null,null,9759830.7799999993,"2012-01-10",9734840.7799999993,24990,"CZ.1.11/2011/12","2011-12-30",376682,25.91,"2012-07-25",861161.55,"2011-12-28",858956.55,2205,null,null,null,null,null,null,null,null,null,null,null,null,null,861161.59,null,null,9759830.7799999993,"2011-09-21",12503855.26,12474455.26,10603286.924233267,935584.14312780998,0,0,0,0,0,935584.19263892283,0,0,29400,24989.999889779399,2204.9999967660001,0,0,0,0,0,2205.0001134546001,0,0,11566066.060000001,"2011-08-31",11566066.09,27195.02,11538871.07,84.999999625099989,7.499999989,null,null,null,null,null,7.5000003859,null,null,"P2 Ukončena","Ne",{"$error":"#N/A"},"2011-08-31",11566066.09,27195.02,11538871.07,84.999999625099989,7.499999989,null,null,null,null,null,7.5000003859,null,null,"P2 Ukončena","Ne",{"$error":"#N/A"}]
["07 1.4 - Rozvoj infrastruktury pro ","11.1.4","11.1","CZ.1.11/1.4.00/07.01023","Úprava polní cesty","N13 Projekt ohodnocen, nedosáhl minimální bodové hranice","Město Znojmo","Obec",null,null,null,null,null,null,null,null,null,null,null,null,null,null,null,null,null,2,null," ",null,null,null,null,null,null,null,null,null,null,null,null,null,null,null,null,null,null,null,null,null,null,null,null,null,null,null,null,null,null,null,null,null,null,null,null,null,null,null,null,null,null,null,null,null,null,null,null,null,null,null,0,0,0,0,0,0,0,0,0,0,null,0,0,0,0,0,0,0,0,0,0,null,"2011-01-28",3698426.27,0,3698426.27,84.99999994449999,7.5000000276999996,null,null,null,null,null,7.5000000276999996,null,null,"P1 Zahájena","Ne",{"$error":"#N/A"},"2011-01-28",3698426.27,0,3698426.27,84.99999994449999,7.5000000276999996,null,null,null,null,null,7.5000000276999996,null,null,"P1 Zahájena","Ne",{"$error":"#N/A"}]
["07 1.4 - Rozvoj infrastruktury pro ","11.1.4","11.1","CZ.1.11/1.4.00/07.01034","Cyklistická lávka přes silnici I/50 u obce Nevojice","N2 Projekt nedoporučen / neschválen","Svazek obcí Mezihoří","Sdružení obcí",null,null,null,null,null,null,null,null,null,null,null,null,null,null,null,null,null,1,null," ",null,null,null,null,null,null,null,null,null,null,null,null,null,null,null,null,null,null,null,null,null,null,null,null,null,null,null,null,null,null,null,null,null,null,null,null,null,null,null,null,null,null,null,null,null,null,null,null,null,null,null,0,0,0,0,0,0,0,0,0,0,null,0,0,0,0,0,0,0,0,0,0,null,"2010-09-30",9814477.5,160210,9654267.5,84.999998839100002,7.4999999287000003,null,null,null,null,null,null,7.5000012320999998,null,"P1 Zahájena","Ne",{"$error":"#N/A"},"2010-09-30",9814477.5,160210,9654267.5,84.999998839100002,7.4999999287000003,null,null,null,null,null,null,7.5000012320999998,null,"P1 Zahájena","Ne",{"$error":"#N/A"}]
["07 1.4 - Rozvoj infrastruktury pro ","11.1.4","11.1","CZ.1.11/1.4.00/07.01043","Cyklostezka podél nehodových úseků silnice I/37","N13 Projekt ohodnocen, nedosáhl minimální bodové hranice","Město Ždírec nad Doubravou","Obec",null,null,null,null,null,null,null,null,null,null,null,null,null,null,null,null,null,1,null," ",null,null,null,null,null,null,null,null,null,null,null,null,null,null,null,null,null,null,null,null,null,null,null,null,null,null,null,null,null,null,null,null,null,null,null,null,null,null,null,null,null,null,null,null,null,null,null,null,null,null,null,0,0,0,0,0,0,0,0,0,0,null,0,0,0,0,0,0,0,0,0,0,null,"2011-09-30",14775273.82,46250,14729023.82,85,7.4999999687000001,null,null,null,null,null,7.5000000312999999,null,null,"P1 Zahájena","Ne",{"$error":"#N/A"},"2011-09-30",14775273.82,46250,14729023.82,85,7.4999999687000001,null,null,null,null,null,7.5000000312999999,null,null,"P1 Zahájena","Ne",{"$error":"#N/A"}]
["08 2.1 - Rozvoj infrastruktury pro cestovní ruch - strategické projekty","11.2.1","11.2","CZ.1.11/2.1.00/08.01054","Vyhlídka z veže kostela","N5 Projektová žádost stažena žadatelem/ukončena ŘO/ZS","Římskokatolická farnost Lanžhot","Veřejná nestátní nezisková organizace",null,null,null,null,null,null,null,null,null,null,null,null,null,null,null,null,null,1,null," ",null,null,null,null,null,null,null,null,null,null,null,null,null,null,null,null,null,null,null,null,null,null,null,null,null,null,null,null,null,null,null,null,null,null,null,null,null,null,null,null,null,null,null,null,null,null,null,null,null,null,null,0,0,0,0,0,0,0,0,0,0,null,0,0,0,0,0,0,0,0,0,0,null,"2010-10-29",2406792,2406792,0,84.999995972499988,7.4999997123000002,null,null,null,null,null,null,7.5000043152,null,"P1 Zahájena","Ne",{"$error":"#N/A"},"2010-10-29",2406792,2406792,0,84.999995972499988,7.4999997123000002,null,null,null,null,null,null,7.5000043152,null,"P1 Zahájena","Ne",{"$error":"#N/A"}]
["06 2.1 - Rozvoj infrastruktury pro cestovní ruch (rekonstrukce památkových objektů, stezky pro hippo a pěší)","11.2.1","11.2","CZ.1.11/2.1.00/06.01060","Obnova židovské kaple v Břeclavi","N13 Projekt ohodnocen, nedosáhl minimální bodové hranice","MĚSTO BŘECLAV","Obec",null,null,null,null,null,null,null,null,null,null,null,null,null,null,null,null,null,1,null," ",null,null,null,null,null,null,null,null,null,null,null,null,null,null,null,null,null,null,null,null,null,null,null,null,null,null,null,null,null,null,null,null,null,null,null,null,null,null,null,null,null,null,null,null,null,null,null,null,null,null,null,0,0,0,0,0,0,0,0,0,0,null,0,0,0,0,0,0,0,0,0,0,null,"2011-07-29",4722914,44600,4678314,65.574106925500004,5.7859506408000003,null,null,null,null,null,28.6399424337,null,null,"P1 Zahájena","Ne",{"$error":"#N/A"},"2011-07-29",4722914,44600,4678314,65.574106925500004,5.7859506408000003,null,null,null,null,null,28.6399424337,null,null,"P1 Zahájena","Ne",{"$error":"#N/A"}]
["06 2.1 - Rozvoj infrastruktury pro cestovní ruch (rekonstrukce památkových objektů, stezky pro hippo a pěší)","11.2.1","11.2","CZ.1.11/2.1.00/06.01060","Obnova židovské kaple v Břeclavi","N13 Projekt ohodnocen, nedosáhl minimální bodové hranice","MĚSTO BŘECLAV","Obec",null,null,null,null,null,null,null,null,null,null,null,null,null,null,null,null,null,2,null," ",null,null,null,null,null,null,null,null,null,null,null,null,null,null,null,null,null,null,null,null,null,null,null,null,null,null,null,null,null,null,null,null,null,null,null,null,null,null,null,null,null,null,null,null,null,null,null,null,null,null,null,0,0,0,0,0,0,0,0,0,0,null,0,0,0,0,0,0,0,0,0,0,null,"2011-12-30",4450243,275055.95,4175187.05,65.574106925500004,5.7859506408000003,null,null,null,null,null,28.6399424337,null,null,"P1 Zahájena","Ne",{"$error":"#N/A"},"2011-12-30",4450243,275055.95,4175187.05,65.574106925500004,5.7859506408000003,null,null,null,null,null,28.6399424337,null,null,"P1 Zahájena","Ne",{"$error":"#N/A"}]
["06 2.1 - Rozvoj infrastruktury pro cestovní ruch (rekonstrukce památkových objektů, stezky pro hippo a pěší)","11.2.1","11.2","CZ.1.11/2.1.00/06.01066","Vybudování TIC pro zpřístupnění židovských památek v Brně a na jižní Moravě","N13 Projekt ohodnocen, nedosáhl minimální bodové hranice","Židovská obec Brno","Neveřejná nestátní nezisková organizace",null,null,null,null,null,null,null,null,null,null,null,null,null,null,null,null,null,5,null," ",null,null,null,null,null,null,null,null,null,null,null,null,null,null,null,null,null,null,null,null,null,null,null,null,null,null,null,null,null,null,null,null,null,null,null,null,null,null,null,null,null,null,null,null,null,null,null,null,null,null,null,0,0,0,0,0,0,0,0,0,0,null,0,0,0,0,0,0,0,0,0,0,null,"2013-01-15",1186462,109562.6,1076899.3999999999,78.624994525100007,6.9374994608999998,null,6.9374995728999993,null,null,null,null,null,7.5000064411,"P1 Zahájena","Ne",{"$error":"#N/A"},"2013-01-15",1186462,109562.6,1076899.3999999999,78.624994525100007,6.9374994608999998,null,6.9374995728999993,null,null,null,null,null,7.5000064411,"P1 Zahájena","Ne",{"$error":"#N/A"}]
["06 2.1 - Rozvoj infrastruktury pro cestovní ruch (rekonstrukce památkových objektů, stezky pro hippo a pěší)","11.2.1","11.2","CZ.1.11/2.1.00/06.01072","Zpřístupnění kulturních památek regionu Olešnicka s vyhlídkou","N13 Projekt ohodnocen, nedosáhl minimální bodové hranice","Římskokatolická farnost Olešnice na Moravě","Veřejná nestátní nezisková organizace",null,null,null,null,null,null,null,null,null,null,null,null,null,null,null,null,null,1,null," ",null,null,null,null,null,null,null,null,null,null,null,null,null,null,null,null,null,null,null,null,null,null,null,null,null,null,null,null,null,null,null,null,null,null,null,null,null,null,null,null,null,null,null,null,null,null,null,null,null,null,null,0,0,0,0,0,0,0,0,0,0,null,0,0,0,0,0,0,0,0,0,0,null,"2011-04-30",2857222,121452.49,2735769.51,84.999990287799989,7.4999991906000005,null,null,null,null,null,null,7.5000105216000001,null,"P1 Zahájena","Ne",{"$error":"#N/A"},"2011-04-30",2857222,121452.49,2735769.51,84.999990287799989,7.4999991906000005,null,null,null,null,null,null,7.5000105216000001,null,"P1 Zahájena","Ne",{"$error":"#N/A"}]
["06 2.1 - Rozvoj infrastruktury pro cestovní ruch (rekonstrukce památkových objektů, stezky pro hippo a pěší)","11.2.1","11.2","CZ.1.11/2.1.00/06.01078","Ráj permoníků - zpřístupnění kulturní památky těžní věže Dolu KUKLA v Oslavanech","P7 Výdaje projektu certifikovány","STROJÍRNA OSLAVANY, spol. s r.o.","Soukromá firma_MSP",13324745.710000001,1080384.79,1080384.79,0,0,0,0,0,0,0,14405130.5,28810261,0,0,28810261,14959191.09,43769452.090000004,1,"01/01078","P4 Proplacena příjemci","POST","2011-07-25",3262696.34,null,null,null,null,3262696.34,"2011-07-25",null,null,null,null,3262696.34,264542.94,null,null,null,3262696.34,"2012-11-15",3262696.34,null,"CZ.1.11/2012/10","2012-11-02",130393.11,25.022000000000002,"2013-12-16",264542.94,"2011-07-25",264542.94,null,null,null,null,null,null,null,null,null,null,null,null,null,null,null,null,3527239.29,3262696.34,"2011-04-28",7155504,7155504,3309420.601860431,268331.39813956898,0,0,0,0,0,0,0,3577752,0,0,0,0,0,0,0,0,0,0,0,3577752,"2011-04-30",3577752,0,3577752,46.250000026000002,3.7499999740000001,null,null,null,null,null,null,null,50,"P2 Ukončena","Ne",{"$error":"#N/A"},"2011-04-30",3577752,0,3577752,46.250000026000002,3.7499999740000001,null,null,null,null,null,null,null,50,"P2 Ukončena","Ne",{"$error":"#N/A"}]
["06 2.1 - Rozvoj infrastruktury pro cestovní ruch (rekonstrukce památkových objektů, stezky pro hippo a pěší)","11.2.1","11.2","CZ.1.11/2.1.00/06.01084","Regionální muzejní expozice v zámku Okříšky","N13 Projekt ohodnocen, nedosáhl minimální bodové hranice","MĚSTYS OKŘÍŠKY","Obec",null,null,null,null,null,null,null,null,null,null,null,null,null,null,null,null,null,1,null," ",null,null,null,null,null,null,null,null,null,null,null,null,null,null,null,null,null,null,null,null,null,null,null,null,null,null,null,null,null,null,null,null,null,null,null,null,null,null,null,null,null,null,null,null,null,null,null,null,null,null,null,0,0,0,0,0,0,0,0,0,0,null,0,0,0,0,0,0,0,0,0,0,null,"2011-09-23",2218622.67,631912.81999999995,1586709.85,85,7.4999997915000005,null,null,null,null,null,7.5000002085000004,null,null,"P1 Zahájena","Ne",{"$error":"#N/A"},"2011-09-23",2218622.67,631912.81999999995,1586709.85,85,7.4999997915000005,null,null,null,null,null,7.5000002085000004,null,null,"P1 Zahájena","Ne",{"$error":"#N/A"}]
["06 2.1 - Rozvoj infrastruktury pro cestovní ruch (rekonstrukce památkových objektů, stezky pro hippo a pěší)","11.2.1","11.2","CZ.1.11/2.1.00/06.01093","Zpřístupnění národní kulturní památky v Polné pro potřeby cestovního ruchu","P7 Výdaje projektu certifikovány","Římskokatolická farnost - děkanství Polná","Veřejná nestátní nezisková organizace",36756890,3243255,3243255,0,0,0,0,0,0,3243255,0,43243400,0,0,43243400,9097,43252497,1,"01/01093","P4 Proplacena příjemci","POST","2011-03-15",4423491.63,null,null,null,null,4423491.63,"2011-03-15",null,null,null,null,4423491.63,390308.08,null,null,null,4423491.63,"2011-08-08",4382600.68,40890.949999999997,"CZ.1.11/2011/07","2011-07-28",182675.68,24.215,"2011-11-23",390308.08,"2011-03-15",386700.06,3608.02,null,null,null,null,null,null,null,null,null,null,null,null,null,null,390308.09,null,4423491.63,"2010-12-22",5204107.8,5156000.8,4382600.68,386700.06,0,0,0,0,0,0,386700.06,0,48107,40890.949999999997,3608.0250000000001,0,0,0,0,0,0,3608.0250000000001,0,4813799.71,"2010-11-30",4813799.71,44498.97,4769300.74,85,7.5,null,null,null,null,null,null,7.5,null,"P2 Ukončena","Ne",{"$error":"#N/A"},"2010-11-30",4813799.71,44498.97,4769300.74,85,7.5,null,null,null,null,null,null,7.5,null,"P2 Ukončena","Ne",{"$error":"#N/A"}]
["06 2.1 - Rozvoj infrastruktury pro cestovní ruch (rekonstrukce památkových objektů, stezky pro hippo a pěší)","11.2.1","11.2","CZ.1.11/2.1.00/06.01093","Zpřístupnění národní kulturní památky v Polné pro potřeby cestovního ruchu","P7 Výdaje projektu certifikovány","Římskokatolická farnost - děkanství Polná","Veřejná nestátní nezisková organizace",36756890,3243255,3243255,0,0,0,0,0,0,3243255,0,43243400,0,0,43243400,9097,43252497,6,"06/01093","P4 Proplacena příjemci","POST","2012-06-28",3942810.51,null,null,null,null,3942810.51,"2012-06-28",null,null,null,null,3942810.51,347895.03999999998,null,null,null,3942810.51,"2012-08-14",3790073.16,152737.35,"CZ.1.11/2012/07","2012-08-02",156101.46,25.258000000000003,"2012-09-18",347895.03999999998,"2012-06-28",334418.21999999997,13476.82,null,null,null,null,null,null,null,null,null,null,null,null,null,null,347895.05,null,3942810.51,"2012-04-27",4653838.5999999996,4458909.5999999996,3790073.16,334418.21999999997,0,0,0,0,0,0,334418.21999999997,0,194929,165689.65,14619.674999999999,0,0,0,0,0,0,14619.674999999999,0,4304800.7,"2012-03-31",4304800.7,180309.32,4124491.38,85,7.5,null,null,null,null,null,null,7.5,null,"P2 Ukončena","Ne",{"$error":"#N/A"},"2012-03-31",4304800.7,180309.32,4124491.38,85,7.5,null,null,null,null,null,null,7.5,null,"P2 Ukončena","Ne",{"$error":"#N/A"}]
["06 2.1 - Rozvoj infrastruktury pro cestovní ruch (rekonstrukce památkových objektů, stezky pro hippo a pěší)","11.2.1","11.2","CZ.1.11/2.1.00/06.01098","Znovuzrození hotelu Avion","N2 Projekt nedoporučen / neschválen","ROBI, s.r.o.","Soukromá firma_MSP",null,null,null,null,null,null,null,null,null,null,null,null,null,null,null,null,null,1,null," ",null,null,null,null,null,null,null,null,null,null,null,null,null,null,null,null,null,null,null,null,null,null,null,null,null,null,null,null,null,null,null,null,null,null,null,null,null,null,null,null,null,null,null,null,null,null,null,null,null,null,null,0,0,0,0,0,0,0,0,0,0,null,0,0,0,0,0,0,0,0,0,0,null,"2010-06-30",26190310.640000001,0,26190310.640000001,50.770389212800005,4.4797402246999996,null,4.4797402246999996,null,null,null,null,null,40.2701303379,"P1 Zahájena","Ne",{"$error":"#N/A"},"2010-06-30",26190310.640000001,0,26190310.640000001,50.770389212800005,4.4797402246999996,null,4.4797402246999996,null,null,null,null,null,40.2701303379,"P1 Zahájena","Ne",{"$error":"#N/A"}]
["02 1.1 - Rozvoj dopravní obslužnosti v regionu - silnice","11.1.1","11.1","CZ.1.11/1.1.00/02.01108","II/398 Vranov nad Dyjí průtah - Onšov","P7 Výdaje projektu certifikovány","Správa a údržba silnic Jihomoravského kraje, příspěvková organizace kraje","Organizace zřízena krajem",47214861.219999999,4166017.17,4166017.17,0,0,0,0,4166017.17,0,0,0,55546895.560000002,0,0,55546895.560000002,3660,55550555.560000002,1,"01/01108","P4 Proplacena příjemci","POST","2011-11-14",4810502.5599999996,null,null,null,null,4810502.5599999996,"2011-11-14",null,null,null,null,4810502.5599999996,424456.11,null,null,null,4810502.5599999996,"2011-12-13",4782607.87,27894.69,"CZ.1.11/2011/11","2011-12-02",188292.72,25.548000000000002,"2012-07-25",424456.11,"2011-11-14",421994.81,2461.3000000000002,null,null,null,null,null,null,null,null,null,null,null,null,424456.11,null,null,null,4810502.5599999996,"2011-10-13",5702014.7800000003,5669197.5,4818817.8747505555,425189.81262472237,0,0,0,0,425189.81262472237,0,0,0,32817.279999999999,27894.687998556041,2461.2960007219804,0,0,0,0,2461.2960007219804,0,0,0,5274363.67,"2011-06-30",5274363.67,30355.98,5244007.6900000004,84.999999995599993,7.5000000022000002,null,null,null,null,7.5000000022000002,null,null,null,"P2 Ukončena","Ne",{"$error":"#N/A"},"2011-06-30",5274363.67,30355.98,5244007.6900000004,84.999999995599993,7.5000000022000002,null,null,null,null,7.5000000022000002,null,null,null,"P2 Ukončena","Ne",{"$error":"#N/A"}]
["02 1.1 - Rozvoj dopravní obslužnosti v regionu - silnice","11.1.1","11.1","CZ.1.11/1.1.00/02.01114","II/347 Světlá n. S. - D1, 1. stavba","P7 Výdaje projektu certifikovány","Kraj Vysočina","Kraj",150635875.99000001,13291400.83,13291400.83,0,0,0,0,13291400.83,0,0,0,177218677.65000001,0,0,177218677.65000001,17277080.559999999,194495758.21000001,6,"06/01114","P4 Proplacena příjemci","POST","2012-05-22",10164383.07,null,null,null,null,10164383.07,"2012-05-22",null,null,null,null,10164383.07,896857.33,null,null,null,10164383.07,"2012-06-14",10164383.07,null,"CZ.1.11/2012/05","2012-05-30",396148.69,25.658000000000001,"2012-09-18",896857.33,"2012-05-22",896857.33,null,null,null,null,null,null,null,null,null,null,null,null,null,896857.34,null,null,null,10164383.07,"2012-01-20",12166189.859999999,12242710.800000001,10406304.179693932,918203.31015915528,0,0,0,0,918203.31014691258,0,0,0,-76520.94,-65042.798998086975,-5739.0705009947724,0,0,0,0,-5739.0705009182511,0,0,0,11253725.619999999,"2012-03-01",11253725.640000001,0,11253725.640000001,84.999999997499998,7.5000000013000001,null,null,null,null,7.5000000012000001,null,null,null,"P2 Ukončena","Ne",{"$error":"#N/A"},"2012-03-01",11253725.640000001,0,11253725.640000001,84.999999997499998,7.5000000013000001,null,null,null,null,7.5000000012000001,null,null,null,"P2 Ukončena","Ne",{"$error":"#N/A"}]
["08 2.1 - Rozvoj infrastruktury pro cestovní ruch - strategické projekty","11.2.1","11.2","CZ.1.11/2.1.00/08.01118","Vybudování kongresového a wellness hotelu - Hotel Termal Mušov 4* vč.certifikace","N5 Projektová žádost stažena žadatelem/ukončena ŘO/ZS","HOTEL TERMAL MUŠOV a.s.","Soukromá firma_MSP",null,null,null,null,null,null,null,null,null,null,null,null,null,null,null,null,null,3,null," ",null,null,null,null,null,null,null,null,null,null,null,null,null,null,null,null,null,null,null,null,null,null,null,null,null,null,null,null,null,null,null,null,null,null,null,null,null,null,null,null,null,null,null,null,null,null,null,null,null,null,null,0,0,0,0,0,0,0,0,0,0,null,0,0,0,0,0,0,0,0,0,0,null,"2012-10-30",19899000,0,19899000,42.074999430200002,null,null,null,null,null,null,null,null,57.925000569799998,"P1 Zahájena","Ne",{"$error":"#N/A"},"2012-10-30",19899000,0,19899000,42.074999430200002,null,null,null,null,null,null,null,null,57.925000569799998,"P1 Zahájena","Ne",{"$error":"#N/A"}]
["08 2.1 - Rozvoj infrastruktury pro cestovní ruch - strategické projekty","11.2.1","11.2","CZ.1.11/2.1.00/08.01122","Thermal Pasohlávky - páteřní technická a dopravní infrastruktura Pasohlávky","P7 Výdaje projektu certifikovány","Thermal Pasohlávky a.s.","Právnické osoby s účastí samosprávy (kraje)",99436012,0,0,0,0,0,0,149154018,0,0,0,248590030,0,0,248590030,54503174,303093204,1,"01/01122","P4 Proplacena příjemci","POST","2013-11-29",25447885.460000001,null,null,null,null,25447885.460000001,"2013-11-29",null,null,null,null,25447885.460000001,null,null,null,null,25447885.460000001,"2014-03-14",25447885.460000001,null,"CZ.1.11/2013/12","2013-12-31",926051.14,27.48,"2014-09-24",null,null,null,null,null,null,null,null,null,null,null,null,null,null,null,null,38171828.189999998,null,null,null,25447885.460000001,"2013-11-26",63634295.880000003,63634295.880000003,25453718.352000002,0,0,0,0,0,38180577.527999997,0,0,0,0,0,0,0,0,0,0,0,0,0,0,25453718.350000001,"2013-07-30",25453718.350000001,0,25453718.350000001,40,null,null,null,null,null,60,null,null,null,"P2 Ukončena","Ne",{"$error":"#N/A"},"2013-07-30",25453718.350000001,0,25453718.350000001,40,null,null,null,null,null,60,null,null,null,"P2 Ukončena","Ne",{"$error":"#N/A"}]
["08 2.1 - Rozvoj infrastruktury pro cestovní ruch - strategické projekty","11.2.1","11.2","CZ.1.11/2.1.00/08.01123","Regenerační centrum Nové Město na Moravě","N5 Projektová žádost stažena žadatelem/ukončena ŘO/ZS","MĚSTO NOVÉ MĚSTO NA MORAVĚ","Obec",null,null,null,null,null,null,null,null,null,null,null,null,null,null,null,null,null,3,null," ",null,null,null,null,null,null,null,null,null,null,null,null,null,null,null,null,null,null,null,null,null,null,null,null,null,null,null,null,null,null,null,null,null,null,null,null,null,null,null,null,null,null,null,null,null,null,null,null,null,null,null,0,0,0,0,0,0,0,0,0,0,null,0,0,0,0,0,0,0,0,0,0,null,"2012-06-29",19300180,0,19300180,36.7567567567,3.2432432433000002,null,null,null,null,null,60,null,null,"P1 Zahájena","Ne",{"$error":"#N/A"},"2012-06-29",19300180,0,19300180,36.7567567567,3.2432432433000002,null,null,null,null,null,60,null,null,"P1 Zahájena","Ne",{"$error":"#N/A"}]
["08 2.1 - Rozvoj infrastruktury pro cestovní ruch - strategické projekty","11.2.1","11.2","CZ.1.11/2.1.00/08.01126","Výstavba komplexu Moravia THERMAL","P7 Výdaje projektu certifikovány","ŽS REAL, a.s.","Soukromá firma_MSP",389999999.99000001,0,0,0,0,0,0,0,0,0,607612140.00999999,997612140,0,0,997612140,227499828,1225111968,2,"02/01126","P4 Proplacena příjemci","POST","2013-02-21",91276034.010000005,null,null,null,null,91276034.010000005,"2013-02-21",null,null,null,null,91276034.010000005,null,null,null,null,91276034.010000005,"2013-06-17",91276034.010000005,null,"CZ.1.11/2013/05","2013-05-31",3538516.53,25.795000000000002,"2013-12-16",null,null,null,null,null,null,null,null,null,null,null,null,null,null,null,null,null,null,null,142206221.43000001,91276034.010000005,"2012-12-13",233536872.53999999,233536872.53999999,91297385.6659206,0,0,0,0,0,0,0,0,142239486.87407941,0,0,0,0,0,0,0,0,0,0,0,91297385.659999996,"2012-12-16",91297385.659999996,0,91297385.659999996,39.093349445400001,null,null,null,null,null,null,null,null,60.906650554599999,"P2 Ukončena","Ne",{"$error":"#N/A"},"2012-12-16",91297385.659999996,0,91297385.659999996,39.093349445400001,null,null,null,null,null,null,null,null,60.906650554599999,"P2 Ukončena","Ne",{"$error":"#N/A"}]
["02 Letiště, urbanizační centra a služby regionálního významu (1.1, 3.1, 3.4)","11.3.1","11.3","CZ.1.11/3.1.00/02.01132","Rozšíření ubytovací kapacity pro osoby společensky nepřizpůsobené v podkroví Azylového domu Křenová","P7 Výdaje projektu certifikovány","Statutární město Brno","Obec",13195675.66,1164324.33,1164324.33,0,0,0,0,0,4110981.01,0,0,18470981,0,0,18470981,1058622,19529603,1,"01/01132","P4 Proplacena příjemci","POST","2011-09-23",2633748.41,null,null,null,null,2633748.41,"2011-09-23",null,null,null,null,2633748.41,232389.56,null,null,null,2633748.41,"2011-10-24",2633748.41,null,"CZ.1.11/2011/09","2011-09-29",107224.22,24.563000000000002,"2012-07-25",232389.56,"2011-09-23",232389.56,null,null,null,null,null,null,null,null,null,null,null,null,null,null,820518.03,null,null,2633748.41,"2011-09-06",3740336,3740336,2672097.4242131896,235773.30338848039,0,0,0,0,0,832465.27239832992,0,0,0,0,0,0,0,0,0,0,0,0,0,2907870.72,"2011-05-01",2907870.72,0,2907870.72,71.440037050499996,6.3035327144000002,null,null,null,null,null,22.256430235100002,null,null,"P2 Ukončena","Ne",{"$error":"#N/A"},"2011-05-01",2907870.72,0,2907870.72,71.440037050499996,6.3035327144000002,null,null,null,null,null,22.256430235100002,null,null,"P2 Ukončena","Ne",{"$error":"#N/A"}]
["02 Letiště, urbanizační centra a služby regionálního významu (1.1, 3.1, 3.4)","11.3.1","11.3","CZ.1.11/3.1.00/02.01141","Regenerace veřejných prostranství v části města Jihlava - Pávov","P7 Výdaje projektu certifikovány","Statutární město Jihlava","Obec",6418861.4000000004,566370.12,566370.12,0,0,0,0,0,566370.13,0,0,7551601.6500000004,0,0,7551601.6500000004,1410227.2,8961828.8499999996,1,"01/01141","P4 Proplacena příjemci","POST","2013-05-15",3329362.19,null,null,null,null,3329362.19,"2013-05-15",null,null,null,null,3329362.19,293767.25,null,null,null,3329362.19,"2013-06-17",3187270.77,142091.42000000001,"CZ.1.11/2013/05","2013-05-31",129070.06,25.795000000000002,"2013-12-16",293767.25,"2013-05-15",281229.78000000003,12537.47,null,null,null,null,null,null,null,null,null,null,null,null,null,293767.26,null,null,3329362.19,"2012-12-17",4156148.59,3982523.36,3385144.8547255923,298689.2500883888,0,0,0,0,0,298689.25518601871,0,0,173625.23,147581.44544443992,13021.892166659889,0,0,0,0,0,13021.892388900184,0,0,3844437.44,"2012-12-30",3844437.44,160603.34,3683834.1,84.999999967999997,7.4999999520000005,null,null,null,null,null,7.5000000799999995,null,null,"P2 Ukončena","Ne",{"$error":"#N/A"},"2012-12-30",3844437.44,160603.34,3683834.1,84.999999967999997,7.4999999520000005,null,null,null,null,null,7.5000000799999995,null,null,"P2 Ukončena","Ne",{"$error":"#N/A"}]
["02 1.1 - Rozvoj dopravní obslužnosti v regionu - silnice","11.1.1","11.1","CZ.1.11/1.1.00/02.01148","II/380 Těšany průtah","P7 Výdaje projektu certifikovány","Správa a údržba silnic Jihomoravského kraje, příspěvková organizace kraje","Organizace zřízena krajem",34259925.640000001,3022934.62,3022934.62,0,0,0,0,3022934.62,0,0,0,40305794.880000003,0,0,40305794.880000003,1885264.45,42191059.329999998,3,"03/01148","P4 Proplacena příjemci","POST","2014-02-25",8779542.2699999996,null,null,null,null,8779542.2699999996,"2014-02-25",null,null,null,null,8779542.2699999996,774665.49,null,null,null,8779542.2699999996,"2014-04-29",8779542.2699999996,null,"CZ.1.11/2014/02","2014-02-28",321136.19,27.339000000000002,"2014-09-24",774665.49,"2014-02-25",774665.49,null,null,null,null,null,null,null,null,null,null,null,null,null,774665.5,null,null,null,8779542.2699999996,"2013-11-29",11425225.43,11425225.43,9711441.6154999994,856891.90663303784,0,0,0,0,856891.90786696214,0,0,0,0,0,0,0,0,0,0,0,0,0,0,10568333.52,"2013-11-30",14431363.970000001,0,14431363.970000001,85,7.4999999946000004,null,null,null,null,7.5000000053999996,null,null,null,"P2 Ukončena","Ne",{"$error":"#N/A"},"2013-11-30",14431363.970000001,0,14431363.970000001,85,7.4999999946000004,null,null,null,null,7.5000000053999996,null,null,null,"P2 Ukončena","Ne",{"$error":"#N/A"}]
["10 2.2 - Rozvoj služeb v cestovním ruchu","11.2.2","11.2","CZ.1.11/2.2.00/10.01150","Se Zachariášem z Hradce a Kateřinou z Valdštejna v Telči","P7 Výdaje projektu certifikovány","MĚSTO TELČ","Obec",1314354.54,115972.45,115972.45,0,0,0,0,0,115973.01,0,0,1546300,0,0,1546300,0,1546300,1,"01/01150","P4 Proplacena příjemci","POST","2012-03-26",1108940.21,null,null,null,null,1108940.21,"2012-03-26",null,null,null,null,1108940.21,97847.66,null,null,null,1108940.21,"2012-04-24",494699.82,614240.39,"CZ.1.11/2012/03","2012-03-29",44755.03,24.778000000000002,"2012-07-26",97847.66,"2012-03-26",43649.99,54197.67,null,null,null,null,null,null,null,null,null,null,null,null,null,97848.13,null,null,1108940.21,"2012-01-26",1304636,582000,494699.82706743001,43649.984741123997,0,0,0,0,0,43650.188191446003,0,0,722636,614240.3852795522,54197.681053929351,0,0,0,0,0,54197.933666518511,0,0,1206787.8700000001,"2012-01-30",1206787.8700000001,1014077.15,192710.72,84.999970286500002,7.4999973781999998,null,null,null,null,null,7.5000323353000002,null,null,"P2 Ukončena","Ne",{"$error":"#N/A"},"2012-01-30",1206787.8700000001,1014077.15,192710.72,84.999970286500002,7.4999973781999998,null,null,null,null,null,7.5000323353000002,null,null,"P2 Ukončena","Ne",{"$error":"#N/A"}]
["10 2.2 - Rozvoj služeb v cestovním ruchu","11.2.2","11.2","CZ.1.11/2.2.00/10.01156","Klášter Želiv - národní kulturní památka","P7 Výdaje projektu certifikovány","Kanonie premonstrátů v Želivě","Veřejná nestátní nezisková organizace",485111.47,42803.96,42803.96,0,0,0,0,0,0,42804.57,0,570720,0,0,570720,3000,573720,2,"02/01156","P4 Proplacena příjemci","POST","2012-05-04",259370.42,null,null,null,null,259370.42,"2012-05-04",null,null,null,null,259370.42,22885.62,null,null,null,259370.42,"2012-06-14",52846.14,206524.28,"CZ.1.11/2012/05","2012-05-30",10108.76,25.658000000000001,"2012-09-18",22885.62,"2012-05-04",4662.8900000000003,18222.73,null,null,null,null,null,null,null,null,null,null,null,null,null,null,22885.96,null,259370.42,"2012-02-22",305142,62172,52846.143341164272,4662.8950007494795,0,0,0,0,0,0,4662.9616580862476,0,242970,206524.27857560772,18222.7304627823,0,0,0,0,0,0,18222.990961609979,0,282256.03999999998,"2012-02-14",282256.05,224747.25,57508.800000000003,84.999908867599999,7.4999919589999999,null,null,null,null,null,null,7.5000991733999998,null,"P2 Ukončena","Ne",{"$error":"#N/A"},"2012-02-14",282256.05,224747.25,57508.800000000003,84.999908867599999,7.4999919589999999,null,null,null,null,null,null,7.5000991733999998,null,"P2 Ukončena","Ne",{"$error":"#N/A"}]
["10 2.2 - Rozvoj služeb v cestovním ruchu","11.2.2","11.2","CZ.1.11/2.2.00/10.01164","Marketing turistické nabídky kraje Vysočina do roku 2013","P7 Výdaje projektu certifikovány","Vysočina Tourism, příspěvková organizace","Organizace zřízena krajem",5850975,516262.5,516262.5,0,0,0,0,516262.5,0,0,0,6883500,0,0,6883500,375000,7258500,2,"02/01164","P4 Proplacena příjemci","POST","2012-10-17",1297633.3700000001,null,null,null,null,1297633.3700000001,"2012-10-17",null,null,null,null,1297633.3700000001,114497.06,null,null,null,1297633.3700000001,"2012-11-15",null,1297633.3700000001,"CZ.1.11/2012/10","2012-11-02",51859.7,25.022000000000002,"2013-12-16",114497.06,"2012-10-17",null,114497.06,null,null,null,null,null,null,null,null,null,null,null,null,114497.07,null,null,null,1297633.3700000001,"2012-04-30",1533111.6,0,0,0,0,0,0,0,0,0,0,0,1533111.6,1303144.8600000001,114983.37,0,0,0,0,114983.37,0,0,0,1418128.23,"2012-03-31",1418128.23,1418128.23,0,85,7.5,null,null,null,null,7.5,null,null,null,"P2 Ukončena","Ne",{"$error":"#N/A"},"2012-03-31",1418128.23,1418128.23,0,85,7.5,null,null,null,null,7.5,null,null,null,"P2 Ukončena","Ne",{"$error":"#N/A"}]
["10 2.2 - Rozvoj služeb v cestovním ruchu","11.2.2","11.2","CZ.1.11/2.2.00/10.01168","BRNO - MĚSTO HUDBY","P7 Výdaje projektu certifikovány","C.E.M.A. - Central European Music Agency,s.r.o.","Soukromá firma_MSP",1568494.41,127175.22,127175.22,0,0,0,0,0,0,0,1130446.42,2826116.05,0,0,2826116.05,279935,3106051.05,2,"02/01168","P4 Proplacena příjemci","POST","2013-02-05",308890.27,null,null,null,null,308890.27,"2013-02-05",null,null,null,null,308890.27,25045.16,null,null,null,308890.27,"2013-03-13",null,308890.27,"CZ.1.11/2013/02","2013-03-01",12048.61,25.637,"2013-12-16",25045.16,"2013-02-05",null,25045.16,null,null,null,null,null,null,null,null,null,null,null,null,null,null,null,222623.62,308890.27,"2012-11-30",556559.05000000005,0,0,0,0,0,0,0,0,0,0,0,556559.05000000005,308890.27373343986,25045.15626656016,0,0,0,0,0,0,0,222623.62,333935.43,"2012-10-31",333935.43,333935.43,0,55.500000176699999,4.4999998233000005,null,null,null,null,null,null,null,40,"P2 Ukončena","Ne",{"$error":"#N/A"},"2012-10-31",333935.43,333935.43,0,55.500000176699999,4.4999998233000005,null,null,null,null,null,null,null,40,"P2 Ukončena","Ne",{"$error":"#N/A"}]
["02 Letiště, urbanizační centra a služby regionálního významu (1.1, 3.1, 3.4)","11.3.1","11.3","CZ.1.11/3.1.00/02.01180","Revitalizace sídlišť na území města Jihlavy - Královský vršek","P7 Výdaje projektu certifikovány","Statutární město Jihlava","Obec",14197894.24,1252755.3700000001,1252755.3700000001,0,0,0,0,0,1252755.3899999999,0,0,16703405,0,0,16703405,2611562,19314967,2,"02/01180","P4 Proplacena příjemci","POST","2011-12-28",3795879.84,null,null,null,null,3795879.84,"2011-12-28",null,null,null,null,3795879.84,334930.58,null,null,null,3795879.84,"2012-01-10",3795879.84,null,"CZ.1.11/2011/12","2011-12-30",146502.5,25.91,"2012-07-25",334930.58,"2011-12-28",334930.58,null,null,null,null,null,null,null,null,null,null,null,null,null,null,334930.58,null,null,3795879.84,"2011-11-29",4465741,4465741,3795879.8480306081,334930.57482583611,0,0,0,0,0,334930.57714355568,0,0,0,0,0,0,0,0,0,0,0,0,0,4130810.42,"2011-10-31",4130810.42,0,4130810.42,84.999999955899995,7.4999999961000006,null,null,null,null,null,7.5000000480000004,null,null,"P2 Ukončena","Ne",{"$error":"#N/A"},"2011-10-31",4130810.42,0,4130810.42,84.999999955899995,7.4999999961000006,null,null,null,null,null,7.5000000480000004,null,null,"P2 Ukončena","Ne",{"$error":"#N/A"}]
["02 1.1 - Rozvoj dopravní obslužnosti v regionu - silnice","11.1.1","11.1","CZ.1.11/1.1.00/02.01182","II/398 Mikulovice průtah","P45 Projekt v realizaci","Správa a údržba silnic Jihomoravského kraje, příspěvková organizace kraje","Organizace zřízena krajem",81739434.780000001,0,0,0,0,0,0,6627521.7400000002,0,0,0,88366956.519999996,0,0,88366956.519999996,3799331.74,92166288.260000005,1,"01/01182","P4 Proplacena příjemci","POST","2015-06-30",5789358.9000000004,null,null,null,null,5789358.9000000004,"2015-06-30",null,null,null,null,5789358.9000000004,null,null,null,null,5789358.9000000004,null,5789358.9000000004,null,"CZ.1.11/2015/07","2015-07-31",214000.62,27.053000000000001,null,null,null,null,null,null,null,null,null,null,null,null,null,null,null,null,null,469407.48,null,null,null,null,"2015-06-11",10960503.15,10960503.15,10138465.41375,0,0,0,0,0,822037.73624999996,0,0,0,0,0,0,0,0,0,0,0,0,0,0,10138465.41,"2015-05-31",10138465.41,0,10138465.41,92.5,null,null,null,null,null,7.5,null,null,null,"P1 Zahájena","Ne",{"$error":"#N/A"},"2015-05-31",10138465.41,0,10138465.41,92.5,null,null,null,null,null,7.5,null,null,null,"P1 Zahájena","Ne",{"$error":"#N/A"}]
["13 2.1 - Rozvoj infrastruktrury pro cestovní ruch (značení a úpravy cyklotras) ","11.2.1","11.2","CZ.1.11/2.1.00/13.01189","Naučná stezka s vyhlídkovou věží Olšany","N5 Projektová žádost stažena žadatelem/ukončena ŘO/ZS","Mikroregion Rakovec","Sdružení obcí",null,null,null,null,null,null,null,null,null,null,null,null,null,null,null,null,null,1,null," ",null,null,null,null,null,null,null,null,null,null,null,null,null,null,null,null,null,null,null,null,null,null,null,null,null,null,null,null,null,null,null,null,null,null,null,null,null,null,null,null,null,null,null,null,null,null,null,null,null,null,null,0,0,0,0,0,0,0,0,0,0,null,0,0,0,0,0,0,0,0,0,0,null,"2012-05-31",993000,16614,976386,83.070829512100005,null,null,null,null,null,null,null,16.929170487900002,null,"P1 Zahájena","Ne",{"$error":"#N/A"},"2012-05-31",993000,16614,976386,83.070829512100005,null,null,null,null,null,null,null,16.929170487900002,null,"P1 Zahájena","Ne",{"$error":"#N/A"}]
["13 2.1 - Rozvoj infrastruktrury pro cestovní ruch (značení a úpravy cyklotras) ","11.2.1","11.2","CZ.1.11/2.1.00/13.01199","Pivovarská naučná stezka v Jihlavě","N12 Projektová žádost nesplnila formální náležitosti","Statutární město Jihlava","Obec",null,null,null,null,null,null,null,null,null,null,null,null,null,null,null,null,null,1,null," ",null,null,null,null,null,null,null,null,null,null,null,null,null,null,null,null,null,null,null,null,null,null,null,null,null,null,null,null,null,null,null,null,null,null,null,null,null,null,null,null,null,null,null,null,null,null,null,null,null,null,null,0,0,0,0,0,0,0,0,0,0,null,0,0,0,0,0,0,0,0,0,0,null,"2012-01-30",535420.94999999995,17000,518420.95,85,null,null,null,null,null,null,15,null,null,"P1 Zahájena","Ne",{"$error":"#N/A"},"2012-01-30",535420.94999999995,17000,518420.95,85,null,null,null,null,null,null,15,null,null,"P1 Zahájena","Ne",{"$error":"#N/A"}]
["13 2.1 - Rozvoj infrastruktrury pro cestovní ruch (značení a úpravy cyklotras) ","11.2.1","11.2","CZ.1.11/2.1.00/13.01214","Výstavba turistické stezky a rozhledny v katastru obce Přítluky","P7 Výdaje projektu certifikovány","OBEC PŘÍTLUKY","Obec",2766262.99,0,0,0,0,0,0,0,488165.01,0,0,3254428,0,0,3254428,0,3254428,1,"01/01214","P4 Proplacena příjemci","POST","2012-10-11",2730316.51,null,null,null,null,2730316.51,"2012-10-11",null,null,null,null,2730316.51,null,null,null,null,2730316.51,"2012-11-15",2628962.5299999998,101353.98,"CZ.1.11/2012/10","2012-11-02",109116.63,25.022000000000002,"2013-12-16",null,null,null,null,null,null,null,null,null,null,null,null,null,null,null,null,null,481821.49,null,null,2730316.51,"2012-08-16",3212138,3092898,2628962.5397069068,0,0,0,0,0,0,463935.46029309346,0,0,119240,101353.97068854244,0,0,0,0,0,0,17886.029311457562,0,0,2730316.51,"2012-06-30",2766262.99,111553.97,2654709.02,84.999975418099993,null,null,null,null,null,null,15.0000245819,null,null,"P2 Ukončena","Ne",{"$error":"#N/A"},"2012-06-30",2766262.99,111553.97,2654709.02,84.999975418099993,null,null,null,null,null,null,15.0000245819,null,null,"P2 Ukončena","Ne",{"$error":"#N/A"}]
["21 1.1 -  Rozvoj dopravní infrastruktury v regionu - silnice","11.1.1","11.1","CZ.1.11/1.1.00/21.01220","II/400 Přeskače - průtah","P7 Výdaje projektu certifikovány","Správa a údržba silnic Jihomoravského kraje, příspěvková organizace kraje","Organizace zřízena krajem",47699441.670000002,0,0,0,0,0,0,8417548.5299999993,0,0,0,56116990.200000003,0,0,56116990.200000003,951943.2,57068933.399999999,2,"02/01220","P4 Proplacena příjemci","POST","2013-02-21",10289147.83,null,null,null,null,10289147.83,"2013-02-21",null,null,null,null,10289147.83,null,null,null,null,10289147.83,"2013-03-13",10289147.83,null,"CZ.1.11/2013/02","2013-03-01",401339.78,25.637,"2013-12-16",null,null,null,null,null,null,null,null,null,null,null,null,null,null,null,null,1815731.97,null,null,null,10289147.83,"2012-11-09",12106207,12106207,10290275.949999999,0,0,0,0,0,1815931.05,0,0,0,0,0,0,0,0,0,0,0,0,0,0,10290275.949999999,"2012-10-30",10290275.949999999,0,10290275.949999999,85,null,null,null,null,null,15,null,null,null,"P2 Ukončena","Ne",{"$error":"#N/A"},"2012-10-30",10290275.949999999,0,10290275.949999999,85,null,null,null,null,null,15,null,null,null,"P2 Ukončena","Ne",{"$error":"#N/A"}]
["21 1.1 -  Rozvoj dopravní infrastruktury v regionu - silnice","11.1.1","11.1","CZ.1.11/1.1.00/21.01223","II/420 Hustopeče - Kurdějov","P7 Výdaje projektu certifikovány","Správa a údržba silnic Jihomoravského kraje, příspěvková organizace kraje","Organizace zřízena krajem",63584616.5,0,0,0,0,0,0,11220814.68,0,0,0,74805431.180000007,0,0,74805431.180000007,417126,75222557.180000007,1,"01/01223","P4 Proplacena příjemci","POST","2012-12-17",28260330.719999999,null,null,null,null,28260330.719999999,"2012-12-17",null,null,null,null,28260330.719999999,null,null,null,null,28260330.719999999,"2013-02-11",28260330.719999999,null,"CZ.1.11/2013/01","2013-01-31",1101681.3799999999,25.652000000000001,"2013-12-16",null,null,null,null,null,null,null,null,null,null,null,null,null,null,null,null,4987117.1900000004,null,null,null,28260330.719999999,"2012-10-31",34664030.82,34664030.82,29464426.197000001,0,0,0,0,0,5199604.6229999997,0,0,0,0,0,0,0,0,0,0,0,0,0,0,29464426.190000001,"2012-10-31",29464426.190000001,0,29464426.190000001,85,null,null,null,null,null,15,null,null,null,"P2 Ukončena","Ne",{"$error":"#N/A"},"2012-10-31",29464426.190000001,0,29464426.190000001,85,null,null,null,null,null,15,null,null,null,"P2 Ukončena","Ne",{"$error":"#N/A"}]
["14 2.1 - Rozvoj infrastruktrury pro cestovní ruch (turistická infrastruktura a památky)","11.2.1","11.2","CZ.1.11/2.1.00/14.01231","ZOO pěti kontinentů","P45 Projekt v realizaci","Statutární město Jihlava","Obec",90144846.049999997,0,0,0,0,0,0,0,15907914.02,0,0,106052760.06999999,0,822743.68,106875503.75,39115105.43,145990609.18000001,3,"03/01231","P4 Proplacena příjemci","POST","2013-08-08",13526948.99,null,null,null,null,13526948.99,"2013-08-08",null,null,null,null,13526948.99,null,null,null,null,13526948.99,"2013-09-11",13493441.65,33507.339999999997,"CZ.1.11/2013/08","2013-08-30",526791.37,25.678000000000001,"2013-12-16",null,null,null,null,null,null,null,null,null,null,null,null,null,null,null,null,null,2387108.65,null,null,13526948.99,"2013-05-30",16035006,15995286,13595993.1,0,0,0,0,0,0,2399292.9,0,0,39720,33762,0,0,0,0,0,0,5958,0,0,13629755.1,"2013-05-02",13629755.1,33762,13595993.1,85,null,null,null,null,null,null,15,null,null,"P1 Zahájena","Ne",{"$error":"#N/A"},"2013-05-02",13629755.1,33762,13595993.1,85,null,null,null,null,null,null,15,null,null,"P1 Zahájena","Ne",{"$error":"#N/A"}]
["14 2.1 - Rozvoj infrastruktrury pro cestovní ruch (turistická infrastruktura a památky)","11.2.1","11.2","CZ.1.11/2.1.00/14.01233","Obnova secesní památky - vila a život rodiny Löw Beerů","P45 Projekt v realizaci","Jihomoravský kraj","Kraj",47149439.990000002,0,0,0,0,0,0,8320490.0099999998,0,0,0,55469930,0,0,55469930,3811443,59281373,5,"05/01233","P4 Proplacena příjemci","POST","2015-05-21",487767.43,null,null,null,null,487767.43,"2015-05-21",null,null,null,null,487767.43,null,null,null,null,487767.43,"2015-06-26",487767.43,null,"CZ.1.11/2015/05","2015-06-01",17760.89,27.463000000000001,null,null,null,null,null,null,null,null,null,null,null,null,null,null,null,null,null,86076.62,null,null,null,null,"2015-03-26",604046.37,604046.37,513439.40905512602,0,0,0,0,0,90606.960944873979,0,0,0,0,0,0,0,0,0,0,0,0,0,0,513439.4,"2015-02-28",513439.4,0,513439.4,84.9999990986,null,null,null,null,null,15.0000009014,null,null,null,"P1 Zahájena","Ne",{"$error":"#N/A"},"2015-02-28",513439.4,0,513439.4,84.9999990986,null,null,null,null,null,15.0000009014,null,null,null,"P1 Zahájena","Ne",{"$error":"#N/A"}]
["14 2.1 - Rozvoj infrastruktrury pro cestovní ruch (turistická infrastruktura a památky)","11.2.1","11.2","CZ.1.11/2.1.00/14.01240","Brno židovské - zpřístupnění nemovitého odkazu","P7 Výdaje projektu certifikovány","Židovská obec Brno","Neveřejná nestátní nezisková organizace",10119863.65,0,0,0,0,0,0,0,0,0,1785858.35,11905722,0,0,11905722,0,11905722,1,"01/01240","P4 Proplacena příjemci","POST","2012-09-07",1655951.29,null,null,null,null,1655951.29,"2012-09-07",null,null,null,null,1655951.29,null,null,null,null,1655951.29,"2012-10-16",1553003.54,102947.75,"CZ.1.11/2012/09","2012-09-27",66613.759999999995,24.859000000000002,"2013-12-16",null,null,null,null,null,null,null,null,null,null,null,null,null,null,null,null,null,null,null,292226.71000000002,1655951.29,"2012-08-24",1948178,1827063,1553003.5426497255,0,0,0,0,0,0,0,0,274059.45735027443,121115,102947.74951275435,0,0,0,0,0,0,0,0,18167.250487245645,1655951.29,"2012-07-01",1655951.29,102947.75,1553003.54,84.999999597699997,null,null,null,null,null,null,null,null,15.0000004023,"P2 Ukončena","Ne",{"$error":"#N/A"},"2012-07-01",1655951.29,102947.75,1553003.54,84.999999597699997,null,null,null,null,null,null,null,null,15.0000004023,"P2 Ukončena","Ne",{"$error":"#N/A"}]
["14 2.1 - Rozvoj infrastruktrury pro cestovní ruch (turistická infrastruktura a památky)","11.2.1","11.2","CZ.1.11/2.1.00/14.01246","Kulturně - společenské centrum Bedřichovice","N11 Projektová žádost nesplnila podmínky přijatelnosti","Město Šlapanice","Obec",null,null,null,null,null,null,null,null,null,null,null,null,null,null,null,null,null,3,null," ",null,null,null,null,null,null,null,null,null,null,null,null,null,null,null,null,null,null,null,null,null,null,null,null,null,null,null,null,null,null,null,null,null,null,null,null,null,null,null,null,null,null,null,null,null,null,null,null,null,null,null,0,0,0,0,0,0,0,0,0,0,null,0,0,0,0,0,0,0,0,0,0,null,"2013-12-31",7000000,0,7000000,85,null,null,null,null,null,null,15,null,null,"P1 Zahájena","Ne",{"$error":"#N/A"},"2013-12-31",7000000,0,7000000,85,null,null,null,null,null,null,15,null,null,"P1 Zahájena","Ne",{"$error":"#N/A"}]
["14 2.1 - Rozvoj infrastruktrury pro cestovní ruch (turistická infrastruktura a památky)","11.2.1","11.2","CZ.1.11/2.1.00/14.01248","Zpřístupnění ambitu kláštera Želiv","P7 Výdaje projektu certifikovány","Kanonie premonstrátů v Želivě","Neveřejná nestátní nezisková organizace",8482536.5800000001,0,0,0,0,0,0,0,0,0,1496918.22,9979454.8000000007,0,0,9979454.8000000007,211160,10190614.800000001,3,"03/01248","P4 Proplacena příjemci","POST","2013-08-29",3012259.58,null,null,null,null,3012259.58,"2013-08-29",null,null,null,null,3012259.58,null,null,null,null,3012259.58,"2013-10-16",2999509.58,12750,"CZ.1.11/2013/09","2013-10-04",117254.17,25.69,"2013-12-16",null,null,null,null,null,null,null,null,null,null,null,null,null,null,null,null,null,null,null,531575.22,3012259.58,"2013-06-21",3543834.8,3528834.8,2999509.58,0,0,0,0,0,0,0,0,529325.22,15000,12750,0,0,0,0,0,0,0,0,2250,3012259.58,"2013-05-30",3012259.58,12750,2999509.58,85,null,null,null,null,null,null,null,null,15,"P2 Ukončena","Ne",{"$error":"#N/A"},"2013-05-30",3012259.58,12750,2999509.58,85,null,null,null,null,null,null,null,null,15,"P2 Ukončena","Ne",{"$error":"#N/A"}]
["14 2.1 - Rozvoj infrastruktrury pro cestovní ruch (turistická infrastruktura a památky)","11.2.1","11.2","CZ.1.11/2.1.00/14.01253","Panský dvůr Telč - edukativně zábavní centrum","N13 Projekt ohodnocen, nedosáhl minimální bodové hranice","Panský dvůr Telč, s.r.o.","Soukromá firma_MSP",null,null,null,null,null,null,null,null,null,null,null,null,null,null,null,null,null,2,null," ",null,null,null,null,null,null,null,null,null,null,null,null,null,null,null,null,null,null,null,null,null,null,null,null,null,null,null,null,null,null,null,null,null,null,null,null,null,null,null,null,null,null,null,null,null,null,null,null,null,null,null,0,0,0,0,0,0,0,0,0,0,null,0,0,0,0,0,0,0,0,0,0,null,"2012-10-31",20000000,0,20000000,60,null,null,null,null,null,null,null,null,40,"P1 Zahájena","Ne",{"$error":"#N/A"},"2012-10-31",20000000,0,20000000,60,null,null,null,null,null,null,null,null,40,"P1 Zahájena","Ne",{"$error":"#N/A"}]
["14 2.1 - Rozvoj infrastruktrury pro cestovní ruch (turistická infrastruktura a památky)","11.2.1","11.2","CZ.1.11/2.1.00/14.01258","Jízdárna zámku Milotice","N12 Projektová žádost nesplnila formální náležitosti","I.V.V. o.s.","Neveřejná nestátní nezisková organizace",null,null,null,null,null,null,null,null,null,null,null,null,null,null,null,null,null,2,null," ",null,null,null,null,null,null,null,null,null,null,null,null,null,null,null,null,null,null,null,null,null,null,null,null,null,null,null,null,null,null,null,null,null,null,null,null,null,null,null,null,null,null,null,null,null,null,null,null,null,null,null,0,0,0,0,0,0,0,0,0,0,null,0,0,0,0,0,0,0,0,0,0,null,"2012-06-25",5993746.5999999996,0,5993746.5999999996,84.999638232799995,null,null,null,null,null,null,null,null,15.000361767199999,"P1 Zahájena","Ne",{"$error":"#N/A"},"2012-06-25",5993746.5999999996,0,5993746.5999999996,84.999638232799995,null,null,null,null,null,null,null,null,15.000361767199999,"P1 Zahájena","Ne",{"$error":"#N/A"}]
["22 3.1 - Rozvoj urbanizačních center","11.3.1","11.3","CZ.1.11/3.1.00/22.01262","Městské středisko krizové sociální pomoci pro osoby v extrémní sociální tísni","P7 Výdaje projektu certifikovány","Statutární město Brno","Obec",5872738.0999999996,0,0,0,0,0,0,0,1036365.69,0,0,6909103.79,0,0,6909103.79,1870234.11,8779337.9000000004,1,"01/01262","P4 Proplacena příjemci","POST","2012-12-07",5612890.2999999998,null,null,null,null,5612890.2999999998,"2012-12-07",null,null,null,null,5612890.2999999998,null,null,null,null,5612890.2999999998,"2013-01-10",5612890.2999999998,null,"CZ.1.11/2012/12","2012-12-12",223265.33,25.14,"2013-12-16",null,null,null,null,null,null,null,null,null,null,null,null,null,null,null,null,null,990510.19,null,null,5612890.2999999998,"2012-08-29",6603400.4900000002,6603400.4900000002,5612890.3009669054,0,0,0,0,0,0,990510.18903309503,0,0,0,0,0,0,0,0,0,0,0,0,0,5612890.2999999998,"2012-08-03",5612890.2999999998,0,5612890.2999999998,84.999998250399997,null,null,null,null,null,null,15.000001749600001,null,null,"P2 Ukončena","Ne",{"$error":"#N/A"},"2012-08-03",5612890.2999999998,0,5612890.2999999998,84.999998250399997,null,null,null,null,null,null,15.000001749600001,null,null,"P2 Ukončena","Ne",{"$error":"#N/A"}]
["16 1.1 - Letiště","11.1.1","11.1","CZ.1.11/1.1.00/16.01272","Komplexní zabezpečení mezinárodního veřejného letiště Brno - Tuřany","N7 Projekt nedokončen / stažen","Jihomoravský kraj","Kraj",169999999.99000001,0,0,0,0,0,0,31837672.010000002,0,0,0,201837672,0,0,201837672,39870214,241707886,1,null," ",null,null,null,null,null,null,null,null,null,null,null,null,null,null,null,null,null,null,null,null,null,null,null,null,null,null,null,null,null,null,null,null,null,null,null,null,null,null,null,null,null,null,null,null,null,null,null,null,null,null,null,0,0,0,0,0,0,0,0,0,0,null,0,0,0,0,0,0,0,0,0,0,null,"2015-02-12",25000000,141651.28,24858348.719999999,84.226100269300005,null,null,null,null,null,15.7738997307,null,null,null,"P1 Zahájena","Ne",{"$error":"#N/A"},"2015-02-12",25000000,141651.28,24858348.719999999,84.226100269300005,null,null,null,null,null,15.7738997307,null,null,null,"P1 Zahájena","Ne",{"$error":"#N/A"}]
["21 1.1 -  Rozvoj dopravní infrastruktury v regionu - silnice","11.1.1","11.1","CZ.1.11/1.1.00/21.01276","II/409 Panské Dubenky - most ev. č. 409-016","P7 Výdaje projektu certifikovány","Kraj Vysočina","Kraj",25469859.289999999,0,0,0,0,0,0,4494681.0599999996,0,0,0,29964540.350000001,0,7534,29972074.350000001,3560052,33532126.350000001,1,"01/01276","P4 Proplacena příjemci","POST","2012-12-10",11533355.529999999,null,null,null,null,11533355.529999999,"2012-12-10",null,null,null,null,11533355.529999999,null,null,null,null,11533355.529999999,"2013-01-10",11533355.529999999,null,"CZ.1.11/2012/12","2012-12-12",458765.14,25.14,"2013-12-16",null,null,null,null,null,null,null,null,null,null,null,null,null,null,null,null,2035298.05,null,null,null,11533355.529999999,"2012-11-28",13568653.58,13568653.58,11533355.539607836,0,0,0,0,0,2035298.0403921634,0,0,0,0,0,0,0,0,0,0,0,0,0,0,11533355.529999999,"2012-10-30",11533355.529999999,0,11533355.529999999,84.999999974999994,null,null,null,null,null,15.000000025,null,null,null,"P2 Ukončena","Ne",{"$error":"#N/A"},"2012-10-30",11533355.529999999,0,11533355.529999999,84.999999974999994,null,null,null,null,null,15.000000025,null,null,null,"P2 Ukončena","Ne",{"$error":"#N/A"}]
["21 1.1 -  Rozvoj dopravní infrastruktury v regionu - silnice","11.1.1","11.1","CZ.1.11/1.1.00/21.01279","II/431 Vyškov - průtah","P7 Výdaje projektu certifikovány","Správa a údržba silnic Jihomoravského kraje, příspěvková organizace kraje","Organizace zřízena krajem",18728014.469999999,0,0,0,0,0,0,3304943.73,0,0,0,22032958.199999999,0,1881,22034839.199999999,2841029.8,24875869,1,"01/01279","P4 Proplacena příjemci","POST","2012-12-17",8464781.5500000007,null,null,null,null,8464781.5500000007,"2012-12-17",null,null,null,null,8464781.5500000007,null,null,null,null,8464781.5500000007,"2013-02-11",8464781.5500000007,null,"CZ.1.11/2013/01","2013-01-31",329985.25,25.652000000000001,"2013-12-16",null,null,null,null,null,null,null,null,null,null,null,null,null,null,null,null,1493784.99,null,null,null,8464781.5500000007,"2012-09-27",10323487.74,10323487.74,8774964.5789999999,0,0,0,0,0,1548523.1610000001,0,0,0,0,0,0,0,0,0,0,0,0,0,0,8774964.5700000003,"2012-09-30",8774964.5700000003,0,8774964.5700000003,85,null,null,null,null,null,15,null,null,null,"P2 Ukončena","Ne",{"$error":"#N/A"},"2012-09-30",8774964.5700000003,0,8774964.5700000003,85,null,null,null,null,null,15,null,null,null,"P2 Ukončena","Ne",{"$error":"#N/A"}]
["25 3.2 - Rozvoj regionálních středisek - sociální péče v brownfields","11.3.2","11.3","CZ.1.11/3.2.00/25.01289","Rekonstrukce Kontaktního centra ve Žďáře nad Sázavou","P7 Výdaje projektu certifikovány","Kolpingovo dílo České republiky o.s.","Neveřejná nestátní nezisková organizace",14307293.949999999,0,0,0,0,0,0,0,0,0,2524817.0499999998,16832111,0,0,16832111,494880,17326991,1,"01/01289","P4 Proplacena příjemci","POST","2014-04-25",3997397.19,null,null,null,null,3997397.19,"2014-04-25",null,null,null,null,3997397.19,null,null,null,null,3997397.19,"2014-12-12",3997397.19,null,"CZ.1.11/2014/05","2014-05-30",145714.91,27.433,"2014-11-10",null,null,null,null,null,null,null,null,null,null,null,null,null,null,null,null,null,null,null,705423.17,3997397.19,"2014-02-13",4792608.72,4792608.72,4073717.3009312931,0,0,0,0,0,0,0,0,718891.41906870704,0,0,0,0,0,0,0,0,0,0,0,4073717.3,"2014-01-31",4073717.3,0,4073717.3,84.999997682499995,null,null,null,null,null,null,null,null,15.0000023175,"P2 Ukončena","Ne",{"$error":"#N/A"},"2014-01-31",4073717.3,0,4073717.3,84.999997682499995,null,null,null,null,null,null,null,null,15.0000023175,"P2 Ukončena","Ne",{"$error":"#N/A"}]
["26 3.3 - Rozvoj a stabilizace venkovských sídel - sociální péče v brownfields","11.3.3","11.3","CZ.1.11/3.3.00/26.01298","Novostavba domu pro chráněné bydlení, Hrotovice, p.č. 3/1 st. a 9/11","P7 Výdaje projektu certifikovány","MĚSTO HROTOVICE","Obec",6734958,0,0,0,0,0,0,0,1188522,0,0,7923480,0,0,7923480,9721,7933201,1,"01/01298","P4 Proplacena příjemci","POST","2014-02-27",6684016.6299999999,null,null,null,null,6684016.6299999999,"2014-02-27",null,null,null,null,6684016.6299999999,null,null,null,null,6684016.6299999999,"2014-04-29",6457193.2800000003,226823.35,"CZ.1.11/2014/03","2014-04-04",243737.61,27.423000000000002,"2014-09-24",null,null,null,null,null,null,null,null,null,null,null,null,null,null,null,null,null,1179532.3500000001,null,null,6684016.6299999999,"2013-11-18",7863549.5999999996,7596698.5999999996,6457193.8099999996,0,0,0,0,0,0,1139504.79,0,0,266851,226823.35,0,0,0,0,0,0,40027.65,0,0,6684017.1600000001,"2013-10-30",6684017.1600000001,226823.35,6457193.8099999996,85,null,null,null,null,null,null,15,null,null,"P2 Ukončena","Ne",{"$error":"#N/A"},"2013-10-30",6684017.1600000001,226823.35,6457193.8099999996,85,null,null,null,null,null,null,15,null,null,"P2 Ukončena","Ne",{"$error":"#N/A"}]
["20 3.3 - Rozvoj a stabilizace venkovských sídel - sociální péče (bez brownfields)","11.3.3","11.3","CZ.1.11/3.3.00/20.01303","Vybudování objektu chráněného bydlení Mirandie v Brumovicích","P6 Financování projektu ukončeno","Diakonie ČCE - středisko BETLÉM","Neveřejná nestátní nezisková organizace",18220442.190000001,0,0,0,0,0,0,0,0,0,3215372.81,21435815,0,0,21435815,280620,21716435,1,"01/01303","P4 Proplacena příjemci","POST","2014-02-27",2658366.5299999998,null,null,null,null,2658366.5299999998,"2014-02-27",null,null,null,null,2658366.5299999998,null,null,null,null,2658366.5299999998,"2014-04-29",2658366.5299999998,null,"CZ.1.11/2014/03","2014-04-04",96939.3,27.423000000000002,"2014-09-24",null,null,null,null,null,null,null,null,null,null,null,null,null,null,null,null,null,null,null,469123.61,2658366.5299999998,"2013-12-19",3127490.14,3127490.14,2658366.5377415512,0,0,0,0,0,0,0,0,469123.60225844884,0,0,0,0,0,0,0,0,0,0,0,2658366.5299999998,"2013-11-30",2658366.5299999998,0,2658366.5299999998,84.999997401800002,null,null,null,null,null,null,null,null,15.0000025982,"P2 Ukončena","Ne",{"$error":"#N/A"},"2013-11-30",2658366.5299999998,0,2658366.5299999998,84.999997401800002,null,null,null,null,null,null,null,null,15.0000025982,"P2 Ukončena","Ne",{"$error":"#N/A"}]
["22 3.1 - Rozvoj urbanizačních center","11.3.1","11.3","CZ.1.11/3.1.00/22.01308","Petrov","P7 Výdaje projektu certifikovány","Statutární město Brno","Obec",6363217.5199999996,0,0,0,0,0,0,0,1122921.28,0,0,7486138.7999999998,0,0,7486138.7999999998,4137950.2,11624089,1,"01/01308","P4 Proplacena příjemci","POST","2013-11-12",6147304.4900000002,null,null,null,null,6147304.4900000002,"2013-11-12",null,null,null,null,6147304.4900000002,null,null,null,null,6147304.4900000002,"2014-03-14",6147304.4900000002,null,"CZ.1.11/2013/11","2013-11-29",224764.33,27.35,"2014-09-24",null,null,null,null,null,null,null,null,null,null,null,null,null,null,null,null,null,1084818.96,null,null,6147304.4900000002,"2013-08-01",7361608,7361608,6257366.3523774259,0,0,0,0,0,0,1104241.6476225744,0,0,0,0,0,0,0,0,0,0,0,0,0,6257366.3499999996,"2013-06-30",6361957.1399999997,0,6361957.1399999997,84.9999939195,null,null,null,null,null,null,15.0000060805,null,null,"P2 Ukončena","Ne",{"$error":"#N/A"},"2013-06-30",6361957.1399999997,0,6361957.1399999997,84.9999939195,null,null,null,null,null,null,15.0000060805,null,null,"P2 Ukončena","Ne",{"$error":"#N/A"}]
["23 1.2 - Rozvoj dopravní obslužnosti a veřejné dopravy","11.1.2","11.1","CZ.1.11/1.2.00/23.01316","Výstavba dopravního terminálu - městské nádraží Jihlava - Ia. etapa","P7 Výdaje projektu certifikovány","Statutární město Jihlava","Obec",23549758.300000001,0,0,0,0,0,0,0,4155839.7,0,0,27705598,0,0,27705598,22549671,50255269,2,"02/01316","P4 Proplacena příjemci","POST","2014-04-18",8647292.6400000006,null,null,null,null,8647292.6400000006,"2014-04-18",null,null,null,null,8647292.6400000006,null,null,null,null,8647292.6400000006,"2014-12-12",8647292.6400000006,null,"CZ.1.11/2014/04","2014-04-28",315203.49,27.434000000000001,"2014-09-24",null,null,null,null,null,null,null,null,null,null,null,null,null,null,null,null,null,1525992.83,null,null,8647292.6400000006,"2013-12-20",10187381.970000001,10187381.970000001,8659274.6744999997,0,0,0,0,0,0,1528107.2955,0,0,0,0,0,0,0,0,0,0,0,0,0,8659274.6699999999,"2013-12-12",8659274.6799999997,0,8659274.6799999997,85,null,null,null,null,null,null,15,null,null,"P2 Ukončena","Ne",{"$error":"#N/A"},"2013-12-12",8659274.6799999997,0,8659274.6799999997,85,null,null,null,null,null,null,15,null,null,"P2 Ukončena","Ne",{"$error":"#N/A"}]
["23 1.2 - Rozvoj dopravní obslužnosti a veřejné dopravy","11.1.2","11.1","CZ.1.11/1.2.00/23.01317","Rekonstrukce Masarykova náměstí - přestupní terminál Velká Bíteš","P7 Výdaje projektu certifikovány","MĚSTO VELKÁ BÍTEŠ","Obec",23369659,0,0,0,0,0,0,0,4124059,0,0,27493718,0,0,27493718,11878025,39371743,1,"01/01317","P4 Proplacena příjemci","POST","2013-12-05",172620.49,null,null,null,null,172620.49,"2013-12-05",null,null,null,null,172620.49,null,null,null,null,172620.49,"2014-03-14",151418.09,21202.400000000001,"CZ.1.11/2013/12","2013-12-31",6281.68,27.48,"2014-09-24",null,null,null,null,null,null,null,null,null,null,null,null,null,null,null,null,null,30462.46,null,null,172620.49,"2013-11-18",470943.94,445999.94,379099.92797065683,0,0,0,0,0,0,66900.012029343168,0,0,24944,21202.398823865457,0,0,0,0,0,0,3741.6011761345439,0,0,400302.32,"2013-09-30",400302.32,21202.400000000001,379099.92,84.999995284899995,null,null,null,null,null,null,15.000004715099999,null,null,"P2 Ukončena","Ne",{"$error":"#N/A"},"2013-09-30",400302.32,21202.400000000001,379099.92,84.999995284899995,null,null,null,null,null,null,15.000004715099999,null,null,"P2 Ukončena","Ne",{"$error":"#N/A"}]
["22 3.1 - Rozvoj urbanizačních center","11.3.1","11.3","CZ.1.11/3.1.00/22.01326","Středisko terénních sociálních služeb pro zdravotně postižené","P7 Výdaje projektu certifikovány","Liga vozíčkářů","Veřejná nestátní nezisková organizace",7635689,0,0,0,0,0,0,0,0,1347475,0,8983164,0,0,8983164,48866,9032030,1,"01/01326","P4 Proplacena příjemci","POST","2014-10-20",5446187.6900000004,null,null,null,null,5446187.6900000004,"2014-10-20",null,null,null,null,5446187.6900000004,null,null,null,null,5446187.6900000004,"2014-12-17",5081044.63,365143.06,"CZ.1.11/2014/10","2014-10-31",196407.65,27.729000000000003,"2015-03-27",null,null,null,null,null,null,null,null,null,null,null,null,null,null,null,null,null,null,961092.29,null,5446187.6900000004,"2014-05-02",6442910.8499999996,6013330.75,5111330.8713319413,0,0,0,0,0,0,0,901999.87866805901,0,429580.1,365143.06598549604,0,0,0,0,0,0,0,64437.034014503966,0,5476473.9299999997,"2014-03-31",5476473.9299999997,365143.09,5111330.84,84.999995573699991,null,null,null,null,null,null,null,15.0000044263,null,"P2 Ukončena","Ne",{"$error":"#N/A"},"2014-03-31",5476473.9299999997,365143.09,5111330.84,84.999995573699991,null,null,null,null,null,null,null,15.0000044263,null,"P2 Ukončena","Ne",{"$error":"#N/A"}]
["27 3.4 - Zařízení pro vzdělávání včetně technického vybavení pro výuku","11.3.4","11.3","CZ.1.11/3.4.00/27.01335","Modernizace přírodovědných učeben a laboratoří Gymnázia Tišnov, Na Hrádku 20","P7 Výdaje projektu certifikovány","Gymnázium, Tišnov, Na Hrádku 20","Organizace zřízena krajem",3829827.11,0,0,0,0,0,0,675852.89,0,0,0,4505680,0,0,4505680,278980,4784660,1,"01/01335","P4 Proplacena příjemci","POST","2013-12-20",3642492.52,null,null,null,null,3642492.52,"2013-12-20",null,null,null,null,3642492.52,null,null,null,null,3642492.52,"2014-03-14",1292843.46,2349649.06,"CZ.1.11/2014/01","2014-01-29",132003.06,27.594000000000001,"2014-09-24",null,null,null,null,null,null,null,null,null,null,null,null,null,null,null,null,642793.80000000005,null,null,null,3642492.52,"2013-10-08",4458172.0999999996,1548389.3,1316130.5991652422,0,0,0,0,0,232258.70083475776,0,0,0,2909782.8,2473314.8052655207,0,0,0,0,0,436467.99473447911,0,0,0,3789445.4,"2013-09-09",3789445.4,2473314.81,1316130.5900000001,84.999980248199989,null,null,null,null,null,15.0000197518,null,null,null,"P2 Ukončena","Ne",{"$error":"#N/A"},"2013-09-09",3789445.4,2473314.81,1316130.5900000001,84.999980248199989,null,null,null,null,null,15.0000197518,null,null,null,"P2 Ukončena","Ne",{"$error":"#N/A"}]
["27 3.4 - Zařízení pro vzdělávání včetně technického vybavení pro výuku","11.3.4","11.3","CZ.1.11/3.4.00/27.01346","Tréninkové centrum pro elektrotechniku a strojírenství","P7 Výdaje projektu certifikovány","Střední škola technická a gastronomická Blansko","Organizace zřízena krajem",6264517.8499999996,0,0,0,0,0,0,1105503.1499999999,0,0,0,7370021,0,0,7370021,54000,7424021,2,"02/01346","P4 Proplacena příjemci","POST","2015-03-12",1431160.3,null,null,null,null,1431160.3,"2015-03-12",null,null,null,null,1431160.3,null,null,null,null,null,null,null,null,null,null,null,null,null,null,null,null,null,null,null,null,null,null,null,null,null,null,null,null,null,252557.7,null,null,null,null,"2015-03-10",1683718,1683718,1431160.3,0,0,0,0,0,252557.7,0,0,0,0,0,0,0,0,0,0,0,0,0,0,1431160.3,"2015-03-10",1683718,0,1683718,85,null,null,null,null,null,15,null,null,null,"P2 Ukončena","Ne",{"$error":"#N/A"},"2015-03-10",1683718,0,1683718,85,null,null,null,null,null,15,null,null,null,"P2 Ukončena","Ne",{"$error":"#N/A"}]
["29 3.3 Rozvoj a stabilizace venkovských sídel (širokopásmové ICT sítě)","11.3.3","11.3","CZ.1.11/3.3.00/29.01353","Datová Dálnice Kamenice","P6 Financování projektu ukončeno","Městys Kamenice","Obec",3050947.73,0,0,0,0,0,0,0,538402.72,0,0,3589350.45,0,0,3589350.45,651594,4240944.45,1,"01/01353","P4 Proplacena příjemci","POST","2014-11-27",465977.16,null,null,null,null,465977.16,"2014-11-27",null,null,null,null,465977.16,null,null,null,null,465977.16,"2015-02-20",445577.16,20400,"CZ.1.11/2014/12","2014-12-31",16805.29,27.728000000000002,"2015-03-27",null,null,null,null,null,null,null,null,null,null,null,null,null,null,null,null,null,82231.289999999994,null,null,465977.16,"2014-10-03",548208.44999999995,524208.45,445577.16117310344,0,0,0,0,0,0,78631.288826896576,0,0,24000,20399.999023584001,0,0,0,0,0,0,3600.000976416,0,0,465977.16,"2014-07-31",465977.16,20400,445577.16,84.999995931599997,null,null,null,null,null,null,15.000004068399999,null,null,"P2 Ukončena","Ne",{"$error":"#N/A"},"2014-07-31",465977.16,20400,445577.16,84.999995931599997,null,null,null,null,null,null,15.000004068399999,null,null,"P2 Ukončena","Ne",{"$error":"#N/A"}]
["30 1.1 -  Rozvoj dopravní infrastruktury v regionu - silnice","11.1.1","11.1","CZ.1.11/1.1.00/30.01360","III/13035 Hořice - most ev.č. 13035-2","P5 Realizace projektu ukončena","Kraj Vysočina","Kraj",10477660.75,0,0,0,0,0,0,1848998.96,0,0,0,12326659.710000001,0,0,12326659.710000001,2552921.7999999998,14879581.51,1,"01/01360","N0 Vrácena k dopracování","POST","2015-09-17",null,null,null,null,null,null,null,null,null,null,null,null,null,null,null,null,null,null,null,null,null,null,null,null,null,null,null,null,null,null,null,null,null,null,null,null,null,null,null,null,null,null,null,null,null,null,"2015-04-29",10420992.130000001,10420992.130000001,8857843.3085408527,0,0,0,0,0,1563148.8214591464,0,0,0,0,0,0,0,0,0,0,0,0,0,0,8857843.3000000007,"2015-03-31",10477660.75,0,10477660.75,84.999999981199991,null,null,null,null,null,15.0000000188,null,null,null,"P2 Ukončena","Ne",{"$error":"#N/A"},"2015-03-31",10477660.75,0,10477660.75,84.999999981199991,null,null,null,null,null,15.0000000188,null,null,null,"P2 Ukončena","Ne",{"$error":"#N/A"}]
["22 3.1 - Rozvoj urbanizačních center","11.3.1","11.3","CZ.1.11/3.1.00/22.01361","Sportovní areál při Masarykově základní škole a Mateřské škole Brno, Zemědělská 29","P7 Výdaje projektu certifikovány","Statutární město Brno","Obec",7161221.9500000002,0,0,0,0,0,0,0,1263745.05,0,0,8424967,0,0,8424967,1082377,9507344,1,"01/01361","P4 Proplacena příjemci","POST","2014-05-29",4308069.6399999997,null,null,null,null,4308069.6399999997,"2014-05-29",null,null,null,null,4308069.6399999997,null,null,null,null,4308069.6399999997,"2014-12-12",4308069.6399999997,null,"CZ.1.11/2014/06","2014-07-03",156890.99,27.459,"2014-11-10",null,null,null,null,null,null,null,null,null,null,null,null,null,null,null,null,null,760247.59,null,null,4308069.6399999997,"2014-02-27",5068317.2300000004,5068317.2300000004,4308069.6454999996,0,0,0,0,0,0,760247.5845,0,0,0,0,0,0,0,0,0,0,0,0,0,4308069.6399999997,"2014-01-31",4308069.6399999997,0,4308069.6399999997,85,null,null,null,null,null,null,15,null,null,"P2 Ukončena","Ne",{"$error":"#N/A"},"2014-01-31",4308069.6399999997,0,4308069.6399999997,85,null,null,null,null,null,null,15,null,null,"P2 Ukončena","Ne",{"$error":"#N/A"}]
["32 1.2. - Rozvoj dopravní obslužnosti a veřejné  dopravy - telematika","11.1.2","11.1","CZ.1.11/1.2.00/32.01370","Dopravní telematika ve městě Brně - 1. část","P45 Projekt v realizaci","Statutární město Brno","Obec",54658751.82,0,0,0,0,0,0,0,9645662.8900000006,0,0,64304414.710000001,0,0,64304414.710000001,450879.2,64755293.909999996,1,null," ",null,null,null,null,null,null,null,null,null,null,null,null,null,null,null,null,null,null,null,null,null,null,null,null,null,null,null,null,null,null,null,null,null,null,null,null,null,null,null,null,null,null,null,null,null,null,null,null,null,null,null,0,0,0,0,0,0,0,0,0,0,null,0,0,0,0,0,0,0,0,0,0,null,"2015-08-31",39042992.810000002,0,39042992.810000002,84.9999989465,null,null,null,null,null,null,15.0000010535,null,null,"P1 Zahájena","Ne",{"$error":"#N/A"},"2015-08-31",39042992.810000002,0,39042992.810000002,84.9999989465,null,null,null,null,null,null,15.0000010535,null,null,"P1 Zahájena","Ne",{"$error":"#N/A"}]
["30 1.1 -  Rozvoj dopravní infrastruktury v regionu - silnice","11.1.1","11.1","CZ.1.11/1.1.00/30.01384","II/379 Lažánky průtah","P5 Realizace projektu ukončena","Správa a údržba silnic Jihomoravského kraje, příspěvková organizace kraje","Organizace zřízena krajem",30829730.309999999,0,0,0,0,0,0,5440540.6500000004,0,0,0,36270270.960000001,0,16770.88,36287041.840000004,1836792.95,38123834.789999999,1,"01/01384","P4 Proplacena příjemci","POST","2014-11-27",10239534.51,null,null,null,null,10239534.51,"2014-11-27",null,null,null,null,10239534.51,null,null,null,null,10239534.51,"2015-02-20",10239534.51,null,"CZ.1.11/2014/12","2014-12-31",369285,27.728000000000002,"2015-03-27",null,null,null,null,null,null,null,null,null,null,null,null,null,null,null,null,1806976.69,null,null,null,10239534.51,"2014-09-23",12046511.199999999,12046511.199999999,10239534.518012326,0,0,0,0,0,1806976.6819876744,0,0,0,0,0,0,0,0,0,0,0,0,0,0,10239534.51,"2014-08-31",10239534.51,0,10239534.51,84.99999998349999,null,null,null,null,null,15.0000000165,null,null,null,"P2 Ukončena","Ne",{"$error":"#N/A"},"2014-08-31",10239534.51,0,10239534.51,84.99999998349999,null,null,null,null,null,15.0000000165,null,null,null,"P1 Zahájena","Ne",{"$error":"#N/A"}]
["28 2.1 - Rozvoj infrastruktury a zázemí pro rozvoj udržitelného cestovního ruchu (sběr projekt. záměrů do 29 . 6. 2012)","11.2.1","11.2","CZ.1.11/2.1.00/28.01393","ROZŠÍŘENÍ INFRASTRUKTURY CESTOVNÍHO RUCHU NA FAJTOVĚ KOPCI O STYLOVOU ROZHLEDNU S PŘÍSLUŠENSTVÍM","P5 Realizace projektu ukončena","SKI KLUB Velké Meziříčí, s.r.o.","Soukromá firma_MSP",5259802.8099999996,0,0,0,0,0,0,0,0,0,3506536.19,8766339,0,0,8766339,613375.05000000005,9379714.0500000007,3,"03/01393","P2 Schválena","POST","2015-10-02",3652881.55,null,null,null,null,null,null,null,null,null,null,null,null,null,null,null,null,null,null,null,null,null,null,null,null,null,null,null,null,null,null,null,null,null,null,null,null,null,null,null,null,null,null,null,2435255.0499999998,null,"2015-07-31",6088136.5999999996,6088136.5999999996,3652881.5565574518,0,0,0,0,0,0,0,0,2435255.0434425483,0,0,0,0,0,0,0,0,0,0,0,3652881.55,"2015-06-30",3652881.56,0,3652881.56,59.999993373300001,null,null,null,null,null,null,null,null,40.000006626699999,"P2 Ukončena","Ano",{"$error":"#N/A"},"2015-06-30",3648171.23,0,3648171.23,59.999993373300001,null,null,null,null,null,null,null,null,40.000006626699999,"P2 Ukončena","Ne",{"$error":"#N/A"}]
["22 3.1 - Rozvoj urbanizačních center","11.3.1","11.3","CZ.1.11/3.1.00/22.01400","Sportovně relaxační centrum Český mlýn, Jihlava","P7 Výdaje projektu certifikovány","Statutární město Jihlava","Obec",55319545.299999997,0,0,0,0,0,0,0,9762272.6999999993,0,0,65081818,0,0,65081818,2896570,67978388,3,"03/01400","P4 Proplacena příjemci","POST","2015-04-17",10989171.689999999,null,null,null,null,10989171.689999999,"2015-04-17",null,null,null,null,10989171.689999999,null,null,null,null,10989171.689999999,"2015-05-29",10875423.67,113748.02,"CZ.1.11/2015/04","2015-04-28",400553,27.434999999999999,"2015-08-03",null,null,null,null,null,null,null,null,null,null,null,null,null,null,null,null,null,1939265.6,null,null,10989171.689999999,"2015-02-18",12940537.289999999,12806716.09,10885708.6765,0,0,0,0,0,0,1921007.4135,0,0,133821.20000000001,113748.02,0,0,0,0,0,0,20073.18,0,0,10999456.689999999,"2015-03-01",10999456.699999999,113748.02,10885708.68,85,null,null,null,null,null,null,15,null,null,"P2 Ukončena","Ne",{"$error":"#N/A"},"2015-03-01",10999456.699999999,113748.02,10885708.68,85,null,null,null,null,null,null,15,null,null,"P2 Ukončena","Ne",{"$error":"#N/A"}]
["28 2.1 - Rozvoj infrastruktury a zázemí pro rozvoj udržitelného cestovního ruchu (sběr projekt. záměrů do 29 . 6. 2012)","11.2.1","11.2","CZ.1.11/2.1.00/28.01407","Obnova židovské obřadní síně v Břeclavi 2013","N7 Projekt nedokončen / stažen","Město Břeclav","Obec",9345425.5099999998,0,0,0,0,0,0,0,1649193.29,0,0,10994618.800000001,0,0,10994618.800000001,2465175.2000000002,13459794,2,null," ",null,null,null,null,null,null,null,null,null,null,null,null,null,null,null,null,null,null,null,null,null,null,null,null,null,null,null,null,null,null,null,null,null,null,null,null,null,null,null,null,null,null,null,null,null,null,null,null,null,null,null,0,0,0,0,0,0,0,0,0,0,null,0,0,0,0,0,0,0,0,0,0,null,"2015-05-15",1989183.8,0,1989183.8,84.9999957454,null,null,null,null,null,null,15.0000042546,null,null,"P1 Zahájena","Ne",{"$error":"#N/A"},"2015-05-15",1989183.8,0,1989183.8,84.9999957454,null,null,null,null,null,null,15.0000042546,null,null,"P1 Zahájena","Ne",{"$error":"#N/A"}]
["28 2.1 - Rozvoj infrastruktury a zázemí pro rozvoj udržitelného cestovního ruchu (sběr projekt. záměrů do 29 . 6. 2012)","11.2.1","11.2","CZ.1.11/2.1.00/28.01410","Eco-technic center Třebíč","P5 Realizace projektu ukončena","EKOBIOENERGO o.s.","Neveřejná nestátní nezisková organizace",17730041.23,0,0,0,0,0,0,0,0,0,3128830.82,20858872.050000001,0,0,20858872.050000001,6341334.6100000003,27200206.66,1,"01/01410","P1 Zaregistrována","POST","2015-08-19",null,null,null,null,null,null,null,null,null,null,null,null,null,null,null,null,null,null,null,null,null,null,null,null,null,null,null,null,null,null,null,null,null,null,null,null,null,null,null,null,null,null,null,null,null,null,"2015-07-29",20858872.050000001,20858872.050000001,17730041.239100005,0,0,0,0,0,0,0,0,3128830.8108999962,0,0,0,0,0,0,0,0,0,0,0,17730041.23,"2015-07-24",18847959.530000001,10200,18837759.530000001,84.999999983699993,null,null,null,null,null,null,null,null,15.0000000163,"P2 Ukončena","Ne",0,"2015-07-24",18847959.530000001,10200,18837759.530000001,84.999999983699993,null,null,null,null,null,null,null,null,15.0000000163,"P2 Ukončena","Ne",0]
["28 2.1 - Rozvoj infrastruktury a zázemí pro rozvoj udržitelného cestovního ruchu (sběr projekt. záměrů do 29 . 6. 2012)","11.2.1","11.2","CZ.1.11/2.1.00/28.01416","Zahrada nad Dyjí - park zážitků, inspirace a setkání","N5 Projektová žádost stažena žadatelem/ukončena ŘO/ZS","mezi břehy s.r.o.","Soukromá firma_MSP",null,null,null,null,null,null,null,null,null,null,null,null,null,null,null,null,null,6,null," ",null,null,null,null,null,null,null,null,null,null,null,null,null,null,null,null,null,null,null,null,null,null,null,null,null,null,null,null,null,null,null,null,null,null,null,null,null,null,null,null,null,null,null,null,null,null,null,null,null,null,null,0,0,0,0,0,0,0,0,0,0,null,0,0,0,0,0,0,0,0,0,0,null,"2015-04-30",4855528.5999999996,0,4855528.5999999996,59.999999478100001,null,null,null,null,null,null,null,null,40.000000521899999,"P1 Zahájena","Ne",{"$error":"#N/A"},"2015-04-30",4855528.5999999996,0,4855528.5999999996,59.999999478100001,null,null,null,null,null,null,null,null,40.000000521899999,"P1 Zahájena","Ne",{"$error":"#N/A"}]
["35 3.2 - Rozvoj regionálních středisek - školství, volnočasové aktivity, revitalizace","11.3.2","11.3","CZ.1.11/3.2.00/35.01426","Víceúčelový atletický areál ZŠ Šlapanice","P5 Realizace projektu ukončena","Město Šlapanice","Obec",10572193.779999999,0,0,0,0,0,0,0,4530941,0,0,15103134.779999999,0,0,15103134.779999999,14070,15117204.779999999,2,"02/01426","P1 Zaregistrována","POST","2015-09-25",null,null,null,null,null,null,null,null,null,null,null,null,null,null,null,null,null,null,null,null,null,null,null,null,null,null,null,null,null,null,null,null,null,null,null,null,null,null,null,null,null,null,null,null,null,null,"2015-08-18",11316314.33,11232219.33,7862553.113633194,0,0,0,0,0,0,3369666.2163668061,0,0,84095,58866.49687519799,0,0,0,0,0,0,25228.50312480201,0,0,7921419.6100000003,"2015-07-30",7921994.5199999996,100761.49,7821233.0300000003,69.999996284199995,null,null,null,null,null,null,30.000003715799998,null,null,"P2 Ukončena","Ne",{"$error":"#N/A"},"2015-07-30",7921994.5199999996,100761.49,7821233.0300000003,69.999996284199995,null,null,null,null,null,null,30.000003715799998,null,null,"P2 Ukončena","Ne",{"$error":"#N/A"}]
["35 3.2 - Rozvoj regionálních středisek - školství, volnočasové aktivity, revitalizace","11.3.2","11.3","CZ.1.11/3.2.00/35.01439","Centrum odborné výuky ZŠ Masarykova Telč","P6 Financování projektu ukončeno","Město Telč","Obec",11130973.050000001,0,0,0,0,0,0,0,4770417.03,0,0,15901390.08,0,0,15901390.08,114237,16015627.08,1,"01/01439","P4 Proplacena příjemci","POST","2015-03-06",6288205.29,null,null,null,null,6288205.29,"2015-03-06",null,null,null,null,6288205.29,null,null,null,null,6288205.29,"2015-04-23",6288205.29,null,"CZ.1.11/2015/03","2015-04-03",228886.74,27.473000000000003,"2015-08-03",null,null,null,null,null,null,null,null,null,null,null,null,null,null,null,null,null,2694945.14,null,null,6288205.29,"2014-10-30",8983150.4299999997,8983150.4299999997,6288205.2976313187,0,0,0,0,0,0,2694945.1323686815,0,0,0,0,0,0,0,0,0,0,0,0,0,6288205.29,"2014-09-30",6288205.29,0,6288205.29,69.999999962499999,null,null,null,null,null,null,30.000000037500001,null,null,"P2 Ukončena","Ne",{"$error":"#N/A"},"2014-09-30",6288205.29,0,6288205.29,69.999999962499999,null,null,null,null,null,null,30.000000037500001,null,null,"P2 Ukončena","Ne",{"$error":"#N/A"}]
["35 3.2 - Rozvoj regionálních středisek - školství, volnočasové aktivity, revitalizace","11.3.2","11.3","CZ.1.11/3.2.00/35.01448","Modernizace výuky a zvyšování kvality odborného vzdělávání na ZŠ Smíškova","P5 Realizace projektu ukončena","Město Tišnov","Obec",21478169.309999999,0,0,0,0,0,0,0,9204930.6899999995,0,0,30683100,0,0,30683100,13133532.5,43816632.5,2,"02/01448","P4 Proplacena příjemci","POST","2014-12-19",11400214.449999999,null,null,null,null,11400214.449999999,"2014-12-19",null,null,null,null,11400214.449999999,null,null,null,null,11400214.449999999,"2015-02-20",11400214.449999999,null,"CZ.1.11/2014/12","2014-12-31",411144.49,27.728000000000002,"2015-03-27",null,null,null,null,null,null,null,null,null,null,null,null,null,null,null,null,null,4885806.72,null,null,11400214.449999999,"2014-10-29",17139932.280000001,17139932.280000001,11997952.21119138,0,0,0,0,0,0,5141980.0688086199,0,0,0,0,0,0,0,0,0,0,0,0,0,11997952.210000001,"2014-10-01",11997952.210000001,0,11997952.210000001,69.999997754899994,null,null,null,null,null,null,30.000002245099999,null,null,"P2 Ukončena","Ne",{"$error":"#N/A"},"2014-10-01",11997952.210000001,0,11997952.210000001,69.999997754899994,null,null,null,null,null,null,30.000002245099999,null,null,"P2 Ukončena","Ne",{"$error":"#N/A"}]
["35 3.2 - Rozvoj regionálních středisek - školství, volnočasové aktivity, revitalizace","11.3.2","11.3","CZ.1.11/3.2.00/35.01451","Veřejná prostranství v Třebíči-Borovině","P5 Realizace projektu ukončena","Město Třebíč","Obec",27370358.969999999,0,0,0,0,0,0,0,11730153.85,0,0,39100512.82,0,0,39100512.82,1180311.2,40280824.020000003,2,"02/01451","N0 Vrácena k dopracování","POST","2015-09-17",null,null,null,null,null,null,null,null,null,null,null,null,null,null,null,null,null,null,null,null,null,null,null,null,null,null,null,null,null,null,null,null,null,null,null,null,null,null,null,null,null,null,null,null,null,null,"2015-09-15",29326129.989999998,29300719.989999998,20510503.990011327,0,0,0,0,0,0,8790215.9999886733,0,0,25410,17786.99999740818,0,0,0,0,0,0,7623.0000025918198,0,0,20528290.989999998,"2015-08-10",19794863.120000001,25410,19769453.120000001,69.999999989799988,null,null,null,null,null,null,30.000000010200001,null,null,"P2 Ukončena","Ne",{"$error":"#N/A"},"2015-08-10",19794863.120000001,25410,19769453.120000001,69.999999989799988,null,null,null,null,null,null,30.000000010200001,null,null,"P1 Zahájena","Ne",{"$error":"#N/A"}]
["36 3.3 - Rozvoj a stabilizace venkovských sídel - školství, volnočasové aktivity","11.3.3","11.3","CZ.1.11/3.3.00/36.01463","Modernizace a rozšíření ZŠ Přibyslav","P6 Financování projektu ukončeno","Město Přibyslav","Obec",15965832.85,0,0,0,0,0,0,0,2817500.22,0,0,18783333.07,0,0,18783333.07,20012426.530000001,38795759.600000001,2,"02/01463","P4 Proplacena příjemci","POST","2015-06-04",9867128.2699999996,null,null,null,null,9867128.2699999996,"2015-06-04",null,null,null,null,9867128.2699999996,null,null,null,null,9867128.2699999996,null,7945735.5999999996,1921392.67,"CZ.1.11/2015/06","2015-07-02",362149.61,27.246000000000002,null,null,null,null,null,null,null,null,null,null,null,null,null,null,null,null,null,null,1741258.12,null,null,null,"2015-03-30",11608386.390000001,9347924.3900000006,7945735.6043682285,0,0,0,0,0,0,1402188.7856317717,0,0,2260462,1921392.6692577167,0,0,0,0,0,0,339069.3307422832,0,0,9867128.2699999996,"2015-03-31",9867128.2699999996,1921392.67,7945735.5999999996,84.999998640000001,null,null,null,null,null,null,15.000001360000001,null,null,"P2 Ukončena","Ne",{"$error":"#N/A"},"2015-03-31",9867128.2699999996,1921392.67,7945735.5999999996,84.999998640000001,null,null,null,null,null,null,15.000001360000001,null,null,"P2 Ukončena","Ne",{"$error":"#N/A"}]
["36 3.3 - Rozvoj a stabilizace venkovských sídel - školství, volnočasové aktivity","11.3.3","11.3","CZ.1.11/3.3.00/36.01471","Přístavba mateřské školy Oslavice","P7 Výdaje projektu certifikovány","Obec Oslavice","Obec",3669121,0,0,0,0,0,0,0,647492,0,0,4316613,0,0,4316613,0,4316613,2,"02/01471","P4 Proplacena příjemci","POST","2014-11-27",1084470.1399999999,null,null,null,null,1084470.1399999999,"2014-11-27",null,null,null,null,1084470.1399999999,null,null,null,null,1084470.1399999999,"2015-02-20",1084470.1399999999,null,"CZ.1.11/2014/12","2014-12-31",39111.01,27.728000000000002,"2015-03-27",null,null,null,null,null,null,null,null,null,null,null,null,null,null,null,null,null,191377.11,null,null,1084470.1399999999,"2014-10-07",1278116,1278116,1086398.5851955824,0,0,0,0,0,0,191717.41480441764,0,0,0,0,0,0,0,0,0,0,0,0,0,1086398.58,"2014-09-30",1086398.5900000001,0,1086398.5900000001,84.999998841699991,null,null,null,null,null,null,15.0000011583,null,null,"P2 Ukončena","Ne",{"$error":"#N/A"},"2014-09-30",1086398.5900000001,0,1086398.5900000001,84.999998841699991,null,null,null,null,null,null,15.0000011583,null,null,"P2 Ukončena","Ne",{"$error":"#N/A"}]
["36 3.3 - Rozvoj a stabilizace venkovských sídel - školství, volnočasové aktivity","11.3.3","11.3","CZ.1.11/3.3.00/36.01487","Rekonstrukce a přístavba sportovní haly při ZŠ Kunštát","N5 Projektová žádost stažena žadatelem/ukončena ŘO/ZS","Město Kunštát","Obec",null,null,null,null,null,null,null,null,null,null,null,null,null,null,null,null,null,1,null," ",null,null,null,null,null,null,null,null,null,null,null,null,null,null,null,null,null,null,null,null,null,null,null,null,null,null,null,null,null,null,null,null,null,null,null,null,null,null,null,null,null,null,null,null,null,null,null,null,null,null,null,0,0,0,0,0,0,0,0,0,0,null,0,0,0,0,0,0,0,0,0,0,null,"2014-08-01",4730871,63750,4667121,84.999999008499998,null,null,null,null,null,null,15.0000009915,null,null,"P1 Zahájena","Ne",{"$error":"#N/A"},"2014-08-01",4730871,63750,4667121,84.999999008499998,null,null,null,null,null,null,15.0000009915,null,null,"P1 Zahájena","Ne",{"$error":"#N/A"}]
["36 3.3 - Rozvoj a stabilizace venkovských sídel - školství, volnočasové aktivity","11.3.3","11.3","CZ.1.11/3.3.00/36.01498","Komplexní rozvoj školství v Adamově","P6 Financování projektu ukončeno","Město Adamov","Obec",5159903,0,0,0,0,0,0,0,910571.12,0,0,6070474.1200000001,0,0,6070474.1200000001,70000,6140474.1200000001,1,"01/01498","P4 Proplacena příjemci","POST","2015-07-02",3985782.03,null,null,null,null,3985782.03,"2015-07-02",null,null,null,null,3985782.03,null,null,null,null,3985782.03,null,769276.85,3216505.18,"CZ.1.11/2015/07","2015-07-31",147332.35,27.053000000000001,null,null,null,null,null,null,null,null,null,null,null,null,null,null,null,null,null,null,703373.31,null,null,null,"2015-05-28",4689155.34,905031.6,769276.85970495967,0,0,0,0,0,0,135754.7402950403,0,0,3784123.74,3216505.1777663757,0,0,0,0,0,0,567618.56223362428,0,0,3985782.03,"2015-04-30",5159903,3205209.17,1954693.83,84.999999967400001,null,null,null,null,null,null,15.000000032599999,null,null,"P2 Ukončena","Ne",1.43,"2015-04-30",5159903,3205209.17,1954693.83,84.999999967400001,null,null,null,null,null,null,15.000000032599999,null,null,"P2 Ukončena","Ne",1.43]
["36 3.3 - Rozvoj a stabilizace venkovských sídel - školství, volnočasové aktivity","11.3.3","11.3","CZ.1.11/3.3.00/36.01509","Modernizace a zkvalitnění výuky ZŠ a MŠ Velká Losenice","P6 Financování projektu ukončeno","Obec Velká Losenice","Obec",10546238.109999999,0,0,0,0,0,0,0,1861100.89,0,0,12407339,0,32890,12440229,930758,13370987,1,"01/01509","P4 Proplacena příjemci","POST","2015-03-06",5345404.95,null,null,null,null,5345404.95,"2015-03-06",null,null,null,null,5345404.95,null,null,null,null,5345404.95,"2015-04-23",5308934.2300000004,36470.720000000001,"CZ.1.11/2015/03","2015-04-03",194569.39,27.473000000000003,"2015-08-03",null,null,null,null,null,null,null,null,null,null,null,null,null,null,null,null,null,943306.78,null,null,5345404.95,"2014-12-19",6288711.7300000004,6245805,5308934.2348976433,0,0,0,0,0,0,936870.76510235644,0,0,42906.73,36470.720396251527,0,0,0,0,0,0,6436.0096037484727,0,0,5345404.95,"2014-12-31",5345404.95,36470.720000000001,5308934.2300000004,84.999999758199991,null,null,null,null,null,null,15.0000002418,null,null,"P2 Ukončena","Ne",0.48,"2014-12-31",5345404.95,36470.720000000001,5308934.2300000004,84.999999758199991,null,null,null,null,null,null,15.0000002418,null,null,"P2 Ukončena","Ne",0.48]
["36 3.3 - Rozvoj a stabilizace venkovských sídel - školství, volnočasové aktivity","11.3.3","11.3","CZ.1.11/3.3.00/36.01511","Náměstí v Kloboukách u Brna - 2. etapa","N4 Projekt nesplnil podmínky pro vydání Rozhodnutí / podpis Smlouvy","Město Klobouky u Brna","Obec",null,null,null,null,null,null,null,null,null,null,null,null,null,null,null,null,null,3,null," ",null,null,null,null,null,null,null,null,null,null,null,null,null,null,null,null,null,null,null,null,null,null,null,null,null,null,null,null,null,null,null,null,null,null,null,null,null,null,null,null,null,null,null,null,null,null,null,null,null,null,null,0,0,0,0,0,0,0,0,0,0,null,0,0,0,0,0,0,0,0,0,0,null,"2014-12-30",5272390.82,0,5272390.82,84.999999982999995,null,null,null,null,null,null,15.000000017,null,null,"P1 Zahájena","Ne",{"$error":"#N/A"},"2014-12-30",5272390.82,0,5272390.82,84.999999982999995,null,null,null,null,null,null,15.000000017,null,null,"P1 Zahájena","Ne",{"$error":"#N/A"}]
["36 3.3 - Rozvoj a stabilizace venkovských sídel - školství, volnočasové aktivity","11.3.3","11.3","CZ.1.11/3.3.00/36.01524","Výstavba nového atletického hřiště","P5 Realizace projektu ukončena","Obec Šanov","Obec",2894390.06,0,0,0,0,0,0,0,0,0,0,2894390.06,0,0,2894390.06,575724.93999999994,3470115,1,"01/01524","N2 Čeká na doplnění","POST","2015-07-14",null,null,null,null,null,null,null,null,null,null,null,null,null,null,null,null,null,null,null,null,null,null,null,null,null,null,null,null,null,null,null,null,null,null,null,null,null,null,null,null,null,null,null,null,null,null,"2015-06-30",2456148.81,2456148.81,2456148.81,0,0,0,0,0,0,0,0,0,0,0,0,0,0,0,0,0,0,0,0,2456148.81,"2015-05-31",2894390.06,74111.5,2820278.56,84.999994487999999,null,null,null,null,null,null,15.000005512,null,null,"P2 Ukončena","Ne",0,"2015-05-31",2894390.06,74111.5,2820278.56,84.999994487999999,null,null,null,null,null,null,15.000005512,null,null,"P2 Ukončena","Ne",0]
["36 3.3 - Rozvoj a stabilizace venkovských sídel - školství, volnočasové aktivity","11.3.3","11.3","CZ.1.11/3.3.00/36.01537","Vranov nad Dyjí - náměstí: rekonstrukce plochy u morového sloupu","P7 Výdaje projektu certifikovány","Městys Vranov nad Dyjí","Obec",4113956.24,0,0,0,0,0,0,0,725992.42,0,0,4839948.66,0,0,4839948.66,72358,4912306.66,2,"02/01537","P4 Proplacena příjemci","POST","2015-04-07",1941554.39,null,null,null,null,1941554.39,"2015-04-07",null,null,null,null,1941554.39,null,null,null,null,1941554.39,"2015-05-29",1941554.39,null,"CZ.1.11/2015/04","2015-04-28",70769.25,27.434999999999999,"2015-08-03",null,null,null,null,null,null,null,null,null,null,null,null,null,null,null,null,null,342627.32,null,null,1941554.39,"2014-12-16",2284181.71,2284181.71,1941554.398567714,0,0,0,0,0,0,342627.31143228593,0,0,0,0,0,0,0,0,0,0,0,0,0,1941554.39,"2014-12-13",1941554.4,0,1941554.4,84.999997595099998,null,null,null,null,null,null,15.0000024049,null,null,"P2 Ukončena","Ne",0.72,"2014-12-13",1941554.4,0,1941554.4,84.999997595099998,null,null,null,null,null,null,15.0000024049,null,null,"P2 Ukončena","Ne",0.72]
["36 3.3 - Rozvoj a stabilizace venkovských sídel - školství, volnočasové aktivity","11.3.3","11.3","CZ.1.11/3.3.00/36.01550","Areál pro sportovní aktivity u ZŠ a MŠ v Rudíkově","P45 Projekt v realizaci","Obec Rudíkov","Obec",6022085.29,0,0,0,0,0,0,0,1062721.29,0,0,7084806.5800000001,0,0,7084806.5800000001,0,7084806.5800000001,1,null," ",null,null,null,null,null,null,null,null,null,null,null,null,null,null,null,null,null,null,null,null,null,null,null,null,null,null,null,null,null,null,null,null,null,null,null,null,null,null,null,null,null,null,null,null,null,null,null,null,null,null,null,0,0,0,0,0,0,0,0,0,0,null,0,0,0,0,0,0,0,0,0,0,null,"2014-11-30",6021618.5599999996,153033.99,5868584.5700000003,84.999995794499995,null,null,null,null,null,null,15.0000042055,null,null,"P1 Zahájena","Ne",0.56000000000000005,"2014-11-30",6021618.5599999996,153033.99,5868584.5700000003,84.999995794499995,null,null,null,null,null,null,15.0000042055,null,null,"P1 Zahájena","Ne",0.56000000000000005]
["36 3.3 - Rozvoj a stabilizace venkovských sídel - školství, volnočasové aktivity","11.3.3","11.3","CZ.1.11/3.3.00/36.01564","Modernizace odborných učeben Základní školy Rájec-Jestřebí","P7 Výdaje projektu certifikovány","Základní a mateřská škola Rájec-Jestřebí, okres Blansko","Organizace zřízena obcí",2398491.75,0,0,0,0,0,0,0,423263.25,0,0,2821755,0,0,2821755,0,2821755,1,"01/01564","P4 Proplacena příjemci","POST","2015-03-06",2220818.54,null,null,null,null,2220818.54,"2015-03-06",null,null,null,null,2220818.54,null,null,null,null,2220818.54,"2015-04-23",2220818.54,null,"CZ.1.11/2015/03","2015-04-03",80836.399999999994,27.473000000000003,"2015-08-03",null,null,null,null,null,null,null,null,null,null,null,null,null,null,null,null,null,391909.16,null,null,2220818.54,"2014-12-29",2612727.7000000002,2612727.7000000002,2220818.5449999999,0,0,0,0,0,0,391909.15500000003,0,0,0,0,0,0,0,0,0,0,0,0,0,2220818.54,"2014-11-26",2220818.54,0,2220818.54,85,null,null,null,null,null,null,15,null,null,"P2 Ukončena","Ne",{"$error":"#N/A"},"2014-11-26",2220818.54,0,2220818.54,85,null,null,null,null,null,null,15,null,null,"P2 Ukončena","Ne",{"$error":"#N/A"}]
["36 3.3 - Rozvoj a stabilizace venkovských sídel - školství, volnočasové aktivity","11.3.3","11.3","CZ.1.11/3.3.00/36.01569","Venkovní i vnitřní přírodopisné učebny ŽS Suchohrdly","P45 Projekt v realizaci","Obec Suchohrdly","Obec",3726389.73,0,0,0,0,0,0,0,657599.47,0,0,4383989.2,0,0,4383989.2,118719.08,4502708.28,1,null," ",null,null,null,null,null,null,null,null,null,null,null,null,null,null,null,null,null,null,null,null,null,null,null,null,null,null,null,null,null,null,null,null,null,null,null,null,null,null,null,null,null,null,null,null,null,null,null,null,null,null,null,0,0,0,0,0,0,0,0,0,0,null,0,0,0,0,0,0,0,0,0,0,null,"2015-09-30",3640616.59,0,3640616.59,84.999975244499993,null,null,null,null,null,null,15.0000247555,null,null,"P1 Zahájena","Ne",1.38,"2015-09-30",3640616.59,0,3640616.59,84.999975244499993,null,null,null,null,null,null,15.0000247555,null,null,"P1 Zahájena","Ne",1.38]
["37 1.3 - Obnova vozového parku drážních vozidel hromadné přepravy osob","11.1.3","11.1","CZ.1.11/1.3.00/37.01579","Nákup nízkopodlažních velkokapacitních tramvají pro MHD v Brně - 2. etapa","P45 Projekt v realizaci","Dopravní podnik města Brna,a.s.","Organizace založená obcí",501107300,0,0,0,0,0,0,0,0,0,0,501107300,0,0,501107300,200442920,701550220,1,null," ",null,null,null,null,null,null,null,null,null,null,null,null,null,null,null,null,null,null,null,null,null,null,null,null,null,null,null,null,null,null,null,null,null,null,null,null,null,null,null,null,null,null,null,null,null,null,null,null,null,null,null,0,0,0,0,0,0,0,0,0,0,null,0,0,0,0,0,0,0,0,0,0,null,"2015-12-14",501107300,25500,501081800,85,null,null,null,null,null,null,15,null,null,"P1 Zahájena","Ne",0,"2015-12-14",501107300,25500,501081800,85,null,null,null,null,null,null,15,null,null,"P1 Zahájena","Ne",0]
["38 2.2 - Rozvoj služeb v cestovním ruchu","11.2.2","11.2","CZ.1.11/2.2.00/38.01591","Marketingová podpora Zámku Žďár nad Sázavou","P45 Projekt v realizaci","?SE.S.TA?","Neveřejná nestátní nezisková organizace",3245318.98,0,0,0,0,0,0,0,0,0,572703.35,3818022.33,0,0,3818022.33,890820,4708842.33,2,null," ",null,null,null,null,null,null,null,null,null,null,null,null,null,null,null,null,null,null,null,null,null,null,null,null,null,null,null,null,null,null,null,null,null,null,null,null,null,null,null,null,null,null,null,null,null,null,null,null,null,null,null,0,0,0,0,0,0,0,0,0,0,null,0,0,0,0,0,0,0,0,0,0,null,"2015-09-30",2753045.73,2753045.73,0,85,null,null,null,null,null,null,null,null,15,"P1 Zahájena","Ne",{"$error":"#N/A"},"2015-09-30",2753045.73,2753045.73,0,85,null,null,null,null,null,null,null,null,15,"P1 Zahájena","Ne",{"$error":"#N/A"}]
["38 2.2 - Rozvoj služeb v cestovním ruchu","11.2.2","11.2","CZ.1.11/2.2.00/38.01600","Propagace Centra zelených vědomostí","P45 Projekt v realizaci","EDEN CENTRE, s.r.o.","Právnické osoby s účastí samosprávy (obce)",3650291,0,0,0,0,0,0,0,644169,0,0,4294460,0,0,4294460,813154,5107614,1,"01/01600","N0 Vrácena k dopracování","POST","2015-09-18",null,null,null,null,null,null,null,null,null,null,null,null,null,null,null,null,null,null,null,null,null,null,null,null,null,null,null,null,null,null,null,null,null,null,null,null,null,null,null,null,null,null,null,null,null,null,"2015-07-13",641054.12,0,0,0,0,0,0,0,0,0,0,0,641054.12,544896.00199999998,0,0,0,0,0,0,96158.118000000002,0,0,544896,"2015-05-31",2990000,2990000,0,85,null,null,null,null,null,null,15,null,null,"P1 Zahájena","Ne",{"$error":"#N/A"},"2015-05-31",2990000,2990000,0,85,null,null,null,null,null,null,15,null,null,"P1 Zahájena","Ne",{"$error":"#N/A"}]
["38 2.2 - Rozvoj služeb v cestovním ruchu","11.2.2","11.2","CZ.1.11/2.2.00/38.01606","Moravským krasem - chytře","N11 Projektová žádost nesplnila podmínky přijatelnosti","BMS creative s.r.o.","Soukromá firma_MSP",null,null,null,null,null,null,null,null,null,null,null,null,null,null,null,null,null,1,null," ",null,null,null,null,null,null,null,null,null,null,null,null,null,null,null,null,null,null,null,null,null,null,null,null,null,null,null,null,null,null,null,null,null,null,null,null,null,null,null,null,null,null,null,null,null,null,null,null,null,null,null,0,0,0,0,0,0,0,0,0,0,null,0,0,0,0,0,0,0,0,0,0,null,"2014-01-31",3535206,887206.25,2647999.75,79.9999934545,null,null,null,null,null,null,null,null,20.0000065455,"P1 Zahájena","Ne",{"$error":"#N/A"},"2014-01-31",3535206,887206.25,2647999.75,79.9999934545,null,null,null,null,null,null,null,null,20.0000065455,"P1 Zahájena","Ne",{"$error":"#N/A"}]
["22 3.1 - Rozvoj urbanizačních center","11.3.1","11.3","CZ.1.11/3.1.00/22.01607","Dům dětí a mládeže, Brněnská 46, Jihlava - rekonstrukce","P5 Realizace projektu ukončena","Statutární město Jihlava","Obec",34040141.469999999,0,0,0,0,0,0,0,6007083.79,0,0,40047225.259999998,0,0,40047225.259999998,2484887.0099999998,42532112.270000003,2,"02/01607","P4 Proplacena příjemci","POST","2014-11-27",5219690.71,null,null,null,null,5219690.71,"2014-11-27",null,null,null,null,5219690.71,null,null,null,null,5219690.71,"2015-02-20",5219690.71,null,"CZ.1.11/2014/12","2014-12-31",188246.2,27.728000000000002,"2015-03-27",null,null,null,null,null,null,null,null,null,null,null,null,null,null,null,null,null,921121.9,null,null,5219690.71,"2014-10-09",6380065.0499999998,6380065.0499999998,5423055.2924234392,0,0,0,0,0,0,957009.75757656083,0,0,0,0,0,0,0,0,0,0,0,0,0,5423055.29,"2014-09-30",5423055.29,0,5423055.29,84.999999998799993,null,null,null,null,null,null,15.0000000012,null,null,"P2 Ukončena","Ne",{"$error":"#N/A"},"2014-09-30",5423055.29,0,5423055.29,84.999999998799993,null,null,null,null,null,null,15.0000000012,null,null,"P1 Zahájena","Ne",{"$error":"#N/A"}]
["40 1.1 - Rozvoj dopravní infrastruktury v regionu","11.1.1","11.1","CZ.1.11/1.1.00/40.01615","II/405 Příseka obchvat","P45 Projekt v realizaci","Kraj Vysočina","Kraj",136320816.49000001,0,0,0,0,0,0,0,0,0,0,136320816.49000001,0,0,136320816.49000001,11148116.810000001,147468933.30000001,1,"02/01615","P4 Proplacena příjemci","POST","2015-06-22",48434158.240000002,null,null,null,null,48434158.240000002,"2015-06-22",null,null,null,null,48434158.240000002,null,null,null,null,48434158.240000002,null,48434158.240000002,null,"CZ.1.11/2015/06","2015-07-02",1777661.24,27.246000000000002,null,null,null,null,null,null,null,null,null,null,null,null,null,null,null,null,null,null,null,null,null,null,"2015-05-29",48434258.240000002,48434258.240000002,48434258.240000002,0,0,0,0,0,0,0,0,0,0,0,0,0,0,0,0,0,0,0,0,48434258.240000002,"2015-04-30",48434258.240000002,0,48434258.240000002,100,null,null,null,null,null,null,null,null,null,"P1 Zahájena","Ne",{"$error":"#N/A"},"2015-04-30",48434258.240000002,0,48434258.240000002,100,null,null,null,null,null,null,null,null,null,"P1 Zahájena","Ne",{"$error":"#N/A"}]
["42 3.4 - Veřejné služby regionálního významu","11.3.4","11.3","CZ.1.11/3.4.00/42.01626","Novostavba zámečnické dílny v Polánce","P45 Projekt v realizaci","Střední škola dopravy, obchodu a služeb Moravský Krumlov","Organizace zřízena krajem",32472603,0,0,0,0,0,0,0,0,0,0,32472603,0,0,32472603,134199,32606802,2,null," ",null,null,null,null,null,null,null,null,null,null,null,null,null,null,null,null,null,null,null,null,null,null,null,null,null,null,null,null,null,null,null,null,null,null,null,null,null,null,null,null,null,null,null,null,null,null,null,null,null,null,null,0,0,0,0,0,0,0,0,0,0,null,0,0,0,0,0,0,0,0,0,0,null,"2015-11-30",25273603,766535,24507068,100,null,null,null,null,null,null,null,null,null,"P1 Zahájena","Ne",{"$error":"#N/A"},"2015-11-30",25273603,766535,24507068,100,null,null,null,null,null,null,null,null,null,"P1 Zahájena","Ne",{"$error":"#N/A"}]
["41 3.1 - Rozvoj urbanizačních center","11.3.1","11.3","CZ.1.11/3.1.00/41.01637","Mateřská a základní škola Nad Plovárnou 5, Jihlava","P5 Realizace projektu ukončena","Statutární město Jihlava","Obec",26821168.190000001,0,0,0,0,0,0,0,4733147.34,0,0,31554315.530000001,0,0,31554315.530000001,2011062.6,33565378.130000003,3,"03/01637","P4 Proplacena příjemci","POST","2015-05-06",2017305.75,null,null,null,null,2017305.75,"2015-05-06",null,null,null,null,2017305.75,null,null,null,null,2017305.75,null,2017305.75,null,"CZ.1.11/2015/06","2015-07-02",74040.44,27.246000000000002,null,null,null,null,null,null,null,null,null,null,null,null,null,null,null,null,null,null,355995.14,null,null,null,"2015-04-08",2373300.89,2373300.89,2017305.7564620271,0,0,0,0,0,0,355995.13353797281,0,0,0,0,0,0,0,0,0,0,0,0,0,2017305.75,"2015-03-31",2017305.75,0,2017305.75,84.9999999984,null,null,null,null,null,null,15.0000000016,null,null,"P2 Ukončena","Ne",{"$error":"#N/A"},"2015-03-31",2017305.75,0,2017305.75,84.9999999984,null,null,null,null,null,null,15.0000000016,null,null,"P2 Ukončena","Ne",{"$error":"#N/A"}]
["40 1.1 - Rozvoj dopravní infrastruktury v regionu","11.1.1","11.1","CZ.1.11/1.1.00/40.01647","III/3771 Tišnov - Předklášteří","P45 Projekt v realizaci","Správa a údržba silnic Jihomoravského kraje, příspěvková organizace kraje","Organizace zřízena krajem",27731757.829999998,0,0,0,0,0,0,0,0,0,0,27731757.829999998,0,78130.8,27809888.629999999,1646023.88,29455912.510000002,1,"01/01647","P1 Zaregistrována","POST","2015-09-23",null,null,null,null,null,null,null,null,null,null,null,null,null,null,null,null,null,null,null,null,null,null,null,null,null,null,null,null,null,null,null,null,null,null,null,null,null,null,null,null,null,null,null,null,null,null,"2015-09-23",16036494.08,16036494.08,16036494.08,0,0,0,0,0,0,0,0,0,0,0,0,0,0,0,0,0,0,0,0,16036494.08,"2015-08-31",16000000,0,16000000,100,null,null,null,null,null,null,null,null,null,"P1 Zahájena","Ne",{"$error":"#N/A"},"2015-08-31",16000000,0,16000000,100,null,null,null,null,null,null,null,null,null,"P1 Zahájena","Ne",{"$error":"#N/A"}]
["40 1.1 - Rozvoj dopravní infrastruktury v regionu","11.1.1","11.1","CZ.1.11/1.1.00/40.01649","II/394 Neslovice průtah","P45 Projekt v realizaci","Správa a údržba silnic Jihomoravského kraje, příspěvková organizace kraje","Organizace zřízena krajem",26155439.02,0,0,0,0,0,0,0,0,0,0,26155439.02,0,71077.97,26226516.989999998,1912666.31,28139183.300000001,2,null," ",null,null,null,null,null,null,null,null,null,null,null,null,null,null,null,null,null,null,null,null,null,null,null,null,null,null,null,null,null,null,null,null,null,null,null,null,null,null,null,null,null,null,null,null,null,null,null,null,null,null,null,0,0,0,0,0,0,0,0,0,0,null,0,0,0,0,0,0,0,0,0,0,null,"2015-12-30",13155439.02,0,13155439.02,100,null,null,null,null,null,null,null,null,null,"P1 Zahájena","Ne",{"$error":"#N/A"},"2015-12-30",13155439.02,0,13155439.02,100,null,null,null,null,null,null,null,null,null,"P1 Zahájena","Ne",{"$error":"#N/A"}]
["41 3.1 - Rozvoj urbanizačních center","11.3.1","11.3","CZ.1.11/3.1.00/41.01657","Domov pro seniory, Foltýnova 21, Brno - odstranění bariér a zvýšení lůžkové kapacity","P45 Projekt v realizaci","Statutární město Brno","Obec",39049394.359999999,0,0,0,0,0,0,0,6891070.4199999999,0,0,45940464.780000001,0,0,45940464.780000001,6554158,52494622.780000001,1,null," ",null,null,null,null,null,null,null,null,null,null,null,null,null,null,null,null,null,null,null,null,null,null,null,null,null,null,null,null,null,null,null,null,null,null,null,null,null,null,null,null,null,null,null,null,null,null,null,null,null,null,null,0,0,0,0,0,0,0,0,0,0,null,0,0,0,0,0,0,0,0,0,0,null,"2015-09-30",39049394.359999999,975404.73,38073989.630000003,84.999998487499994,null,null,null,null,null,null,15.000001512500001,null,null,"P1 Zahájena","Ne",{"$error":"#N/A"},"2015-12-31",9325113.4000000004,0,9325113.4000000004,84.9999999777,null,null,null,null,null,null,15.0000000223,null,null,"P1 Zahájena","Ne",{"$error":"#N/A"}]
["41 3.1 - Rozvoj urbanizačních center","11.3.1","11.3","CZ.1.11/3.1.00/41.01658","Sportovně - rekreační plocha Kartouzská, Brno","P45 Projekt v realizaci","Statutární město Brno","Obec",9325113.4000000004,0,0,0,0,0,0,0,1645608.25,0,0,10970721.65,0,0,10970721.65,959140,11929861.65,1,null," ",null,null,null,null,null,null,null,null,null,null,null,null,null,null,null,null,null,null,null,null,null,null,null,null,null,null,null,null,null,null,null,null,null,null,null,null,null,null,null,null,null,null,null,null,null,null,null,null,null,null,null,0,0,0,0,0,0,0,0,0,0,null,0,0,0,0,0,0,0,0,0,0,null,"2015-12-31",9325113.4000000004,0,9325113.4000000004,84.9999999777,null,null,null,null,null,null,15.0000000223,null,null,"P1 Zahájena","Ne",{"$error":"#N/A"},"2016-06-30",0,0,0,84.9999999777,null,null,null,null,null,null,15.0000000223,null,null,"P1 Zahájena","Ne",{"$error":"#N/A"}]
["41 3.1 - Rozvoj urbanizačních center","11.3.1","11.3","CZ.1.11/3.1.00/41.01658","Sportovně - rekreační plocha Kartouzská, Brno","P45 Projekt v realizaci","Statutární město Brno","Obec",9325113.4000000004,0,0,0,0,0,0,0,1645608.25,0,0,10970721.65,0,0,10970721.65,959140,11929861.65,2,null," ",null,null,null,null,null,null,null,null,null,null,null,null,null,null,null,null,null,null,null,null,null,null,null,null,null,null,null,null,null,null,null,null,null,null,null,null,null,null,null,null,null,null,null,null,null,null,null,null,null,null,null,0,0,0,0,0,0,0,0,0,0,null,0,0,0,0,0,0,0,0,0,0,null,"2016-06-30",0,0,0,84.9999999777,null,null,null,null,null,null,15.0000000223,null,null,"P1 Zahájena","Ne",{"$error":"#N/A"},"2015-07-30",693590.65,693590.65,0,85,null,null,null,null,null,15,null,null,null,"P2 Ukončena","Ne",{"$error":"#N/A"}]
["39 4.2 Podpora absorpční kapacity","11.4.2","11.4","CZ.1.11/4.2.00/39.01659","Zvyšování absorpční kapacity území Jihomoravského kraje","P5 Realizace projektu ukončena","Jihomoravský kraj","Kraj",1597749.25,0,0,0,0,0,0,281955.75,0,0,0,1879705,0,0,1879705,0,1879705,1,"01/01659","P1 Zaregistrována","ANTE","2015-10-02",null,null,null,null,null,null,null,null,null,null,null,null,null,null,null,null,null,null,null,null,null,null,null,null,null,null,null,null,null,null,null,null,null,null,null,null,null,null,null,null,null,null,null,null,null,null,"2015-07-29",679872.5,0,0,0,0,0,0,0,0,0,0,0,679872.5,577891.625,0,0,0,0,0,101980.875,0,0,0,0,"2015-07-30",693590.65,693590.65,0,85,null,null,null,null,null,15,null,null,null,"P2 Ukončena","Ne",{"$error":"#N/A"},"2015-07-31",35000000,0,35000000,100,null,null,null,null,null,null,null,null,null,"P1 Zahájena","Ne",{"$error":"#N/A"}]
["40 1.1 - Rozvoj dopravní infrastruktury v regionu","11.1.1","11.1","CZ.1.11/1.1.00/40.01660","III/00221 Ladná, most 00221-2","P45 Projekt v realizaci","Správa a údržba silnic Jihomoravského kraje, příspěvková organizace kraje","Organizace zřízena krajem",59425417.609999999,0,0,0,0,0,0,0,0,0,0,59425417.609999999,0,7682.49,59433100.100000001,823734.21,60256834.310000002,1,"01/01660","P1 Zaregistrována","POST","2015-08-25",null,null,null,null,null,null,null,null,null,null,null,null,null,null,null,null,null,null,null,null,null,null,null,null,null,null,null,null,null,null,null,null,null,null,null,null,null,null,null,null,null,null,null,null,null,null,"2015-08-25",10868730.49,10868730.49,10868730.49,0,0,0,0,0,0,0,0,0,0,0,0,0,0,0,0,0,0,0,0,10868730.49,"2015-07-31",35000000,0,35000000,100,null,null,null,null,null,null,null,null,null,"P1 Zahájena","Ne",{"$error":"#N/A"},"2016-01-31",24425417.609999999,0,24425417.609999999,100,null,null,null,null,null,null,null,null,null,"P1 Zahájena","Ne",{"$error":"#N/A"}]
["40 1.1 - Rozvoj dopravní infrastruktury v regionu","11.1.1","11.1","CZ.1.11/1.1.00/40.01660","III/00221 Ladná, most 00221-2","P45 Projekt v realizaci","Správa a údržba silnic Jihomoravského kraje, příspěvková organizace kraje","Organizace zřízena krajem",59425417.609999999,0,0,0,0,0,0,0,0,0,0,59425417.609999999,0,7682.49,59433100.100000001,823734.21,60256834.310000002,2,null," ",null,null,null,null,null,null,null,null,null,null,null,null,null,null,null,null,null,null,null,null,null,null,null,null,null,null,null,null,null,null,null,null,null,null,null,null,null,null,null,null,null,null,null,null,null,null,null,null,null,null,null,0,0,0,0,0,0,0,0,0,0,null,0,0,0,0,0,0,0,0,0,0,null,"2016-01-31",24425417.609999999,0,24425417.609999999,100,null,null,null,null,null,null,null,null,null,"P1 Zahájena","Ne",{"$error":"#N/A"},"2015-07-30",18000000,0,18000000,100,null,null,null,null,null,null,null,null,null,"P1 Zahájena","Ne",{"$error":"#N/A"}]
["40 1.1 - Rozvoj dopravní infrastruktury v regionu","11.1.1","11.1","CZ.1.11/1.1.00/40.01661","II/377 Brťov průtah","P45 Projekt v realizaci","Správa a údržba silnic Jihomoravského kraje, příspěvková organizace kraje","Organizace zřízena krajem",32544735.75,0,0,0,0,0,0,0,0,0,0,32544735.75,0,1527.02,32546262.77,1767424.58,34313687.350000001,1,"01/01661","P1 Zaregistrována","POST","2015-08-24",null,null,null,null,null,null,null,null,null,null,null,null,null,null,null,null,null,null,null,null,null,null,null,null,null,null,null,null,null,null,null,null,null,null,null,null,null,null,null,null,null,null,null,null,null,null,"2015-08-24",8707691.4199999999,8707691.4199999999,8707691.4199999999,0,0,0,0,0,0,0,0,0,0,0,0,0,0,0,0,0,0,0,0,8707691.4199999999,"2015-07-30",18000000,0,18000000,100,null,null,null,null,null,null,null,null,null,"P1 Zahájena","Ne",{"$error":"#N/A"},"2016-01-31",14544735.75,0,14544735.75,100,null,null,null,null,null,null,null,null,null,"P1 Zahájena","Ne",{"$error":"#N/A"}]
["40 1.1 - Rozvoj dopravní infrastruktury v regionu","11.1.1","11.1","CZ.1.11/1.1.00/40.01661","II/377 Brťov průtah","P45 Projekt v realizaci","Správa a údržba silnic Jihomoravského kraje, příspěvková organizace kraje","Organizace zřízena krajem",32544735.75,0,0,0,0,0,0,0,0,0,0,32544735.75,0,1527.02,32546262.77,1767424.58,34313687.350000001,2,null," ",null,null,null,null,null,null,null,null,null,null,null,null,null,null,null,null,null,null,null,null,null,null,null,null,null,null,null,null,null,null,null,null,null,null,null,null,null,null,null,null,null,null,null,null,null,null,null,null,null,null,null,0,0,0,0,0,0,0,0,0,0,null,0,0,0,0,0,0,0,0,0,0,null,"2016-01-31",14544735.75,0,14544735.75,100,null,null,null,null,null,null,null,null,null,"P1 Zahájena","Ne",{"$error":"#N/A"},"2015-08-31",17000000,0,17000000,100,null,null,null,null,null,null,null,null,null,"P1 Zahájena","Ne",{"$error":"#N/A"}]
["40 1.1 - Rozvoj dopravní infrastruktury v regionu","11.1.1","11.1","CZ.1.11/1.1.00/40.01662","III/40819 Hradiště průtah","P45 Projekt v realizaci","Správa a údržba silnic Jihomoravského kraje, příspěvková organizace kraje","Organizace zřízena krajem",46525769.729999997,0,0,0,0,0,0,0,0,0,0,46525769.729999997,0,0,46525769.729999997,2020269.15,48546038.880000003,1,null," ",null,null,null,null,null,null,null,null,null,null,null,null,null,null,null,null,null,null,null,null,null,null,null,null,null,null,null,null,null,null,null,null,null,null,null,null,null,null,null,null,null,null,null,null,null,null,null,null,null,null,null,0,0,0,0,0,0,0,0,0,0,null,0,0,0,0,0,0,0,0,0,0,null,"2015-12-31",46525769.729999997,0,46525769.729999997,100,null,null,null,null,null,null,null,null,null,"P1 Zahájena","Ne",{"$error":"#N/A"},"2015-11-30",29525769.73,0,29525769.73,100,null,null,null,null,null,null,null,null,null,"P1 Zahájena","Ne",{"$error":"#N/A"}]
["41 3.1 - Rozvoj urbanizačních center","11.3.1","11.3","CZ.1.11/3.1.00/41.01663","Relaxační a pohybové prostory ZŠ, Bosonožské náměstí 44, včetně technického a sociálního zázemí","P45 Projekt v realizaci","Statutární město Brno","Obec",14171164.449999999,0,0,0,0,0,0,0,2500794.5499999998,0,0,16671959,0,0,16671959,1200858,17872817,1,null," ",null,null,null,null,null,null,null,null,null,null,null,null,null,null,null,null,null,null,null,null,null,null,null,null,null,null,null,null,null,null,null,null,null,null,null,null,null,null,null,null,null,null,null,null,null,null,null,null,null,null,null,0,0,0,0,0,0,0,0,0,0,null,0,0,0,0,0,0,0,0,0,0,null,"2015-12-31",14171164.449999999,0,14171164.449999999,84.999995836300002,null,null,null,null,null,null,15.0000041637,null,null,"P1 Zahájena","Ne",{"$error":"#N/A"},"2015-12-31",14171164.449999999,0,14171164.449999999,84.999995836300002,null,null,null,null,null,null,15.0000041637,null,null,"P1 Zahájena","Ne",{"$error":"#N/A"}]
["40 1.1 - Rozvoj dopravní infrastruktury v regionu","11.1.1","11.1","CZ.1.11/1.1.00/40.01664","III/37418 Boskovice, Chrudichromská","P45 Projekt v realizaci","Správa a údržba silnic Jihomoravského kraje, příspěvková organizace kraje","Organizace zřízena krajem",28156550.48,0,0,0,0,0,0,0,0,0,0,28156550.48,0,8298.6200000000008,28164849.100000001,2535479.4,30700328.5,1,"01/01664","P1 Zaregistrována","POST","2015-08-26",null,null,null,null,null,null,null,null,null,null,null,null,null,null,null,null,null,null,null,null,null,null,null,null,null,null,null,null,null,null,null,null,null,null,null,null,null,null,null,null,null,null,null,null,null,null,"2015-08-26",5885377.8399999999,5885377.8399999999,5885377.8399999999,0,0,0,0,0,0,0,0,0,0,0,0,0,0,0,0,0,0,0,0,5885377.8399999999,"2015-07-30",13000000,0,13000000,100,null,null,null,null,null,null,null,null,null,"P1 Zahájena","Ne",{"$error":"#N/A"},"2015-07-30",13000000,0,13000000,100,null,null,null,null,null,null,null,null,null,"P1 Zahájena","Ne",{"$error":"#N/A"}]
["40 1.1 - Rozvoj dopravní infrastruktury v regionu","11.1.1","11.1","CZ.1.11/1.1.00/40.01664","III/37418 Boskovice, Chrudichromská","P45 Projekt v realizaci","Správa a údržba silnic Jihomoravského kraje, příspěvková organizace kraje","Organizace zřízena krajem",28156550.48,0,0,0,0,0,0,0,0,0,0,28156550.48,0,8298.6200000000008,28164849.100000001,2535479.4,30700328.5,2,null," ",null,null,null,null,null,null,null,null,null,null,null,null,null,null,null,null,null,null,null,null,null,null,null,null,null,null,null,null,null,null,null,null,null,null,null,null,null,null,null,null,null,null,null,null,null,null,null,null,null,null,null,0,0,0,0,0,0,0,0,0,0,null,0,0,0,0,0,0,0,0,0,0,null,"2015-11-30",15156550.48,0,15156550.48,100,null,null,null,null,null,null,null,null,null,"P1 Zahájena","Ne",{"$error":"#N/A"},"2015-11-30",15156550.48,0,15156550.48,100,null,null,null,null,null,null,null,null,null,"P1 Zahájena","Ne",{"$error":"#N/A"}]
["40 1.1 - Rozvoj dopravní infrastruktury v regionu","11.1.1","11.1","CZ.1.11/1.1.00/40.01665","II/347 Světlá n. S. - D1, 2. stavba - úsek č. 1","P45 Projekt v realizaci","Kraj Vysočina","Kraj",76981352.959999993,0,0,0,0,0,0,0,0,0,0,76981352.959999993,0,0,76981352.959999993,16231657.77,93213010.730000004,1,"01/01665","N2 Čeká na doplnění","POST","2015-09-03",null,null,null,null,null,null,null,null,null,null,null,null,null,null,null,null,null,null,null,null,null,null,null,null,null,null,null,null,null,null,null,null,null,null,null,null,null,null,null,null,null,null,null,null,null,null,"2015-07-31",30354282.699999999,30354282.699999999,30354282.699999999,0,0,0,0,0,0,0,0,0,0,0,0,0,0,0,0,0,0,0,0,30354282.699999999,"2015-06-30",30000000,0,30000000,100,null,null,null,null,null,null,null,null,null,"P1 Zahájena","Ne",{"$error":"#N/A"},"2015-06-30",30000000,0,30000000,100,null,null,null,null,null,null,null,null,null,"P1 Zahájena","Ne",{"$error":"#N/A"}]
["40 1.1 - Rozvoj dopravní infrastruktury v regionu","11.1.1","11.1","CZ.1.11/1.1.00/40.01665","II/347 Světlá n. S. - D1, 2. stavba - úsek č. 1","P45 Projekt v realizaci","Kraj Vysočina","Kraj",76981352.959999993,0,0,0,0,0,0,0,0,0,0,76981352.959999993,0,0,76981352.959999993,16231657.77,93213010.730000004,2,null," ",null,null,null,null,null,null,null,null,null,null,null,null,null,null,null,null,null,null,null,null,null,null,null,null,null,null,null,null,null,null,null,null,null,null,null,null,null,null,null,null,null,null,null,null,null,null,null,null,null,null,null,0,0,0,0,0,0,0,0,0,0,null,0,0,0,0,0,0,0,0,0,0,null,"2015-10-30",42038540.810000002,0,42038540.810000002,100,null,null,null,null,null,null,null,null,null,"P1 Zahájena","Ne",{"$error":"#N/A"},"2015-10-30",42038540.810000002,0,42038540.810000002,100,null,null,null,null,null,null,null,null,null,"P1 Zahájena","Ne",{"$error":"#N/A"}]
["41 3.1 - Rozvoj urbanizačních center","11.3.1","11.3","CZ.1.11/3.1.00/41.01666","Regenerace veřejných prostranství pro volnočasové aktivity v MČ Brno-sever","P45 Projekt v realizaci","Statutární město Brno","Obec",5338813.55,0,0,0,0,0,0,0,942144.45,0,0,6280958,0,0,6280958,292237,6573195,1,null," ",null,null,null,null,null,null,null,null,null,null,null,null,null,null,null,null,null,null,null,null,null,null,null,null,null,null,null,null,null,null,null,null,null,null,null,null,null,null,null,null,null,null,null,null,null,null,null,null,null,null,null,0,0,0,0,0,0,0,0,0,0,null,0,0,0,0,0,0,0,0,0,0,null,"2015-08-21",5338813.55,0,5338813.55,84.999988174399988,null,null,null,null,null,null,15.0000118256,null,null,"P1 Zahájena","Ne",{"$error":"#N/A"},"2015-08-21",5338813.55,0,5338813.55,84.999988174399988,null,null,null,null,null,null,15.0000118256,null,null,"P1 Zahájena","Ne",{"$error":"#N/A"}]
["41 3.1 - Rozvoj urbanizačních center","11.3.1","11.3","CZ.1.11/3.1.00/41.01667","Školní víceúčelové hřiště při ZŠ Otevřená","P5 Realizace projektu ukončena","Statutární město Brno","Obec",9544691.3000000007,0,0,0,0,0,0,0,1684357.7,0,0,11229049,0,0,11229049,608369,11837418,1,"01/01667","P1 Zaregistrována","POST","2015-10-02",8424082.9800000004,null,null,null,null,null,null,null,null,null,null,null,null,null,null,null,null,null,null,null,null,null,null,null,null,null,null,null,null,null,null,null,null,null,null,null,null,null,null,null,null,null,1486603.25,null,null,null,"2015-09-03",9966588.2300000004,9966588.2300000004,8471599.6868447289,0,0,0,0,0,0,1494988.5431552709,0,0,0,0,0,0,0,0,0,0,0,0,0,8471599.6799999997,"2015-08-03",9544691.3000000007,0,9544691.3000000007,84.999996903099998,null,null,null,null,null,null,15.0000030969,null,null,"P2 Ukončena","Ano",{"$error":"#N/A"},"2015-08-03",9544691.3000000007,0,9544691.3000000007,84.999996903099998,null,null,null,null,null,null,15.0000030969,null,null,"P1 Zahájena","Ne",{"$error":"#N/A"}]
["41 3.1 - Rozvoj urbanizačních center","11.3.1","11.3","CZ.1.11/3.1.00/41.01668","Zavedení služby tísňové péče pro seniory a zdravotně postižené v Brně","N7 Projekt nedokončen / stažen","Statutární město Brno","Obec",10299925.619999999,0,0,0,0,0,0,0,1817634.38,0,0,12117560,0,0,12117560,930219,13047779,1,null," ",null,null,null,null,null,null,null,null,null,null,null,null,null,null,null,null,null,null,null,null,null,null,null,null,null,null,null,null,null,null,null,null,null,null,null,null,null,null,null,null,null,null,null,null,null,null,null,null,null,null,null,0,0,0,0,0,0,0,0,0,0,null,0,0,0,0,0,0,0,0,0,0,null,"2015-06-30",10299925.619999999,0,10299925.619999999,84.999996944099991,null,null,null,null,null,null,15.000003055900001,null,null,"P1 Zahájena","Ne",{"$error":"#N/A"},"2015-06-30",10299925.619999999,0,10299925.619999999,84.999996944099991,null,null,null,null,null,null,15.000003055900001,null,null,"P1 Zahájena","Ne",{"$error":"#N/A"}]
["41 3.1 - Rozvoj urbanizačních center","11.3.1","11.3","CZ.1.11/3.1.00/41.01669","Regenerace sportovišť v lokalitách Vsetínská, Trýbova, Čechyňská","P45 Projekt v realizaci","Statutární město Brno","Obec",5065062,0,0,0,0,0,0,0,893834.5,0,0,5958896.5,0,0,5958896.5,205103.5,6164000,1,null," ",null,null,null,null,null,null,null,null,null,null,null,null,null,null,null,null,null,null,null,null,null,null,null,null,null,null,null,null,null,null,null,null,null,null,null,null,null,null,null,null,null,null,null,null,null,null,null,null,null,null,null,0,0,0,0,0,0,0,0,0,0,null,0,0,0,0,0,0,0,0,0,0,null,"2015-10-30",5065062,0,5065062,84.999999580499988,null,null,null,null,null,null,15.000000419499999,null,null,"P1 Zahájena","Ne",{"$error":"#N/A"},"2015-10-30",5065062,0,5065062,84.999999580499988,null,null,null,null,null,null,15.000000419499999,null,null,"P1 Zahájena","Ne",{"$error":"#N/A"}]
["41 3.1 - Rozvoj urbanizačních center","11.3.1","11.3","CZ.1.11/3.1.00/41.01670","Zvýšení atraktivity Brněnské přehrady","P45 Projekt v realizaci","Statutární město Brno","Obec",13270468.92,0,0,0,0,0,0,0,2341847.6800000002,0,0,15612316.6,0,0,15612316.6,10109693,25722009.600000001,1,null," ",null,null,null,null,null,null,null,null,null,null,null,null,null,null,null,null,null,null,null,null,null,null,null,null,null,null,null,null,null,null,null,null,null,null,null,null,null,null,null,null,null,null,null,null,null,null,null,null,null,null,null,0,0,0,0,0,0,0,0,0,0,null,0,0,0,0,0,0,0,0,0,0,null,"2015-09-30",13270468.92,0,13270468.92,84.99999880179999,null,null,null,null,null,null,15.0000011982,null,null,"P1 Zahájena","Ne",{"$error":"#N/A"},"2015-09-30",13270468.92,0,13270468.92,84.99999880179999,null,null,null,null,null,null,15.0000011982,null,null,"P1 Zahájena","Ne",{"$error":"#N/A"}]
["41 3.1 - Rozvoj urbanizačních center","11.3.1","11.3","CZ.1.11/3.1.00/41.01671","IN line dráha při ZŠ Brno, Pavlovská 16, Brno - Kohoutovice","P5 Realizace projektu ukončena","Statutární město Brno","Obec",8185408.1799999997,0,0,0,0,0,0,0,1444484.09,0,0,9629892.2699999996,0,0,9629892.2699999996,882100,10511992.27,1,"01/01671","P1 Zaregistrována","POST","2015-08-28",null,null,null,null,null,null,null,null,null,null,null,null,null,null,null,null,null,null,null,null,null,null,null,null,null,null,null,null,null,null,null,null,null,null,null,null,null,null,null,null,null,null,null,null,null,null,"2015-08-28",8673903.3800000008,8673903.3800000008,7372817.6536890268,0,0,0,0,0,0,1301085.7263109731,0,0,0,0,0,0,0,0,0,0,0,0,0,7372817.6500000004,"2015-07-31",8185408.1799999997,0,8185408.1799999997,84.999997471599997,null,null,null,null,null,null,15.0000025284,null,null,"P2 Ukončena","Ne",{"$error":"#N/A"},"2015-07-31",8185408.1799999997,0,8185408.1799999997,84.999997471599997,null,null,null,null,null,null,15.0000025284,null,null,"P2 Ukončena","Ne",{"$error":"#N/A"}]
["40 1.1 - Rozvoj dopravní infrastruktury v regionu","11.1.1","11.1","CZ.1.11/1.1.00/40.01672","II/408 Vranov nad Dyjí - Znojmo, extravilán","P45 Projekt v realizaci","Správa a údržba silnic Jihomoravského kraje, příspěvková organizace kraje","Organizace zřízena krajem",45534059.490000002,0,0,0,0,0,0,0,0,0,0,45534059.490000002,0,80957.98,45615017.469999999,795144.63,46410162.100000001,1,"01/01672","P4 Proplacena příjemci","POST","2015-09-11",2049523.41,null,null,null,null,2049523.41,"2015-09-11",null,null,null,null,2049523.41,null,null,null,null,null,null,null,null,null,null,null,null,null,null,null,null,null,null,null,null,null,null,null,null,null,null,null,null,null,null,null,null,null,null,"2015-08-21",6248494.5300000003,6248494.5300000003,6248494.5300000003,0,0,0,0,0,0,0,0,0,0,0,0,0,0,0,0,0,0,0,0,6248494.5300000003,"2015-07-31",6248494.5300000003,0,6248494.5300000003,100,null,null,null,null,null,null,null,null,null,"P1 Zahájena","Ne",{"$error":"#N/A"},"2015-07-31",10000000,0,10000000,100,null,null,null,null,null,null,null,null,null,"P1 Zahájena","Ne",{"$error":"#N/A"}]
["40 1.1 - Rozvoj dopravní infrastruktury v regionu","11.1.1","11.1","CZ.1.11/1.1.00/40.01672","II/408 Vranov nad Dyjí - Znojmo, extravilán","P45 Projekt v realizaci","Správa a údržba silnic Jihomoravského kraje, příspěvková organizace kraje","Organizace zřízena krajem",45534059.490000002,0,0,0,0,0,0,0,0,0,0,45534059.490000002,0,80957.98,45615017.469999999,795144.63,46410162.100000001,2,null," ",null,null,null,null,null,null,null,null,null,null,null,null,null,null,null,null,null,null,null,null,null,null,null,null,null,null,null,null,null,null,null,null,null,null,null,null,null,null,null,null,null,null,null,null,null,null,null,null,null,null,null,0,0,0,0,0,0,0,0,0,0,null,0,0,0,0,0,0,0,0,0,0,null,"2015-10-30",39285564.960000001,0,39285564.960000001,100,null,null,null,null,null,null,null,null,null,"P1 Zahájena","Ne",{"$error":"#N/A"},"2015-10-30",35534059.490000002,0,35534059.490000002,100,null,null,null,null,null,null,null,null,null,"P1 Zahájena","Ne",{"$error":"#N/A"}]
["41 3.1 - Rozvoj urbanizačních center","11.3.1","11.3","CZ.1.11/3.1.00/41.01673","Rekonstrukce sportovišť v MČ Brno-střed","P45 Projekt v realizaci","Statutární město Brno","Obec",31735975.949999999,0,0,0,0,0,0,0,5600467.0499999998,0,0,37336443,0,0,37336443,1566381,38902824,1,null," ",null,null,null,null,null,null,null,null,null,null,null,null,null,null,null,null,null,null,null,null,null,null,null,null,null,null,null,null,null,null,null,null,null,null,null,null,null,null,null,null,null,null,null,null,null,null,null,null,null,null,null,0,0,0,0,0,0,0,0,0,0,null,0,0,0,0,0,0,0,0,0,0,null,"2015-12-30",31735975.949999999,0,31735975.949999999,84.999998396799995,null,null,null,null,null,null,15.000001603199999,null,null,"P1 Zahájena","Ne",{"$error":"#N/A"},"2015-12-30",31735975.949999999,0,31735975.949999999,84.999998396799995,null,null,null,null,null,null,15.000001603199999,null,null,"P1 Zahájena","Ne",{"$error":"#N/A"}]
["41 3.1 - Rozvoj urbanizačních center","11.3.1","11.3","CZ.1.11/3.1.00/41.01674","Obnova a technické zhodnocení školních hřišť v Jihlavě - II. etapa","P45 Projekt v realizaci","Statutární město Jihlava","Obec",14160157.65,0,0,0,0,0,0,0,2498851.35,0,0,16659009,0,0,16659009,602230,17261239,1,null," ",null,null,null,null,null,null,null,null,null,null,null,null,null,null,null,null,null,null,null,null,null,null,null,null,null,null,null,null,null,null,null,null,null,null,null,null,null,null,null,null,null,null,null,null,null,null,null,null,null,null,null,0,0,0,0,0,0,0,0,0,0,null,0,0,0,0,0,0,0,0,0,0,null,"2015-11-30",12836632,0,12836632,85,null,null,null,null,null,null,15,null,null,"P1 Zahájena","Ne",{"$error":"#N/A"},"2015-09-30",12836632,0,12836632,85,null,null,null,null,null,null,15,null,null,"P1 Zahájena","Ne",{"$error":"#N/A"}]
["41 3.1 - Rozvoj urbanizačních center","11.3.1","11.3","CZ.1.11/3.1.00/41.01675","Zateplení a nástavba Effety Strnadova","P5 Realizace projektu ukončena","Diecézní charita Brno","Neveřejná nestátní nezisková organizace",16854943.600000001,0,0,0,0,0,0,0,0,0,2974402.4,19829346,0,0,19829346,501949.78,20331295.780000001,1,"01/01675","P4 Proplacena příjemci","POST","2015-06-30",5051473.16,null,null,null,null,5051473.16,"2015-06-30",null,null,null,null,5051473.16,null,null,null,null,5051473.16,null,5051473.16,null,"CZ.1.11/2015/06","2015-07-02",185402.38,27.246000000000002,null,null,null,null,null,null,null,null,null,null,null,null,null,null,null,null,null,null,null,null,891436.62,null,"2015-04-30",5942909.7800000003,5942909.7800000003,5051473.164385655,0,0,0,0,0,0,0,0,891436.61561434483,0,0,0,0,0,0,0,0,0,0,0,5051473.16,"2015-04-30",5051473.16,0,5051473.16,84.999997499299994,null,null,null,null,null,null,null,null,15.000002500700001,"P2 Ukončena","Ne",{"$error":"#N/A"},"2015-04-30",5051473.16,0,5051473.16,84.999997499299994,null,null,null,null,null,null,null,null,15.000002500700001,"P1 Zahájena","Ne",{"$error":"#N/A"}]
["41 3.1 - Rozvoj urbanizačních center","11.3.1","11.3","CZ.1.11/3.1.00/41.01675","Zateplení a nástavba Effety Strnadova","P5 Realizace projektu ukončena","Diecézní charita Brno","Neveřejná nestátní nezisková organizace",16854943.600000001,0,0,0,0,0,0,0,0,0,2974402.4,19829346,0,0,19829346,501949.78,20331295.780000001,2,"02/01675","P1 Zaregistrována","POST","2015-09-30",null,null,null,null,null,null,null,null,null,null,null,null,null,null,null,null,null,null,null,null,null,null,null,null,null,null,null,null,null,null,null,null,null,null,null,null,null,null,null,null,null,null,null,null,null,null,"2015-09-30",13860637.41,13860637.41,11781541.451887039,0,0,0,0,0,0,0,0,2079095.9581129597,0,0,0,0,0,0,0,0,0,0,0,11781541.449999999,"2015-08-31",11803470.439999999,0,11803470.439999999,84.999997499299994,null,null,null,null,null,null,null,null,15.000002500700001,"P2 Ukončena","Ne",{"$error":"#N/A"},"2015-08-31",11803470.439999999,0,11803470.439999999,84.999997499299994,null,null,null,null,null,null,null,null,15.000002500700001,"P1 Zahájena","Ne",{"$error":"#N/A"}]
["40 1.1 - Rozvoj dopravní infrastruktury v regionu","11.1.1","11.1","CZ.1.11/1.1.00/40.01676","II/345 Chotěboř - průtah, 2. etapa","P45 Projekt v realizaci","Kraj Vysočina","Kraj",19621529.960000001,0,0,0,0,0,0,0,0,0,0,19621529.960000001,0,0,19621529.960000001,5878718.0999999996,25500248.059999999,1,null," ",null,null,null,null,null,null,null,null,null,null,null,null,null,null,null,null,null,null,null,null,null,null,null,null,null,null,null,null,null,null,null,null,null,null,null,null,null,null,null,null,null,null,null,null,null,null,null,null,null,null,null,0,0,0,0,0,0,0,0,0,0,null,0,0,0,0,0,0,0,0,0,0,null,"2015-10-30",19621529.960000001,0,19621529.960000001,100,null,null,null,null,null,null,null,null,null,"P1 Zahájena","Ne",{"$error":"#N/A"},"2015-10-30",19621529.960000001,0,19621529.960000001,100,null,null,null,null,null,null,null,null,null,"P1 Zahájena","Ne",{"$error":"#N/A"}]
["40 1.1 - Rozvoj dopravní infrastruktury v regionu","11.1.1","11.1","CZ.1.11/1.1.00/40.01677","II/405 Zašovice - průtah","P6 Financování projektu ukončeno","Kraj Vysočina","Kraj",19463004.050000001,0,0,0,0,0,0,0,0,0,0,19463004.050000001,0,0,19463004.050000001,999471.29,20462475.34,1,"01/01677","P4 Proplacena příjemci","POST","2015-05-06",18645258.690000001,null,null,null,null,18645258.690000001,"2015-05-06",null,null,null,null,18645258.690000001,null,null,null,null,18645258.690000001,"2015-06-26",18645258.690000001,null,"CZ.1.11/2015/05","2015-06-01",678922.87,27.463000000000001,null,null,null,null,null,null,null,null,null,null,null,null,null,null,null,null,null,null,null,null,null,null,"2015-02-25",18645258.690000001,18645258.690000001,18645258.690000001,0,0,0,0,0,0,0,0,0,0,0,0,0,0,0,0,0,0,0,0,18645258.690000001,"2015-01-30",18645258.690000001,0,18645258.690000001,100,null,null,null,null,null,null,null,null,null,"P2 Ukončena","Ne",{"$error":"#N/A"},"2015-01-30",18645258.690000001,0,18645258.690000001,100,null,null,null,null,null,null,null,null,null,"P2 Ukončena","Ne",{"$error":"#N/A"}]
["40 1.1 - Rozvoj dopravní infrastruktury v regionu","11.1.1","11.1","CZ.1.11/1.1.00/40.01678","II/347 Světlá n. S. - D1, 2. stavba - úsek č. 2","N7 Projekt nedokončen / stažen","Kraj Vysočina","Kraj",68212413.260000005,0,0,0,0,0,0,0,0,0,0,68212413.260000005,0,0,68212413.260000005,17424397.390000001,85636810.650000006,1,null," ",null,null,null,null,null,null,null,null,null,null,null,null,null,null,null,null,null,null,null,null,null,null,null,null,null,null,null,null,null,null,null,null,null,null,null,null,null,null,null,null,null,null,null,null,null,null,null,null,null,null,null,0,0,0,0,0,0,0,0,0,0,null,0,0,0,0,0,0,0,0,0,0,null,"2015-10-30",68212413.260000005,0,68212413.260000005,100,null,null,null,null,null,null,null,null,null,"P1 Zahájena","Ne",{"$error":"#N/A"},"2015-10-30",68212413.260000005,0,68212413.260000005,100,null,null,null,null,null,null,null,null,null,"P1 Zahájena","Ne",{"$error":"#N/A"}]
["41 3.1 - Rozvoj urbanizačních center","11.3.1","11.3","CZ.1.11/3.1.00/41.01679","Novostavba tělocvičny v MČ Brno-Tuřany","P45 Projekt v realizaci","Statutární město Brno","Obec",38947972.350000001,0,0,0,0,0,0,0,6873171.6500000004,0,0,45821144,0,0,45821144,2977943,48799087,1,null," ",null,null,null,null,null,null,null,null,null,null,null,null,null,null,null,null,null,null,null,null,null,null,null,null,null,null,null,null,null,null,null,null,null,null,null,null,null,null,null,null,null,null,null,null,null,null,null,null,null,null,null,0,0,0,0,0,0,0,0,0,0,null,0,0,0,0,0,0,0,0,0,0,null,"2015-12-31",38947972.350000001,0,38947972.350000001,84.999999894699997,null,null,null,null,null,null,15.0000001053,null,null,"P1 Zahájena","Ne",{"$error":"#N/A"},"2015-12-31",38947972.350000001,0,38947972.350000001,84.999999894699997,null,null,null,null,null,null,15.0000001053,null,null,"P1 Zahájena","Ne",{"$error":"#N/A"}]
["41 3.1 - Rozvoj urbanizačních center","11.3.1","11.3","CZ.1.11/3.1.00/41.01679","Novostavba tělocvičny v MČ Brno-Tuřany","P45 Projekt v realizaci","Statutární město Brno","Obec",38947972.350000001,0,0,0,0,0,0,0,6873171.6500000004,0,0,45821144,0,0,45821144,2977943,48799087,2,null," ",null,null,null,null,null,null,null,null,null,null,null,null,null,null,null,null,null,null,null,null,null,null,null,null,null,null,null,null,null,null,null,null,null,null,null,null,null,null,null,null,null,null,null,null,null,null,null,null,null,null,null,0,0,0,0,0,0,0,0,0,0,null,0,0,0,0,0,0,0,0,0,0,null,"2016-06-30",0,0,0,84.999999894699997,null,null,null,null,null,null,15.0000001053,null,null,"P1 Zahájena","Ne",{"$error":"#N/A"},"2016-06-30",0,0,0,84.999999894699997,null,null,null,null,null,null,15.0000001053,null,null,"P1 Zahájena","Ne",{"$error":"#N/A"}]
["41 3.1 - Rozvoj urbanizačních center","11.3.1","11.3","CZ.1.11/3.1.00/41.01680","Regenerace veřejných prostranství pro volnočasové aktivity v MČ Brno - Jundrov","P45 Projekt v realizaci","Statutární město Brno","Obec",5517054.4000000004,0,0,0,0,0,0,0,973598.6,0,0,6490653,0,0,6490653,376944,6867597,1,null," ",null,null,null,null,null,null,null,null,null,null,null,null,null,null,null,null,null,null,null,null,null,null,null,null,null,null,null,null,null,null,null,null,null,null,null,null,null,null,null,null,null,null,null,null,null,null,null,null,null,null,null,0,0,0,0,0,0,0,0,0,0,null,0,0,0,0,0,0,0,0,0,0,null,"2015-09-30",5517054.4000000004,0,5517054.4000000004,84.999989998499998,null,null,null,null,null,null,15.0000100015,null,null,"P1 Zahájena","Ne",{"$error":"#N/A"},"2015-09-30",5517054.4000000004,0,5517054.4000000004,84.999989998499998,null,null,null,null,null,null,15.0000100015,null,null,"P1 Zahájena","Ne",{"$error":"#N/A"}]
["41 3.1 - Rozvoj urbanizačních center","11.3.1","11.3","CZ.1.11/3.1.00/41.01681","Regenerace veřejných prostranství - ul. Srázná, Jihlava","P45 Projekt v realizaci","Statutární město Jihlava","Obec",34335498.030000001,0,0,0,0,0,0,0,6059205.5499999998,0,0,40394703.579999998,0,1161512,41556215.579999998,1497677.58,43053893.159999996,1,"01/01681","P4 Proplacena příjemci","POST","2015-08-28",5335030.8600000003,null,null,null,null,5335030.8600000003,"2015-08-28",null,null,null,null,5335030.8600000003,null,null,null,null,null,null,null,null,null,null,null,null,null,null,null,null,null,null,null,null,null,null,null,null,null,null,null,null,null,null,941476.04,null,null,null,"2015-07-29",6276506.9000000004,6276506.9000000004,5335030.8643033076,0,0,0,0,0,0,941476.0356966923,0,0,0,0,0,0,0,0,0,0,0,0,0,5335030.8600000003,"2015-06-30",5335030.8600000003,0,5335030.8600000003,84.999999988900001,null,null,null,null,null,null,15.000000011099999,null,null,"P1 Zahájena","Ne",{"$error":"#N/A"},"2015-06-30",5335030.8600000003,0,5335030.8600000003,84.999999988900001,null,null,null,null,null,null,15.000000011099999,null,null,"P1 Zahájena","Ano",{"$error":"#N/A"}]
["41 3.1 - Rozvoj urbanizačních center","11.3.1","11.3","CZ.1.11/3.1.00/41.01681","Regenerace veřejných prostranství - ul. Srázná, Jihlava","P45 Projekt v realizaci","Statutární město Jihlava","Obec",34335498.030000001,0,0,0,0,0,0,0,6059205.5499999998,0,0,40394703.579999998,0,1161512,41556215.579999998,1497677.58,43053893.159999996,2,null," ",null,null,null,null,null,null,null,null,null,null,null,null,null,null,null,null,null,null,null,null,null,null,null,null,null,null,null,null,null,null,null,null,null,null,null,null,null,null,null,null,null,null,null,null,null,null,null,null,null,null,null,0,0,0,0,0,0,0,0,0,0,null,0,0,0,0,0,0,0,0,0,0,null,"2015-09-30",10000000,0,10000000,84.999999988900001,null,null,null,null,null,null,15.000000011099999,null,null,"P1 Zahájena","Ne",{"$error":"#N/A"},"2015-09-30",10000000,0,10000000,84.999999988900001,null,null,null,null,null,null,15.000000011099999,null,null,"P1 Zahájena","Ne",{"$error":"#N/A"}]
["41 3.1 - Rozvoj urbanizačních center","11.3.1","11.3","CZ.1.11/3.1.00/41.01681","Regenerace veřejných prostranství - ul. Srázná, Jihlava","P45 Projekt v realizaci","Statutární město Jihlava","Obec",34335498.030000001,0,0,0,0,0,0,0,6059205.5499999998,0,0,40394703.579999998,0,1161512,41556215.579999998,1497677.58,43053893.159999996,3,null," ",null,null,null,null,null,null,null,null,null,null,null,null,null,null,null,null,null,null,null,null,null,null,null,null,null,null,null,null,null,null,null,null,null,null,null,null,null,null,null,null,null,null,null,null,null,null,null,null,null,null,null,0,0,0,0,0,0,0,0,0,0,null,0,0,0,0,0,0,0,0,0,0,null,"2015-12-30",7755821.54,0,7755821.54,84.999999988900001,null,null,null,null,null,null,15.000000011099999,null,null,"P1 Zahájena","Ne",{"$error":"#N/A"},"2015-12-30",7755821.54,0,7755821.54,84.999999988900001,null,null,null,null,null,null,15.000000011099999,null,null,"P1 Zahájena","Ne",{"$error":"#N/A"}]
["40 1.1 - Rozvoj dopravní infrastruktury v regionu","11.1.1","11.1","CZ.1.11/1.1.00/40.01682","II/602 hr. kraje - Pelhřimov, 7. stavba - úsek č. 1","P45 Projekt v realizaci","Kraj Vysočina","Kraj",62211192.899999999,0,0,0,0,0,0,0,0,0,0,62211192.899999999,0,0,62211192.899999999,3400733.27,65611926.170000002,1,null," ",null,null,null,null,null,null,null,null,null,null,null,null,null,null,null,null,null,null,null,null,null,null,null,null,null,null,null,null,null,null,null,null,null,null,null,null,null,null,null,null,null,null,null,null,null,null,null,null,null,null,null,0,0,0,0,0,0,0,0,0,0,null,0,0,0,0,0,0,0,0,0,0,null,"2015-10-30",62211192.899999999,0,62211192.899999999,100,null,null,null,null,null,null,null,null,null,"P1 Zahájena","Ne",{"$error":"#N/A"},"2015-10-30",62211192.899999999,0,62211192.899999999,100,null,null,null,null,null,null,null,null,null,"P1 Zahájena","Ne",{"$error":"#N/A"}]
["40 1.1 - Rozvoj dopravní infrastruktury v regionu","11.1.1","11.1","CZ.1.11/1.1.00/40.01683","II/422 Čejč - Čejkovice","P45 Projekt v realizaci","Správa a údržba silnic Jihomoravského kraje, příspěvková organizace kraje","Organizace zřízena krajem",58117054.030000001,0,0,0,0,0,0,0,0,0,0,58117054.030000001,0,0,58117054.030000001,2386178.41,60503232.439999998,1,"01/01683","P4 Proplacena příjemci","POST","2015-04-03",17238216.539999999,null,null,null,null,17238216.539999999,"2015-04-03",null,null,null,null,17238216.539999999,null,null,null,null,17238216.539999999,"2015-05-29",17238216.539999999,null,"CZ.1.11/2015/04","2015-04-28",628329.38,27.434999999999999,"2015-08-03",null,null,null,null,null,null,null,null,null,null,null,null,null,null,null,null,null,null,null,null,17238216.539999999,"2015-02-26",17238216.539999999,17238216.539999999,17238216.539999999,0,0,0,0,0,0,0,0,0,0,0,0,0,0,0,0,0,0,0,0,17238216.539999999,"2015-02-28",17238216.539999999,0,17238216.539999999,100,null,null,null,null,null,null,null,null,null,"P1 Zahájena","Ne",{"$error":"#N/A"},"2015-02-28",17238216.539999999,0,17238216.539999999,100,null,null,null,null,null,null,null,null,null,"P1 Zahájena","Ne",{"$error":"#N/A"}]
["40 1.1 - Rozvoj dopravní infrastruktury v regionu","11.1.1","11.1","CZ.1.11/1.1.00/40.01683","II/422 Čejč - Čejkovice","P45 Projekt v realizaci","Správa a údržba silnic Jihomoravského kraje, příspěvková organizace kraje","Organizace zřízena krajem",58117054.030000001,0,0,0,0,0,0,0,0,0,0,58117054.030000001,0,0,58117054.030000001,2386178.41,60503232.439999998,2,null," ",null,null,null,null,null,null,null,null,null,null,null,null,null,null,null,null,null,null,null,null,null,null,null,null,null,null,null,null,null,null,null,null,null,null,null,null,null,null,null,null,null,null,null,null,null,null,null,null,null,null,null,0,0,0,0,0,0,0,0,0,0,null,0,0,0,0,0,0,0,0,0,0,null,"2015-11-30",40878837.490000002,0,40878837.490000002,100,null,null,null,null,null,null,null,null,null,"P1 Zahájena","Ne",{"$error":"#N/A"},"2015-11-30",40878837.490000002,0,40878837.490000002,100,null,null,null,null,null,null,null,null,null,"P1 Zahájena","Ne",{"$error":"#N/A"}]
["40 1.1 - Rozvoj dopravní infrastruktury v regionu","11.1.1","11.1","CZ.1.11/1.1.00/40.01684","II/430 Podolí, okružní křižovatka","P45 Projekt v realizaci","Správa a údržba silnic Jihomoravského kraje, příspěvková organizace kraje","Organizace zřízena krajem",24308647.629999999,0,0,0,0,0,0,0,0,0,0,24308647.629999999,0,21497,24330144.629999999,400543.64,24730688.27,1,null," ",null,null,null,null,null,null,null,null,null,null,null,null,null,null,null,null,null,null,null,null,null,null,null,null,null,null,null,null,null,null,null,null,null,null,null,null,null,null,null,null,null,null,null,null,null,null,null,null,null,null,null,0,0,0,0,0,0,0,0,0,0,null,0,0,0,0,0,0,0,0,0,0,null,"2015-11-30",24308647.629999999,0,24308647.629999999,100,null,null,null,null,null,null,null,null,null,"P1 Zahájena","Ne",{"$error":"#N/A"},"2015-11-30",24308647.629999999,0,24308647.629999999,100,null,null,null,null,null,null,null,null,null,"P1 Zahájena","Ne",{"$error":"#N/A"}]
["41 3.1 - Rozvoj urbanizačních center","11.3.1","11.3","CZ.1.11/3.1.00/41.01685","Dokončení sportovního areálu Medlánky, revitalizace škvárového hřiště","P5 Realizace projektu ukončena","Statutární město Brno","Obec",7913457.8099999996,0,0,0,0,0,0,0,3787264.19,0,0,11700722,0,0,11700722,877154,12577876,1,"01/01685","P1 Zaregistrována","POST","2015-09-25",null,null,null,null,null,null,null,null,null,null,null,null,null,null,null,null,null,null,null,null,null,null,null,null,null,null,null,null,null,null,null,null,null,null,null,null,null,null,null,null,null,null,null,null,null,null,"2015-09-25",11670722,11670722,7893168.1484000674,0,0,0,0,0,0,3777553.8515999331,0,0,0,0,0,0,0,0,0,0,0,0,0,7893168.1399999997,"2015-08-30",7913457.8099999996,0,7913457.8099999996,67.632218027299999,null,null,null,null,null,null,32.367781972700001,null,null,"P2 Ukončena","Ne",{"$error":"#N/A"},"2015-08-30",7913457.8099999996,0,7913457.8099999996,67.632218027299999,null,null,null,null,null,null,32.367781972700001,null,null,"P1 Zahájena","Ne",{"$error":"#N/A"}]
["41 3.1 - Rozvoj urbanizačních center","11.3.1","11.3","CZ.1.11/3.1.00/41.01686","Regenerace sportovišť v lokalitách Rybářská, Botanická a transformace sportoviště Vysoká na parkour","P45 Projekt v realizaci","Statutární město Brno","Obec",6335968.8700000001,0,0,0,0,0,0,0,1118112.17,0,0,7454081.04,0,0,7454081.04,330000,7784081.04,1,null," ",null,null,null,null,null,null,null,null,null,null,null,null,null,null,null,null,null,null,null,null,null,null,null,null,null,null,null,null,null,null,null,null,null,null,null,null,null,null,null,null,null,null,null,null,null,null,null,null,null,null,null,0,0,0,0,0,0,0,0,0,0,null,0,0,0,0,0,0,0,0,0,0,null,"2015-11-30",6335968.8700000001,0,6335968.8700000001,84.999999946299994,null,null,null,null,null,null,15.000000053699999,null,null,"P1 Zahájena","Ne",{"$error":"#N/A"},"2015-11-30",6335968.8700000001,0,6335968.8700000001,84.999999946299994,null,null,null,null,null,null,15.000000053699999,null,null,"P1 Zahájena","Ne",{"$error":"#N/A"}]
["41 3.1 - Rozvoj urbanizačních center","11.3.1","11.3","CZ.1.11/3.1.00/41.01687","Revitalizace sídlišť na území města Jihlavy - Královský vršek, II. etapa","P45 Projekt v realizaci","Statutární město Jihlava","Obec",11272552.890000001,0,0,0,0,0,0,0,1989274.05,0,0,13261826.939999999,0,0,13261826.939999999,576928,13838754.939999999,1,null," ",null,null,null,null,null,null,null,null,null,null,null,null,null,null,null,null,null,null,null,null,null,null,null,null,null,null,null,null,null,null,null,null,null,null,null,null,null,null,null,null,null,null,null,null,null,null,null,null,null,null,null,0,0,0,0,0,0,0,0,0,0,null,0,0,0,0,0,0,0,0,0,0,null,"2015-11-30",6180521.7000000002,694582.04,5485939.6600000001,85,null,null,null,null,null,null,15,null,null,"P1 Zahájena","Ne",{"$error":"#N/A"},"2015-11-30",6180521.7000000002,694582.04,5485939.6600000001,85,null,null,null,null,null,null,15,null,null,"P1 Zahájena","Ne",{"$error":"#N/A"}]
["41 3.1 - Rozvoj urbanizačních center","11.3.1","11.3","CZ.1.11/3.1.00/41.01688","ZŠ Vranovská 17- rekonstrukce hřiště","P45 Projekt v realizaci","Statutární město Brno","Obec",6507407.0499999998,0,0,0,0,0,0,0,1148365.95,0,0,7655773,0,0,7655773,287534,7943307,1,null," ",null,null,null,null,null,null,null,null,null,null,null,null,null,null,null,null,null,null,null,null,null,null,null,null,null,null,null,null,null,null,null,null,null,null,null,null,null,null,null,null,null,null,null,null,null,null,null,null,null,null,null,0,0,0,0,0,0,0,0,0,0,null,0,0,0,0,0,0,0,0,0,0,null,"2015-12-30",6507407.0499999998,0,6507407.0499999998,85,null,null,null,null,null,null,15,null,null,"P1 Zahájena","Ne",{"$error":"#N/A"},"2015-12-30",6507407.0499999998,0,6507407.0499999998,85,null,null,null,null,null,null,15,null,null,"P1 Zahájena","Ne",{"$error":"#N/A"}]
["41 3.1 - Rozvoj urbanizačních center","11.3.1","11.3","CZ.1.11/3.1.00/41.01689","Dobudování sportovně rekreačního areálu Pod Plachtami v Brně - Novém Lískovci, 1. etapa","P45 Projekt v realizaci","Statutární město Brno","Obec",7974070.2300000004,0,0,0,0,0,0,0,1478346.77,0,0,9452417,0,0,9452417,516846,9969263,1,null," ",null,null,null,null,null,null,null,null,null,null,null,null,null,null,null,null,null,null,null,null,null,null,null,null,null,null,null,null,null,null,null,null,null,null,null,null,null,null,null,null,null,null,null,null,null,null,null,null,null,null,null,0,0,0,0,0,0,0,0,0,0,null,0,0,0,0,0,0,0,0,0,0,null,"2015-11-30",7974070.2300000004,0,7974070.2300000004,84.360119006800005,null,null,null,null,null,null,15.6398809932,null,null,"P1 Zahájena","Ne",{"$error":"#N/A"},"2015-09-30",7974070.2300000004,0,7974070.2300000004,84.360119006800005,null,null,null,null,null,null,15.6398809932,null,null,"P1 Zahájena","Ne",{"$error":"#N/A"}]
["41 3.1 - Rozvoj urbanizačních center","11.3.1","11.3","CZ.1.11/3.1.00/41.01690","Revitalizace městských parků, III. etapa","P45 Projekt v realizaci","Veřejná zeleň města Brna, příspěvková organizace","Organizace zřízena obcí",37454840.200000003,0,0,0,0,0,0,0,6609677.7999999998,0,0,44064518,0,103070,44167588,560220,44727808,1,null," ",null,null,null,null,null,null,null,null,null,null,null,null,null,null,null,null,null,null,null,null,null,null,null,null,null,null,null,null,null,null,null,null,null,null,null,null,null,null,null,null,null,null,null,null,null,null,null,null,null,null,null,0,0,0,0,0,0,0,0,0,0,null,0,0,0,0,0,0,0,0,0,0,null,"2015-11-30",37454840.200000003,51000,37403840.200000003,84.999999783099994,null,null,null,null,null,null,15.0000002169,null,null,"P1 Zahájena","Ne",{"$error":"#N/A"},"2015-11-30",37454840.200000003,51000,37403840.200000003,84.999999783099994,null,null,null,null,null,null,15.0000002169,null,null,"P1 Zahájena","Ne",{"$error":"#N/A"}]
["41 3.1 - Rozvoj urbanizačních center","11.3.1","11.3","CZ.1.11/3.1.00/41.01691","Rekonstrukce víceúčelového hřiště v areálu ZŠ Arménská 21","P45 Projekt v realizaci","Statutární město Brno","Obec",7233295.5700000003,0,0,0,0,0,0,0,1276464.43,0,0,8509760,0,0,8509760,521350,9031110,1,null," ",null,null,null,null,null,null,null,null,null,null,null,null,null,null,null,null,null,null,null,null,null,null,null,null,null,null,null,null,null,null,null,null,null,null,null,null,null,null,null,null,null,null,null,null,null,null,null,null,null,null,null,0,0,0,0,0,0,0,0,0,0,null,0,0,0,0,0,0,0,0,0,0,null,"2015-12-31",7233295.5700000003,0,7233295.5700000003,84.999995013899991,null,null,null,null,null,null,15.0000049861,null,null,"P1 Zahájena","Ne",{"$error":"#N/A"},"2015-09-30",7233295.5700000003,0,7233295.5700000003,84.999995013899991,null,null,null,null,null,null,15.0000049861,null,null,"P1 Zahájena","Ne",{"$error":"#N/A"}]
["41 3.1 - Rozvoj urbanizačních center","11.3.1","11.3","CZ.1.11/3.1.00/41.01692","Revitalizace sportovních ploch v MČ Brno-Židenice","P45 Projekt v realizaci","Statutární město Brno","Obec",22680715.75,0,0,0,0,0,0,0,4002479.25,0,0,26683195,0,0,26683195,1281008,27964203,1,null," ",null,null,null,null,null,null,null,null,null,null,null,null,null,null,null,null,null,null,null,null,null,null,null,null,null,null,null,null,null,null,null,null,null,null,null,null,null,null,null,null,null,null,null,null,null,null,null,null,null,null,null,0,0,0,0,0,0,0,0,0,0,null,0,0,0,0,0,0,0,0,0,0,null,"2015-12-31",22680715.75,0,22680715.75,85,null,null,null,null,null,null,15,null,null,"P1 Zahájena","Ne",{"$error":"#N/A"},"2015-12-31",22680715.75,0,22680715.75,85,null,null,null,null,null,null,15,null,null,"P1 Zahájena","Ne",{"$error":"#N/A"}]
["41 3.1 - Rozvoj urbanizačních center","11.3.1","11.3","CZ.1.11/3.1.00/41.01693","Revitalizace sídlišť na území města Jihlavy - ulice Jarní","P45 Projekt v realizaci","Statutární město Jihlava","Obec",3393289.62,0,0,0,0,0,0,0,598816.18999999994,0,0,3992105.81,0,0,3992105.81,257678,4249783.8099999996,1,null," ",null,null,null,null,null,null,null,null,null,null,null,null,null,null,null,null,null,null,null,null,null,null,null,null,null,null,null,null,null,null,null,null,null,null,null,null,null,null,null,null,null,null,null,null,null,null,null,null,null,null,null,0,0,0,0,0,0,0,0,0,0,null,0,0,0,0,0,0,0,0,0,0,null,"2015-10-30",3393289.62,77069.41,3316220.21,84.999992116099989,null,null,null,null,null,null,15.0000078839,null,null,"P1 Zahájena","Ne",{"$error":"#N/A"},"2015-10-30",3393289.62,77069.41,3316220.21,84.999992116099989,null,null,null,null,null,null,15.0000078839,null,null,"P1 Zahájena","Ne",{"$error":"#N/A"}]
["41 3.1 - Rozvoj urbanizačních center","11.3.1","11.3","CZ.1.11/3.1.00/41.01694","Rekonstrukce a rozšíření sportovně rekreačních ploch v areálu ZŠ Brno, Horníkova 1","P5 Realizace projektu ukončena","Statutární město Brno","Obec",7143999.9900000002,0,0,0,0,0,0,0,1260714.01,0,0,8404714,0,0,8404714,0,8404714,1,"01/01694","P1 Zaregistrována","POST","2015-09-21",null,null,null,null,null,null,null,null,null,null,null,null,null,null,null,null,null,null,null,null,null,null,null,null,null,null,null,null,null,null,null,null,null,null,null,null,null,null,null,null,null,null,null,null,null,null,"2015-09-21",6621222.4000000004,6621222.4000000004,5628033.6041882886,0,0,0,0,0,0,993188.79581171123,0,0,0,0,0,0,0,0,0,0,0,0,0,5628033.5999999996,"2015-08-30",7143999.9900000002,0,7143999.9900000002,84.9999179032,null,null,null,null,null,null,15.0000820968,null,null,"P2 Ukončena","Ne",{"$error":"#N/A"},"2015-08-30",7143999.9900000002,0,7143999.9900000002,84.9999179032,null,null,null,null,null,null,15.0000820968,null,null,"P1 Zahájena","Ne",{"$error":"#N/A"}]
["41 3.1 - Rozvoj urbanizačních center","11.3.1","11.3","CZ.1.11/3.1.00/41.01695","Přírodovědné kognitorium - vědecká stezka","P5 Realizace projektu ukončena","Hvězdárna a planetárium Brno, příspěvková organizace","Organizace zřízena obcí",7152580,0,0,0,0,0,0,0,1262220,0,0,8414800,0,0,8414800,214170,8628970,1,"01/01695","P1 Zaregistrována","POST","2015-09-22",null,null,null,null,null,null,null,null,null,null,null,null,null,null,null,null,null,null,null,null,null,null,null,null,null,null,null,null,null,null,null,null,null,null,null,null,null,null,null,null,null,null,null,null,null,null,"2015-09-17",7440334.5,7440334.5,6324284.3250000002,0,0,0,0,0,0,1116050.175,0,0,0,0,0,0,0,0,0,0,0,0,0,6324284.3200000003,"2015-08-31",7152580,0,7152580,85,null,null,null,null,null,null,15,null,null,"P2 Ukončena","Ne",{"$error":"#N/A"},"2015-08-31",7152580,0,7152580,85,null,null,null,null,null,null,15,null,null,"P1 Zahájena","Ne",{"$error":"#N/A"}]
["41 3.1 - Rozvoj urbanizačních center","11.3.1","11.3","CZ.1.11/3.1.00/41.01696","Knihovna pro město II. - vzdělávání na míru","P45 Projekt v realizaci","Knihovna Jiřího Mahena v Brně, příspěvková organizace","Organizace zřízena obcí",8153927.25,0,0,0,0,0,0,0,1438928.75,0,0,9592856,0,0,9592856,518515,10111371,1,null," ",null,null,null,null,null,null,null,null,null,null,null,null,null,null,null,null,null,null,null,null,null,null,null,null,null,null,null,null,null,null,null,null,null,null,null,null,null,null,null,null,null,null,null,null,null,null,null,null,null,null,null,0,0,0,0,0,0,0,0,0,0,null,0,0,0,0,0,0,0,0,0,0,null,"2015-09-30",8153927.25,2813091.88,5340835.37,84.999996365899989,null,null,null,null,null,null,15.0000036341,null,null,"P1 Zahájena","Ne",{"$error":"#N/A"},"2015-09-30",8153927.25,2813091.88,5340835.37,84.999996365899989,null,null,null,null,null,null,15.0000036341,null,null,"P1 Zahájena","Ne",{"$error":"#N/A"}]
["41 3.1 - Rozvoj urbanizačních center","11.3.1","11.3","CZ.1.11/3.1.00/41.01697","Areál dopravní výchovy, II. etapa","P45 Projekt v realizaci","Statutární město Brno","Obec",5842406.1500000004,0,0,0,0,0,0,0,1031012.85,0,0,6873419,0,0,6873419,2231658,9105077,1,null," ",null,null,null,null,null,null,null,null,null,null,null,null,null,null,null,null,null,null,null,null,null,null,null,null,null,null,null,null,null,null,null,null,null,null,null,null,null,null,null,null,null,null,null,null,null,null,null,null,null,null,null,0,0,0,0,0,0,0,0,0,0,null,0,0,0,0,0,0,0,0,0,0,null,"2015-09-30",5842406.1500000004,1386378.05,4456028.0999999996,85,null,null,null,null,null,null,15,null,null,"P1 Zahájena","Ne",{"$error":"#N/A"},"2015-09-30",5842406.1500000004,1386378.05,4456028.0999999996,85,null,null,null,null,null,null,15,null,null,"P1 Zahájena","Ne",{"$error":"#N/A"}]
["41 3.1 - Rozvoj urbanizačních center","11.3.1","11.3","CZ.1.11/3.1.00/41.01698","Obnova a technické zhodnocení školních hřišť v Jihlavě - III. etapa","P45 Projekt v realizaci","Statutární město Jihlava","Obec",21809112.149999999,0,0,0,0,0,0,0,3848666.85,0,0,25657779,0,0,25657779,575960,26233739,1,null," ",null,null,null,null,null,null,null,null,null,null,null,null,null,null,null,null,null,null,null,null,null,null,null,null,null,null,null,null,null,null,null,null,null,null,null,null,null,null,null,null,null,null,null,null,null,null,null,null,null,null,null,0,0,0,0,0,0,0,0,0,0,null,0,0,0,0,0,0,0,0,0,0,null,"2015-11-30",15510791.5,0,15510791.5,85,null,null,null,null,null,null,15,null,null,"P1 Zahájena","Ne",{"$error":"#N/A"},"2015-11-30",15510791.5,0,15510791.5,85,null,null,null,null,null,null,15,null,null,"P1 Zahájena","Ne",{"$error":"#N/A"}]
["40 1.1 - Rozvoj dopravní infrastruktury v regionu","11.1.1","11.1","CZ.1.11/1.1.00/40.01699","II/373 Ochoz průtah 2. stavba","P45 Projekt v realizaci","Správa a údržba silnic Jihomoravského kraje, příspěvková organizace kraje","Organizace zřízena krajem",16313593.470000001,0,0,0,0,0,0,0,0,0,0,16313593.470000001,0,833274,17146867.469999999,1684935.97,18831803.440000001,1,"01/01699","P1 Zaregistrována","POST","2015-09-24",null,null,null,null,null,null,null,null,null,null,null,null,null,null,null,null,null,null,null,null,null,null,null,null,null,null,null,null,null,null,null,null,null,null,null,null,null,null,null,null,null,null,null,null,null,null,"2015-09-24",4421351.6399999997,4421351.6399999997,4421351.6399999997,0,0,0,0,0,0,0,0,0,0,0,0,0,0,0,0,0,0,0,0,4421351.6399999997,"2015-08-31",5000000,0,5000000,100,null,null,null,null,null,null,null,null,null,"P1 Zahájena","Ne",{"$error":"#N/A"},"2015-08-31",5000000,0,5000000,100,null,null,null,null,null,null,null,null,null,"P1 Zahájena","Ne",{"$error":"#N/A"}]
["40 1.1 - Rozvoj dopravní infrastruktury v regionu","11.1.1","11.1","CZ.1.11/1.1.00/40.01699","II/373 Ochoz průtah 2. stavba","P45 Projekt v realizaci","Správa a údržba silnic Jihomoravského kraje, příspěvková organizace kraje","Organizace zřízena krajem",16313593.470000001,0,0,0,0,0,0,0,0,0,0,16313593.470000001,0,833274,17146867.469999999,1684935.97,18831803.440000001,2,null," ",null,null,null,null,null,null,null,null,null,null,null,null,null,null,null,null,null,null,null,null,null,null,null,null,null,null,null,null,null,null,null,null,null,null,null,null,null,null,null,null,null,null,null,null,null,null,null,null,null,null,null,0,0,0,0,0,0,0,0,0,0,null,0,0,0,0,0,0,0,0,0,0,null,"2015-11-30",11313593.470000001,0,11313593.470000001,100,null,null,null,null,null,null,null,null,null,"P1 Zahájena","Ne",{"$error":"#N/A"},"2015-11-30",11313593.470000001,0,11313593.470000001,100,null,null,null,null,null,null,null,null,null,"P1 Zahájena","Ne",{"$error":"#N/A"}]
["40 1.1 - Rozvoj dopravní infrastruktury v regionu","11.1.1","11.1","CZ.1.11/1.1.00/40.01700","II/395 Zastávka u Brna - hranice kraje, III. úsek","P3 Projekt doporučen / schválen","Správa a údržba silnic Jihomoravského kraje, příspěvková organizace kraje","Organizace zřízena krajem",null,null,null,null,null,null,null,null,null,null,null,null,null,null,null,null,null,1,null," ",null,null,null,null,null,null,null,null,null,null,null,null,null,null,null,null,null,null,null,null,null,null,null,null,null,null,null,null,null,null,null,null,null,null,null,null,null,null,null,null,null,null,null,null,null,null,null,null,null,null,null,0,0,0,0,0,0,0,0,0,0,null,0,0,0,0,0,0,0,0,0,0,null,"2015-11-30",40164577.68,0,40164577.68,100,null,null,null,null,null,null,null,null,null,"P1 Zahájena","Ne",{"$error":"#N/A"},"2015-11-30",40164577.68,0,40164577.68,100,null,null,null,null,null,null,null,null,null,"P1 Zahájena","Ne",{"$error":"#N/A"}]
["40 1.1 - Rozvoj dopravní infrastruktury v regionu","11.1.1","11.1","CZ.1.11/1.1.00/40.01701","II/398 Horní Dunajovice, most 398-009","P3 Projekt doporučen / schválen","Správa a údržba silnic Jihomoravského kraje, příspěvková organizace kraje","Organizace zřízena krajem",null,null,null,null,null,null,null,null,null,null,null,null,null,null,null,null,null,1,null," ",null,null,null,null,null,null,null,null,null,null,null,null,null,null,null,null,null,null,null,null,null,null,null,null,null,null,null,null,null,null,null,null,null,null,null,null,null,null,null,null,null,null,null,null,null,null,null,null,null,null,null,0,0,0,0,0,0,0,0,0,0,null,0,0,0,0,0,0,0,0,0,0,null,"2015-11-30",12981914.369999999,0,12981914.369999999,100,null,null,null,null,null,null,null,null,null,"P1 Zahájena","Ne",{"$error":"#N/A"},"2015-11-30",12981914.369999999,0,12981914.369999999,100,null,null,null,null,null,null,null,null,null,"P1 Zahájena","Ne",{"$error":"#N/A"}]
["40 1.1 - Rozvoj dopravní infrastruktury v regionu","11.1.1","11.1","CZ.1.11/1.1.00/40.01702","II/398 Podmyče - Šafov","P3 Projekt doporučen / schválen","Správa a údržba silnic Jihomoravského kraje, příspěvková organizace kraje","Organizace zřízena krajem",null,null,null,null,null,null,null,null,null,null,null,null,null,null,null,null,null,1,null," ",null,null,null,null,null,null,null,null,null,null,null,null,null,null,null,null,null,null,null,null,null,null,null,null,null,null,null,null,null,null,null,null,null,null,null,null,null,null,null,null,null,null,null,null,null,null,null,null,null,null,null,0,0,0,0,0,0,0,0,0,0,null,0,0,0,0,0,0,0,0,0,0,null,"2015-11-30",25324622.219999999,0,25324622.219999999,100,null,null,null,null,null,null,null,null,null,"P1 Zahájena","Ne",{"$error":"#N/A"},"2015-11-30",25324622.219999999,0,25324622.219999999,100,null,null,null,null,null,null,null,null,null,"P1 Zahájena","Ne",{"$error":"#N/A"}]
["40 1.1 - Rozvoj dopravní infrastruktury v regionu","11.1.1","11.1","CZ.1.11/1.1.00/40.01703","II/523 Jihlava - Větrný Jeníkov","P45 Projekt v realizaci","Kraj Vysočina","Kraj",59406050.229999997,0,0,0,0,0,0,0,0,0,0,59406050.229999997,0,0,59406050.229999997,1006355.96,60412406.189999998,1,null," ",null,null,null,null,null,null,null,null,null,null,null,null,null,null,null,null,null,null,null,null,null,null,null,null,null,null,null,null,null,null,null,null,null,null,null,null,null,null,null,null,null,null,null,null,null,null,null,null,null,null,null,0,0,0,0,0,0,0,0,0,0,null,0,0,0,0,0,0,0,0,0,0,null,"2015-11-30",59406050.229999997,0,59406050.229999997,100,null,null,null,null,null,null,null,null,null,"P1 Zahájena","Ne",{"$error":"#N/A"},"2015-11-30",59406050.229999997,0,59406050.229999997,100,null,null,null,null,null,null,null,null,null,"P1 Zahájena","Ne",{"$error":"#N/A"}]
["40 1.1 - Rozvoj dopravní infrastruktury v regionu","11.1.1","11.1","CZ.1.11/1.1.00/40.01704","III/39613 křižovatka Pasohlávky - Drnholec","P3 Projekt doporučen / schválen","Správa a údržba silnic Jihomoravského kraje, příspěvková organizace kraje","Organizace zřízena krajem",null,null,null,null,null,null,null,null,null,null,null,null,null,null,null,null,null,1,null," ",null,null,null,null,null,null,null,null,null,null,null,null,null,null,null,null,null,null,null,null,null,null,null,null,null,null,null,null,null,null,null,null,null,null,null,null,null,null,null,null,null,null,null,null,null,null,null,null,null,null,null,0,0,0,0,0,0,0,0,0,0,null,0,0,0,0,0,0,0,0,0,0,null,"2015-11-30",62377630.630000003,0,62377630.630000003,100,null,null,null,null,null,null,null,null,null,"P1 Zahájena","Ne",{"$error":"#N/A"},"2015-11-30",62377630.630000003,0,62377630.630000003,100,null,null,null,null,null,null,null,null,null,"P1 Zahájena","Ne",{"$error":"#N/A"}]
["41 3.1 - Rozvoj urbanizačních center","11.3.1","11.3","CZ.1.11/3.1.00/41.01705","Obnova a technické zhodnocení školních hřišť v Jihlavě - IV. etapa","P45 Projekt v realizaci","Statutární město Jihlava","Obec",8252268.1500000004,0,0,0,0,0,0,0,1456282.62,0,0,9708550.7699999996,0,0,9708550.7699999996,412761.25,10121312.02,1,null," ",null,null,null,null,null,null,null,null,null,null,null,null,null,null,null,null,null,null,null,null,null,null,null,null,null,null,null,null,null,null,null,null,null,null,null,null,null,null,null,null,null,null,null,null,null,null,null,null,null,null,null,0,0,0,0,0,0,0,0,0,0,null,0,0,0,0,0,0,0,0,0,0,null,"2015-11-30",8252268.1500000004,0,8252268.1500000004,85,null,null,null,null,null,null,15,null,null,"P1 Zahájena","Ne",{"$error":"#N/A"},"2015-11-30",8252268.1500000004,0,8252268.1500000004,85,null,null,null,null,null,null,15,null,null,"P1 Zahájena","Ne",{"$error":"#N/A"}]
["40 1.1 - Rozvoj dopravní infrastruktury v regionu","11.1.1","11.1","CZ.1.11/1.1.00/40.01706","II/523 Větrný Jeníkov - Humpolec","P45 Projekt v realizaci","Kraj Vysočina","Kraj",74189853.549999997,0,0,0,0,0,0,0,0,0,0,74189853.549999997,0,0,74189853.549999997,640750,74830603.549999997,1,null," ",null,null,null,null,null,null,null,null,null,null,null,null,null,null,null,null,null,null,null,null,null,null,null,null,null,null,null,null,null,null,null,null,null,null,null,null,null,null,null,null,null,null,null,null,null,null,null,null,null,null,null,0,0,0,0,0,0,0,0,0,0,null,0,0,0,0,0,0,0,0,0,0,null,"2015-11-30",68426508.659999996,0,68426508.659999996,100,null,null,null,null,null,null,null,null,null,"P1 Zahájena","Ne",{"$error":"#N/A"},"2015-11-30",74189853.549999997,0,74189853.549999997,100,null,null,null,null,null,null,null,null,null,"P1 Zahájena","Ne",{"$error":"#N/A"}]

{"sheet":"Pomůcka pro vyplnění ŽoP","index":4,"n_rows":36,"n_cols":16,"rows_kept":36,"cut":false,"hidden":false,"merged":[[23,2,25,2],[23,3,25,3],[30,2,33,2],[30,3,33,3],[35,2,38,2],[35,3,38,3],[1,2,1,3],[14,2,16,2],[14,3,16,3],[18,2,20,2],[18,3,20,3]]}
[]
[null,null,"Pomůcka pro vyplnění žádosti o platbu (pro projekty, které negenerují čisté příjmy dle čl. 55).                             ",null,null,null,"Aby bylo možné tuto pomůcku využít je třeba mít k dispozici aktuální verzi výkazu výdajů. Ta je ke stažení ",null,null,null,null,null,null,null,null,"zde."]
[null,null,"Způsobilé výdaje dle příjemce - investice",{"$f":"'3.3'!Y2","v":0},null,null,null,null,null,null,null,null,null,null,{"$f":"'3.3'!AA2","v":"CZ.1.11/3.3.00/36.01475"}]
[null,null,"Způsobilé výdaje dle příjemce - neinvestice",{"$f":"'3.3'!Y5","v":0},null,null,null,null,null,null,null,null,null,null,"CZ.1.11/1.3.00/37.01577",{"$f":"IF(O4=$O$3,1,0)","v":0}]
[null,null,null,null,null,null,null,null,null,null,null,null,null,null,"CZ.1.11/1.3.00/37.01578",{"$f":"IF(O5=$O$3,1,0)","v":0}]
[null,null,"Poměry financování na 10 desetinných míst:",null,null,null,null,null,null,null,null,null,null,null,"CZ.1.11/1.3.00/37.01579",0]
[null,null,"Podíl EU",{"$f":"VLOOKUP('3.3'!AA2,'poměry financování'!$D:$DK,103,FALSE)","v":70},null,null,null,null,null,null,null,null,null,null,"CZ.1.11/2.1.00/28.01410",0]
[null,null,"Podíl státního rozpočtu",{"$f":"VLOOKUP('3.3'!AA2,'poměry financování'!$D:$DK,104,FALSE)","v":0},null,null,null,null,null,null,null,null,null,null,"CZ.1.11/3.3.00/36.01472",0]
[null,null,"Dotace z rozpočtu kraje",{"$f":"G9+H9","v":0},null,null,{"$f":"VLOOKUP('3.3'!AA2,'poměry financování'!$D:$DK,105,FALSE)","v":0},{"$f":"VLOOKUP('3.3'!AA2,'poměry financování'!$D:$DK,106,FALSE)","v":0},null,null,null,null,null,null,"CZ.1.11/3.3.00/36.01488",0]
[null,null,"Vlastní podíl příjemce",{"$f":"G10+H10+I10+J10","v":30},null,null,{"$f":"VLOOKUP('3.3'!AA2,'poměry financování'!$D:$DK,109,FALSE)","v":0},{"$f":"VLOOKUP('3.3'!AA2,'poměry financování'!$D:$DK,110,FALSE)","v":30},{"$f":"VLOOKUP('3.3'!AA2,'poměry financování'!$D:$DK,111,FALSE)","v":0},{"$f":"VLOOKUP('3.3'!AA2,'poměry financování'!$D:$DK,112,FALSE)","v":0},null,null,null,null,"CZ.1.11/3.3.00/36.01524",0]
[null,null,null,null,null,null,null,null,null,null,null,null,null,null,"CZ.1.11/3.3.00/36.01542",0]
[null,null,"Kontrolní součet",{"$f":"D7+D8+D9+D10","v":100},"Součet v pořádku",null,null,null,null,null,null,null,null,null,"CZ.1.11/3.3.00/36.01567",0]
[null,null,{"$f":"IF(D12=100,E12,E13)","v":"Součet v pořádku"},null,"Součet poměrů nedává přesně 100 %",null,null,null,null,null,null,null,null,null,"CZ.1.11/3.3.00/36.01572",0]
[null,null,null,null,null,null,null,null,null,null,null,null,null,null,null,{"$f":"SUM(P4:P13)","v":0}]
[null,null,"Částka, kterou je třeba zadat v Benefitu na žádosti o platbu do pole \"Celkové zdroje připadající na způsobilé výdaje - investiční\"",{"$f":"IF(P14=0,List2!B4,List2!D12)","v":0}]
[]
[]
[]
[null,null,"Částka, kterou je třeba zadat v Benefitu na žádosti o platbu do pole \"Celkové zdroje připadající na způsobilé výdaje - neinvestiční\"",{"$f":"IF(P14=0,List2!C4,List2!E12)","v":0}]
[]
[]
[]
[null,null,"Zadejte částku jiných peněžních příjmů",0]
[null,null,"Částka jiných peněžních příjmů, které je třeba zadat v Benefitu na žádosti o platbu do pole Jiné peněžní příjmy platby připadající na způsobilé výdaje",{"$f":"IF(P14=0,List2!D30,List2!F38)","v":0}]
[]
[]
[]
[null,null,"Způsobilé výdaje bez JPP dle příjemce - investice",{"$f":"IF(G28<0,H28,G28)","v":0},null,null,{"$f":"D15-D24","v":0},0]
[null,null,"Způsobilé výdaje bez JPP dle příjemce - neinvestice",{"$f":"IF(D28=0,H29,G29)","v":0},null,null,{"$f":"D19","v":0},{"$f":"G28+G29","v":0}]
[]
[null,null,"Částka, kterou je třeba zadat v benefitu na žádosti o platbu do pole \"Celkové způsobilé výdaje platby připadající na finanční mezeru/očištěné o příjmy dle článku 55 - investiční\"",{"$f":"D28","v":0}]
[]
[]
[]
[]
[null,null,"Částka, kterou je třeba zadat v benefitu na žádosti o platbu do pole \"Celkové způsobilé výdaje platby připadající na finanční mezeru/očištěné o příjmy dle článku 55 - neinvestiční\"",{"$f":"D29","v":0}]

{"sheet":"List3","index":5,"n_rows":0,"n_cols":0,"rows_kept":0,"cut":false,"hidden":true,"merged":[]}

{"sheet":"pomocný - původní poměry fin.","index":6,"n_rows":461,"n_cols":16,"rows_kept":461,"cut":false,"hidden":true,"merged":[]}
["Projekty v závěrečných výzvách ve speciálním režimu - původní poměry financování a projekty s nepřímými náklady"]
["Reg. číslo projektu","Název projektu","Na projektu došlo ke změně poměrů financování ANO/NE","Na projektu došlo k navrácení k původním poměrům financování","Procentní podílů nepřímých nákladů (%)","Poměr financování",null,null,null,null,null,null,null,null,null,"kontrola součtu poměrů financování"]
[null,null,null,null,null,"Příspěvek Společenství","Finanční prostředky z rozpočtu RR – SR","Kraj 1","Kraj 2","Kraj 3","Fin. prostředky z rozpočtu RR - ostatní","Fin. prostředky z rozpočtu kraje","Fin. prostředky z rozpočtu obce","Jiné národní veřejné prostředky","Soukromé financování"]
["CZ.1.11/2.1.00/28.01398","Zkvalitnění přístupu k památkám v Jaroměřicích nad Rokytnou","A","A",null,85,null,null,null,null,null,null,15,null,null,100]
["CZ.1.11/2.1.00/28.01410","Eco-technic center Třebíč","A","A",null,84.999999983699993,null,null,null,null,null,null,null,null,15.0000000163,100]
["CZ.1.11/3.3.00/36.01424","Revitalizace náměstí 9. května ve Ždírci nad Doubravou - 2.etapa","A","A",0.27,84.999997438299999,null,null,null,null,null,null,15.000002561700001,null,null,100]
["CZ.1.11/3.2.00/35.01431","Sušilovo náměstí Rousínov, I etapa","A","A",null,69.999997730100006,null,null,null,null,null,null,30.000002269900001,null,null,100]
["CZ.1.11/3.3.00/36.01503","Náves a parkoviště před obecním úřadem v Přísnoticích","A","A",2.15,84.999999972699996,null,null,null,null,null,null,15.0000000273,null,null,100]
["CZ.1.11/3.3.00/36.01562","ZŠ Pacov náměstí - \"Škola pro život\"","A","A",0.03,84.999994837800003,null,null,null,null,null,null,15.000005162200001,null,null,100]
["CZ.1.11/3.3.00/36.01542","Rekonstrukce Základní školy Blažovice (Sedláček)","A","N",0.55000000000000004,84.999999965699999,null,null,null,null,null,null,15.000000034299999,null,null,100]
["CZ.1.11/3.3.00/36.01423","Přístavba mateřské školy Lípa","N",null,1.36,84.999997165799996,null,null,null,null,null,null,15.0000028342,null,null,100]
["CZ.1.11/3.3.00/36.01458","Rekonstrukce školního hřiště ZŠ, ZUŠ a MŠ Lomnice","A","A",null,85,null,null,null,null,null,null,15,null,null,100]
["CZ.1.11/3.3.00/36.01459","Rekonstrukce Židovského náměstí Lomnice","A","A",null,85,null,null,null,null,null,null,15,null,null,100]
["CZ.1.11/3.3.00/36.01478","Rozšíření infrastruktury pro vzdělávání v Bílovicích nad Svitavou","N",null,0.69,84.999994688099989,null,null,null,null,null,null,15.000005311900001,null,null,99.999999999999986]
["CZ.1.11/3.3.00/36.01524","Výstavba nového atletického hřiště - ŽoP čeká na doplnění (Plesar)","A","N",null,84.999994487999999,null,null,null,null,null,null,15.000005512,null,null,100]
["CZ.1.11/3.3.00/36.01554","Stabilizace venkovské Základní školy v Nové Cerekvi","A","A",0.08,84.999993426799989,null,null,null,null,null,null,15.0000065732,null,null,99.999999999999986]
["CZ.1.11/3.3.00/36.01509","Modernizace a zkvalitnění výuky ZŠ a MŠ Velká Losenice","N",null,0.48,84.999999758199991,null,null,null,null,null,null,15.0000002418,null,null,99.999999999999986]
["CZ.1.11/3.3.00/36.01481","Modernizace školství v obci Osová Bítýška","N",null,1.52,84.999997724899998,null,null,null,null,null,null,15.0000022751,null,null,100]
["CZ.1.11/3.3.00/36.01493","Rekonstrukce ZŠ Kanice III - odborné učebny","A","A",0.8,84.629689764700004,null,null,null,null,null,null,15.370310235300002,null,null,100]
["CZ.1.11/3.3.00/36.01567","Revitalizace centra obce Benešov - ŽoP vrácena k dopracování (Valová)","A","N",1.04,84.99999346269999,null,null,null,null,null,null,15.000006537300001,null,null,99.999999999999986]
["CZ.1.11/3.3.00/36.01488","Úprava prostoru u hasičské zbrojnice, ulice Mlýnská a Česká (Rákosová) ","A","N",0.72,84.999995516499993,null,null,null,null,null,null,15.0000044835,null,null,100]
["CZ.1.11/3.3.00/36.01452","Úprava náměstí městys Blížkovice","A","A",0.43,84.999998911899993,null,null,null,null,null,null,15.000001088099999,null,null,100]
["CZ.1.11/3.3.00/36.01506","Komplexní rekonstrukce náměstí v obci Čebín - 1. etapa","N",null,3.13,85,null,null,null,null,null,null,15,null,null,100]
["CZ.1.11/3.3.00/36.01537","Vranov nad Dyjí - náměstí: rekonstrukce plochy u morového sloupu","N",null,0.72,84.999997595099998,null,null,null,null,null,null,15.0000024049,null,null,100]
["CZ.1.11/3.3.00/36.01531","Revitalizace centrální části obce Hodice","A","A",1.49,84.999995833900002,null,null,null,null,null,null,15.0000041661,null,null,100]
["CZ.1.11/3.3.00/36.01472","Multifunkční hřiště - projekt ve stavu N8","A","N",0.9,84.999998650799995,null,null,null,null,null,null,15.0000013492,null,null,100]
["CZ.1.11/3.3.00/36.01455","Zvýšení kvality výuky ZŠ a MŠ Kamenice n.L.","N",null,1.06,84.999996878899992,null,null,null,null,null,null,15.000003121100001,null,null,100]
["CZ.1.11/3.3.00/36.01546","Rekonstrukce sportovního areálu ZŠ Střelice","N",null,0.2,85,null,null,null,null,null,null,15,null,null,100]
["CZ.1.11/3.3.00/36.01527","Dětská hřiště, víceúčelové hřiště a sociální zázemí v ZŠ Nedvědice - modernizace a vestavba","N",null,1.93,84.999999948799996,null,null,null,null,null,null,15.000000051200001,null,null,100]
["CZ.1.11/3.3.00/36.01474","Novostavba budovy mateřské školy vč. příjezdové komunikace, Drásov","N",null,0.3,84.999998961499998,null,null,null,null,null,null,15.000001038500001,null,null,100]
["CZ.1.11/3.3.00/36.01512","Komplexní úpravy veřejného prostranství v centru městyse Stonařov","N",null,0.62,85,null,null,null,null,null,null,15,null,null,100]
["CZ.1.11/3.3.00/36.01520","Moderní digitální výukové centrum v ZŠ Brtnice","N",null,1.58,84.999988814899993,null,null,null,null,null,null,15.0000111851,null,null,100]
["CZ.1.11/3.3.00/36.01482","Nová budova MŠ, modernizace ZŠ Holubice","N",null,0.48,85,null,null,null,null,null,null,15,null,null,100]
["CZ.1.11/3.3.00/36.01535","Zvýšení kvality tělovýchovy a odborné výuky na ZŠ Mikulovice","N",null,1.54,84.999999966999994,null,null,null,null,null,null,15.000000032999999,null,null,100]
["CZ.1.11/3.3.00/36.01466","Technické zhodnocení základní a mateřské školy Ostopovice","N",null,2.41,84.999999811199999,null,null,null,null,null,null,15.0000001888,null,null,100]
["CZ.1.11/3.3.00/36.01467","Úpravy ploch u KD a k nádraží v Hamrech nad Sázavou","N",null,0.81,84.999998393499993,null,null,null,null,null,null,15.0000016065,null,null,100]
["CZ.1.11/3.3.00/36.01486","Revitalizace návsi v obci Práče","N",null,0.52,84.999980143499997,null,null,null,null,null,null,15.0000198565,null,null,100]
["CZ.1.11/3.3.00/36.01494","Stavební úpravy objektu ZŠ a vestavba do půdního prostoru","N",null,0.28999999999999998,84.999988101599996,null,null,null,null,null,null,15.0000118984,null,null,100]
["CZ.1.11/3.3.00/36.01515","Modernizace infrastruktury pro vzdělávání v MŠ a ZŠ Radostín nad Oslavou","N",null,2.08,84.999999660599997,null,null,null,null,null,null,15.0000003394,null,null,100]
["CZ.1.11/3.3.00/36.01516","Úprava veřejného prostranství v obci Tasovice","N",null,1.43,85,null,null,null,null,null,null,15,null,null,100]
["CZ.1.11/3.3.00/36.01550","Areál pro sportovní aktivity u ZŠ a MŠ v Rudíkově","N",null,0.56000000000000005,84.999995794499995,null,null,null,null,null,null,15.0000042055,null,null,100]
["CZ.1.11/3.3.00/36.01569","Venkovní i vnitřní přírodopisné učebny ŽS Suchohrdly","N",null,1.38,84.999975244499993,null,null,null,null,null,null,15.0000247555,null,null,100]
["CZ.1.11/3.3.00/36.01491","Školka Bory pro třetí tisíciletí","N",null,1.8,84.99999333129999,null,null,null,null,null,null,15.000006668699999,null,null,99.999999999999986]
["CZ.1.11/3.3.00/36.01475","Výstavba mateřské školy v obci Svatobořice-Mistřín","A","A",0.18,70,null,null,null,null,null,null,30,null,null,100]
["CZ.1.11/3.3.00/36.01572","Šardice - revitalizace centra obce","A","A",0.45,84.999999988900001,null,null,null,null,null,null,15.000000011099999,null,null,100]
["CZ.1.11/3.3.00/36.01573","Víceúčelové hřiště Březník","N",null,1.28,85,null,null,null,null,null,null,15,null,null,100]
["CZ.1.11/3.3.00/36.01495","Modernizace a inovace výukového systému ZŠ Jemnice","N",null,1.1200000000000001,85,null,null,null,null,null,null,15,null,null,100]
["CZ.1.11/3.3.00/36.01468","Infrastruktura pro vzdělávání v Městysi Okříšky","N",null,1.22,84.999990238600006,null,null,null,null,null,null,15.000009761399999,null,null,100]
["CZ.1.11/3.3.00/36.01500","Investice do rozvoje základního školství ve městě Černovice","N",null,1.8,84.999999850699993,null,null,null,null,null,null,15.0000001493,null,null,100]
["CZ.1.11/1.3.00/37.01579","Nákup nízkopodlažních velkokapacitních tramvají pro MHD v Brně - 2. etapa (Horáková)","A","A",null,85,null,null,null,null,null,null,15,null,null,100]
["CZ.1.11/1.3.00/37.01578","Nákup nízkopodlažních velkokapacitních tramvají pro MHD v Brně (Horáková) ","A","A",null,85,null,null,null,null,null,null,15,null,null,100]
["CZ.1.11/1.3.00/37.01577","Nákup nízkopodlažních kloubových trolejbusů pro MHD v Brně (Horáková) ","A","A",null,85,null,null,null,null,null,null,15,null,null,100]
["CZ.1.11/3.3.00/36.01563","Rozšíření budovy mateřské školy v obci Opatovice","N",null,0.46,null,null,null,null,null,null,null,null,null,null,0]
["CZ.1.11/3.3.00/36.01480","Škola pro život","N",null,1.34,null,null,null,null,null,null,null,null,null,null,0]
["CZ.1.11/3.3.00/36.01501","Inovace, modernizace a kvalita na ZŠ Rajhrad","N",null,1.68,null,null,null,null,null,null,null,null,null,null,0]
["CZ.1.11/3.3.00/36.01454","Úprava návsi Lovčice","N",null,1.1499999999999999,null,null,null,null,null,null,null,null,null,null,0]
["CZ.1.11/3.3.00/36.01476","Výstavba víceúčelového hřiště v areálu Masarykovy základní školy Vracov","N",null,0.37,null,null,null,null,null,null,null,null,null,null,0]
["CZ.1.11/3.3.00/36.01477","Centrum pro vzdělávání a volnočasové aktivity","N",null,3.76,null,null,null,null,null,null,null,null,null,null,0]
["CZ.1.11/3.3.00/36.01479","Digitalizované přírodovědecké centrum se zaměřením na pracovní činnosti pro ZŠ Lysice","N",null,1.55,null,null,null,null,null,null,null,null,null,null,0]
["CZ.1.11/3.3.00/36.01485","Revitalizace centrální části městyse Ostrov u Macochy","N",null,0.81,null,null,null,null,null,null,null,null,null,null,0]
["CZ.1.11/3.3.00/36.01498","Komplexní rozvoj školství v Adamově","N",null,1.43,null,null,null,null,null,null,null,null,null,null,0]
["CZ.1.11/3.3.00/36.01499","Modernizace infrastruktury pro vzdělávání v MŠ Vlasatice","N",null,1.28,null,null,null,null,null,null,null,null,null,null,0]
["CZ.1.11/3.3.00/36.01504","Výstavba nového centra obce Moravany","N",null,3.09,null,null,null,null,null,null,null,null,null,null,0]
["CZ.1.11/3.3.00/36.01507","Učebna výpočetní techniky a technické výchovy 21. století","N",null,2.95,null,null,null,null,null,null,null,null,null,null,0]
["CZ.1.11/3.3.00/36.01510","Rozšíření MŠ Ratíškovice","N",null,0.52,null,null,null,null,null,null,null,null,null,null,0]
["CZ.1.11/3.3.00/36.01508","Přístavba MŠ a ZŠ Ráječko","N",null,0.74,null,null,null,null,null,null,null,null,null,null,0]
["CZ.1.11/3.3.00/36.01514","Zlepšení konkurenceschopnosti Základní školy a Mateřské školy Milotice","N",null,1.02,null,null,null,null,null,null,null,null,null,null,0]
["CZ.1.11/3.3.00/36.01518","Zvýšení kapacity mateřské školky v Březí u Mikulova","N",null,1.58,null,null,null,null,null,null,null,null,null,null,0]
["CZ.1.11/3.3.00/36.01523","Revitalizace centrální části obce Bohutice","N",null,2.85,null,null,null,null,null,null,null,null,null,null,0]
["CZ.1.11/3.3.00/36.01530","Modernizace zázemí praktického vyučování na ZŠ a MŠ Olešnice","N",null,0.93,null,null,null,null,null,null,null,null,null,null,0]
["CZ.1.11/3.3.00/36.01532","Sportovní areál Rohatec","N",null,0.99,null,null,null,null,null,null,null,null,null,null,0]
["CZ.1.11/3.3.00/36.01533","Úprava návsi v Hovoranech","N",null,0.87,null,null,null,null,null,null,null,null,null,null,0]
["CZ.1.11/3.3.00/36.01538","Modernizace ZŠ Louka","N",null,1.89,null,null,null,null,null,null,null,null,null,null,0]
["CZ.1.11/3.3.00/36.01541","Stavební úpravy a přístavba Základní a mateřské školy Drnovice","N",null,0.32,null,null,null,null,null,null,null,null,null,null,0]
["CZ.1.11/3.3.00/36.01543","Venkovní tělocvična a odborné učebny v Základní škole Nikolčice","N",null,1.34,null,null,null,null,null,null,null,null,null,null,0]
["CZ.1.11/3.3.00/36.01557","Rekonstrukce - zhodnocení tělocvičny u základní školy Ježov","N",null,1.03,null,null,null,null,null,null,null,null,null,null,0]
["CZ.1.11/3.3.00/36.01565","Modernizace atletického areálu při ZŠ v Mikulčicích","N",null,0.72,null,null,null,null,null,null,null,null,null,null,0]
["CZ.1.11/3.3.00/36.01568","Rozšíření sportovního areálu ve Vlkoši","N",null,0.5,null,null,null,null,null,null,null,null,null,null,0]
["CZ.1.11/3.3.00/36.01540","Revitalizace centra obce Drnovice","N",null,0.43,null,null,null,null,null,null,null,null,null,null,0]
["CZ.1.11/3.3.00/36.01513","Inovace pro zkvalitnění výuky ZŠ a MŠ obce Bořetice","N",null,2.2599999999999998,null,null,null,null,null,null,null,null,null,null,0]
["CZ.1.11/3.3.00/36.01473","NÁSTAVBA ZÁKLADNÍ ŠKOLY ROZDROJOVICE","N",null,0.9,null,null,null,null,null,null,null,null,null,null,0]
[null,null,null,null,null,null,null,null,null,null,null,null,null,null,null,0]
[null,null,null,null,null,null,null,null,null,null,null,null,null,null,null,0]
[null,null,null,null,null,null,null,null,null,null,null,null,null,null,null,0]
[null,null,null,null,null,null,null,null,null,null,null,null,null,null,null,0]
[null,null,null,null,null,null,null,null,null,null,null,null,null,null,null,0]
[null,null,null,null,null,null,null,null,null,null,null,null,null,null,null,0]
[null,null,null,null,null,null,null,null,null,null,null,null,null,null,null,0]
[null,null,null,null,null,null,null,null,null,null,null,null,null,null,null,0]
[null,null,null,null,null,null,null,null,null,null,null,null,null,null,null,0]
[null,null,null,null,null,null,null,null,null,null,null,null,null,null,null,0]
[null,null,null,null,null,null,null,null,null,null,null,null,null,null,null,0]
[null,null,null,null,null,null,null,null,null,null,null,null,null,null,null,0]
[null,null,null,null,null,null,null,null,null,null,null,null,null,null,null,0]
[null,null,null,null,null,null,null,null,null,null,null,null,null,null,null,0]
[null,null,null,null,null,null,null,null,null,null,null,null,null,null,null,0]
[null,null,null,null,null,null,null,null,null,null,null,null,null,null,null,0]
[null,null,null,null,null,null,null,null,null,null,null,null,null,null,null,0]
[null,null,null,null,null,null,null,null,null,null,null,null,null,null,null,0]
[null,null,null,null,null,null,null,null,null,null,null,null,null,null,null,0]
[null,null,null,null,null,null,null,null,null,null,null,null,null,null,null,0]
[null,null,null,null,null,null,null,null,null,null,null,null,null,null,null,0]
[null,null,null,null,null,null,null,null,null,null,null,null,null,null,null,0]
[null,null,null,null,null,null,null,null,null,null,null,null,null,null,null,0]
[null,null,null,null,null,null,null,null,null,null,null,null,null,null,null,0]
[null,null,null,null,null,null,null,null,null,null,null,null,null,null,null,0]
[null,null,null,null,null,null,null,null,null,null,null,null,null,null,null,0]
[null,null,null,null,null,null,null,null,null,null,null,null,null,null,null,0]
[null,null,null,null,null,null,null,null,null,null,null,null,null,null,null,0]
[null,null,null,null,null,null,null,null,null,null,null,null,null,null,null,0]
[null,null,null,null,null,null,null,null,null,null,null,null,null,null,null,0]
[null,null,null,null,null,null,null,null,null,null,null,null,null,null,null,0]
[null,null,null,null,null,null,null,null,null,null,null,null,null,null,null,0]
[null,null,null,null,null,null,null,null,null,null,null,null,null,null,null,0]
[null,null,null,null,null,null,null,null,null,null,null,null,null,null,null,0]
[null,null,null,null,null,null,null,null,null,null,null,null,null,null,null,0]
[null,null,null,null,null,null,null,null,null,null,null,null,null,null,null,0]
[null,null,null,null,null,null,null,null,null,null,null,null,null,null,null,0]
[null,null,null,null,null,null,null,null,null,null,null,null,null,null,null,0]
[null,null,null,null,null,null,null,null,null,null,null,null,null,null,null,0]
[null,null,null,null,null,null,null,null,null,null,null,null,null,null,null,0]
[null,null,null,null,null,null,null,null,null,null,null,null,null,null,null,0]
[null,null,null,null,null,null,null,null,null,null,null,null,null,null,null,0]
[null,null,null,null,null,null,null,null,null,null,null,null,null,null,null,0]
[null,null,null,null,null,null,null,null,null,null,null,null,null,null,null,0]
[null,null,null,null,null,null,null,null,null,null,null,null,null,null,null,0]
[null,null,null,null,null,null,null,null,null,null,null,null,null,null,null,0]
[null,null,null,null,null,null,null,null,null,null,null,null,null,null,null,0]
[null,null,null,null,null,null,null,null,null,null,null,null,null,null,null,0]
[null,null,null,null,null,null,null,null,null,null,null,null,null,null,null,0]
[null,null,null,null,null,null,null,null,null,null,null,null,null,null,null,0]
[null,null,null,null,null,null,null,null,null,null,null,null,null,null,null,0]
[null,null,null,null,null,null,null,null,null,null,null,null,null,null,null,0]
[null,null,null,null,null,null,null,null,null,null,null,null,null,null,null,0]
[null,null,null,null,null,null,null,null,null,null,null,null,null,null,null,0]
[null,null,null,null,null,null,null,null,null,null,null,null,null,null,null,0]
[null,null,null,null,null,null,null,null,null,null,null,null,null,null,null,0]
[null,null,null,null,null,null,null,null,null,null,null,null,null,null,null,0]
[null,null,null,null,null,null,null,null,null,null,null,null,null,null,null,0]
[null,null,null,null,null,null,null,null,null,null,null,null,null,null,null,0]
[null,null,null,null,null,null,null,null,null,null,null,null,null,null,null,0]
[null,null,null,null,null,null,null,null,null,null,null,null,null,null,null,0]
[null,null,null,null,null,null,null,null,null,null,null,null,null,null,null,0]
[null,null,null,null,null,null,null,null,null,null,null,null,null,null,null,0]
[null,null,null,null,null,null,null,null,null,null,null,null,null,null,null,0]
[null,null,null,null,null,null,null,null,null,null,null,null,null,null,null,0]
[null,null,null,null,null,null,null,null,null,null,null,null,null,null,null,0]
[null,null,null,null,null,null,null,null,null,null,null,null,null,null,null,0]
[null,null,null,null,null,null,null,null,null,null,null,null,null,null,null,0]
[null,null,null,null,null,null,null,null,null,null,null,null,null,null,null,0]
[null,null,null,null,null,null,null,null,null,null,null,null,null,null,null,0]
[null,null,null,null,null,null,null,null,null,null,null,null,null,null,null,0]
[null,null,null,null,null,null,null,null,null,null,null,null,null,null,null,0]
[null,null,null,null,null,null,null,null,null,null,null,null,null,null,null,0]
[null,null,null,null,null,null,null,null,null,null,null,null,null,null,null,0]
[null,null,null,null,null,null,null,null,null,null,null,null,null,null,null,0]
[null,null,null,null,null,null,null,null,null,null,null,null,null,null,null,0]
[null,null,null,null,null,null,null,null,null,null,null,null,null,null,null,0]
[null,null,null,null,null,null,null,null,null,null,null,null,null,null,null,0]
[null,null,null,null,null,null,null,null,null,null,null,null,null,null,null,0]
[null,null,null,null,null,null,null,null,null,null,null,null,null,null,null,0]
[null,null,null,null,null,null,null,null,null,null,null,null,null,null,null,0]
[null,null,null,null,null,null,null,null,null,null,null,null,null,null,null,0]
[null,null,null,null,null,null,null,null,null,null,null,null,null,null,null,0]
[null,null,null,null,null,null,null,null,null,null,null,null,null,null,null,0]
[null,null,null,null,null,null,null,null,null,null,null,null,null,null,null,0]
[null,null,null,null,null,null,null,null,null,null,null,null,null,null,null,0]
[null,null,null,null,null,null,null,null,null,null,null,null,null,null,null,0]
[null,null,null,null,null,null,null,null,null,null,null,null,null,null,null,0]
[null,null,null,null,null,null,null,null,null,null,null,null,null,null,null,0]
[null,null,null,null,null,null,null,null,null,null,null,null,null,null,null,0]
[null,null,null,null,null,null,null,null,null,null,null,null,null,null,null,0]
[null,null,null,null,null,null,null,null,null,null,null,null,null,null,null,0]
[null,null,null,null,null,null,null,null,null,null,null,null,null,null,null,0]
[null,null,null,null,null,null,null,null,null,null,null,null,null,null,null,0]
[null,null,null,null,null,null,null,null,null,null,null,null,null,null,null,0]
[null,null,null,null,null,null,null,null,null,null,null,null,null,null,null,0]
[null,null,null,null,null,null,null,null,null,null,null,null,null,null,null,0]
[null,null,null,null,null,null,null,null,null,null,null,null,null,null,null,0]
[null,null,null,null,null,null,null,null,null,null,null,null,null,null,null,0]
[null,null,null,null,null,null,null,null,null,null,null,null,null,null,null,0]
[null,null,null,null,null,null,null,null,null,null,null,null,null,null,null,0]
[null,null,null,null,null,null,null,null,null,null,null,null,null,null,null,0]
[null,null,null,null,null,null,null,null,null,null,null,null,null,null,null,0]
[null,null,null,null,null,null,null,null,null,null,null,null,null,null,null,0]
[null,null,null,null,null,null,null,null,null,null,null,null,null,null,null,0]
[null,null,null,null,null,null,null,null,null,null,null,null,null,null,null,0]
[null,null,null,null,null,null,null,null,null,null,null,null,null,null,null,0]
[null,null,null,null,null,null,null,null,null,null,null,null,null,null,null,0]
[null,null,null,null,null,null,null,null,null,null,null,null,null,null,null,0]
[null,null,null,null,null,null,null,null,null,null,null,null,null,null,null,0]
[null,null,null,null,null,null,null,null,null,null,null,null,null,null,null,0]
[null,null,null,null,null,null,null,null,null,null,null,null,null,null,null,0]
[null,null,null,null,null,null,null,null,null,null,null,null,null,null,null,0]
[null,null,null,null,null,null,null,null,null,null,null,null,null,null,null,0]
[null,null,null,null,null,null,null,null,null,null,null,null,null,null,null,0]
[null,null,null,null,null,null,null,null,null,null,null,null,null,null,null,0]
[null,null,null,null,null,null,null,null,null,null,null,null,null,null,null,0]
[null,null,null,null,null,null,null,null,null,null,null,null,null,null,null,0]
[null,null,null,null,null,null,null,null,null,null,null,null,null,null,null,0]
[null,null,null,null,null,null,null,null,null,null,null,null,null,null,null,0]
[null,null,null,null,null,null,null,null,null,null,null,null,null,null,null,0]
[null,null,null,null,null,null,null,null,null,null,null,null,null,null,null,0]
[null,null,null,null,null,null,null,null,null,null,null,null,null,null,null,0]
[null,null,null,null,null,null,null,null,null,null,null,null,null,null,null,0]
[null,null,null,null,null,null,null,null,null,null,null,null,null,null,null,0]
[null,null,null,null,null,null,null,null,null,null,null,null,null,null,null,0]
[null,null,null,null,null,null,null,null,null,null,null,null,null,null,null,0]
[null,null,null,null,null,null,null,null,null,null,null,null,null,null,null,0]
[null,null,null,null,null,null,null,null,null,null,null,null,null,null,null,0]
[null,null,null,null,null,null,null,null,null,null,null,null,null,null,null,0]
[null,null,null,null,null,null,null,null,null,null,null,null,null,null,null,0]
[null,null,null,null,null,null,null,null,null,null,null,null,null,null,null,0]
[null,null,null,null,null,null,null,null,null,null,null,null,null,null,null,0]
[null,null,null,null,null,null,null,null,null,null,null,null,null,null,null,0]
[null,null,null,null,null,null,null,null,null,null,null,null,null,null,null,0]
[null,null,null,null,null,null,null,null,null,null,null,null,null,null,null,0]
[null,null,null,null,null,null,null,null,null,null,null,null,null,null,null,0]
[null,null,null,null,null,null,null,null,null,null,null,null,null,null,null,0]
[null,null,null,null,null,null,null,null,null,null,null,null,null,null,null,0]
[null,null,null,null,null,null,null,null,null,null,null,null,null,null,null,0]
[null,null,null,null,null,null,null,null,null,null,null,null,null,null,null,0]
[null,null,null,null,null,null,null,null,null,null,null,null,null,null,null,0]
[null,null,null,null,null,null,null,null,null,null,null,null,null,null,null,0]
[null,null,null,null,null,null,null,null,null,null,null,null,null,null,null,0]
[null,null,null,null,null,null,null,null,null,null,null,null,null,null,null,0]
[null,null,null,null,null,null,null,null,null,null,null,null,null,null,null,0]
[null,null,null,null,null,null,null,null,null,null,null,null,null,null,null,0]
[null,null,null,null,null,null,null,null,null,null,null,null,null,null,null,0]
[null,null,null,null,null,null,null,null,null,null,null,null,null,null,null,0]
[null,null,null,null,null,null,null,null,null,null,null,null,null,null,null,0]
[null,null,null,null,null,null,null,null,null,null,null,null,null,null,null,0]
[null,null,null,null,null,null,null,null,null,null,null,null,null,null,null,0]
[null,null,null,null,null,null,null,null,null,null,null,null,null,null,null,0]
[null,null,null,null,null,null,null,null,null,null,null,null,null,null,null,0]
[null,null,null,null,null,null,null,null,null,null,null,null,null,null,null,0]
[null,null,null,null,null,null,null,null,null,null,null,null,null,null,null,0]
[null,null,null,null,null,null,null,null,null,null,null,null,null,null,null,0]
[null,null,null,null,null,null,null,null,null,null,null,null,null,null,null,0]
[null,null,null,null,null,null,null,null,null,null,null,null,null,null,null,0]
[null,null,null,null,null,null,null,null,null,null,null,null,null,null,null,0]
[null,null,null,null,null,null,null,null,null,null,null,null,null,null,null,0]
[null,null,null,null,null,null,null,null,null,null,null,null,null,null,null,0]
[null,null,null,null,null,null,null,null,null,null,null,null,null,null,null,0]
[null,null,null,null,null,null,null,null,null,null,null,null,null,null,null,0]
[null,null,null,null,null,null,null,null,null,null,null,null,null,null,null,0]
[null,null,null,null,null,null,null,null,null,null,null,null,null,null,null,0]
[null,null,null,null,null,null,null,null,null,null,null,null,null,null,null,0]
[null,null,null,null,null,null,null,null,null,null,null,null,null,null,null,0]
[null,null,null,null,null,null,null,null,null,null,null,null,null,null,null,0]
[null,null,null,null,null,null,null,null,null,null,null,null,null,null,null,0]
[null,null,null,null,null,null,null,null,null,null,null,null,null,null,null,0]
[null,null,null,null,null,null,null,null,null,null,null,null,null,null,null,0]
[null,null,null,null,null,null,null,null,null,null,null,null,null,null,null,0]
[null,null,null,null,null,null,null,null,null,null,null,null,null,null,null,0]
[null,null,null,null,null,null,null,null,null,null,null,null,null,null,null,0]
[null,null,null,null,null,null,null,null,null,null,null,null,null,null,null,0]
[null,null,null,null,null,null,null,null,null,null,null,null,null,null,null,0]
[null,null,null,null,null,null,null,null,null,null,null,null,null,null,null,0]
[null,null,null,null,null,null,null,null,null,null,null,null,null,null,null,0]
[null,null,null,null,null,null,null,null,null,null,null,null,null,null,null,0]
[null,null,null,null,null,null,null,null,null,null,null,null,null,null,null,0]
[null,null,null,null,null,null,null,null,null,null,null,null,null,null,null,0]
[null,null,null,null,null,null,null,null,null,null,null,null,null,null,null,0]
[null,null,null,null,null,null,null,null,null,null,null,null,null,null,null,0]
[null,null,null,null,null,null,null,null,null,null,null,null,null,null,null,0]
[null,null,null,null,null,null,null,null,null,null,null,null,null,null,null,0]
[null,null,null,null,null,null,null,null,null,null,null,null,null,null,null,0]
[null,null,null,null,null,null,null,null,null,null,null,null,null,null,null,0]
[null,null,null,null,null,null,null,null,null,null,null,null,null,null,null,0]
[null,null,null,null,null,null,null,null,null,null,null,null,null,null,null,0]
[null,null,null,null,null,null,null,null,null,null,null,null,null,null,null,0]
[null,null,null,null,null,null,null,null,null,null,null,null,null,null,null,0]
[null,null,null,null,null,null,null,null,null,null,null,null,null,null,null,0]
[null,null,null,null,null,null,null,null,null,null,null,null,null,null,null,0]
[null,null,null,null,null,null,null,null,null,null,null,null,null,null,null,0]
[null,null,null,null,null,null,null,null,null,null,null,null,null,null,null,0]
[null,null,null,null,null,null,null,null,null,null,null,null,null,null,null,0]
[null,null,null,null,null,null,null,null,null,null,null,null,null,null,null,0]
[null,null,null,null,null,null,null,null,null,null,null,null,null,null,null,0]
[null,null,null,null,null,null,null,null,null,null,null,null,null,null,null,0]
[null,null,null,null,null,null,null,null,null,null,null,null,null,null,null,0]
[null,null,null,null,null,null,null,null,null,null,null,null,null,null,null,0]
[null,null,null,null,null,null,null,null,null,null,null,null,null,null,null,0]
[null,null,null,null,null,null,null,null,null,null,null,null,null,null,null,0]
[null,null,null,null,null,null,null,null,null,null,null,null,null,null,null,0]
[null,null,null,null,null,null,null,null,null,null,null,null,null,null,null,0]
[null,null,null,null,null,null,null,null,null,null,null,null,null,null,null,0]
[null,null,null,null,null,null,null,null,null,null,null,null,null,null,null,0]
[null,null,null,null,null,null,null,null,null,null,null,null,null,null,null,0]
[null,null,null,null,null,null,null,null,null,null,null,null,null,null,null,0]
[null,null,null,null,null,null,null,null,null,null,null,null,null,null,null,0]
[null,null,null,null,null,null,null,null,null,null,null,null,null,null,null,0]
[null,null,null,null,null,null,null,null,null,null,null,null,null,null,null,0]
[null,null,null,null,null,null,null,null,null,null,null,null,null,null,null,0]
[null,null,null,null,null,null,null,null,null,null,null,null,null,null,null,0]
[null,null,null,null,null,null,null,null,null,null,null,null,null,null,null,0]
[null,null,null,null,null,null,null,null,null,null,null,null,null,null,null,0]
[null,null,null,null,null,null,null,null,null,null,null,null,null,null,null,0]
[null,null,null,null,null,null,null,null,null,null,null,null,null,null,null,0]
[null,null,null,null,null,null,null,null,null,null,null,null,null,null,null,0]
[null,null,null,null,null,null,null,null,null,null,null,null,null,null,null,0]
[null,null,null,null,null,null,null,null,null,null,null,null,null,null,null,0]
[null,null,null,null,null,null,null,null,null,null,null,null,null,null,null,0]
[null,null,null,null,null,null,null,null,null,null,null,null,null,null,null,0]
[null,null,null,null,null,null,null,null,null,null,null,null,null,null,null,0]
[null,null,null,null,null,null,null,null,null,null,null,null,null,null,null,0]
[null,null,null,null,null,null,null,null,null,null,null,null,null,null,null,0]
[null,null,null,null,null,null,null,null,null,null,null,null,null,null,null,0]
[null,null,null,null,null,null,null,null,null,null,null,null,null,null,null,0]
[null,null,null,null,null,null,null,null,null,null,null,null,null,null,null,0]
[null,null,null,null,null,null,null,null,null,null,null,null,null,null,null,0]
[null,null,null,null,null,null,null,null,null,null,null,null,null,null,null,0]
[null,null,null,null,null,null,null,null,null,null,null,null,null,null,null,0]
[null,null,null,null,null,null,null,null,null,null,null,null,null,null,null,0]
[null,null,null,null,null,null,null,null,null,null,null,null,null,null,null,0]
[null,null,null,null,null,null,null,null,null,null,null,null,null,null,null,0]
[null,null,null,null,null,null,null,null,null,null,null,null,null,null,null,0]
[null,null,null,null,null,null,null,null,null,null,null,null,null,null,null,0]
[null,null,null,null,null,null,null,null,null,null,null,null,null,null,null,0]
[null,null,null,null,null,null,null,null,null,null,null,null,null,null,null,0]
[null,null,null,null,null,null,null,null,null,null,null,null,null,null,null,0]
[null,null,null,null,null,null,null,null,null,null,null,null,null,null,null,0]
[null,null,null,null,null,null,null,null,null,null,null,null,null,null,null,0]
[null,null,null,null,null,null,null,null,null,null,null,null,null,null,null,0]
[null,null,null,null,null,null,null,null,null,null,null,null,null,null,null,0]
[null,null,null,null,null,null,null,null,null,null,null,null,null,null,null,0]
[null,null,null,null,null,null,null,null,null,null,null,null,null,null,null,0]
[null,null,null,null,null,null,null,null,null,null,null,null,null,null,null,0]
[null,null,null,null,null,null,null,null,null,null,null,null,null,null,null,0]
[null,null,null,null,null,null,null,null,null,null,null,null,null,null,null,0]
[null,null,null,null,null,null,null,null,null,null,null,null,null,null,null,0]
[null,null,null,null,null,null,null,null,null,null,null,null,null,null,null,0]
[null,null,null,null,null,null,null,null,null,null,null,null,null,null,null,0]
[null,null,null,null,null,null,null,null,null,null,null,null,null,null,null,0]
[null,null,null,null,null,null,null,null,null,null,null,null,null,null,null,0]
[null,null,null,null,null,null,null,null,null,null,null,null,null,null,null,0]
[null,null,null,null,null,null,null,null,null,null,null,null,null,null,null,0]
[null,null,null,null,null,null,null,null,null,null,null,null,null,null,null,0]
[null,null,null,null,null,null,null,null,null,null,null,null,null,null,null,0]
[null,null,null,null,null,null,null,null,null,null,null,null,null,null,null,0]
[null,null,null,null,null,null,null,null,null,null,null,null,null,null,null,0]
[null,null,null,null,null,null,null,null,null,null,null,null,null,null,null,0]
[null,null,null,null,null,null,null,null,null,null,null,null,null,null,null,0]
[null,null,null,null,null,null,null,null,null,null,null,null,null,null,null,0]
[null,null,null,null,null,null,null,null,null,null,null,null,null,null,null,0]
[null,null,null,null,null,null,null,null,null,null,null,null,null,null,null,0]
[null,null,null,null,null,null,null,null,null,null,null,null,null,null,null,0]
[null,null,null,null,null,null,null,null,null,null,null,null,null,null,null,0]
[null,null,null,null,null,null,null,null,null,null,null,null,null,null,null,0]
[null,null,null,null,null,null,null,null,null,null,null,null,null,null,null,0]
[null,null,null,null,null,null,null,null,null,null,null,null,null,null,null,0]
[null,null,null,null,null,null,null,null,null,null,null,null,null,null,null,0]
[null,null,null,null,null,null,null,null,null,null,null,null,null,null,null,0]
[null,null,null,null,null,null,null,null,null,null,null,null,null,null,null,0]
[null,null,null,null,null,null,null,null,null,null,null,null,null,null,null,0]
[null,null,null,null,null,null,null,null,null,null,null,null,null,null,null,0]
[null,null,null,null,null,null,null,null,null,null,null,null,null,null,null,0]
[null,null,null,null,null,null,null,null,null,null,null,null,null,null,null,0]
[null,null,null,null,null,null,null,null,null,null,null,null,null,null,null,0]
[null,null,null,null,null,null,null,null,null,null,null,null,null,null,null,0]
[null,null,null,null,null,null,null,null,null,null,null,null,null,null,null,0]
[null,null,null,null,null,null,null,null,null,null,null,null,null,null,null,0]
[null,null,null,null,null,null,null,null,null,null,null,null,null,null,null,0]
[null,null,null,null,null,null,null,null,null,null,null,null,null,null,null,0]
[null,null,null,null,null,null,null,null,null,null,null,null,null,null,null,0]
[null,null,null,null,null,null,null,null,null,null,null,null,null,null,null,0]
[null,null,null,null,null,null,null,null,null,null,null,null,null,null,null,0]
[null,null,null,null,null,null,null,null,null,null,null,null,null,null,null,0]
[null,null,null,null,null,null,null,null,null,null,null,null,null,null,null,0]
[null,null,null,null,null,null,null,null,null,null,null,null,null,null,null,0]
[null,null,null,null,null,null,null,null,null,null,null,null,null,null,null,0]
[null,null,null,null,null,null,null,null,null,null,null,null,null,null,null,0]
[null,null,null,null,null,null,null,null,null,null,null,null,null,null,null,0]
[null,null,null,null,null,null,null,null,null,null,null,null,null,null,null,0]
[null,null,null,null,null,null,null,null,null,null,null,null,null,null,null,0]
[null,null,null,null,null,null,null,null,null,null,null,null,null,null,null,0]
[null,null,null,null,null,null,null,null,null,null,null,null,null,null,null,0]
[null,null,null,null,null,null,null,null,null,null,null,null,null,null,null,0]
[null,null,null,null,null,null,null,null,null,null,null,null,null,null,null,0]
[null,null,null,null,null,null,null,null,null,null,null,null,null,null,null,0]
[null,null,null,null,null,null,null,null,null,null,null,null,null,null,null,0]
[null,null,null,null,null,null,null,null,null,null,null,null,null,null,null,0]
[null,null,null,null,null,null,null,null,null,null,null,null,null,null,null,0]
[null,null,null,null,null,null,null,null,null,null,null,null,null,null,null,0]
[null,null,null,null,null,null,null,null,null,null,null,null,null,null,null,0]
[null,null,null,null,null,null,null,null,null,null,null,null,null,null,null,0]
[null,null,null,null,null,null,null,null,null,null,null,null,null,null,null,0]
[null,null,null,null,null,null,null,null,null,null,null,null,null,null,null,0]
[null,null,null,null,null,null,null,null,null,null,null,null,null,null,null,0]
[null,null,null,null,null,null,null,null,null,null,null,null,null,null,null,0]
[null,null,null,null,null,null,null,null,null,null,null,null,null,null,null,0]
[null,null,null,null,null,null,null,null,null,null,null,null,null,null,null,0]
[null,null,null,null,null,null,null,null,null,null,null,null,null,null,null,0]
[null,null,null,null,null,null,null,null,null,null,null,null,null,null,null,0]
[null,null,null,null,null,null,null,null,null,null,null,null,null,null,null,0]
[null,null,null,null,null,null,null,null,null,null,null,null,null,null,null,0]
[null,null,null,null,null,null,null,null,null,null,null,null,null,null,null,0]
[null,null,null,null,null,null,null,null,null,null,null,null,null,null,null,0]
[null,null,null,null,null,null,null,null,null,null,null,null,null,null,null,0]
[null,null,null,null,null,null,null,null,null,null,null,null,null,null,null,0]
[null,null,null,null,null,null,null,null,null,null,null,null,null,null,null,0]
[null,null,null,null,null,null,null,null,null,null,null,null,null,null,null,0]
[null,null,null,null,null,null,null,null,null,null,null,null,null,null,null,0]
[null,null,null,null,null,null,null,null,null,null,null,null,null,null,null,0]
[null,null,null,null,null,null,null,null,null,null,null,null,null,null,null,0]
[null,null,null,null,null,null,null,null,null,null,null,null,null,null,null,0]
[null,null,null,null,null,null,null,null,null,null,null,null,null,null,null,0]
[null,null,null,null,null,null,null,null,null,null,null,null,null,null,null,0]
[null,null,null,null,null,null,null,null,null,null,null,null,null,null,null,0]
[null,null,null,null,null,null,null,null,null,null,null,null,null,null,null,0]
[null,null,null,null,null,null,null,null,null,null,null,null,null,null,null,0]
[null,null,null,null,null,null,null,null,null,null,null,null,null,null,null,0]
[null,null,null,null,null,null,null,null,null,null,null,null,null,null,null,0]
[null,null,null,null,null,null,null,null,null,null,null,null,null,null,null,0]
[null,null,null,null,null,null,null,null,null,null,null,null,null,null,null,0]
[null,null,null,null,null,null,null,null,null,null,null,null,null,null,null,0]
[null,null,null,null,null,null,null,null,null,null,null,null,null,null,null,0]
[null,null,null,null,null,null,null,null,null,null,null,null,null,null,null,0]
[null,null,null,null,null,null,null,null,null,null,null,null,null,null,null,0]
[null,null,null,null,null,null,null,null,null,null,null,null,null,null,null,0]
[null,null,null,null,null,null,null,null,null,null,null,null,null,null,null,0]
[null,null,null,null,null,null,null,null,null,null,null,null,null,null,null,0]
[null,null,null,null,null,null,null,null,null,null,null,null,null,null,null,0]
[null,null,null,null,null,null,null,null,null,null,null,null,null,null,null,0]
[null,null,null,null,null,null,null,null,null,null,null,null,null,null,null,0]
[null,null,null,null,null,null,null,null,null,null,null,null,null,null,null,0]
[null,null,null,null,null,null,null,null,null,null,null,null,null,null,null,0]
[null,null,null,null,null,null,null,null,null,null,null,null,null,null,null,0]
[null,null,null,null,null,null,null,null,null,null,null,null,null,null,null,0]
[null,null,null,null,null,null,null,null,null,null,null,null,null,null,null,0]
[null,null,null,null,null,null,null,null,null,null,null,null,null,null,null,0]
[null,null,null,null,null,null,null,null,null,null,null,null,null,null,null,0]
[null,null,null,null,null,null,null,null,null,null,null,null,null,null,null,0]
[null,null,null,null,null,null,null,null,null,null,null,null,null,null,null,0]
[null,null,null,null,null,null,null,null,null,null,null,null,null,null,null,0]
[null,null,null,null,null,null,null,null,null,null,null,null,null,null,null,0]
[null,null,null,null,null,null,null,null,null,null,null,null,null,null,null,0]
[null,null,null,null,null,null,null,null,null,null,null,null,null,null,null,0]
[null,null,null,null,null,null,null,null,null,null,null,null,null,null,null,0]
[null,null,null,null,null,null,null,null,null,null,null,null,null,null,null,0]
[null,null,null,null,null,null,null,null,null,null,null,null,null,null,null,0]
[null,null,null,null,null,null,null,null,null,null,null,null,null,null,null,0]
[null,null,null,null,null,null,null,null,null,null,null,null,null,null,null,0]
[null,null,null,null,null,null,null,null,null,null,null,null,null,null,null,0]
[null,null,null,null,null,null,null,null,null,null,null,null,null,null,null,0]
[null,null,null,null,null,null,null,null,null,null,null,null,null,null,null,0]
[null,null,null,null,null,null,null,null,null,null,null,null,null,null,null,0]
[null,null,null,null,null,null,null,null,null,null,null,null,null,null,null,0]
[null,null,null,null,null,null,null,null,null,null,null,null,null,null,null,0]
[null,null,null,null,null,null,null,null,null,null,null,null,null,null,null,0]
[null,null,null,null,null,null,null,null,null,null,null,null,null,null,null,0]
[null,null,null,null,null,null,null,null,null,null,null,null,null,null,null,0]
[null,null,null,null,null,null,null,null,null,null,null,null,null,null,null,0]
[null,null,null,null,null,null,null,null,null,null,null,null,null,null,null,0]
[null,null,null,null,null,null,null,null,null,null,null,null,null,null,null,0]
[null,null,null,null,null,null,null,null,null,null,null,null,null,null,null,0]
[null,null,null,null,null,null,null,null,null,null,null,null,null,null,null,0]
[null,null,null,null,null,null,null,null,null,null,null,null,null,null,null,0]
[null,null,null,null,null,null,null,null,null,null,null,null,null,null,null,0]
[null,null,null,null,null,null,null,null,null,null,null,null,null,null,null,0]

{"sheet":"Jak správně vyplnit soupisku","index":7,"n_rows":7,"n_cols":3,"rows_kept":7,"cut":false,"hidden":false,"merged":[]}
[]
[null,"POSTUP PRO ÚSPĚŠNÉ VYPLNĚNÍ SOUPISKY"]
[]
[null,null,"Aktuální soupiska z webu"]
[]
[]
[null,null,"Návod pro povolení maker"]